{"text_format":"1","workbook":"xlsx","n_sheets":5,"sheets":["readme","calculator","tariff","tariffs2","coefficient2"],"not_rendered":{"charts":0,"images":1,"macros":1,"external_links":0,"defined_names":1,"comments":0,"pivot_tables":0},"unopened":[],"bounds":{"document_bytes":16777216,"sheet_cells":100000,"rows_first":2000,"rows_last":500,"rows_between":2000,"halvings":0,"cell_chars":16384,"cell_head_chars":4096},"cells_cut":0,"cells_raw":0,"read":"whole","date_system":"1900"}

{"sheet":"readme","index":0,"n_rows":0,"n_cols":0,"rows_kept":0,"cut":false,"hidden":false,"merged":[]}

{"sheet":"calculator","index":1,"n_rows":4,"n_cols":9,"rows_kept":4,"cut":false,"hidden":false,"merged":[]}
[]
[null,null,"จำนวนแถวที่ต้องการคำนวณ"]
[]
[null,null,"MO","SC","UA","PD","AD","Profile","Utility"]

{"sheet":"tariff","index":2,"n_rows":3128,"n_cols":13,"rows_kept":3128,"cut":false,"hidden":false,"merged":[]}
["คะแนนอรรถประโยชน์ของสถานะสุขภาพทั้งหมดที่เป็นไปได้ของ EQ-5D-5L จำนวน 3,125 สถานะที่สำรวจจากกลุ่มตัวอย่างประชากรไทย คำนวณคะแนนอรรถประโยชน์ด้วย Hybrid model\n"]
[]
["MO","SC","UA","PD","AD","Profile","Utility",null,"Health dimension","Coefficient","Std.Err.","95% confidence interval"]
[1,1,1,1,1,11111,1,null,"/ level",null,null,"lower","upper"]
[1,1,1,1,2,11112,0.94191429999999998,null,"Mobility (MO)"]
[1,1,1,1,3,11113,0.90424609999999994,null,2,6.6127000000000005E-2,4.9381E-3,5.6448499999999999E-2,7.5805499999999998E-2]
[1,1,1,1,4,11114,0.76729639999999999,null,3,8.6562899999999998E-2,7.2176999999999996E-3,7.2416499999999995E-2,0.1007093]
[1,1,1,1,5,11115,0.70465069999999996,null,4,0.2109943,7.0863000000000002E-3,0.19710539999999999,0.22488330000000001]
[1,1,1,2,1,11121,0.9436002,null,5,0.37123109999999998,7.1951999999999997E-3,0.35712860000000002,0.3853335]
[1,1,1,2,2,11122,0.88551449999999998,null,"Self-care (SC)"]
[1,1,1,2,3,11123,0.84784630000000005,null,2,5.8129300000000002E-2,4.6566000000000003E-3,4.90026E-2,6.7255999999999996E-2]
[1,1,1,2,4,11124,0.71089659999999999,null,3,7.0631200000000005E-2,6.7241000000000002E-3,5.7452200000000002E-2,8.3810200000000001E-2]
[1,1,1,2,5,11125,0.64825090000000007,null,4,0.19249050000000001,7.1361999999999997E-3,0.17850389999999999,0.2064771]
[1,1,1,3,1,11131,0.9335078,null,5,0.2498763,6.6100000000000004E-3,0.23692089999999999,0.2628317]
[1,1,1,3,2,11132,0.87542209999999998,null,"Usual activities (UA)"]
[1,1,1,3,3,11133,0.83775390000000005,null,2,5.8254399999999998E-2,4.7397000000000003E-3,4.8964800000000003E-2,6.7544099999999996E-2]
[1,1,1,3,4,11134,0.70080419999999999,null,3,7.1197399999999994E-2,6.5281999999999996E-3,5.84024E-2,8.3992300000000006E-2]
[1,1,1,3,5,11135,0.63815850000000007,null,4,0.1534855,6.7402E-3,0.14027500000000001,0.16669600000000001]
[1,1,1,4,1,11141,0.79311359999999997,null,5,0.248331,6.7092999999999996E-3,0.235181,0.26148100000000002]
[1,1,1,4,2,11142,0.73502789999999996,null,"Pain/discomfort (PD)"]
[1,1,1,4,3,11143,0.69735970000000003,null,2,5.63998E-2,4.2875999999999999E-3,4.7996299999999999E-2,6.4803399999999997E-2]
[1,1,1,4,4,11144,0.56040999999999996,null,3,6.6492200000000001E-2,7.1412000000000003E-3,5.2495699999999999E-2,8.0488699999999996E-2]
[1,1,1,4,5,11145,0.49776429999999999,null,4,0.2068864,7.1120000000000003E-3,0.19294710000000001,0.22082560000000001]
[1,1,1,5,1,11151,0.74356690000000003,null,5,0.25643310000000002,7.2508E-3,0.24222179999999999,0.27064450000000001]
[1,1,1,5,2,11152,0.68548120000000001,null,"Anxiety/depression (AD)"]
[1,1,1,5,3,11153,0.64781299999999997,null,2,5.8085699999999997E-2,4.3137999999999996E-3,4.9630899999999999E-2,6.6540600000000005E-2]
[1,1,1,5,4,11154,0.51086330000000002,null,3,9.5753900000000003E-2,6.8402999999999997E-3,8.2347100000000006E-2,0.1091607]
[1,1,1,5,5,11155,0.44821760000000005,null,4,0.23270360000000001,6.6124E-3,0.21974360000000001,0.24566360000000001]
[1,1,2,1,1,11211,0.94174559999999996,null,5,0.29534929999999998,6.6337999999999996E-3,0.28234730000000002,0.30835119999999999]
[1,1,2,1,2,11212,0.88365989999999994]
[1,1,2,1,3,11213,0.8459916999999999]
[1,1,2,1,4,11214,0.70904199999999995]
[1,1,2,1,5,11215,0.64639629999999992]
[1,1,2,2,1,11221,0.88534579999999996]
[1,1,2,2,2,11222,0.82726009999999994]
[1,1,2,2,3,11223,0.78959190000000001]
[1,1,2,2,4,11224,0.65264219999999995]
[1,1,2,2,5,11225,0.58999650000000003]
[1,1,2,3,1,11231,0.87525339999999996]
[1,1,2,3,2,11232,0.81716769999999994]
[1,1,2,3,3,11233,0.77949950000000001]
[1,1,2,3,4,11234,0.64254979999999995]
[1,1,2,3,5,11235,0.57990410000000003]
[1,1,2,4,1,11241,0.73485919999999993]
[1,1,2,4,2,11242,0.67677349999999992]
[1,1,2,4,3,11243,0.63910529999999999]
[1,1,2,4,4,11244,0.50215559999999992]
[1,1,2,4,5,11245,0.43950989999999995]
[1,1,2,5,1,11251,0.68531249999999999]
[1,1,2,5,2,11252,0.62722679999999997]
[1,1,2,5,3,11253,0.58955859999999993]
[1,1,2,5,4,11254,0.45260889999999998]
[1,1,2,5,5,11255,0.38996320000000001]
[1,1,3,1,1,11311,0.92880260000000003]
[1,1,3,1,2,11312,0.87071690000000002]
[1,1,3,1,3,11313,0.83304869999999998]
[1,1,3,1,4,11314,0.69609900000000002]
[1,1,3,1,5,11315,0.6334533]
[1,1,3,2,1,11321,0.87240280000000003]
[1,1,3,2,2,11322,0.81431710000000002]
[1,1,3,2,3,11323,0.77664890000000009]
[1,1,3,2,4,11324,0.63969920000000002]
[1,1,3,2,5,11325,0.57705350000000011]
[1,1,3,3,1,11331,0.86231040000000003]
[1,1,3,3,2,11332,0.80422470000000001]
[1,1,3,3,3,11333,0.76655650000000009]
[1,1,3,3,4,11334,0.62960680000000002]
[1,1,3,3,5,11335,0.56696110000000011]
[1,1,3,4,1,11341,0.72191620000000001]
[1,1,3,4,2,11342,0.66383049999999999]
[1,1,3,4,3,11343,0.62616230000000006]
[1,1,3,4,4,11344,0.4892126]
[1,1,3,4,5,11345,0.42656690000000003]
[1,1,3,5,1,11351,0.67236950000000006]
[1,1,3,5,2,11352,0.61428380000000005]
[1,1,3,5,3,11353,0.57661560000000001]
[1,1,3,5,4,11354,0.43966590000000005]
[1,1,3,5,5,11355,0.37702020000000008]
[1,1,4,1,1,11411,0.84651450000000006]
[1,1,4,1,2,11412,0.78842880000000004]
[1,1,4,1,3,11413,0.7507606]
[1,1,4,1,4,11414,0.61381090000000005]
[1,1,4,1,5,11415,0.55116520000000002]
[1,1,4,2,1,11421,0.79011470000000006]
[1,1,4,2,2,11422,0.73202900000000004]
[1,1,4,2,3,11423,0.69436080000000011]
[1,1,4,2,4,11424,0.55741110000000005]
[1,1,4,2,5,11425,0.49476540000000008]
[1,1,4,3,1,11431,0.78002230000000006]
[1,1,4,3,2,11432,0.72193660000000004]
[1,1,4,3,3,11433,0.68426840000000011]
[1,1,4,3,4,11434,0.54731870000000005]
[1,1,4,3,5,11435,0.48467300000000008]
[1,1,4,4,1,11441,0.63962810000000003]
[1,1,4,4,2,11442,0.58154240000000001]
[1,1,4,4,3,11443,0.54387420000000009]
[1,1,4,4,4,11444,0.40692450000000002]
[1,1,4,4,5,11445,0.34427880000000005]
[1,1,4,5,1,11451,0.59008140000000009]
[1,1,4,5,2,11452,0.53199570000000007]
[1,1,4,5,3,11453,0.49432750000000009]
[1,1,4,5,4,11454,0.35737780000000008]
[1,1,4,5,5,11455,0.29473210000000011]
[1,1,5,1,1,11511,0.75166900000000003]
[1,1,5,1,2,11512,0.69358330000000001]
[1,1,5,1,3,11513,0.65591510000000008]
[1,1,5,1,4,11514,0.51896540000000002]
[1,1,5,1,5,11515,0.45631970000000005]
[1,1,5,2,1,11521,0.69526920000000003]
[1,1,5,2,2,11522,0.63718350000000001]
[1,1,5,2,3,11523,0.59951529999999997]
[1,1,5,2,4,11524,0.46256560000000002]
[1,1,5,2,5,11525,0.39991990000000005]
[1,1,5,3,1,11531,0.68517680000000003]
[1,1,5,3,2,11532,0.62709110000000001]
[1,1,5,3,3,11533,0.58942289999999997]
[1,1,5,3,4,11534,0.45247320000000002]
[1,1,5,3,5,11535,0.38982750000000005]
[1,1,5,4,1,11541,0.54478260000000001]
[1,1,5,4,2,11542,0.48669689999999999]
[1,1,5,4,3,11543,0.4490287]
[1,1,5,4,4,11544,0.312079]
[1,1,5,4,5,11545,0.24943330000000002]
[1,1,5,5,1,11551,0.49523590000000001]
[1,1,5,5,2,11552,0.43715019999999999]
[1,1,5,5,3,11553,0.399482]
[1,1,5,5,4,11554,0.2625323]
[1,1,5,5,5,11555,0.19988660000000003]
[1,2,1,1,1,12111,0.94187069999999995]
[1,2,1,1,2,12112,0.88378499999999993]
[1,2,1,1,3,12113,0.84611679999999989]
[1,2,1,1,4,12114,0.70916709999999994]
[1,2,1,1,5,12115,0.64652139999999991]
[1,2,1,2,1,12121,0.88547089999999995]
[1,2,1,2,2,12122,0.82738519999999993]
[1,2,1,2,3,12123,0.789717]
[1,2,1,2,4,12124,0.65276729999999994]
[1,2,1,2,5,12125,0.59012160000000002]
[1,2,1,3,1,12131,0.87537849999999995]
[1,2,1,3,2,12132,0.81729279999999993]
[1,2,1,3,3,12133,0.7796246]
[1,2,1,3,4,12134,0.64267489999999994]
[1,2,1,3,5,12135,0.58002920000000002]
[1,2,1,4,1,12141,0.73498429999999992]
[1,2,1,4,2,12142,0.67689859999999991]
[1,2,1,4,3,12143,0.63923039999999998]
[1,2,1,4,4,12144,0.50228069999999991]
[1,2,1,4,5,12145,0.43963499999999994]
[1,2,1,5,1,12151,0.68543759999999998]
[1,2,1,5,2,12152,0.62735189999999996]
[1,2,1,5,3,12153,0.58968369999999992]
[1,2,1,5,4,12154,0.45273399999999997]
[1,2,1,5,5,12155,0.3900883]
[1,2,2,1,1,12211,0.88361629999999991]
[1,2,2,1,2,12212,0.82553059999999989]
[1,2,2,1,3,12213,0.78786239999999985]
[1,2,2,1,4,12214,0.6509126999999999]
[1,2,2,1,5,12215,0.58826699999999987]
[1,2,2,2,1,12221,0.82721649999999991]
[1,2,2,2,2,12222,0.76913079999999989]
[1,2,2,2,3,12223,0.73146259999999996]
[1,2,2,2,4,12224,0.5945128999999999]
[1,2,2,2,5,12225,0.53186719999999998]
[1,2,2,3,1,12231,0.81712409999999991]
[1,2,2,3,2,12232,0.75903839999999989]
[1,2,2,3,3,12233,0.72137019999999996]
[1,2,2,3,4,12234,0.5844204999999999]
[1,2,2,3,5,12235,0.52177479999999998]
[1,2,2,4,1,12241,0.67672989999999988]
[1,2,2,4,2,12242,0.61864419999999987]
[1,2,2,4,3,12243,0.58097599999999994]
[1,2,2,4,4,12244,0.44402629999999987]
[1,2,2,4,5,12245,0.3813805999999999]
[1,2,2,5,1,12251,0.62718319999999994]
[1,2,2,5,2,12252,0.56909749999999992]
[1,2,2,5,3,12253,0.53142929999999988]
[1,2,2,5,4,12254,0.39447959999999993]
[1,2,2,5,5,12255,0.33183389999999996]
[1,2,3,1,1,12311,0.87067329999999998]
[1,2,3,1,2,12312,0.81258759999999997]
[1,2,3,1,3,12313,0.77491939999999992]
[1,2,3,1,4,12314,0.63796969999999997]
[1,2,3,1,5,12315,0.57532399999999995]
[1,2,3,2,1,12321,0.81427349999999998]
[1,2,3,2,2,12322,0.75618779999999997]
[1,2,3,2,3,12323,0.71851960000000004]
[1,2,3,2,4,12324,0.58156989999999997]
[1,2,3,2,5,12325,0.51892420000000006]
[1,2,3,3,1,12331,0.80418109999999998]
[1,2,3,3,2,12332,0.74609539999999996]
[1,2,3,3,3,12333,0.70842720000000003]
[1,2,3,3,4,12334,0.57147749999999997]
[1,2,3,3,5,12335,0.50883180000000006]
[1,2,3,4,1,12341,0.66378689999999996]
[1,2,3,4,2,12342,0.60570119999999994]
[1,2,3,4,3,12343,0.56803300000000001]
[1,2,3,4,4,12344,0.43108329999999995]
[1,2,3,4,5,12345,0.36843759999999998]
[1,2,3,5,1,12351,0.61424020000000001]
[1,2,3,5,2,12352,0.5561545]
[1,2,3,5,3,12353,0.51848629999999996]
[1,2,3,5,4,12354,0.3815366]
[1,2,3,5,5,12355,0.31889090000000003]
[1,2,4,1,1,12411,0.78838520000000001]
[1,2,4,1,2,12412,0.73029949999999999]
[1,2,4,1,3,12413,0.69263129999999995]
[1,2,4,1,4,12414,0.5556816]
[1,2,4,1,5,12415,0.49303590000000003]
[1,2,4,2,1,12421,0.73198540000000001]
[1,2,4,2,2,12422,0.67389969999999999]
[1,2,4,2,3,12423,0.63623150000000006]
[1,2,4,2,4,12424,0.4992818]
[1,2,4,2,5,12425,0.43663610000000003]
[1,2,4,3,1,12431,0.72189300000000001]
[1,2,4,3,2,12432,0.66380729999999999]
[1,2,4,3,3,12433,0.62613910000000006]
[1,2,4,3,4,12434,0.4891894]
[1,2,4,3,5,12435,0.42654370000000003]
[1,2,4,4,1,12441,0.58149879999999998]
[1,2,4,4,2,12442,0.52341309999999996]
[1,2,4,4,3,12443,0.48574489999999998]
[1,2,4,4,4,12444,0.34879519999999997]
[1,2,4,4,5,12445,0.2861495]
[1,2,4,5,1,12451,0.53195210000000004]
[1,2,4,5,2,12452,0.47386640000000002]
[1,2,4,5,3,12453,0.43619820000000004]
[1,2,4,5,4,12454,0.29924850000000003]
[1,2,4,5,5,12455,0.23660280000000006]
[1,2,5,1,1,12511,0.69353969999999998]
[1,2,5,1,2,12512,0.63545399999999996]
[1,2,5,1,3,12513,0.59778580000000003]
[1,2,5,1,4,12514,0.46083609999999997]
[1,2,5,1,5,12515,0.3981904]
[1,2,5,2,1,12521,0.63713989999999998]
[1,2,5,2,2,12522,0.57905419999999996]
[1,2,5,2,3,12523,0.54138599999999992]
[1,2,5,2,4,12524,0.40443629999999997]
[1,2,5,2,5,12525,0.3417906]
[1,2,5,3,1,12531,0.62704749999999998]
[1,2,5,3,2,12532,0.56896179999999996]
[1,2,5,3,3,12533,0.53129359999999992]
[1,2,5,3,4,12534,0.39434389999999997]
[1,2,5,3,5,12535,0.3316982]
[1,2,5,4,1,12541,0.48665329999999996]
[1,2,5,4,2,12542,0.42856759999999994]
[1,2,5,4,3,12543,0.39089939999999995]
[1,2,5,4,4,12544,0.25394969999999994]
[1,2,5,4,5,12545,0.19130399999999997]
[1,2,5,5,1,12551,0.43710659999999996]
[1,2,5,5,2,12552,0.37902089999999994]
[1,2,5,5,3,12553,0.34135269999999995]
[1,2,5,5,4,12554,0.20440299999999995]
[1,2,5,5,5,12555,0.14175729999999997]
[1,3,1,1,1,13111,0.92936879999999999]
[1,3,1,1,2,13112,0.87128309999999998]
[1,3,1,1,3,13113,0.83361489999999994]
[1,3,1,1,4,13114,0.69666519999999998]
[1,3,1,1,5,13115,0.63401949999999996]
[1,3,1,2,1,13121,0.87296899999999999]
[1,3,1,2,2,13122,0.81488329999999998]
[1,3,1,2,3,13123,0.77721510000000005]
[1,3,1,2,4,13124,0.64026539999999998]
[1,3,1,2,5,13125,0.57761970000000007]
[1,3,1,3,1,13131,0.86287659999999999]
[1,3,1,3,2,13132,0.80479089999999998]
[1,3,1,3,3,13133,0.76712270000000005]
[1,3,1,3,4,13134,0.63017299999999998]
[1,3,1,3,5,13135,0.56752730000000007]
[1,3,1,4,1,13141,0.72248239999999997]
[1,3,1,4,2,13142,0.66439669999999995]
[1,3,1,4,3,13143,0.62672850000000002]
[1,3,1,4,4,13144,0.48977879999999996]
[1,3,1,4,5,13145,0.42713309999999999]
[1,3,1,5,1,13151,0.67293570000000003]
[1,3,1,5,2,13152,0.61485000000000001]
[1,3,1,5,3,13153,0.57718179999999997]
[1,3,1,5,4,13154,0.44023210000000002]
[1,3,1,5,5,13155,0.37758640000000004]
[1,3,2,1,1,13211,0.87111439999999996]
[1,3,2,1,2,13212,0.81302869999999994]
[1,3,2,1,3,13213,0.7753604999999999]
[1,3,2,1,4,13214,0.63841079999999994]
[1,3,2,1,5,13215,0.57576509999999992]
[1,3,2,2,1,13221,0.81471459999999996]
[1,3,2,2,2,13222,0.75662889999999994]
[1,3,2,2,3,13223,0.71896070000000001]
[1,3,2,2,4,13224,0.58201099999999995]
[1,3,2,2,5,13225,0.51936530000000003]
[1,3,2,3,1,13231,0.80462219999999995]
[1,3,2,3,2,13232,0.74653649999999994]
[1,3,2,3,3,13233,0.70886830000000001]
[1,3,2,3,4,13234,0.57191859999999994]
[1,3,2,3,5,13235,0.50927290000000003]
[1,3,2,4,1,13241,0.66422799999999993]
[1,3,2,4,2,13242,0.60614229999999991]
[1,3,2,4,3,13243,0.56847409999999998]
[1,3,2,4,4,13244,0.43152439999999992]
[1,3,2,4,5,13245,0.36887869999999995]
[1,3,2,5,1,13251,0.61468129999999999]
[1,3,2,5,2,13252,0.55659559999999997]
[1,3,2,5,3,13253,0.51892739999999993]
[1,3,2,5,4,13254,0.38197769999999998]
[1,3,2,5,5,13255,0.319332]
[1,3,3,1,1,13311,0.85817140000000003]
[1,3,3,1,2,13312,0.80008570000000001]
[1,3,3,1,3,13313,0.76241749999999997]
[1,3,3,1,4,13314,0.62546780000000002]
[1,3,3,1,5,13315,0.56282209999999999]
[1,3,3,2,1,13321,0.80177160000000003]
[1,3,3,2,2,13322,0.74368590000000001]
[1,3,3,2,3,13323,0.70601770000000008]
[1,3,3,2,4,13324,0.56906800000000002]
[1,3,3,2,5,13325,0.5064223000000001]
[1,3,3,3,1,13331,0.79167920000000003]
[1,3,3,3,2,13332,0.73359350000000001]
[1,3,3,3,3,13333,0.69592530000000008]
[1,3,3,3,4,13334,0.55897560000000002]
[1,3,3,3,5,13335,0.49632990000000005]
[1,3,3,4,1,13341,0.651285]
[1,3,3,4,2,13342,0.59319929999999998]
[1,3,3,4,3,13343,0.55553110000000006]
[1,3,3,4,4,13344,0.41858139999999999]
[1,3,3,4,5,13345,0.35593570000000002]
[1,3,3,5,1,13351,0.60173830000000006]
[1,3,3,5,2,13352,0.54365260000000004]
[1,3,3,5,3,13353,0.5059844]
[1,3,3,5,4,13354,0.36903470000000005]
[1,3,3,5,5,13355,0.30638900000000008]
[1,3,4,1,1,13411,0.77588330000000005]
[1,3,4,1,2,13412,0.71779760000000004]
[1,3,4,1,3,13413,0.6801294]
[1,3,4,1,4,13414,0.54317970000000004]
[1,3,4,1,5,13415,0.48053400000000007]
[1,3,4,2,1,13421,0.71948350000000005]
[1,3,4,2,2,13422,0.66139780000000004]
[1,3,4,2,3,13423,0.62372960000000011]
[1,3,4,2,4,13424,0.48677990000000004]
[1,3,4,2,5,13425,0.42413420000000007]
[1,3,4,3,1,13431,0.70939110000000005]
[1,3,4,3,2,13432,0.65130540000000003]
[1,3,4,3,3,13433,0.6136372000000001]
[1,3,4,3,4,13434,0.47668750000000004]
[1,3,4,3,5,13435,0.41404180000000007]
[1,3,4,4,1,13441,0.56899690000000003]
[1,3,4,4,2,13442,0.51091120000000001]
[1,3,4,4,3,13443,0.47324300000000002]
[1,3,4,4,4,13444,0.33629330000000002]
[1,3,4,4,5,13445,0.27364760000000005]
[1,3,4,5,1,13451,0.51945020000000008]
[1,3,4,5,2,13452,0.46136450000000007]
[1,3,4,5,3,13453,0.42369630000000008]
[1,3,4,5,4,13454,0.28674660000000007]
[1,3,4,5,5,13455,0.2241009000000001]
[1,3,5,1,1,13511,0.68103780000000003]
[1,3,5,1,2,13512,0.62295210000000001]
[1,3,5,1,3,13513,0.58528390000000008]
[1,3,5,1,4,13514,0.44833420000000002]
[1,3,5,1,5,13515,0.38568850000000005]
[1,3,5,2,1,13521,0.62463800000000003]
[1,3,5,2,2,13522,0.56655230000000001]
[1,3,5,2,3,13523,0.52888409999999997]
[1,3,5,2,4,13524,0.39193440000000002]
[1,3,5,2,5,13525,0.32928870000000005]
[1,3,5,3,1,13531,0.61454560000000003]
[1,3,5,3,2,13532,0.55645990000000001]
[1,3,5,3,3,13533,0.51879169999999997]
[1,3,5,3,4,13534,0.38184200000000001]
[1,3,5,3,5,13535,0.31919630000000004]
[1,3,5,4,1,13541,0.4741514]
[1,3,5,4,2,13542,0.41606569999999998]
[1,3,5,4,3,13543,0.3783975]
[1,3,5,4,4,13544,0.24144779999999999]
[1,3,5,4,5,13545,0.17880210000000002]
[1,3,5,5,1,13551,0.4246047]
[1,3,5,5,2,13552,0.36651899999999998]
[1,3,5,5,3,13553,0.3288508]
[1,3,5,5,4,13554,0.19190109999999999]
[1,3,5,5,5,13555,0.12925540000000002]
[1,4,1,1,1,14111,0.80750949999999999]
[1,4,1,1,2,14112,0.74942379999999997]
[1,4,1,1,3,14113,0.71175560000000004]
[1,4,1,1,4,14114,0.57480589999999998]
[1,4,1,1,5,14115,0.51216020000000007]
[1,4,1,2,1,14121,0.75110969999999999]
[1,4,1,2,2,14122,0.69302399999999997]
[1,4,1,2,3,14123,0.65535579999999993]
[1,4,1,2,4,14124,0.51840609999999998]
[1,4,1,2,5,14125,0.45576040000000001]
[1,4,1,3,1,14131,0.74101729999999999]
[1,4,1,3,2,14132,0.68293159999999997]
[1,4,1,3,3,14133,0.64526339999999993]
[1,4,1,3,4,14134,0.50831369999999998]
[1,4,1,3,5,14135,0.44566800000000001]
[1,4,1,4,1,14141,0.60062309999999997]
[1,4,1,4,2,14142,0.54253739999999995]
[1,4,1,4,3,14143,0.50486919999999991]
[1,4,1,4,4,14144,0.36791949999999995]
[1,4,1,4,5,14145,0.30527379999999998]
[1,4,1,5,1,14151,0.55107639999999991]
[1,4,1,5,2,14152,0.49299069999999989]
[1,4,1,5,3,14153,0.45532249999999991]
[1,4,1,5,4,14154,0.3183727999999999]
[1,4,1,5,5,14155,0.25572709999999993]
[1,4,2,1,1,14211,0.74925509999999995]
[1,4,2,1,2,14212,0.69116939999999993]
[1,4,2,1,3,14213,0.6535012]
[1,4,2,1,4,14214,0.51655149999999994]
[1,4,2,1,5,14215,0.45390579999999997]
[1,4,2,2,1,14221,0.69285529999999995]
[1,4,2,2,2,14222,0.63476959999999993]
[1,4,2,2,3,14223,0.59710139999999989]
[1,4,2,2,4,14224,0.46015169999999994]
[1,4,2,2,5,14225,0.39750599999999997]
[1,4,2,3,1,14231,0.68276289999999995]
[1,4,2,3,2,14232,0.62467719999999993]
[1,4,2,3,3,14233,0.58700899999999989]
[1,4,2,3,4,14234,0.45005929999999994]
[1,4,2,3,5,14235,0.38741359999999997]
[1,4,2,4,1,14241,0.54236869999999993]
[1,4,2,4,2,14242,0.48428299999999991]
[1,4,2,4,3,14243,0.44661479999999992]
[1,4,2,4,4,14244,0.30966509999999992]
[1,4,2,4,5,14245,0.24701939999999994]
[1,4,2,5,1,14251,0.49282199999999993]
[1,4,2,5,2,14252,0.43473629999999991]
[1,4,2,5,3,14253,0.39706809999999992]
[1,4,2,5,4,14254,0.26011839999999992]
[1,4,2,5,5,14255,0.19747269999999995]
[1,4,3,1,1,14311,0.73631210000000002]
[1,4,3,1,2,14312,0.67822640000000001]
[1,4,3,1,3,14313,0.64055820000000008]
[1,4,3,1,4,14314,0.50360850000000001]
[1,4,3,1,5,14315,0.44096280000000004]
[1,4,3,2,1,14321,0.67991230000000002]
[1,4,3,2,2,14322,0.62182660000000001]
[1,4,3,2,3,14323,0.58415839999999997]
[1,4,3,2,4,14324,0.44720870000000001]
[1,4,3,2,5,14325,0.38456300000000004]
[1,4,3,3,1,14331,0.66981990000000002]
[1,4,3,3,2,14332,0.61173420000000001]
[1,4,3,3,3,14333,0.57406599999999997]
[1,4,3,3,4,14334,0.43711630000000001]
[1,4,3,3,5,14335,0.37447060000000004]
[1,4,3,4,1,14341,0.5294257]
[1,4,3,4,2,14342,0.47133999999999998]
[1,4,3,4,3,14343,0.4336718]
[1,4,3,4,4,14344,0.29672209999999999]
[1,4,3,4,5,14345,0.23407640000000002]
[1,4,3,5,1,14351,0.479879]
[1,4,3,5,2,14352,0.42179329999999998]
[1,4,3,5,3,14353,0.3841251]
[1,4,3,5,4,14354,0.24717539999999999]
[1,4,3,5,5,14355,0.18452970000000002]
[1,4,4,1,1,14411,0.65402399999999994]
[1,4,4,1,2,14412,0.59593829999999992]
[1,4,4,1,3,14413,0.55827009999999988]
[1,4,4,1,4,14414,0.42132039999999993]
[1,4,4,1,5,14415,0.35867469999999996]
[1,4,4,2,1,14421,0.59762419999999994]
[1,4,4,2,2,14422,0.53953849999999992]
[1,4,4,2,3,14423,0.50187029999999999]
[1,4,4,2,4,14424,0.36492059999999993]
[1,4,4,2,5,14425,0.30227489999999996]
[1,4,4,3,1,14431,0.58753179999999994]
[1,4,4,3,2,14432,0.52944609999999992]
[1,4,4,3,3,14433,0.49177789999999993]
[1,4,4,3,4,14434,0.35482819999999993]
[1,4,4,3,5,14435,0.29218249999999996]
[1,4,4,4,1,14441,0.44713759999999991]
[1,4,4,4,2,14442,0.3890518999999999]
[1,4,4,4,3,14443,0.35138369999999991]
[1,4,4,4,4,14444,0.2144339999999999]
[1,4,4,4,5,14445,0.15178829999999993]
[1,4,4,5,1,14451,0.39759089999999991]
[1,4,4,5,2,14452,0.3395051999999999]
[1,4,4,5,3,14453,0.30183699999999991]
[1,4,4,5,4,14454,0.1648872999999999]
[1,4,4,5,5,14455,0.10224159999999993]
[1,4,5,1,1,14511,0.55917850000000002]
[1,4,5,1,2,14512,0.5010928]
[1,4,5,1,3,14513,0.46342460000000002]
[1,4,5,1,4,14514,0.32647490000000001]
[1,4,5,1,5,14515,0.26382920000000004]
[1,4,5,2,1,14521,0.50277870000000002]
[1,4,5,2,2,14522,0.444693]
[1,4,5,2,3,14523,0.40702480000000002]
[1,4,5,2,4,14524,0.27007510000000001]
[1,4,5,2,5,14525,0.20742940000000004]
[1,4,5,3,1,14531,0.49268630000000002]
[1,4,5,3,2,14532,0.4346006]
[1,4,5,3,3,14533,0.39693240000000002]
[1,4,5,3,4,14534,0.25998270000000001]
[1,4,5,3,5,14535,0.19733700000000004]
[1,4,5,4,1,14541,0.3522921]
[1,4,5,4,2,14542,0.29420639999999998]
[1,4,5,4,3,14543,0.25653819999999999]
[1,4,5,4,4,14544,0.11958849999999999]
[1,4,5,4,5,14545,5.6942800000000016E-2]
[1,4,5,5,1,14551,0.3027454]
[1,4,5,5,2,14552,0.24465970000000001]
[1,4,5,5,3,14553,0.20699149999999999]
[1,4,5,5,4,14554,7.0041799999999987E-2]
[1,4,5,5,5,14555,7.3961000000000165E-3]
[1,5,1,1,1,15111,0.75012370000000006]
[1,5,1,1,2,15112,0.69203800000000004]
[1,5,1,1,3,15113,0.6543698]
[1,5,1,1,4,15114,0.51742010000000005]
[1,5,1,1,5,15115,0.45477440000000008]
[1,5,1,2,1,15121,0.69372390000000006]
[1,5,1,2,2,15122,0.63563820000000004]
[1,5,1,2,3,15123,0.59797000000000011]
[1,5,1,2,4,15124,0.46102030000000005]
[1,5,1,2,5,15125,0.39837460000000008]
[1,5,1,3,1,15131,0.68363150000000006]
[1,5,1,3,2,15132,0.62554580000000004]
[1,5,1,3,3,15133,0.58787760000000011]
[1,5,1,3,4,15134,0.45092790000000005]
[1,5,1,3,5,15135,0.38828220000000008]
[1,5,1,4,1,15141,0.54323730000000003]
[1,5,1,4,2,15142,0.48515160000000002]
[1,5,1,4,3,15143,0.44748340000000003]
[1,5,1,4,4,15144,0.31053370000000002]
[1,5,1,4,5,15145,0.24788800000000005]
[1,5,1,5,1,15151,0.49369060000000003]
[1,5,1,5,2,15152,0.43560490000000002]
[1,5,1,5,3,15153,0.39793670000000003]
[1,5,1,5,4,15154,0.26098700000000002]
[1,5,1,5,5,15155,0.19834130000000005]
[1,5,2,1,1,15211,0.69186930000000002]
[1,5,2,1,2,15212,0.6337836]
[1,5,2,1,3,15213,0.59611539999999996]
[1,5,2,1,4,15214,0.45916570000000001]
[1,5,2,1,5,15215,0.39652000000000004]
[1,5,2,2,1,15221,0.63546950000000002]
[1,5,2,2,2,15222,0.5773838]
[1,5,2,2,3,15223,0.53971560000000007]
[1,5,2,2,4,15224,0.40276590000000001]
[1,5,2,2,5,15225,0.34012020000000004]
[1,5,2,3,1,15231,0.62537710000000002]
[1,5,2,3,2,15232,0.5672914]
[1,5,2,3,3,15233,0.52962320000000007]
[1,5,2,3,4,15234,0.39267350000000001]
[1,5,2,3,5,15235,0.33002780000000004]
[1,5,2,4,1,15241,0.48498289999999999]
[1,5,2,4,2,15242,0.42689719999999998]
[1,5,2,4,3,15243,0.38922899999999999]
[1,5,2,4,4,15244,0.25227929999999998]
[1,5,2,4,5,15245,0.18963360000000001]
[1,5,2,5,1,15251,0.4354362]
[1,5,2,5,2,15252,0.37735049999999998]
[1,5,2,5,3,15253,0.33968229999999999]
[1,5,2,5,4,15254,0.20273259999999999]
[1,5,2,5,5,15255,0.14008690000000001]
[1,5,3,1,1,15311,0.67892630000000009]
[1,5,3,1,2,15312,0.62084060000000008]
[1,5,3,1,3,15313,0.58317240000000004]
[1,5,3,1,4,15314,0.44622270000000008]
[1,5,3,1,5,15315,0.38357700000000011]
[1,5,3,2,1,15321,0.62252650000000009]
[1,5,3,2,2,15322,0.56444080000000008]
[1,5,3,2,3,15323,0.52677260000000015]
[1,5,3,2,4,15324,0.38982290000000008]
[1,5,3,2,5,15325,0.32717720000000011]
[1,5,3,3,1,15331,0.61243410000000009]
[1,5,3,3,2,15332,0.55434840000000007]
[1,5,3,3,3,15333,0.51668020000000014]
[1,5,3,3,4,15334,0.37973050000000008]
[1,5,3,3,5,15335,0.31708480000000011]
[1,5,3,4,1,15341,0.47203990000000007]
[1,5,3,4,2,15342,0.41395420000000005]
[1,5,3,4,3,15343,0.37628600000000006]
[1,5,3,4,4,15344,0.23933630000000006]
[1,5,3,4,5,15345,0.17669060000000009]
[1,5,3,5,1,15351,0.42249320000000007]
[1,5,3,5,2,15352,0.36440750000000005]
[1,5,3,5,3,15353,0.32673930000000007]
[1,5,3,5,4,15354,0.18978960000000006]
[1,5,3,5,5,15355,0.12714390000000009]
[1,5,4,1,1,15411,0.59663820000000012]
[1,5,4,1,2,15412,0.5385525000000001]
[1,5,4,1,3,15413,0.50088430000000006]
[1,5,4,1,4,15414,0.36393460000000011]
[1,5,4,1,5,15415,0.30128890000000014]
[1,5,4,2,1,15421,0.54023840000000012]
[1,5,4,2,2,15422,0.4821527000000001]
[1,5,4,2,3,15423,0.44448450000000012]
[1,5,4,2,4,15424,0.30753480000000011]
[1,5,4,2,5,15425,0.24488910000000014]
[1,5,4,3,1,15431,0.53014600000000012]
[1,5,4,3,2,15432,0.4720603000000001]
[1,5,4,3,3,15433,0.43439210000000011]
[1,5,4,3,4,15434,0.29744240000000011]
[1,5,4,3,5,15435,0.23479670000000014]
[1,5,4,4,1,15441,0.38975180000000009]
[1,5,4,4,2,15442,0.33166610000000007]
[1,5,4,4,3,15443,0.29399790000000009]
[1,5,4,4,4,15444,0.15704820000000008]
[1,5,4,4,5,15445,9.4402500000000111E-2]
[1,5,4,5,1,15451,0.34020510000000009]
[1,5,4,5,2,15452,0.28211940000000008]
[1,5,4,5,3,15453,0.24445120000000009]
[1,5,4,5,4,15454,0.10750150000000008]
[1,5,4,5,5,15455,4.4855800000000112E-2]
[1,5,5,1,1,15511,0.50179270000000009]
[1,5,5,1,2,15512,0.44370700000000007]
[1,5,5,1,3,15513,0.40603880000000009]
[1,5,5,1,4,15514,0.26908910000000008]
[1,5,5,1,5,15515,0.20644340000000011]
[1,5,5,2,1,15521,0.44539290000000009]
[1,5,5,2,2,15522,0.38730720000000007]
[1,5,5,2,3,15523,0.34963900000000009]
[1,5,5,2,4,15524,0.21268930000000008]
[1,5,5,2,5,15525,0.15004360000000011]
[1,5,5,3,1,15531,0.43530050000000009]
[1,5,5,3,2,15532,0.37721480000000007]
[1,5,5,3,3,15533,0.33954660000000009]
[1,5,5,3,4,15534,0.20259690000000008]
[1,5,5,3,5,15535,0.13995120000000011]
[1,5,5,4,1,15541,0.29490630000000007]
[1,5,5,4,2,15542,0.23682060000000008]
[1,5,5,4,3,15543,0.19915240000000006]
[1,5,5,4,4,15544,6.2202700000000055E-2]
[1,5,5,4,5,15545,-4.4299999999991568E-4]
[1,5,5,5,1,15551,0.24535960000000007]
[1,5,5,5,2,15552,0.18727390000000008]
[1,5,5,5,3,15553,0.14960570000000006]
[1,5,5,5,4,15554,1.2656000000000056E-2]
[1,5,5,5,5,15555,-4.9989699999999915E-2]
[2,1,1,1,1,21111,0.93387299999999995]
[2,1,1,1,2,21112,0.87578729999999994]
[2,1,1,1,3,21113,0.83811909999999989]
[2,1,1,1,4,21114,0.70116939999999994]
[2,1,1,1,5,21115,0.63852369999999992]
[2,1,1,2,1,21121,0.87747319999999995]
[2,1,1,2,2,21122,0.81938749999999994]
[2,1,1,2,3,21123,0.78171930000000001]
[2,1,1,2,4,21124,0.64476959999999994]
[2,1,1,2,5,21125,0.58212390000000003]
[2,1,1,3,1,21131,0.86738079999999995]
[2,1,1,3,2,21132,0.80929509999999993]
[2,1,1,3,3,21133,0.7716269]
[2,1,1,3,4,21134,0.63467719999999994]
[2,1,1,3,5,21135,0.57203150000000003]
[2,1,1,4,1,21141,0.72698659999999993]
[2,1,1,4,2,21142,0.66890089999999991]
[2,1,1,4,3,21143,0.63123269999999998]
[2,1,1,4,4,21144,0.49428299999999992]
[2,1,1,4,5,21145,0.43163729999999995]
[2,1,1,5,1,21151,0.67743989999999998]
[2,1,1,5,2,21152,0.61935419999999997]
[2,1,1,5,3,21153,0.58168599999999993]
[2,1,1,5,4,21154,0.44473629999999997]
[2,1,1,5,5,21155,0.3820906]
[2,1,2,1,1,21211,0.87561859999999991]
[2,1,2,1,2,21212,0.8175328999999999]
[2,1,2,1,3,21213,0.77986469999999986]
[2,1,2,1,4,21214,0.6429149999999999]
[2,1,2,1,5,21215,0.58026929999999988]
[2,1,2,2,1,21221,0.81921879999999991]
[2,1,2,2,2,21222,0.7611330999999999]
[2,1,2,2,3,21223,0.72346489999999997]
[2,1,2,2,4,21224,0.5865151999999999]
[2,1,2,2,5,21225,0.52386949999999999]
[2,1,2,3,1,21231,0.80912639999999991]
[2,1,2,3,2,21232,0.75104069999999989]
[2,1,2,3,3,21233,0.71337249999999996]
[2,1,2,3,4,21234,0.5764227999999999]
[2,1,2,3,5,21235,0.51377709999999999]
[2,1,2,4,1,21241,0.66873219999999989]
[2,1,2,4,2,21242,0.61064649999999987]
[2,1,2,4,3,21243,0.57297829999999994]
[2,1,2,4,4,21244,0.43602859999999988]
[2,1,2,4,5,21245,0.37338289999999991]
[2,1,2,5,1,21251,0.61918549999999994]
[2,1,2,5,2,21252,0.56109979999999993]
[2,1,2,5,3,21253,0.52343159999999989]
[2,1,2,5,4,21254,0.38648189999999993]
[2,1,2,5,5,21255,0.32383619999999996]
[2,1,3,1,1,21311,0.86267559999999999]
[2,1,3,1,2,21312,0.80458989999999997]
[2,1,3,1,3,21313,0.76692169999999993]
[2,1,3,1,4,21314,0.62997199999999998]
[2,1,3,1,5,21315,0.56732629999999995]
[2,1,3,2,1,21321,0.80627579999999999]
[2,1,3,2,2,21322,0.74819009999999997]
[2,1,3,2,3,21323,0.71052190000000004]
[2,1,3,2,4,21324,0.57357219999999998]
[2,1,3,2,5,21325,0.51092650000000006]
[2,1,3,3,1,21331,0.79618339999999999]
[2,1,3,3,2,21332,0.73809769999999997]
[2,1,3,3,3,21333,0.70042950000000004]
[2,1,3,3,4,21334,0.56347979999999998]
[2,1,3,3,5,21335,0.50083410000000006]
[2,1,3,4,1,21341,0.65578919999999996]
[2,1,3,4,2,21342,0.59770349999999994]
[2,1,3,4,3,21343,0.56003530000000001]
[2,1,3,4,4,21344,0.42308559999999995]
[2,1,3,4,5,21345,0.36043989999999998]
[2,1,3,5,1,21351,0.60624250000000002]
[2,1,3,5,2,21352,0.5481568]
[2,1,3,5,3,21353,0.51048859999999996]
[2,1,3,5,4,21354,0.37353890000000001]
[2,1,3,5,5,21355,0.31089320000000004]
[2,1,4,1,1,21411,0.78038750000000001]
[2,1,4,1,2,21412,0.72230179999999999]
[2,1,4,1,3,21413,0.68463359999999995]
[2,1,4,1,4,21414,0.5476839]
[2,1,4,1,5,21415,0.48503820000000003]
[2,1,4,2,1,21421,0.72398770000000001]
[2,1,4,2,2,21422,0.66590199999999999]
[2,1,4,2,3,21423,0.62823380000000006]
[2,1,4,2,4,21424,0.4912841]
[2,1,4,2,5,21425,0.42863840000000003]
[2,1,4,3,1,21431,0.71389530000000001]
[2,1,4,3,2,21432,0.65580959999999999]
[2,1,4,3,3,21433,0.61814140000000006]
[2,1,4,3,4,21434,0.4811917]
[2,1,4,3,5,21435,0.41854600000000003]
[2,1,4,4,1,21441,0.57350109999999999]
[2,1,4,4,2,21442,0.51541539999999997]
[2,1,4,4,3,21443,0.47774719999999998]
[2,1,4,4,4,21444,0.34079749999999998]
[2,1,4,4,5,21445,0.2781518]
[2,1,4,5,1,21451,0.52395440000000004]
[2,1,4,5,2,21452,0.46586870000000002]
[2,1,4,5,3,21453,0.42820050000000004]
[2,1,4,5,4,21454,0.29125080000000003]
[2,1,4,5,5,21455,0.22860510000000006]
[2,1,5,1,1,21511,0.68554199999999998]
[2,1,5,1,2,21512,0.62745629999999997]
[2,1,5,1,3,21513,0.58978810000000004]
[2,1,5,1,4,21514,0.45283839999999997]
[2,1,5,1,5,21515,0.3901927]
[2,1,5,2,1,21521,0.62914219999999998]
[2,1,5,2,2,21522,0.57105649999999997]
[2,1,5,2,3,21523,0.53338829999999993]
[2,1,5,2,4,21524,0.39643859999999997]
[2,1,5,2,5,21525,0.3337929]
[2,1,5,3,1,21531,0.61904979999999998]
[2,1,5,3,2,21532,0.56096409999999997]
[2,1,5,3,3,21533,0.52329589999999993]
[2,1,5,3,4,21534,0.38634619999999997]
[2,1,5,3,5,21535,0.3237005]
[2,1,5,4,1,21541,0.47865559999999996]
[2,1,5,4,2,21542,0.42056989999999994]
[2,1,5,4,3,21543,0.38290169999999996]
[2,1,5,4,4,21544,0.24595199999999995]
[2,1,5,4,5,21545,0.18330629999999998]
[2,1,5,5,1,21551,0.42910889999999996]
[2,1,5,5,2,21552,0.37102319999999994]
[2,1,5,5,3,21553,0.33335499999999996]
[2,1,5,5,4,21554,0.19640529999999995]
[2,1,5,5,5,21555,0.13375959999999998]
[2,2,1,1,1,22111,0.8757436999999999]
[2,2,1,1,2,22112,0.81765799999999988]
[2,2,1,1,3,22113,0.77998979999999984]
[2,2,1,1,4,22114,0.64304009999999989]
[2,2,1,1,5,22115,0.58039439999999987]
[2,2,1,2,1,22121,0.8193438999999999]
[2,2,1,2,2,22122,0.76125819999999988]
[2,2,1,2,3,22123,0.72358999999999996]
[2,2,1,2,4,22124,0.58664029999999989]
[2,2,1,2,5,22125,0.52399459999999998]
[2,2,1,3,1,22131,0.8092514999999999]
[2,2,1,3,2,22132,0.75116579999999988]
[2,2,1,3,3,22133,0.71349759999999995]
[2,2,1,3,4,22134,0.57654789999999989]
[2,2,1,3,5,22135,0.51390219999999998]
[2,2,1,4,1,22141,0.66885729999999988]
[2,2,1,4,2,22142,0.61077159999999986]
[2,2,1,4,3,22143,0.57310339999999993]
[2,2,1,4,4,22144,0.43615369999999987]
[2,2,1,4,5,22145,0.3735079999999999]
[2,2,1,5,1,22151,0.61931059999999993]
[2,2,1,5,2,22152,0.56122489999999992]
[2,2,1,5,3,22153,0.52355669999999987]
[2,2,1,5,4,22154,0.38660699999999992]
[2,2,1,5,5,22155,0.32396129999999995]
[2,2,2,1,1,22211,0.81748929999999986]
[2,2,2,1,2,22212,0.75940359999999985]
[2,2,2,1,3,22213,0.7217353999999998]
[2,2,2,1,4,22214,0.58478569999999985]
[2,2,2,1,5,22215,0.52213999999999983]
[2,2,2,2,1,22221,0.76108949999999986]
[2,2,2,2,2,22222,0.70300379999999985]
[2,2,2,2,3,22223,0.66533559999999992]
[2,2,2,2,4,22224,0.52838589999999985]
[2,2,2,2,5,22225,0.46574019999999988]
[2,2,2,3,1,22231,0.75099709999999986]
[2,2,2,3,2,22232,0.69291139999999984]
[2,2,2,3,3,22233,0.65524319999999991]
[2,2,2,3,4,22234,0.51829349999999985]
[2,2,2,3,5,22235,0.45564779999999988]
[2,2,2,4,1,22241,0.61060289999999984]
[2,2,2,4,2,22242,0.55251719999999982]
[2,2,2,4,3,22243,0.51484899999999989]
[2,2,2,4,4,22244,0.37789929999999983]
[2,2,2,4,5,22245,0.31525359999999986]
[2,2,2,5,1,22251,0.56105619999999989]
[2,2,2,5,2,22252,0.50297049999999988]
[2,2,2,5,3,22253,0.46530229999999989]
[2,2,2,5,4,22254,0.32835259999999988]
[2,2,2,5,5,22255,0.26570689999999991]
[2,2,3,1,1,22311,0.80454629999999994]
[2,2,3,1,2,22312,0.74646059999999992]
[2,2,3,1,3,22313,0.70879239999999988]
[2,2,3,1,4,22314,0.57184269999999993]
[2,2,3,1,5,22315,0.5091969999999999]
[2,2,3,2,1,22321,0.74814649999999994]
[2,2,3,2,2,22322,0.69006079999999992]
[2,2,3,2,3,22323,0.65239259999999999]
[2,2,3,2,4,22324,0.51544289999999993]
[2,2,3,2,5,22325,0.45279719999999996]
[2,2,3,3,1,22331,0.73805409999999994]
[2,2,3,3,2,22332,0.67996839999999992]
[2,2,3,3,3,22333,0.64230019999999999]
[2,2,3,3,4,22334,0.50535049999999992]
[2,2,3,3,5,22335,0.44270479999999995]
[2,2,3,4,1,22341,0.59765989999999991]
[2,2,3,4,2,22342,0.53957419999999989]
[2,2,3,4,3,22343,0.50190599999999996]
[2,2,3,4,4,22344,0.3649562999999999]
[2,2,3,4,5,22345,0.30231059999999993]
[2,2,3,5,1,22351,0.54811319999999997]
[2,2,3,5,2,22352,0.49002749999999995]
[2,2,3,5,3,22353,0.45235929999999996]
[2,2,3,5,4,22354,0.31540959999999996]
[2,2,3,5,5,22355,0.25276389999999999]
[2,2,4,1,1,22411,0.72225819999999996]
[2,2,4,1,2,22412,0.66417249999999994]
[2,2,4,1,3,22413,0.6265042999999999]
[2,2,4,1,4,22414,0.48955459999999995]
[2,2,4,1,5,22415,0.42690889999999998]
[2,2,4,2,1,22421,0.66585839999999996]
[2,2,4,2,2,22422,0.60777269999999994]
[2,2,4,2,3,22423,0.57010450000000001]
[2,2,4,2,4,22424,0.43315479999999995]
[2,2,4,2,5,22425,0.37050909999999998]
[2,2,4,3,1,22431,0.65576599999999996]
[2,2,4,3,2,22432,0.59768029999999994]
[2,2,4,3,3,22433,0.56001210000000001]
[2,2,4,3,4,22434,0.42306239999999995]
[2,2,4,3,5,22435,0.36041669999999998]
[2,2,4,4,1,22441,0.51537179999999994]
[2,2,4,4,2,22442,0.45728609999999992]
[2,2,4,4,3,22443,0.41961789999999993]
[2,2,4,4,4,22444,0.28266819999999993]
[2,2,4,4,5,22445,0.22002249999999995]
[2,2,4,5,1,22451,0.46582509999999994]
[2,2,4,5,2,22452,0.40773939999999992]
[2,2,4,5,3,22453,0.37007119999999993]
[2,2,4,5,4,22454,0.23312149999999993]
[2,2,4,5,5,22455,0.17047579999999996]
[2,2,5,1,1,22511,0.62741269999999993]
[2,2,5,1,2,22512,0.56932699999999992]
[2,2,5,1,3,22513,0.53165879999999999]
[2,2,5,1,4,22514,0.39470909999999992]
[2,2,5,1,5,22515,0.33206339999999995]
[2,2,5,2,1,22521,0.57101289999999993]
[2,2,5,2,2,22522,0.51292719999999992]
[2,2,5,2,3,22523,0.47525899999999993]
[2,2,5,2,4,22524,0.33830929999999992]
[2,2,5,2,5,22525,0.27566359999999995]
[2,2,5,3,1,22531,0.56092049999999993]
[2,2,5,3,2,22532,0.50283479999999992]
[2,2,5,3,3,22533,0.46516659999999993]
[2,2,5,3,4,22534,0.32821689999999992]
[2,2,5,3,5,22535,0.26557119999999995]
[2,2,5,4,1,22541,0.42052629999999991]
[2,2,5,4,2,22542,0.36244059999999989]
[2,2,5,4,3,22543,0.32477239999999991]
[2,2,5,4,4,22544,0.1878226999999999]
[2,2,5,4,5,22545,0.12517699999999993]
[2,2,5,5,1,22551,0.37097959999999991]
[2,2,5,5,2,22552,0.31289389999999989]
[2,2,5,5,3,22553,0.27522569999999991]
[2,2,5,5,4,22554,0.1382759999999999]
[2,2,5,5,5,22555,7.5630299999999928E-2]
[2,3,1,1,1,23111,0.86324179999999995]
[2,3,1,1,2,23112,0.80515609999999993]
[2,3,1,1,3,23113,0.76748789999999989]
[2,3,1,1,4,23114,0.63053819999999994]
[2,3,1,1,5,23115,0.56789249999999991]
[2,3,1,2,1,23121,0.80684199999999995]
[2,3,1,2,2,23122,0.74875629999999993]
[2,3,1,2,3,23123,0.7110881]
[2,3,1,2,4,23124,0.57413839999999994]
[2,3,1,2,5,23125,0.51149270000000002]
[2,3,1,3,1,23131,0.79674959999999995]
[2,3,1,3,2,23132,0.73866389999999993]
[2,3,1,3,3,23133,0.7009957]
[2,3,1,3,4,23134,0.56404599999999994]
[2,3,1,3,5,23135,0.50140030000000002]
[2,3,1,4,1,23141,0.65635539999999992]
[2,3,1,4,2,23142,0.5982696999999999]
[2,3,1,4,3,23143,0.56060149999999997]
[2,3,1,4,4,23144,0.42365179999999991]
[2,3,1,4,5,23145,0.36100609999999994]
[2,3,1,5,1,23151,0.60680869999999998]
[2,3,1,5,2,23152,0.54872299999999996]
[2,3,1,5,3,23153,0.51105479999999992]
[2,3,1,5,4,23154,0.37410509999999997]
[2,3,1,5,5,23155,0.3114594]
[2,3,2,1,1,23211,0.80498739999999991]
[2,3,2,1,2,23212,0.74690169999999989]
[2,3,2,1,3,23213,0.70923349999999985]
[2,3,2,1,4,23214,0.5722837999999999]
[2,3,2,1,5,23215,0.50963809999999987]
[2,3,2,2,1,23221,0.74858759999999991]
[2,3,2,2,2,23222,0.69050189999999989]
[2,3,2,2,3,23223,0.65283369999999996]
[2,3,2,2,4,23224,0.5158839999999999]
[2,3,2,2,5,23225,0.45323829999999993]
[2,3,2,3,1,23231,0.73849519999999991]
[2,3,2,3,2,23232,0.68040949999999989]
[2,3,2,3,3,23233,0.64274129999999996]
[2,3,2,3,4,23234,0.5057915999999999]
[2,3,2,3,5,23235,0.44314589999999993]
[2,3,2,4,1,23241,0.59810099999999988]
[2,3,2,4,2,23242,0.54001529999999986]
[2,3,2,4,3,23243,0.50234709999999994]
[2,3,2,4,4,23244,0.36539739999999987]
[2,3,2,4,5,23245,0.3027516999999999]
[2,3,2,5,1,23251,0.54855429999999994]
[2,3,2,5,2,23252,0.49046859999999992]
[2,3,2,5,3,23253,0.45280039999999994]
[2,3,2,5,4,23254,0.31585069999999993]
[2,3,2,5,5,23255,0.25320499999999996]
[2,3,3,1,1,23311,0.79204439999999998]
[2,3,3,1,2,23312,0.73395869999999996]
[2,3,3,1,3,23313,0.69629049999999992]
[2,3,3,1,4,23314,0.55934079999999997]
[2,3,3,1,5,23315,0.4966951]
[2,3,3,2,1,23321,0.73564459999999998]
[2,3,3,2,2,23322,0.67755889999999996]
[2,3,3,2,3,23323,0.63989070000000003]
[2,3,3,2,4,23324,0.50294099999999997]
[2,3,3,2,5,23325,0.4402953]
[2,3,3,3,1,23331,0.72555219999999998]
[2,3,3,3,2,23332,0.66746649999999996]
[2,3,3,3,3,23333,0.62979830000000003]
[2,3,3,3,4,23334,0.49284859999999997]
[2,3,3,3,5,23335,0.4302029]
[2,3,3,4,1,23341,0.58515799999999996]
[2,3,3,4,2,23342,0.52707229999999994]
[2,3,3,4,3,23343,0.48940409999999995]
[2,3,3,4,4,23344,0.35245439999999995]
[2,3,3,4,5,23345,0.28980869999999997]
[2,3,3,5,1,23351,0.53561130000000001]
[2,3,3,5,2,23352,0.47752559999999999]
[2,3,3,5,3,23353,0.43985740000000001]
[2,3,3,5,4,23354,0.3029077]
[2,3,3,5,5,23355,0.24026200000000003]
[2,3,4,1,1,23411,0.70975630000000001]
[2,3,4,1,2,23412,0.65167059999999999]
[2,3,4,1,3,23413,0.61400239999999995]
[2,3,4,1,4,23414,0.4770527]
[2,3,4,1,5,23415,0.41440700000000003]
[2,3,4,2,1,23421,0.65335650000000001]
[2,3,4,2,2,23422,0.59527079999999999]
[2,3,4,2,3,23423,0.55760260000000006]
[2,3,4,2,4,23424,0.4206529]
[2,3,4,2,5,23425,0.35800720000000003]
[2,3,4,3,1,23431,0.64326410000000001]
[2,3,4,3,2,23432,0.58517839999999999]
[2,3,4,3,3,23433,0.54751020000000006]
[2,3,4,3,4,23434,0.41056049999999999]
[2,3,4,3,5,23435,0.34791480000000002]
[2,3,4,4,1,23441,0.50286989999999998]
[2,3,4,4,2,23442,0.44478419999999996]
[2,3,4,4,3,23443,0.40711599999999998]
[2,3,4,4,4,23444,0.27016629999999997]
[2,3,4,4,5,23445,0.2075206]
[2,3,4,5,1,23451,0.45332319999999998]
[2,3,4,5,2,23452,0.39523749999999996]
[2,3,4,5,3,23453,0.35756929999999998]
[2,3,4,5,4,23454,0.22061959999999997]
[2,3,4,5,5,23455,0.1579739]
[2,3,5,1,1,23511,0.61491079999999998]
[2,3,5,1,2,23512,0.55682509999999996]
[2,3,5,1,3,23513,0.51915690000000003]
[2,3,5,1,4,23514,0.38220719999999997]
[2,3,5,1,5,23515,0.3195615]
[2,3,5,2,1,23521,0.55851099999999998]
[2,3,5,2,2,23522,0.50042529999999996]
[2,3,5,2,3,23523,0.46275709999999998]
[2,3,5,2,4,23524,0.32580739999999997]
[2,3,5,2,5,23525,0.2631617]
[2,3,5,3,1,23531,0.54841859999999998]
[2,3,5,3,2,23532,0.49033289999999996]
[2,3,5,3,3,23533,0.45266469999999998]
[2,3,5,3,4,23534,0.31571499999999997]
[2,3,5,3,5,23535,0.2530693]
[2,3,5,4,1,23541,0.40802439999999995]
[2,3,5,4,2,23542,0.34993869999999994]
[2,3,5,4,3,23543,0.31227049999999995]
[2,3,5,4,4,23544,0.17532079999999994]
[2,3,5,4,5,23545,0.11267509999999997]
[2,3,5,5,1,23551,0.35847769999999995]
[2,3,5,5,2,23552,0.30039199999999994]
[2,3,5,5,3,23553,0.26272379999999995]
[2,3,5,5,4,23554,0.12577409999999994]
[2,3,5,5,5,23555,6.3128399999999973E-2]
[2,4,1,1,1,24111,0.74138249999999994]
[2,4,1,1,2,24112,0.68329679999999993]
[2,4,1,1,3,24113,0.6456286]
[2,4,1,1,4,24114,0.50867889999999993]
[2,4,1,1,5,24115,0.44603319999999996]
[2,4,1,2,1,24121,0.68498269999999994]
[2,4,1,2,2,24122,0.62689699999999993]
[2,4,1,2,3,24123,0.58922879999999989]
[2,4,1,2,4,24124,0.45227909999999993]
[2,4,1,2,5,24125,0.38963339999999996]
[2,4,1,3,1,24131,0.67489029999999994]
[2,4,1,3,2,24132,0.61680459999999993]
[2,4,1,3,3,24133,0.57913639999999988]
[2,4,1,3,4,24134,0.44218669999999993]
[2,4,1,3,5,24135,0.37954099999999996]
[2,4,1,4,1,24141,0.53449609999999992]
[2,4,1,4,2,24142,0.4764103999999999]
[2,4,1,4,3,24143,0.43874219999999992]
[2,4,1,4,4,24144,0.30179249999999991]
[2,4,1,4,5,24145,0.23914679999999994]
[2,4,1,5,1,24151,0.48494939999999992]
[2,4,1,5,2,24152,0.4268636999999999]
[2,4,1,5,3,24153,0.38919549999999992]
[2,4,1,5,4,24154,0.25224579999999991]
[2,4,1,5,5,24155,0.18960009999999994]
[2,4,2,1,1,24211,0.6831280999999999]
[2,4,2,1,2,24212,0.62504239999999989]
[2,4,2,1,3,24213,0.58737419999999996]
[2,4,2,1,4,24214,0.45042449999999989]
[2,4,2,1,5,24215,0.38777879999999992]
[2,4,2,2,1,24221,0.6267282999999999]
[2,4,2,2,2,24222,0.56864259999999989]
[2,4,2,2,3,24223,0.53097439999999985]
[2,4,2,2,4,24224,0.39402469999999989]
[2,4,2,2,5,24225,0.33137899999999992]
[2,4,2,3,1,24231,0.6166358999999999]
[2,4,2,3,2,24232,0.55855019999999989]
[2,4,2,3,3,24233,0.52088199999999985]
[2,4,2,3,4,24234,0.38393229999999989]
[2,4,2,3,5,24235,0.32128659999999992]
[2,4,2,4,1,24241,0.47624169999999988]
[2,4,2,4,2,24242,0.41815599999999986]
[2,4,2,4,3,24243,0.38048779999999988]
[2,4,2,4,4,24244,0.24353809999999987]
[2,4,2,4,5,24245,0.1808923999999999]
[2,4,2,5,1,24251,0.42669499999999988]
[2,4,2,5,2,24252,0.36860929999999986]
[2,4,2,5,3,24253,0.33094109999999988]
[2,4,2,5,4,24254,0.19399139999999987]
[2,4,2,5,5,24255,0.1313456999999999]
[2,4,3,1,1,24311,0.67018509999999998]
[2,4,3,1,2,24312,0.61209939999999996]
[2,4,3,1,3,24313,0.57443120000000003]
[2,4,3,1,4,24314,0.43748149999999997]
[2,4,3,1,5,24315,0.3748358]
[2,4,3,2,1,24321,0.61378529999999998]
[2,4,3,2,2,24322,0.55569959999999996]
[2,4,3,2,3,24323,0.51803139999999992]
[2,4,3,2,4,24324,0.38108169999999997]
[2,4,3,2,5,24325,0.318436]
[2,4,3,3,1,24331,0.60369289999999998]
[2,4,3,3,2,24332,0.54560719999999996]
[2,4,3,3,3,24333,0.50793899999999992]
[2,4,3,3,4,24334,0.37098929999999997]
[2,4,3,3,5,24335,0.3083436]
[2,4,3,4,1,24341,0.46329869999999995]
[2,4,3,4,2,24342,0.40521299999999993]
[2,4,3,4,3,24343,0.36754479999999995]
[2,4,3,4,4,24344,0.23059509999999994]
[2,4,3,4,5,24345,0.16794939999999997]
[2,4,3,5,1,24351,0.41375199999999995]
[2,4,3,5,2,24352,0.35566629999999994]
[2,4,3,5,3,24353,0.31799809999999995]
[2,4,3,5,4,24354,0.18104839999999994]
[2,4,3,5,5,24355,0.11840269999999997]
[2,4,4,1,1,24411,0.58789699999999989]
[2,4,4,1,2,24412,0.52981129999999987]
[2,4,4,1,3,24413,0.49214309999999989]
[2,4,4,1,4,24414,0.35519339999999988]
[2,4,4,1,5,24415,0.29254769999999991]
[2,4,4,2,1,24421,0.53149719999999989]
[2,4,4,2,2,24422,0.47341149999999987]
[2,4,4,2,3,24423,0.43574329999999989]
[2,4,4,2,4,24424,0.29879359999999988]
[2,4,4,2,5,24425,0.23614789999999991]
[2,4,4,3,1,24431,0.52140479999999989]
[2,4,4,3,2,24432,0.46331909999999987]
[2,4,4,3,3,24433,0.42565089999999989]
[2,4,4,3,4,24434,0.28870119999999988]
[2,4,4,3,5,24435,0.22605549999999991]
[2,4,4,4,1,24441,0.38101059999999987]
[2,4,4,4,2,24442,0.32292489999999985]
[2,4,4,4,3,24443,0.28525669999999986]
[2,4,4,4,4,24444,0.14830699999999986]
[2,4,4,4,5,24445,8.5661299999999885E-2]
[2,4,4,5,1,24451,0.33146389999999987]
[2,4,4,5,2,24452,0.27337819999999985]
[2,4,4,5,3,24453,0.23570999999999986]
[2,4,4,5,4,24454,9.8760299999999857E-2]
[2,4,4,5,5,24455,3.6114599999999886E-2]
[2,4,5,1,1,24511,0.49305149999999998]
[2,4,5,1,2,24512,0.43496579999999996]
[2,4,5,1,3,24513,0.39729759999999997]
[2,4,5,1,4,24514,0.26034789999999997]
[2,4,5,1,5,24515,0.19770219999999999]
[2,4,5,2,1,24521,0.43665169999999998]
[2,4,5,2,2,24522,0.37856599999999996]
[2,4,5,2,3,24523,0.34089779999999997]
[2,4,5,2,4,24524,0.20394809999999997]
[2,4,5,2,5,24525,0.14130239999999999]
[2,4,5,3,1,24531,0.42655929999999997]
[2,4,5,3,2,24532,0.36847359999999996]
[2,4,5,3,3,24533,0.33080539999999997]
[2,4,5,3,4,24534,0.19385569999999996]
[2,4,5,3,5,24535,0.13120999999999999]
[2,4,5,4,1,24541,0.28616509999999995]
[2,4,5,4,2,24542,0.22807939999999996]
[2,4,5,4,3,24543,0.19041119999999995]
[2,4,5,4,4,24544,5.346149999999994E-2]
[2,4,5,4,5,24545,-9.1842000000000312E-3]
[2,4,5,5,1,24551,0.23661839999999995]
[2,4,5,5,2,24552,0.17853269999999996]
[2,4,5,5,3,24553,0.14086449999999995]
[2,4,5,5,4,24554,3.9147999999999405E-3]
[2,4,5,5,5,24555,-5.873090000000003E-2]
[2,5,1,1,1,25111,0.68399670000000001]
[2,5,1,1,2,25112,0.625911]
[2,5,1,1,3,25113,0.58824279999999995]
[2,5,1,1,4,25114,0.4512931]
[2,5,1,1,5,25115,0.38864740000000003]
[2,5,1,2,1,25121,0.62759690000000001]
[2,5,1,2,2,25122,0.5695112]
[2,5,1,2,3,25123,0.53184300000000007]
[2,5,1,2,4,25124,0.3948933]
[2,5,1,2,5,25125,0.33224760000000003]
[2,5,1,3,1,25131,0.61750450000000001]
[2,5,1,3,2,25132,0.55941879999999999]
[2,5,1,3,3,25133,0.52175060000000006]
[2,5,1,3,4,25134,0.3848009]
[2,5,1,3,5,25135,0.32215520000000003]
[2,5,1,4,1,25141,0.47711029999999999]
[2,5,1,4,2,25142,0.41902459999999997]
[2,5,1,4,3,25143,0.38135639999999998]
[2,5,1,4,4,25144,0.24440669999999998]
[2,5,1,4,5,25145,0.18176100000000001]
[2,5,1,5,1,25151,0.42756359999999999]
[2,5,1,5,2,25152,0.36947789999999997]
[2,5,1,5,3,25153,0.33180969999999999]
[2,5,1,5,4,25154,0.19485999999999998]
[2,5,1,5,5,25155,0.13221430000000001]
[2,5,2,1,1,25211,0.62574229999999997]
[2,5,2,1,2,25212,0.56765659999999996]
[2,5,2,1,3,25213,0.52998839999999992]
[2,5,2,1,4,25214,0.39303869999999996]
[2,5,2,1,5,25215,0.33039299999999999]
[2,5,2,2,1,25221,0.56934249999999997]
[2,5,2,2,2,25222,0.51125679999999996]
[2,5,2,2,3,25223,0.47358859999999997]
[2,5,2,2,4,25224,0.33663889999999996]
[2,5,2,2,5,25225,0.27399319999999999]
[2,5,2,3,1,25231,0.55925009999999997]
[2,5,2,3,2,25232,0.50116439999999995]
[2,5,2,3,3,25233,0.46349619999999997]
[2,5,2,3,4,25234,0.32654649999999996]
[2,5,2,3,5,25235,0.26390079999999999]
[2,5,2,4,1,25241,0.41885589999999995]
[2,5,2,4,2,25242,0.36077019999999993]
[2,5,2,4,3,25243,0.32310199999999994]
[2,5,2,4,4,25244,0.18615229999999994]
[2,5,2,4,5,25245,0.12350659999999997]
[2,5,2,5,1,25251,0.36930919999999995]
[2,5,2,5,2,25252,0.31122349999999993]
[2,5,2,5,3,25253,0.27355529999999995]
[2,5,2,5,4,25254,0.13660559999999994]
[2,5,2,5,5,25255,7.3959899999999967E-2]
[2,5,3,1,1,25311,0.61279930000000005]
[2,5,3,1,2,25312,0.55471360000000003]
[2,5,3,1,3,25313,0.51704539999999999]
[2,5,3,1,4,25314,0.38009570000000004]
[2,5,3,1,5,25315,0.31745000000000007]
[2,5,3,2,1,25321,0.55639950000000005]
[2,5,3,2,2,25322,0.49831380000000003]
[2,5,3,2,3,25323,0.46064560000000004]
[2,5,3,2,4,25324,0.32369590000000004]
[2,5,3,2,5,25325,0.26105020000000007]
[2,5,3,3,1,25331,0.54630710000000005]
[2,5,3,3,2,25332,0.48822140000000003]
[2,5,3,3,3,25333,0.45055320000000004]
[2,5,3,3,4,25334,0.31360350000000004]
[2,5,3,3,5,25335,0.25095780000000006]
[2,5,3,4,1,25341,0.40591290000000002]
[2,5,3,4,2,25342,0.3478272]
[2,5,3,4,3,25343,0.31015900000000002]
[2,5,3,4,4,25344,0.17320930000000001]
[2,5,3,4,5,25345,0.11056360000000004]
[2,5,3,5,1,25351,0.35636620000000002]
[2,5,3,5,2,25352,0.2982805]
[2,5,3,5,3,25353,0.26061230000000002]
[2,5,3,5,4,25354,0.12366260000000001]
[2,5,3,5,5,25355,6.1016900000000041E-2]
[2,5,4,1,1,25411,0.53051120000000007]
[2,5,4,1,2,25412,0.47242550000000005]
[2,5,4,1,3,25413,0.43475730000000007]
[2,5,4,1,4,25414,0.29780760000000006]
[2,5,4,1,5,25415,0.23516190000000009]
[2,5,4,2,1,25421,0.47411140000000007]
[2,5,4,2,2,25422,0.41602570000000005]
[2,5,4,2,3,25423,0.37835750000000007]
[2,5,4,2,4,25424,0.24140780000000006]
[2,5,4,2,5,25425,0.17876210000000009]
[2,5,4,3,1,25431,0.46401900000000007]
[2,5,4,3,2,25432,0.40593330000000005]
[2,5,4,3,3,25433,0.36826510000000007]
[2,5,4,3,4,25434,0.23131540000000006]
[2,5,4,3,5,25435,0.16866970000000009]
[2,5,4,4,1,25441,0.32362480000000005]
[2,5,4,4,2,25442,0.26553910000000003]
[2,5,4,4,3,25443,0.22787090000000004]
[2,5,4,4,4,25444,9.0921200000000035E-2]
[2,5,4,4,5,25445,2.8275500000000064E-2]
[2,5,4,5,1,25451,0.27407810000000005]
[2,5,4,5,2,25452,0.21599240000000006]
[2,5,4,5,3,25453,0.17832420000000004]
[2,5,4,5,4,25454,4.1374500000000036E-2]
[2,5,4,5,5,25455,-2.1271199999999935E-2]
[2,5,5,1,1,25511,0.43566570000000004]
[2,5,5,1,2,25512,0.37758000000000003]
[2,5,5,1,3,25513,0.33991180000000004]
[2,5,5,1,4,25514,0.20296210000000003]
[2,5,5,1,5,25515,0.14031640000000006]
[2,5,5,2,1,25521,0.37926590000000004]
[2,5,5,2,2,25522,0.32118020000000003]
[2,5,5,2,3,25523,0.28351200000000004]
[2,5,5,2,4,25524,0.14656230000000003]
[2,5,5,2,5,25525,8.3916600000000063E-2]
[2,5,5,3,1,25531,0.36917350000000004]
[2,5,5,3,2,25532,0.31108780000000003]
[2,5,5,3,3,25533,0.27341960000000004]
[2,5,5,3,4,25534,0.13646990000000003]
[2,5,5,3,5,25535,7.3824200000000062E-2]
[2,5,5,4,1,25541,0.22877930000000005]
[2,5,5,4,2,25542,0.17069360000000006]
[2,5,5,4,3,25543,0.13302540000000004]
[2,5,5,4,4,25544,-3.9242999999999639E-3]
[2,5,5,4,5,25545,-6.6569999999999935E-2]
[2,5,5,5,1,25551,0.17923260000000002]
[2,5,5,5,2,25552,0.12114690000000003]
[2,5,5,5,3,25553,8.3478700000000017E-2]
[2,5,5,5,4,25554,-5.3470999999999991E-2]
[2,5,5,5,5,25555,-0.11611669999999996]
[3,1,1,1,1,31111,0.9134371]
[3,1,1,1,2,31112,0.85535139999999998]
[3,1,1,1,3,31113,0.81768320000000005]
[3,1,1,1,4,31114,0.68073349999999999]
[3,1,1,1,5,31115,0.61808780000000008]
[3,1,1,2,1,31121,0.8570373]
[3,1,1,2,2,31122,0.79895159999999998]
[3,1,1,2,3,31123,0.76128339999999994]
[3,1,1,2,4,31124,0.62433369999999999]
[3,1,1,2,5,31125,0.56168799999999997]
[3,1,1,3,1,31131,0.8469449]
[3,1,1,3,2,31132,0.78885919999999998]
[3,1,1,3,3,31133,0.75119099999999994]
[3,1,1,3,4,31134,0.61424129999999999]
[3,1,1,3,5,31135,0.55159559999999996]
[3,1,1,4,1,31141,0.70655069999999998]
[3,1,1,4,2,31142,0.64846499999999996]
[3,1,1,4,3,31143,0.61079679999999992]
[3,1,1,4,4,31144,0.47384709999999997]
[3,1,1,4,5,31145,0.41120139999999999]
[3,1,1,5,1,31151,0.65700399999999992]
[3,1,1,5,2,31152,0.5989182999999999]
[3,1,1,5,3,31153,0.56125009999999986]
[3,1,1,5,4,31154,0.42430039999999991]
[3,1,1,5,5,31155,0.36165469999999994]
[3,1,2,1,1,31211,0.85518269999999996]
[3,1,2,1,2,31212,0.79709699999999994]
[3,1,2,1,3,31213,0.75942880000000001]
[3,1,2,1,4,31214,0.62247909999999995]
[3,1,2,1,5,31215,0.55983340000000004]
[3,1,2,2,1,31221,0.79878289999999996]
[3,1,2,2,2,31222,0.74069719999999994]
[3,1,2,2,3,31223,0.7030289999999999]
[3,1,2,2,4,31224,0.56607929999999995]
[3,1,2,2,5,31225,0.50343359999999993]
[3,1,2,3,1,31231,0.78869049999999996]
[3,1,2,3,2,31232,0.73060479999999994]
[3,1,2,3,3,31233,0.6929365999999999]
[3,1,2,3,4,31234,0.55598689999999995]
[3,1,2,3,5,31235,0.49334119999999998]
[3,1,2,4,1,31241,0.64829629999999994]
[3,1,2,4,2,31242,0.59021059999999992]
[3,1,2,4,3,31243,0.55254239999999988]
[3,1,2,4,4,31244,0.41559269999999993]
[3,1,2,4,5,31245,0.35294699999999996]
[3,1,2,5,1,31251,0.59874959999999988]
[3,1,2,5,2,31252,0.54066389999999986]
[3,1,2,5,3,31253,0.50299569999999982]
[3,1,2,5,4,31254,0.36604599999999987]
[3,1,2,5,5,31255,0.3034002999999999]
[3,1,3,1,1,31311,0.84223970000000004]
[3,1,3,1,2,31312,0.78415400000000002]
[3,1,3,1,3,31313,0.74648580000000009]
[3,1,3,1,4,31314,0.60953610000000003]
[3,1,3,1,5,31315,0.54689040000000011]
[3,1,3,2,1,31321,0.78583990000000004]
[3,1,3,2,2,31322,0.72775420000000002]
[3,1,3,2,3,31323,0.69008599999999998]
[3,1,3,2,4,31324,0.55313630000000003]
[3,1,3,2,5,31325,0.49049060000000005]
[3,1,3,3,1,31331,0.77574750000000003]
[3,1,3,3,2,31332,0.71766180000000002]
[3,1,3,3,3,31333,0.67999359999999998]
[3,1,3,3,4,31334,0.54304390000000002]
[3,1,3,3,5,31335,0.48039820000000005]
[3,1,3,4,1,31341,0.63535330000000001]
[3,1,3,4,2,31342,0.57726759999999999]
[3,1,3,4,3,31343,0.53959939999999995]
[3,1,3,4,4,31344,0.4026497]
[3,1,3,4,5,31345,0.34000400000000003]
[3,1,3,5,1,31351,0.58580659999999996]
[3,1,3,5,2,31352,0.52772089999999994]
[3,1,3,5,3,31353,0.49005269999999995]
[3,1,3,5,4,31354,0.35310299999999994]
[3,1,3,5,5,31355,0.29045729999999997]
[3,1,4,1,1,31411,0.75995159999999995]
[3,1,4,1,2,31412,0.70186589999999993]
[3,1,4,1,3,31413,0.66419769999999989]
[3,1,4,1,4,31414,0.52724799999999994]
[3,1,4,1,5,31415,0.46460229999999997]
[3,1,4,2,1,31421,0.70355179999999995]
[3,1,4,2,2,31422,0.64546609999999993]
[3,1,4,2,3,31423,0.6077979]
[3,1,4,2,4,31424,0.47084819999999994]
[3,1,4,2,5,31425,0.40820249999999997]
[3,1,4,3,1,31431,0.69345939999999995]
[3,1,4,3,2,31432,0.63537369999999993]
[3,1,4,3,3,31433,0.5977055]
[3,1,4,3,4,31434,0.46075579999999994]
[3,1,4,3,5,31435,0.39811009999999997]
[3,1,4,4,1,31441,0.55306519999999992]
[3,1,4,4,2,31442,0.49497949999999991]
[3,1,4,4,3,31443,0.45731129999999992]
[3,1,4,4,4,31444,0.32036159999999991]
[3,1,4,4,5,31445,0.25771589999999994]
[3,1,4,5,1,31451,0.50351849999999998]
[3,1,4,5,2,31452,0.44543279999999996]
[3,1,4,5,3,31453,0.40776459999999998]
[3,1,4,5,4,31454,0.27081489999999997]
[3,1,4,5,5,31455,0.2081692]
[3,1,5,1,1,31511,0.66510610000000003]
[3,1,5,1,2,31512,0.60702040000000002]
[3,1,5,1,3,31513,0.56935219999999997]
[3,1,5,1,4,31514,0.43240250000000002]
[3,1,5,1,5,31515,0.36975680000000005]
[3,1,5,2,1,31521,0.60870630000000003]
[3,1,5,2,2,31522,0.55062060000000002]
[3,1,5,2,3,31523,0.51295240000000009]
[3,1,5,2,4,31524,0.37600270000000002]
[3,1,5,2,5,31525,0.31335700000000005]
[3,1,5,3,1,31531,0.59861390000000003]
[3,1,5,3,2,31532,0.54052820000000001]
[3,1,5,3,3,31533,0.50286000000000008]
[3,1,5,3,4,31534,0.36591030000000002]
[3,1,5,3,5,31535,0.30326460000000005]
[3,1,5,4,1,31541,0.45821970000000001]
[3,1,5,4,2,31542,0.40013399999999999]
[3,1,5,4,3,31543,0.3624658]
[3,1,5,4,4,31544,0.2255161]
[3,1,5,4,5,31545,0.16287040000000003]
[3,1,5,5,1,31551,0.40867300000000001]
[3,1,5,5,2,31552,0.35058729999999999]
[3,1,5,5,3,31553,0.31291910000000001]
[3,1,5,5,4,31554,0.1759694]
[3,1,5,5,5,31555,0.11332370000000003]
[3,2,1,1,1,32111,0.85530779999999995]
[3,2,1,1,2,32112,0.79722209999999993]
[3,2,1,1,3,32113,0.7595539]
[3,2,1,1,4,32114,0.62260419999999994]
[3,2,1,1,5,32115,0.55995850000000003]
[3,2,1,2,1,32121,0.79890799999999995]
[3,2,1,2,2,32122,0.74082229999999993]
[3,2,1,2,3,32123,0.70315409999999989]
[3,2,1,2,4,32124,0.56620439999999994]
[3,2,1,2,5,32125,0.50355869999999991]
[3,2,1,3,1,32131,0.78881559999999995]
[3,2,1,3,2,32132,0.73072989999999993]
[3,2,1,3,3,32133,0.69306169999999989]
[3,2,1,3,4,32134,0.55611199999999994]
[3,2,1,3,5,32135,0.49346629999999997]
[3,2,1,4,1,32141,0.64842139999999993]
[3,2,1,4,2,32142,0.59033569999999991]
[3,2,1,4,3,32143,0.55266749999999987]
[3,2,1,4,4,32144,0.41571779999999992]
[3,2,1,4,5,32145,0.35307209999999994]
[3,2,1,5,1,32151,0.59887469999999987]
[3,2,1,5,2,32152,0.54078899999999985]
[3,2,1,5,3,32153,0.50312079999999981]
[3,2,1,5,4,32154,0.36617109999999986]
[3,2,1,5,5,32155,0.30352539999999989]
[3,2,2,1,1,32211,0.79705339999999991]
[3,2,2,1,2,32212,0.73896769999999989]
[3,2,2,1,3,32213,0.70129949999999996]
[3,2,2,1,4,32214,0.5643497999999999]
[3,2,2,1,5,32215,0.50170409999999999]
[3,2,2,2,1,32221,0.74065359999999991]
[3,2,2,2,2,32222,0.68256789999999989]
[3,2,2,2,3,32223,0.64489969999999985]
[3,2,2,2,4,32224,0.5079499999999999]
[3,2,2,2,5,32225,0.44530429999999993]
[3,2,2,3,1,32231,0.73056119999999991]
[3,2,2,3,2,32232,0.67247549999999989]
[3,2,2,3,3,32233,0.63480729999999985]
[3,2,2,3,4,32234,0.4978575999999999]
[3,2,2,3,5,32235,0.43521189999999993]
[3,2,2,4,1,32241,0.59016699999999989]
[3,2,2,4,2,32242,0.53208129999999987]
[3,2,2,4,3,32243,0.49441309999999988]
[3,2,2,4,4,32244,0.35746339999999988]
[3,2,2,4,5,32245,0.2948176999999999]
[3,2,2,5,1,32251,0.54062029999999983]
[3,2,2,5,2,32252,0.48253459999999981]
[3,2,2,5,3,32253,0.44486639999999983]
[3,2,2,5,4,32254,0.30791669999999982]
[3,2,2,5,5,32255,0.24527099999999985]
[3,2,3,1,1,32311,0.78411039999999999]
[3,2,3,1,2,32312,0.72602469999999997]
[3,2,3,1,3,32313,0.68835650000000004]
[3,2,3,1,4,32314,0.55140679999999997]
[3,2,3,1,5,32315,0.4887611]
[3,2,3,2,1,32321,0.72771059999999999]
[3,2,3,2,2,32322,0.66962489999999997]
[3,2,3,2,3,32323,0.63195669999999993]
[3,2,3,2,4,32324,0.49500699999999997]
[3,2,3,2,5,32325,0.4323613]
[3,2,3,3,1,32331,0.71761819999999998]
[3,2,3,3,2,32332,0.65953249999999997]
[3,2,3,3,3,32333,0.62186429999999993]
[3,2,3,3,4,32334,0.48491459999999997]
[3,2,3,3,5,32335,0.4222689]
[3,2,3,4,1,32341,0.57722399999999996]
[3,2,3,4,2,32342,0.51913829999999994]
[3,2,3,4,3,32343,0.48147009999999996]
[3,2,3,4,4,32344,0.34452039999999995]
[3,2,3,4,5,32345,0.28187469999999998]
[3,2,3,5,1,32351,0.5276772999999999]
[3,2,3,5,2,32352,0.46959159999999989]
[3,2,3,5,3,32353,0.4319233999999999]
[3,2,3,5,4,32354,0.29497369999999989]
[3,2,3,5,5,32355,0.23232799999999992]
[3,2,4,1,1,32411,0.7018222999999999]
[3,2,4,1,2,32412,0.64373659999999988]
[3,2,4,1,3,32413,0.60606839999999984]
[3,2,4,1,4,32414,0.46911869999999989]
[3,2,4,1,5,32415,0.40647299999999992]
[3,2,4,2,1,32421,0.6454224999999999]
[3,2,4,2,2,32422,0.58733679999999988]
[3,2,4,2,3,32423,0.54966859999999995]
[3,2,4,2,4,32424,0.41271889999999989]
[3,2,4,2,5,32425,0.35007319999999992]
[3,2,4,3,1,32431,0.6353300999999999]
[3,2,4,3,2,32432,0.57724439999999988]
[3,2,4,3,3,32433,0.53957619999999995]
[3,2,4,3,4,32434,0.40262649999999989]
[3,2,4,3,5,32435,0.33998079999999992]
[3,2,4,4,1,32441,0.49493589999999987]
[3,2,4,4,2,32442,0.43685019999999986]
[3,2,4,4,3,32443,0.39918199999999987]
[3,2,4,4,4,32444,0.26223229999999986]
[3,2,4,4,5,32445,0.19958659999999989]
[3,2,4,5,1,32451,0.44538919999999987]
[3,2,4,5,2,32452,0.38730349999999986]
[3,2,4,5,3,32453,0.34963529999999987]
[3,2,4,5,4,32454,0.21268559999999986]
[3,2,4,5,5,32455,0.15003989999999989]
[3,2,5,1,1,32511,0.60697679999999998]
[3,2,5,1,2,32512,0.54889109999999997]
[3,2,5,1,3,32513,0.51122289999999992]
[3,2,5,1,4,32514,0.37427319999999997]
[3,2,5,1,5,32515,0.3116275]
[3,2,5,2,1,32521,0.55057699999999998]
[3,2,5,2,2,32522,0.49249129999999997]
[3,2,5,2,3,32523,0.45482309999999998]
[3,2,5,2,4,32524,0.31787339999999997]
[3,2,5,2,5,32525,0.2552277]
[3,2,5,3,1,32531,0.54048459999999998]
[3,2,5,3,2,32532,0.48239889999999996]
[3,2,5,3,3,32533,0.44473069999999998]
[3,2,5,3,4,32534,0.30778099999999997]
[3,2,5,3,5,32535,0.2451353]
[3,2,5,4,1,32541,0.40009039999999996]
[3,2,5,4,2,32542,0.34200469999999994]
[3,2,5,4,3,32543,0.30433649999999995]
[3,2,5,4,4,32544,0.16738679999999995]
[3,2,5,4,5,32545,0.10474109999999998]
[3,2,5,5,1,32551,0.35054369999999996]
[3,2,5,5,2,32552,0.29245799999999994]
[3,2,5,5,3,32553,0.25478979999999996]
[3,2,5,5,4,32554,0.11784009999999995]
[3,2,5,5,5,32555,5.5194399999999977E-2]
[3,3,1,1,1,33111,0.8428059]
[3,3,1,1,2,33112,0.78472019999999998]
[3,3,1,1,3,33113,0.74705200000000005]
[3,3,1,1,4,33114,0.61010229999999999]
[3,3,1,1,5,33115,0.54745660000000007]
[3,3,1,2,1,33121,0.7864061]
[3,3,1,2,2,33122,0.72832039999999998]
[3,3,1,2,3,33123,0.69065219999999994]
[3,3,1,2,4,33124,0.55370249999999999]
[3,3,1,2,5,33125,0.49105680000000002]
[3,3,1,3,1,33131,0.7763137]
[3,3,1,3,2,33132,0.71822799999999998]
[3,3,1,3,3,33133,0.68055979999999994]
[3,3,1,3,4,33134,0.54361009999999998]
[3,3,1,3,5,33135,0.48096440000000001]
[3,3,1,4,1,33141,0.63591949999999997]
[3,3,1,4,2,33142,0.57783379999999995]
[3,3,1,4,3,33143,0.54016559999999991]
[3,3,1,4,4,33144,0.40321589999999996]
[3,3,1,4,5,33145,0.34057019999999999]
[3,3,1,5,1,33151,0.58637279999999992]
[3,3,1,5,2,33152,0.5282870999999999]
[3,3,1,5,3,33153,0.49061889999999991]
[3,3,1,5,4,33154,0.35366919999999991]
[3,3,1,5,5,33155,0.29102349999999994]
[3,3,2,1,1,33211,0.78455149999999996]
[3,3,2,1,2,33212,0.72646579999999994]
[3,3,2,1,3,33213,0.68879760000000001]
[3,3,2,1,4,33214,0.55184789999999995]
[3,3,2,1,5,33215,0.48920219999999998]
[3,3,2,2,1,33221,0.72815169999999996]
[3,3,2,2,2,33222,0.67006599999999994]
[3,3,2,2,3,33223,0.6323977999999999]
[3,3,2,2,4,33224,0.49544809999999995]
[3,3,2,2,5,33225,0.43280239999999998]
[3,3,2,3,1,33231,0.71805929999999996]
[3,3,2,3,2,33232,0.65997359999999994]
[3,3,2,3,3,33233,0.6223053999999999]
[3,3,2,3,4,33234,0.48535569999999995]
[3,3,2,3,5,33235,0.42270999999999997]
[3,3,2,4,1,33241,0.57766509999999993]
[3,3,2,4,2,33242,0.51957939999999991]
[3,3,2,4,3,33243,0.48191119999999993]
[3,3,2,4,4,33244,0.34496149999999992]
[3,3,2,4,5,33245,0.28231579999999995]
[3,3,2,5,1,33251,0.52811839999999988]
[3,3,2,5,2,33252,0.47003269999999986]
[3,3,2,5,3,33253,0.43236449999999987]
[3,3,2,5,4,33254,0.29541479999999987]
[3,3,2,5,5,33255,0.2327690999999999]
[3,3,3,1,1,33311,0.77160850000000003]
[3,3,3,1,2,33312,0.71352280000000001]
[3,3,3,1,3,33313,0.67585460000000008]
[3,3,3,1,4,33314,0.53890490000000002]
[3,3,3,1,5,33315,0.47625920000000005]
[3,3,3,2,1,33321,0.71520870000000003]
[3,3,3,2,2,33322,0.65712300000000001]
[3,3,3,2,3,33323,0.61945479999999997]
[3,3,3,2,4,33324,0.48250510000000002]
[3,3,3,2,5,33325,0.41985940000000005]
[3,3,3,3,1,33331,0.70511630000000003]
[3,3,3,3,2,33332,0.64703060000000001]
[3,3,3,3,3,33333,0.60936239999999997]
[3,3,3,3,4,33334,0.47241270000000002]
[3,3,3,3,5,33335,0.40976700000000005]
[3,3,3,4,1,33341,0.5647221]
[3,3,3,4,2,33342,0.50663639999999999]
[3,3,3,4,3,33343,0.4689682]
[3,3,3,4,4,33344,0.33201849999999999]
[3,3,3,4,5,33345,0.26937280000000002]
[3,3,3,5,1,33351,0.51517539999999995]
[3,3,3,5,2,33352,0.45708969999999993]
[3,3,3,5,3,33353,0.41942149999999995]
[3,3,3,5,4,33354,0.28247179999999994]
[3,3,3,5,5,33355,0.21982609999999997]
[3,3,4,1,1,33411,0.68932039999999994]
[3,3,4,1,2,33412,0.63123469999999993]
[3,3,4,1,3,33413,0.59356649999999989]
[3,3,4,1,4,33414,0.45661679999999993]
[3,3,4,1,5,33415,0.39397109999999996]
[3,3,4,2,1,33421,0.63292059999999994]
[3,3,4,2,2,33422,0.57483489999999993]
[3,3,4,2,3,33423,0.5371667]
[3,3,4,2,4,33424,0.40021699999999993]
[3,3,4,2,5,33425,0.33757129999999996]
[3,3,4,3,1,33431,0.62282819999999994]
[3,3,4,3,2,33432,0.56474249999999993]
[3,3,4,3,3,33433,0.5270743]
[3,3,4,3,4,33434,0.39012459999999993]
[3,3,4,3,5,33435,0.32747889999999996]
[3,3,4,4,1,33441,0.48243399999999992]
[3,3,4,4,2,33442,0.4243482999999999]
[3,3,4,4,3,33443,0.38668009999999992]
[3,3,4,4,4,33444,0.24973039999999991]
[3,3,4,4,5,33445,0.18708469999999994]
[3,3,4,5,1,33451,0.43288729999999992]
[3,3,4,5,2,33452,0.3748015999999999]
[3,3,4,5,3,33453,0.33713339999999992]
[3,3,4,5,4,33454,0.20018369999999991]
[3,3,4,5,5,33455,0.13753799999999994]
[3,3,5,1,1,33511,0.59447490000000003]
[3,3,5,1,2,33512,0.53638920000000001]
[3,3,5,1,3,33513,0.49872100000000003]
[3,3,5,1,4,33514,0.36177130000000002]
[3,3,5,1,5,33515,0.29912560000000005]
[3,3,5,2,1,33521,0.53807510000000003]
[3,3,5,2,2,33522,0.47998940000000001]
[3,3,5,2,3,33523,0.44232120000000003]
[3,3,5,2,4,33524,0.30537150000000002]
[3,3,5,2,5,33525,0.24272580000000005]
[3,3,5,3,1,33531,0.52798270000000003]
[3,3,5,3,2,33532,0.46989700000000001]
[3,3,5,3,3,33533,0.43222880000000002]
[3,3,5,3,4,33534,0.29527910000000002]
[3,3,5,3,5,33535,0.23263340000000005]
[3,3,5,4,1,33541,0.3875885]
[3,3,5,4,2,33542,0.32950279999999998]
[3,3,5,4,3,33543,0.2918346]
[3,3,5,4,4,33544,0.15488489999999999]
[3,3,5,4,5,33545,9.2239200000000021E-2]
[3,3,5,5,1,33551,0.3380418]
[3,3,5,5,2,33552,0.27995609999999999]
[3,3,5,5,3,33553,0.2422879]
[3,3,5,5,4,33554,0.10533819999999999]
[3,3,5,5,5,33555,4.2692500000000022E-2]
[3,4,1,1,1,34111,0.72094659999999999]
[3,4,1,1,2,34112,0.66286089999999998]
[3,4,1,1,3,34113,0.62519269999999993]
[3,4,1,1,4,34114,0.48824299999999998]
[3,4,1,1,5,34115,0.42559730000000001]
[3,4,1,2,1,34121,0.66454679999999999]
[3,4,1,2,2,34122,0.60646109999999998]
[3,4,1,2,3,34123,0.56879290000000005]
[3,4,1,2,4,34124,0.43184319999999998]
[3,4,1,2,5,34125,0.36919750000000001]
[3,4,1,3,1,34131,0.65445439999999999]
[3,4,1,3,2,34132,0.59636869999999997]
[3,4,1,3,3,34133,0.55870050000000004]
[3,4,1,3,4,34134,0.42175079999999998]
[3,4,1,3,5,34135,0.35910510000000001]
[3,4,1,4,1,34141,0.51406019999999997]
[3,4,1,4,2,34142,0.45597449999999995]
[3,4,1,4,3,34143,0.41830629999999996]
[3,4,1,4,4,34144,0.28135659999999996]
[3,4,1,4,5,34145,0.21871089999999999]
[3,4,1,5,1,34151,0.46451349999999997]
[3,4,1,5,2,34152,0.40642779999999995]
[3,4,1,5,3,34153,0.36875959999999997]
[3,4,1,5,4,34154,0.23180989999999996]
[3,4,1,5,5,34155,0.16916419999999999]
[3,4,2,1,1,34211,0.66269219999999995]
[3,4,2,1,2,34212,0.60460649999999994]
[3,4,2,1,3,34213,0.5669382999999999]
[3,4,2,1,4,34214,0.42998859999999994]
[3,4,2,1,5,34215,0.36734289999999997]
[3,4,2,2,1,34221,0.60629239999999995]
[3,4,2,2,2,34222,0.54820669999999994]
[3,4,2,2,3,34223,0.51053850000000001]
[3,4,2,2,4,34224,0.37358879999999994]
[3,4,2,2,5,34225,0.31094309999999997]
[3,4,2,3,1,34231,0.59619999999999995]
[3,4,2,3,2,34232,0.53811429999999993]
[3,4,2,3,3,34233,0.5004461]
[3,4,2,3,4,34234,0.36349639999999994]
[3,4,2,3,5,34235,0.30085069999999997]
[3,4,2,4,1,34241,0.45580579999999993]
[3,4,2,4,2,34242,0.39772009999999991]
[3,4,2,4,3,34243,0.36005189999999992]
[3,4,2,4,4,34244,0.22310219999999992]
[3,4,2,4,5,34245,0.16045649999999995]
[3,4,2,5,1,34251,0.40625909999999993]
[3,4,2,5,2,34252,0.34817339999999991]
[3,4,2,5,3,34253,0.31050519999999993]
[3,4,2,5,4,34254,0.17355549999999992]
[3,4,2,5,5,34255,0.11090979999999995]
[3,4,3,1,1,34311,0.64974920000000003]
[3,4,3,1,2,34312,0.59166350000000001]
[3,4,3,1,3,34313,0.55399529999999997]
[3,4,3,1,4,34314,0.41704560000000002]
[3,4,3,1,5,34315,0.35439990000000005]
[3,4,3,2,1,34321,0.59334940000000003]
[3,4,3,2,2,34322,0.53526370000000001]
[3,4,3,2,3,34323,0.49759550000000002]
[3,4,3,2,4,34324,0.36064580000000002]
[3,4,3,2,5,34325,0.29800010000000005]
[3,4,3,3,1,34331,0.58325700000000003]
[3,4,3,3,2,34332,0.52517130000000001]
[3,4,3,3,3,34333,0.48750310000000002]
[3,4,3,3,4,34334,0.35055340000000001]
[3,4,3,3,5,34335,0.28790770000000004]
[3,4,3,4,1,34341,0.4428628]
[3,4,3,4,2,34342,0.38477709999999998]
[3,4,3,4,3,34343,0.3471089]
[3,4,3,4,4,34344,0.21015919999999999]
[3,4,3,4,5,34345,0.14751350000000002]
[3,4,3,5,1,34351,0.3933161]
[3,4,3,5,2,34352,0.33523039999999998]
[3,4,3,5,3,34353,0.2975622]
[3,4,3,5,4,34354,0.16061249999999999]
[3,4,3,5,5,34355,9.7966800000000021E-2]
[3,4,4,1,1,34411,0.56746110000000005]
[3,4,4,1,2,34412,0.50937540000000003]
[3,4,4,1,3,34413,0.47170720000000005]
[3,4,4,1,4,34414,0.33475750000000004]
[3,4,4,1,5,34415,0.27211180000000007]
[3,4,4,2,1,34421,0.51106130000000005]
[3,4,4,2,2,34422,0.45297560000000003]
[3,4,4,2,3,34423,0.41530740000000005]
[3,4,4,2,4,34424,0.27835770000000004]
[3,4,4,2,5,34425,0.21571200000000007]
[3,4,4,3,1,34431,0.50096890000000005]
[3,4,4,3,2,34432,0.44288320000000003]
[3,4,4,3,3,34433,0.40521500000000005]
[3,4,4,3,4,34434,0.26826530000000004]
[3,4,4,3,5,34435,0.20561960000000007]
[3,4,4,4,1,34441,0.36057470000000003]
[3,4,4,4,2,34442,0.30248900000000001]
[3,4,4,4,3,34443,0.26482080000000002]
[3,4,4,4,4,34444,0.12787110000000002]
[3,4,4,4,5,34445,6.5225400000000044E-2]
[3,4,4,5,1,34451,0.31102800000000003]
[3,4,4,5,2,34452,0.25294230000000001]
[3,4,4,5,3,34453,0.21527410000000002]
[3,4,4,5,4,34454,7.8324400000000016E-2]
[3,4,4,5,5,34455,1.5678700000000045E-2]
[3,4,5,1,1,34511,0.47261560000000002]
[3,4,5,1,2,34512,0.41452990000000001]
[3,4,5,1,3,34513,0.37686170000000002]
[3,4,5,1,4,34514,0.23991200000000001]
[3,4,5,1,5,34515,0.17726630000000004]
[3,4,5,2,1,34521,0.41621580000000002]
[3,4,5,2,2,34522,0.35813010000000001]
[3,4,5,2,3,34523,0.32046190000000002]
[3,4,5,2,4,34524,0.18351220000000001]
[3,4,5,2,5,34525,0.12086650000000004]
[3,4,5,3,1,34531,0.40612340000000002]
[3,4,5,3,2,34532,0.34803770000000001]
[3,4,5,3,3,34533,0.31036950000000002]
[3,4,5,3,4,34534,0.17341980000000001]
[3,4,5,3,5,34535,0.11077410000000004]
[3,4,5,4,1,34541,0.2657292]
[3,4,5,4,2,34542,0.20764350000000001]
[3,4,5,4,3,34543,0.1699753]
[3,4,5,4,4,34544,3.3025599999999988E-2]
[3,4,5,4,5,34545,-2.9620099999999983E-2]
[3,4,5,5,1,34551,0.2161825]
[3,4,5,5,2,34552,0.15809680000000001]
[3,4,5,5,3,34553,0.1204286]
[3,4,5,5,4,34554,-1.6521100000000011E-2]
[3,4,5,5,5,34555,-7.9166799999999982E-2]
[3,5,1,1,1,35111,0.66356079999999995]
[3,5,1,1,2,35112,0.60547509999999993]
[3,5,1,1,3,35113,0.56780689999999989]
[3,5,1,1,4,35114,0.43085719999999994]
[3,5,1,1,5,35115,0.36821149999999997]
[3,5,1,2,1,35121,0.60716099999999995]
[3,5,1,2,2,35122,0.54907529999999993]
[3,5,1,2,3,35123,0.5114071]
[3,5,1,2,4,35124,0.37445739999999994]
[3,5,1,2,5,35125,0.31181169999999997]
[3,5,1,3,1,35131,0.59706859999999995]
[3,5,1,3,2,35132,0.53898289999999993]
[3,5,1,3,3,35133,0.5013147]
[3,5,1,3,4,35134,0.36436499999999994]
[3,5,1,3,5,35135,0.30171929999999997]
[3,5,1,4,1,35141,0.45667439999999992]
[3,5,1,4,2,35142,0.39858869999999991]
[3,5,1,4,3,35143,0.36092049999999992]
[3,5,1,4,4,35144,0.22397079999999991]
[3,5,1,4,5,35145,0.16132509999999994]
[3,5,1,5,1,35151,0.40712769999999993]
[3,5,1,5,2,35152,0.34904199999999991]
[3,5,1,5,3,35153,0.31137379999999992]
[3,5,1,5,4,35154,0.17442409999999992]
[3,5,1,5,5,35155,0.11177839999999994]
[3,5,2,1,1,35211,0.60530639999999991]
[3,5,2,1,2,35212,0.54722069999999989]
[3,5,2,1,3,35213,0.50955249999999985]
[3,5,2,1,4,35214,0.3726027999999999]
[3,5,2,1,5,35215,0.30995709999999993]
[3,5,2,2,1,35221,0.54890659999999991]
[3,5,2,2,2,35222,0.49082089999999989]
[3,5,2,2,3,35223,0.45315269999999991]
[3,5,2,2,4,35224,0.3162029999999999]
[3,5,2,2,5,35225,0.25355729999999993]
[3,5,2,3,1,35231,0.53881419999999991]
[3,5,2,3,2,35232,0.48072849999999989]
[3,5,2,3,3,35233,0.44306029999999991]
[3,5,2,3,4,35234,0.3061105999999999]
[3,5,2,3,5,35235,0.24346489999999993]
[3,5,2,4,1,35241,0.39841999999999989]
[3,5,2,4,2,35242,0.34033429999999987]
[3,5,2,4,3,35243,0.30266609999999988]
[3,5,2,4,4,35244,0.16571639999999987]
[3,5,2,4,5,35245,0.1030706999999999]
[3,5,2,5,1,35251,0.34887329999999989]
[3,5,2,5,2,35252,0.29078759999999987]
[3,5,2,5,3,35253,0.25311939999999988]
[3,5,2,5,4,35254,0.11616969999999988]
[3,5,2,5,5,35255,5.3523999999999905E-2]
[3,5,3,1,1,35311,0.59236339999999998]
[3,5,3,1,2,35312,0.53427769999999997]
[3,5,3,1,3,35313,0.49660949999999998]
[3,5,3,1,4,35314,0.35965979999999997]
[3,5,3,1,5,35315,0.2970141]
[3,5,3,2,1,35321,0.53596359999999998]
[3,5,3,2,2,35322,0.47787789999999997]
[3,5,3,2,3,35323,0.44020969999999998]
[3,5,3,2,4,35324,0.30325999999999997]
[3,5,3,2,5,35325,0.2406143]
[3,5,3,3,1,35331,0.52587119999999998]
[3,5,3,3,2,35332,0.46778549999999997]
[3,5,3,3,3,35333,0.43011729999999998]
[3,5,3,3,4,35334,0.29316759999999997]
[3,5,3,3,5,35335,0.2305219]
[3,5,3,4,1,35341,0.38547699999999996]
[3,5,3,4,2,35342,0.32739129999999994]
[3,5,3,4,3,35343,0.28972309999999996]
[3,5,3,4,4,35344,0.15277339999999995]
[3,5,3,4,5,35345,9.0127699999999977E-2]
[3,5,3,5,1,35351,0.33593029999999996]
[3,5,3,5,2,35352,0.27784459999999994]
[3,5,3,5,3,35353,0.24017639999999996]
[3,5,3,5,4,35354,0.10322669999999995]
[3,5,3,5,5,35355,4.0580999999999978E-2]
[3,5,4,1,1,35411,0.51007530000000001]
[3,5,4,1,2,35412,0.45198959999999999]
[3,5,4,1,3,35413,0.41432140000000001]
[3,5,4,1,4,35414,0.2773717]
[3,5,4,1,5,35415,0.21472600000000003]
[3,5,4,2,1,35421,0.45367550000000001]
[3,5,4,2,2,35422,0.39558979999999999]
[3,5,4,2,3,35423,0.35792160000000001]
[3,5,4,2,4,35424,0.2209719]
[3,5,4,2,5,35425,0.15832620000000003]
[3,5,4,3,1,35431,0.44358310000000001]
[3,5,4,3,2,35432,0.38549739999999999]
[3,5,4,3,3,35433,0.34782920000000001]
[3,5,4,3,4,35434,0.2108795]
[3,5,4,3,5,35435,0.14823380000000003]
[3,5,4,4,1,35441,0.30318889999999998]
[3,5,4,4,2,35442,0.24510319999999999]
[3,5,4,4,3,35443,0.20743499999999998]
[3,5,4,4,4,35444,7.0485299999999973E-2]
[3,5,4,4,5,35445,7.8396000000000021E-3]
[3,5,4,5,1,35451,0.25364219999999998]
[3,5,4,5,2,35452,0.19555649999999999]
[3,5,4,5,3,35453,0.15788829999999998]
[3,5,4,5,4,35454,2.0938599999999974E-2]
[3,5,4,5,5,35455,-4.1707099999999997E-2]
[3,5,5,1,1,35511,0.41522979999999998]
[3,5,5,1,2,35512,0.35714409999999996]
[3,5,5,1,3,35513,0.31947589999999998]
[3,5,5,1,4,35514,0.18252619999999997]
[3,5,5,1,5,35515,0.1198805]
[3,5,5,2,1,35521,0.35882999999999998]
[3,5,5,2,2,35522,0.30074429999999996]
[3,5,5,2,3,35523,0.26307609999999998]
[3,5,5,2,4,35524,0.12612639999999997]
[3,5,5,2,5,35525,6.3480700000000001E-2]
[3,5,5,3,1,35531,0.34873759999999998]
[3,5,5,3,2,35532,0.29065189999999996]
[3,5,5,3,3,35533,0.25298369999999998]
[3,5,5,3,4,35534,0.11603399999999997]
[3,5,5,3,5,35535,5.33883E-2]
[3,5,5,4,1,35541,0.20834339999999998]
[3,5,5,4,2,35542,0.15025769999999999]
[3,5,5,4,3,35543,0.11258949999999998]
[3,5,5,4,4,35544,-2.4360200000000026E-2]
[3,5,5,4,5,35545,-8.7005899999999997E-2]
[3,5,5,5,1,35551,0.15879669999999996]
[3,5,5,5,2,35552,0.10071099999999997]
[3,5,5,5,3,35553,6.3042799999999954E-2]
[3,5,5,5,4,35554,-7.3906900000000053E-2]
[3,5,5,5,5,35555,-0.13655260000000002]
[4,1,1,1,1,41111,0.78900570000000003]
[4,1,1,1,2,41112,0.73092000000000001]
[4,1,1,1,3,41113,0.69325180000000008]
[4,1,1,1,4,41114,0.55630210000000002]
[4,1,1,1,5,41115,0.49365640000000005]
[4,1,1,2,1,41121,0.73260590000000003]
[4,1,1,2,2,41122,0.67452020000000001]
[4,1,1,2,3,41123,0.63685199999999997]
[4,1,1,2,4,41124,0.49990230000000002]
[4,1,1,2,5,41125,0.43725660000000005]
[4,1,1,3,1,41131,0.72251350000000003]
[4,1,1,3,2,41132,0.66442780000000001]
[4,1,1,3,3,41133,0.62675959999999997]
[4,1,1,3,4,41134,0.48980990000000002]
[4,1,1,3,5,41135,0.42716420000000005]
[4,1,1,4,1,41141,0.58211930000000001]
[4,1,1,4,2,41142,0.52403359999999999]
[4,1,1,4,3,41143,0.4863654]
[4,1,1,4,4,41144,0.3494157]
[4,1,1,4,5,41145,0.28677000000000002]
[4,1,1,5,1,41151,0.53257259999999995]
[4,1,1,5,2,41152,0.47448689999999993]
[4,1,1,5,3,41153,0.43681869999999995]
[4,1,1,5,4,41154,0.29986899999999994]
[4,1,1,5,5,41155,0.23722329999999997]
[4,1,2,1,1,41211,0.73075129999999999]
[4,1,2,1,2,41212,0.67266559999999997]
[4,1,2,1,3,41213,0.63499740000000005]
[4,1,2,1,4,41214,0.49804769999999998]
[4,1,2,1,5,41215,0.43540200000000001]
[4,1,2,2,1,41221,0.67435149999999999]
[4,1,2,2,2,41222,0.61626579999999997]
[4,1,2,2,3,41223,0.57859759999999993]
[4,1,2,2,4,41224,0.44164789999999998]
[4,1,2,2,5,41225,0.37900220000000001]
[4,1,2,3,1,41231,0.66425909999999999]
[4,1,2,3,2,41232,0.60617339999999997]
[4,1,2,3,3,41233,0.56850519999999993]
[4,1,2,3,4,41234,0.43155549999999998]
[4,1,2,3,5,41235,0.36890980000000001]
[4,1,2,4,1,41241,0.52386489999999997]
[4,1,2,4,2,41242,0.46577919999999995]
[4,1,2,4,3,41243,0.42811099999999996]
[4,1,2,4,4,41244,0.29116129999999996]
[4,1,2,4,5,41245,0.22851559999999999]
[4,1,2,5,1,41251,0.47431819999999997]
[4,1,2,5,2,41252,0.41623249999999995]
[4,1,2,5,3,41253,0.37856429999999996]
[4,1,2,5,4,41254,0.24161459999999996]
[4,1,2,5,5,41255,0.17896889999999999]
[4,1,3,1,1,41311,0.71780830000000007]
[4,1,3,1,2,41312,0.65972260000000005]
[4,1,3,1,3,41313,0.62205440000000012]
[4,1,3,1,4,41314,0.48510470000000006]
[4,1,3,1,5,41315,0.42245900000000008]
[4,1,3,2,1,41321,0.66140850000000007]
[4,1,3,2,2,41322,0.60332280000000005]
[4,1,3,2,3,41323,0.56565460000000001]
[4,1,3,2,4,41324,0.42870490000000006]
[4,1,3,2,5,41325,0.36605920000000008]
[4,1,3,3,1,41331,0.65131610000000006]
[4,1,3,3,2,41332,0.59323040000000005]
[4,1,3,3,3,41333,0.55556220000000001]
[4,1,3,3,4,41334,0.41861250000000005]
[4,1,3,3,5,41335,0.35596680000000008]
[4,1,3,4,1,41341,0.51092190000000004]
[4,1,3,4,2,41342,0.45283620000000002]
[4,1,3,4,3,41343,0.41516800000000004]
[4,1,3,4,4,41344,0.27821830000000003]
[4,1,3,4,5,41345,0.21557260000000006]
[4,1,3,5,1,41351,0.46137520000000004]
[4,1,3,5,2,41352,0.40328950000000002]
[4,1,3,5,3,41353,0.36562130000000004]
[4,1,3,5,4,41354,0.22867160000000003]
[4,1,3,5,5,41355,0.16602590000000006]
[4,1,4,1,1,41411,0.63552019999999998]
[4,1,4,1,2,41412,0.57743449999999996]
[4,1,4,1,3,41413,0.53976629999999992]
[4,1,4,1,4,41414,0.40281659999999997]
[4,1,4,1,5,41415,0.3401709]
[4,1,4,2,1,41421,0.57912039999999998]
[4,1,4,2,2,41422,0.52103469999999996]
[4,1,4,2,3,41423,0.48336649999999998]
[4,1,4,2,4,41424,0.34641679999999997]
[4,1,4,2,5,41425,0.2837711]
[4,1,4,3,1,41431,0.56902799999999998]
[4,1,4,3,2,41432,0.51094229999999996]
[4,1,4,3,3,41433,0.47327409999999998]
[4,1,4,3,4,41434,0.33632439999999997]
[4,1,4,3,5,41435,0.2736787]
[4,1,4,4,1,41441,0.42863379999999995]
[4,1,4,4,2,41442,0.37054809999999994]
[4,1,4,4,3,41443,0.33287989999999995]
[4,1,4,4,4,41444,0.19593019999999994]
[4,1,4,4,5,41445,0.13328449999999997]
[4,1,4,5,1,41451,0.37908709999999995]
[4,1,4,5,2,41452,0.32100139999999994]
[4,1,4,5,3,41453,0.28333319999999995]
[4,1,4,5,4,41454,0.14638349999999994]
[4,1,4,5,5,41455,8.3737799999999973E-2]
[4,1,5,1,1,41511,0.54067470000000006]
[4,1,5,1,2,41512,0.48258900000000005]
[4,1,5,1,3,41513,0.44492080000000006]
[4,1,5,1,4,41514,0.30797110000000005]
[4,1,5,1,5,41515,0.24532540000000008]
[4,1,5,2,1,41521,0.48427490000000006]
[4,1,5,2,2,41522,0.42618920000000005]
[4,1,5,2,3,41523,0.38852100000000006]
[4,1,5,2,4,41524,0.25157130000000005]
[4,1,5,2,5,41525,0.18892560000000008]
[4,1,5,3,1,41531,0.47418250000000006]
[4,1,5,3,2,41532,0.41609680000000004]
[4,1,5,3,3,41533,0.37842860000000006]
[4,1,5,3,4,41534,0.24147890000000005]
[4,1,5,3,5,41535,0.17883320000000008]
[4,1,5,4,1,41541,0.33378830000000004]
[4,1,5,4,2,41542,0.27570260000000002]
[4,1,5,4,3,41543,0.23803440000000003]
[4,1,5,4,4,41544,0.10108470000000003]
[4,1,5,4,5,41545,3.8439000000000056E-2]
[4,1,5,5,1,41551,0.28424160000000004]
[4,1,5,5,2,41552,0.22615590000000005]
[4,1,5,5,3,41553,0.18848770000000004]
[4,1,5,5,4,41554,5.1538000000000028E-2]
[4,1,5,5,5,41555,-1.1107699999999943E-2]
[4,2,1,1,1,42111,0.73087639999999998]
[4,2,1,1,2,42112,0.67279069999999996]
[4,2,1,1,3,42113,0.63512250000000003]
[4,2,1,1,4,42114,0.49817279999999997]
[4,2,1,1,5,42115,0.4355271]
[4,2,1,2,1,42121,0.67447659999999998]
[4,2,1,2,2,42122,0.61639089999999996]
[4,2,1,2,3,42123,0.57872269999999992]
[4,2,1,2,4,42124,0.44177299999999997]
[4,2,1,2,5,42125,0.3791273]
[4,2,1,3,1,42131,0.66438419999999998]
[4,2,1,3,2,42132,0.60629849999999996]
[4,2,1,3,3,42133,0.56863029999999992]
[4,2,1,3,4,42134,0.43168059999999997]
[4,2,1,3,5,42135,0.3690349]
[4,2,1,4,1,42141,0.52398999999999996]
[4,2,1,4,2,42142,0.46590429999999994]
[4,2,1,4,3,42143,0.42823609999999995]
[4,2,1,4,4,42144,0.29128639999999995]
[4,2,1,4,5,42145,0.22864069999999997]
[4,2,1,5,1,42151,0.47444329999999996]
[4,2,1,5,2,42152,0.41635759999999994]
[4,2,1,5,3,42153,0.37868939999999995]
[4,2,1,5,4,42154,0.24173969999999995]
[4,2,1,5,5,42155,0.17909399999999998]
[4,2,2,1,1,42211,0.67262199999999994]
[4,2,2,1,2,42212,0.61453629999999992]
[4,2,2,1,3,42213,0.57686809999999999]
[4,2,2,1,4,42214,0.43991839999999993]
[4,2,2,1,5,42215,0.37727269999999996]
[4,2,2,2,1,42221,0.61622219999999994]
[4,2,2,2,2,42222,0.55813649999999992]
[4,2,2,2,3,42223,0.52046829999999988]
[4,2,2,2,4,42224,0.38351859999999993]
[4,2,2,2,5,42225,0.32087289999999996]
[4,2,2,3,1,42231,0.60612979999999994]
[4,2,2,3,2,42232,0.54804409999999992]
[4,2,2,3,3,42233,0.51037589999999988]
[4,2,2,3,4,42234,0.37342619999999993]
[4,2,2,3,5,42235,0.31078049999999996]
[4,2,2,4,1,42241,0.46573559999999992]
[4,2,2,4,2,42242,0.4076498999999999]
[4,2,2,4,3,42243,0.36998169999999991]
[4,2,2,4,4,42244,0.23303199999999991]
[4,2,2,4,5,42245,0.17038629999999994]
[4,2,2,5,1,42251,0.41618889999999992]
[4,2,2,5,2,42252,0.3581031999999999]
[4,2,2,5,3,42253,0.32043499999999991]
[4,2,2,5,4,42254,0.18348529999999991]
[4,2,2,5,5,42255,0.12083959999999994]
[4,2,3,1,1,42311,0.65967900000000002]
[4,2,3,1,2,42312,0.6015933]
[4,2,3,1,3,42313,0.56392510000000007]
[4,2,3,1,4,42314,0.4269754]
[4,2,3,1,5,42315,0.36432970000000003]
[4,2,3,2,1,42321,0.60327920000000002]
[4,2,3,2,2,42322,0.5451935]
[4,2,3,2,3,42323,0.50752529999999996]
[4,2,3,2,4,42324,0.3705756]
[4,2,3,2,5,42325,0.30792990000000003]
[4,2,3,3,1,42331,0.59318680000000001]
[4,2,3,3,2,42332,0.5351011]
[4,2,3,3,3,42333,0.49743290000000001]
[4,2,3,3,4,42334,0.3604832]
[4,2,3,3,5,42335,0.29783750000000003]
[4,2,3,4,1,42341,0.45279259999999999]
[4,2,3,4,2,42342,0.39470689999999997]
[4,2,3,4,3,42343,0.35703869999999999]
[4,2,3,4,4,42344,0.22008899999999998]
[4,2,3,4,5,42345,0.15744330000000001]
[4,2,3,5,1,42351,0.40324589999999999]
[4,2,3,5,2,42352,0.34516019999999997]
[4,2,3,5,3,42353,0.30749199999999999]
[4,2,3,5,4,42354,0.17054229999999998]
[4,2,3,5,5,42355,0.10789660000000001]
[4,2,4,1,1,42411,0.57739089999999993]
[4,2,4,1,2,42412,0.51930519999999991]
[4,2,4,1,3,42413,0.48163699999999993]
[4,2,4,1,4,42414,0.34468729999999992]
[4,2,4,1,5,42415,0.28204159999999995]
[4,2,4,2,1,42421,0.52099109999999993]
[4,2,4,2,2,42422,0.46290539999999991]
[4,2,4,2,3,42423,0.42523719999999993]
[4,2,4,2,4,42424,0.28828749999999992]
[4,2,4,2,5,42425,0.22564179999999995]
[4,2,4,3,1,42431,0.51089869999999993]
[4,2,4,3,2,42432,0.45281299999999991]
[4,2,4,3,3,42433,0.41514479999999992]
[4,2,4,3,4,42434,0.27819509999999992]
[4,2,4,3,5,42435,0.21554939999999995]
[4,2,4,4,1,42441,0.3705044999999999]
[4,2,4,4,2,42442,0.31241879999999989]
[4,2,4,4,3,42443,0.2747505999999999]
[4,2,4,4,4,42444,0.13780089999999989]
[4,2,4,4,5,42445,7.5155199999999922E-2]
[4,2,4,5,1,42451,0.3209577999999999]
[4,2,4,5,2,42452,0.26287209999999989]
[4,2,4,5,3,42453,0.2252038999999999]
[4,2,4,5,4,42454,8.8254199999999894E-2]
[4,2,4,5,5,42455,2.5608499999999923E-2]
[4,2,5,1,1,42511,0.48254540000000001]
[4,2,5,1,2,42512,0.4244597]
[4,2,5,1,3,42513,0.38679150000000001]
[4,2,5,1,4,42514,0.2498418]
[4,2,5,1,5,42515,0.18719610000000003]
[4,2,5,2,1,42521,0.42614560000000001]
[4,2,5,2,2,42522,0.3680599]
[4,2,5,2,3,42523,0.33039170000000001]
[4,2,5,2,4,42524,0.193442]
[4,2,5,2,5,42525,0.13079630000000003]
[4,2,5,3,1,42531,0.41605320000000001]
[4,2,5,3,2,42532,0.35796749999999999]
[4,2,5,3,3,42533,0.32029930000000001]
[4,2,5,3,4,42534,0.1833496]
[4,2,5,3,5,42535,0.12070390000000003]
[4,2,5,4,1,42541,0.27565899999999999]
[4,2,5,4,2,42542,0.2175733]
[4,2,5,4,3,42543,0.17990509999999998]
[4,2,5,4,4,42544,4.2955399999999977E-2]
[4,2,5,4,5,42545,-1.9690299999999994E-2]
[4,2,5,5,1,42551,0.22611229999999999]
[4,2,5,5,2,42552,0.1680266]
[4,2,5,5,3,42553,0.13035839999999999]
[4,2,5,5,4,42554,-6.5913000000000221E-3]
[4,2,5,5,5,42555,-6.9236999999999993E-2]
[4,3,1,1,1,43111,0.71837450000000003]
[4,3,1,1,2,43112,0.66028880000000001]
[4,3,1,1,3,43113,0.62262060000000008]
[4,3,1,1,4,43114,0.48567090000000002]
[4,3,1,1,5,43115,0.42302520000000005]
[4,3,1,2,1,43121,0.66197470000000003]
[4,3,1,2,2,43122,0.60388900000000001]
[4,3,1,2,3,43123,0.56622079999999997]
[4,3,1,2,4,43124,0.42927110000000002]
[4,3,1,2,5,43125,0.36662540000000005]
[4,3,1,3,1,43131,0.65188230000000003]
[4,3,1,3,2,43132,0.59379660000000001]
[4,3,1,3,3,43133,0.55612839999999997]
[4,3,1,3,4,43134,0.41917870000000002]
[4,3,1,3,5,43135,0.35653300000000004]
[4,3,1,4,1,43141,0.5114881]
[4,3,1,4,2,43142,0.45340239999999998]
[4,3,1,4,3,43143,0.4157342]
[4,3,1,4,4,43144,0.27878449999999999]
[4,3,1,4,5,43145,0.21613880000000002]
[4,3,1,5,1,43151,0.4619414]
[4,3,1,5,2,43152,0.40385569999999998]
[4,3,1,5,3,43153,0.3661875]
[4,3,1,5,4,43154,0.22923779999999999]
[4,3,1,5,5,43155,0.16659210000000002]
[4,3,2,1,1,43211,0.66012009999999999]
[4,3,2,1,2,43212,0.60203439999999997]
[4,3,2,1,3,43213,0.56436620000000004]
[4,3,2,1,4,43214,0.42741649999999998]
[4,3,2,1,5,43215,0.36477080000000001]
[4,3,2,2,1,43221,0.60372029999999999]
[4,3,2,2,2,43222,0.54563459999999997]
[4,3,2,2,3,43223,0.50796639999999993]
[4,3,2,2,4,43224,0.37101669999999998]
[4,3,2,2,5,43225,0.30837100000000001]
[4,3,2,3,1,43231,0.59362789999999999]
[4,3,2,3,2,43232,0.53554219999999997]
[4,3,2,3,3,43233,0.49787399999999998]
[4,3,2,3,4,43234,0.36092429999999998]
[4,3,2,3,5,43235,0.2982786]
[4,3,2,4,1,43241,0.45323369999999996]
[4,3,2,4,2,43242,0.39514799999999994]
[4,3,2,4,3,43243,0.35747979999999996]
[4,3,2,4,4,43244,0.22053009999999995]
[4,3,2,4,5,43245,0.15788439999999998]
[4,3,2,5,1,43251,0.40368699999999996]
[4,3,2,5,2,43252,0.34560129999999994]
[4,3,2,5,3,43253,0.30793309999999996]
[4,3,2,5,4,43254,0.17098339999999995]
[4,3,2,5,5,43255,0.10833769999999998]
[4,3,3,1,1,43311,0.64717710000000006]
[4,3,3,1,2,43312,0.58909140000000004]
[4,3,3,1,3,43313,0.55142320000000011]
[4,3,3,1,4,43314,0.41447350000000005]
[4,3,3,1,5,43315,0.35182780000000008]
[4,3,3,2,1,43321,0.59077730000000006]
[4,3,3,2,2,43322,0.53269160000000004]
[4,3,3,2,3,43323,0.49502340000000006]
[4,3,3,2,4,43324,0.35807370000000005]
[4,3,3,2,5,43325,0.29542800000000008]
[4,3,3,3,1,43331,0.58068490000000006]
[4,3,3,3,2,43332,0.52259920000000004]
[4,3,3,3,3,43333,0.48493100000000006]
[4,3,3,3,4,43334,0.34798130000000005]
[4,3,3,3,5,43335,0.28533560000000008]
[4,3,3,4,1,43341,0.44029070000000003]
[4,3,3,4,2,43342,0.38220500000000002]
[4,3,3,4,3,43343,0.34453680000000003]
[4,3,3,4,4,43344,0.20758710000000002]
[4,3,3,4,5,43345,0.14494140000000005]
[4,3,3,5,1,43351,0.39074400000000004]
[4,3,3,5,2,43352,0.33265830000000002]
[4,3,3,5,3,43353,0.29499010000000003]
[4,3,3,5,4,43354,0.15804040000000003]
[4,3,3,5,5,43355,9.5394700000000054E-2]
[4,3,4,1,1,43411,0.56488899999999997]
[4,3,4,1,2,43412,0.50680329999999996]
[4,3,4,1,3,43413,0.46913509999999997]
[4,3,4,1,4,43414,0.33218539999999996]
[4,3,4,1,5,43415,0.26953969999999999]
[4,3,4,2,1,43421,0.50848919999999997]
[4,3,4,2,2,43422,0.45040349999999996]
[4,3,4,2,3,43423,0.41273529999999997]
[4,3,4,2,4,43424,0.27578559999999996]
[4,3,4,2,5,43425,0.21313989999999999]
[4,3,4,3,1,43431,0.49839679999999997]
[4,3,4,3,2,43432,0.44031109999999996]
[4,3,4,3,3,43433,0.40264289999999997]
[4,3,4,3,4,43434,0.26569319999999996]
[4,3,4,3,5,43435,0.20304749999999999]
[4,3,4,4,1,43441,0.35800259999999995]
[4,3,4,4,2,43442,0.29991689999999993]
[4,3,4,4,3,43443,0.26224869999999995]
[4,3,4,4,4,43444,0.12529899999999994]
[4,3,4,4,5,43445,6.2653299999999967E-2]
[4,3,4,5,1,43451,0.30845589999999995]
[4,3,4,5,2,43452,0.25037019999999993]
[4,3,4,5,3,43453,0.21270199999999995]
[4,3,4,5,4,43454,7.5752299999999939E-2]
[4,3,4,5,5,43455,1.3106599999999968E-2]
[4,3,5,1,1,43511,0.47004350000000006]
[4,3,5,1,2,43512,0.41195780000000004]
[4,3,5,1,3,43513,0.37428960000000006]
[4,3,5,1,4,43514,0.23733990000000005]
[4,3,5,1,5,43515,0.17469420000000008]
[4,3,5,2,1,43521,0.41364370000000006]
[4,3,5,2,2,43522,0.35555800000000004]
[4,3,5,2,3,43523,0.31788980000000006]
[4,3,5,2,4,43524,0.18094010000000005]
[4,3,5,2,5,43525,0.11829440000000008]
[4,3,5,3,1,43531,0.40355130000000006]
[4,3,5,3,2,43532,0.34546560000000004]
[4,3,5,3,3,43533,0.30779740000000005]
[4,3,5,3,4,43534,0.17084770000000005]
[4,3,5,3,5,43535,0.10820200000000008]
[4,3,5,4,1,43541,0.26315710000000003]
[4,3,5,4,2,43542,0.20507140000000004]
[4,3,5,4,3,43543,0.16740320000000003]
[4,3,5,4,4,43544,3.0453500000000022E-2]
[4,3,5,4,5,43545,-3.2192199999999949E-2]
[4,3,5,5,1,43551,0.21361040000000003]
[4,3,5,5,2,43552,0.15552470000000004]
[4,3,5,5,3,43553,0.11785650000000003]
[4,3,5,5,4,43554,-1.9093199999999977E-2]
[4,3,5,5,5,43555,-8.1738899999999948E-2]
[4,4,1,1,1,44111,0.59651520000000002]
[4,4,1,1,2,44112,0.53842950000000001]
[4,4,1,1,3,44113,0.50076129999999996]
[4,4,1,1,4,44114,0.36381160000000001]
[4,4,1,1,5,44115,0.30116590000000004]
[4,4,1,2,1,44121,0.54011540000000002]
[4,4,1,2,2,44122,0.48202970000000001]
[4,4,1,2,3,44123,0.44436150000000002]
[4,4,1,2,4,44124,0.30741180000000001]
[4,4,1,2,5,44125,0.24476610000000004]
[4,4,1,3,1,44131,0.53002300000000002]
[4,4,1,3,2,44132,0.4719373]
[4,4,1,3,3,44133,0.43426910000000002]
[4,4,1,3,4,44134,0.29731940000000001]
[4,4,1,3,5,44135,0.23467370000000004]
[4,4,1,4,1,44141,0.3896288]
[4,4,1,4,2,44142,0.33154309999999998]
[4,4,1,4,3,44143,0.29387489999999999]
[4,4,1,4,4,44144,0.15692519999999999]
[4,4,1,4,5,44145,9.4279500000000016E-2]
[4,4,1,5,1,44151,0.3400821]
[4,4,1,5,2,44152,0.28199639999999998]
[4,4,1,5,3,44153,0.2443282]
[4,4,1,5,4,44154,0.10737849999999999]
[4,4,1,5,5,44155,4.4732800000000017E-2]
[4,4,2,1,1,44211,0.53826079999999998]
[4,4,2,1,2,44212,0.48017509999999997]
[4,4,2,1,3,44213,0.44250689999999998]
[4,4,2,1,4,44214,0.30555719999999997]
[4,4,2,1,5,44215,0.2429115]
[4,4,2,2,1,44221,0.48186099999999998]
[4,4,2,2,2,44222,0.42377529999999997]
[4,4,2,2,3,44223,0.38610709999999998]
[4,4,2,2,4,44224,0.24915739999999997]
[4,4,2,2,5,44225,0.1865117]
[4,4,2,3,1,44231,0.47176859999999998]
[4,4,2,3,2,44232,0.41368289999999996]
[4,4,2,3,3,44233,0.37601469999999998]
[4,4,2,3,4,44234,0.23906499999999997]
[4,4,2,3,5,44235,0.1764193]
[4,4,2,4,1,44241,0.33137439999999996]
[4,4,2,4,2,44242,0.27328869999999994]
[4,4,2,4,3,44243,0.23562049999999995]
[4,4,2,4,4,44244,9.8670799999999947E-2]
[4,4,2,4,5,44245,3.6025099999999977E-2]
[4,4,2,5,1,44251,0.28182769999999996]
[4,4,2,5,2,44252,0.22374199999999997]
[4,4,2,5,3,44253,0.18607379999999996]
[4,4,2,5,4,44254,4.9124099999999948E-2]
[4,4,2,5,5,44255,-1.3521600000000022E-2]
[4,4,3,1,1,44311,0.52531780000000006]
[4,4,3,1,2,44312,0.46723210000000004]
[4,4,3,1,3,44313,0.42956390000000005]
[4,4,3,1,4,44314,0.29261420000000005]
[4,4,3,1,5,44315,0.22996850000000008]
[4,4,3,2,1,44321,0.46891800000000006]
[4,4,3,2,2,44322,0.41083230000000004]
[4,4,3,2,3,44323,0.37316410000000005]
[4,4,3,2,4,44324,0.23621440000000005]
[4,4,3,2,5,44325,0.17356870000000008]
[4,4,3,3,1,44331,0.45882560000000006]
[4,4,3,3,2,44332,0.40073990000000004]
[4,4,3,3,3,44333,0.36307170000000005]
[4,4,3,3,4,44334,0.22612200000000005]
[4,4,3,3,5,44335,0.16347630000000007]
[4,4,3,4,1,44341,0.31843140000000003]
[4,4,3,4,2,44342,0.26034570000000001]
[4,4,3,4,3,44343,0.22267750000000003]
[4,4,3,4,4,44344,8.5727800000000021E-2]
[4,4,3,4,5,44345,2.308210000000005E-2]
[4,4,3,5,1,44351,0.26888470000000003]
[4,4,3,5,2,44352,0.21079900000000004]
[4,4,3,5,3,44353,0.17313080000000003]
[4,4,3,5,4,44354,3.6181100000000022E-2]
[4,4,3,5,5,44355,-2.6464599999999949E-2]
[4,4,4,1,1,44411,0.44302970000000003]
[4,4,4,1,2,44412,0.38494400000000001]
[4,4,4,1,3,44413,0.34727580000000002]
[4,4,4,1,4,44414,0.21032610000000002]
[4,4,4,1,5,44415,0.14768040000000004]
[4,4,4,2,1,44421,0.38662990000000003]
[4,4,4,2,2,44422,0.32854420000000001]
[4,4,4,2,3,44423,0.29087600000000002]
[4,4,4,2,4,44424,0.15392630000000002]
[4,4,4,2,5,44425,9.1280600000000045E-2]
[4,4,4,3,1,44431,0.37653750000000002]
[4,4,4,3,2,44432,0.31845180000000001]
[4,4,4,3,3,44433,0.28078360000000002]
[4,4,4,3,4,44434,0.14383390000000001]
[4,4,4,3,5,44435,8.1188200000000044E-2]
[4,4,4,4,1,44441,0.23614330000000003]
[4,4,4,4,2,44442,0.17805760000000004]
[4,4,4,4,3,44443,0.14038940000000003]
[4,4,4,4,4,44444,3.4397000000000177E-3]
[4,4,4,4,5,44445,-5.9205999999999953E-2]
[4,4,4,5,1,44451,0.1865966]
[4,4,4,5,2,44452,0.12851090000000001]
[4,4,4,5,3,44453,9.0842699999999998E-2]
[4,4,4,5,4,44454,-4.6107000000000009E-2]
[4,4,4,5,5,44455,-0.10875269999999998]
[4,4,5,1,1,44511,0.34818420000000005]
[4,4,5,1,2,44512,0.29009850000000004]
[4,4,5,1,3,44513,0.25243030000000005]
[4,4,5,1,4,44514,0.11548060000000004]
[4,4,5,1,5,44515,5.2834900000000073E-2]
[4,4,5,2,1,44521,0.29178440000000005]
[4,4,5,2,2,44522,0.23369870000000006]
[4,4,5,2,3,44523,0.19603050000000005]
[4,4,5,2,4,44524,5.9080800000000044E-2]
[4,4,5,2,5,44525,-3.5648999999999265E-3]
[4,4,5,3,1,44531,0.28169200000000005]
[4,4,5,3,2,44532,0.22360630000000006]
[4,4,5,3,3,44533,0.18593810000000005]
[4,4,5,3,4,44534,4.8988400000000043E-2]
[4,4,5,3,5,44535,-1.3657299999999928E-2]
[4,4,5,4,1,44541,0.14129780000000006]
[4,4,5,4,2,44542,8.3212100000000067E-2]
[4,4,5,4,3,44543,4.5543900000000054E-2]
[4,4,5,4,4,44544,-9.1405799999999954E-2]
[4,4,5,4,5,44545,-0.15405149999999992]
[4,4,5,5,1,44551,9.175110000000003E-2]
[4,4,5,5,2,44552,3.3665400000000033E-2]
[4,4,5,5,3,44553,-4.002799999999973E-3]
[4,4,5,5,4,44554,-0.14095249999999998]
[4,4,5,5,5,44555,-0.20359819999999995]
[4,5,1,1,1,45111,0.53912939999999998]
[4,5,1,1,2,45112,0.48104369999999996]
[4,5,1,1,3,45113,0.44337549999999998]
[4,5,1,1,4,45114,0.30642579999999997]
[4,5,1,1,5,45115,0.2437801]
[4,5,1,2,1,45121,0.48272959999999998]
[4,5,1,2,2,45122,0.42464389999999996]
[4,5,1,2,3,45123,0.38697569999999998]
[4,5,1,2,4,45124,0.25002599999999997]
[4,5,1,2,5,45125,0.1873803]
[4,5,1,3,1,45131,0.47263719999999998]
[4,5,1,3,2,45132,0.41455149999999996]
[4,5,1,3,3,45133,0.37688329999999998]
[4,5,1,3,4,45134,0.23993359999999997]
[4,5,1,3,5,45135,0.1772879]
[4,5,1,4,1,45141,0.33224299999999996]
[4,5,1,4,2,45142,0.27415729999999994]
[4,5,1,4,3,45143,0.23648909999999995]
[4,5,1,4,4,45144,9.9539399999999945E-2]
[4,5,1,4,5,45145,3.6893699999999974E-2]
[4,5,1,5,1,45151,0.28269629999999996]
[4,5,1,5,2,45152,0.22461059999999997]
[4,5,1,5,3,45153,0.18694239999999995]
[4,5,1,5,4,45154,4.9992699999999946E-2]
[4,5,1,5,5,45155,-1.2653000000000025E-2]
[4,5,2,1,1,45211,0.480875]
[4,5,2,1,2,45212,0.42278929999999998]
[4,5,2,1,3,45213,0.38512109999999999]
[4,5,2,1,4,45214,0.24817139999999999]
[4,5,2,1,5,45215,0.18552570000000002]
[4,5,2,2,1,45221,0.4244752]
[4,5,2,2,2,45222,0.36638949999999998]
[4,5,2,2,3,45223,0.32872129999999999]
[4,5,2,2,4,45224,0.19177159999999999]
[4,5,2,2,5,45225,0.12912590000000002]
[4,5,2,3,1,45231,0.4143828]
[4,5,2,3,2,45232,0.35629709999999998]
[4,5,2,3,3,45233,0.31862889999999999]
[4,5,2,3,4,45234,0.18167919999999999]
[4,5,2,3,5,45235,0.11903350000000001]
[4,5,2,4,1,45241,0.27398860000000003]
[4,5,2,4,2,45242,0.21590290000000004]
[4,5,2,4,3,45243,0.17823470000000002]
[4,5,2,4,4,45244,4.1285000000000016E-2]
[4,5,2,4,5,45245,-2.1360699999999955E-2]
[4,5,2,5,1,45251,0.22444189999999997]
[4,5,2,5,2,45252,0.16635619999999998]
[4,5,2,5,3,45253,0.12868799999999997]
[4,5,2,5,4,45254,-8.2617000000000385E-3]
[4,5,2,5,5,45255,-7.0907400000000009E-2]
[4,5,3,1,1,45311,0.46793200000000001]
[4,5,3,1,2,45312,0.4098463]
[4,5,3,1,3,45313,0.37217810000000001]
[4,5,3,1,4,45314,0.2352284]
[4,5,3,1,5,45315,0.17258270000000003]
[4,5,3,2,1,45321,0.41153220000000001]
[4,5,3,2,2,45322,0.3534465]
[4,5,3,2,3,45323,0.31577830000000001]
[4,5,3,2,4,45324,0.1788286]
[4,5,3,2,5,45325,0.11618290000000003]
[4,5,3,3,1,45331,0.40143980000000001]
[4,5,3,3,2,45332,0.3433541]
[4,5,3,3,3,45333,0.30568590000000001]
[4,5,3,3,4,45334,0.1687362]
[4,5,3,3,5,45335,0.10609050000000003]
[4,5,3,4,1,45341,0.26104559999999999]
[4,5,3,4,2,45342,0.2029599]
[4,5,3,4,3,45343,0.16529169999999999]
[4,5,3,4,4,45344,2.8341999999999978E-2]
[4,5,3,4,5,45345,-3.4303699999999993E-2]
[4,5,3,5,1,45351,0.21149889999999999]
[4,5,3,5,2,45352,0.1534132]
[4,5,3,5,3,45353,0.11574499999999999]
[4,5,3,5,4,45354,-2.1204700000000021E-2]
[4,5,3,5,5,45355,-8.3850399999999992E-2]
[4,5,4,1,1,45411,0.38564389999999998]
[4,5,4,1,2,45412,0.32755819999999997]
[4,5,4,1,3,45413,0.28988999999999998]
[4,5,4,1,4,45414,0.15294029999999997]
[4,5,4,1,5,45415,9.0294600000000003E-2]
[4,5,4,2,1,45421,0.32924409999999998]
[4,5,4,2,2,45422,0.27115839999999997]
[4,5,4,2,3,45423,0.23349019999999998]
[4,5,4,2,4,45424,9.6540499999999974E-2]
[4,5,4,2,5,45425,3.3894800000000003E-2]
[4,5,4,3,1,45431,0.31915169999999998]
[4,5,4,3,2,45432,0.26106599999999996]
[4,5,4,3,3,45433,0.22339779999999998]
[4,5,4,3,4,45434,8.6448099999999972E-2]
[4,5,4,3,5,45435,2.3802400000000001E-2]
[4,5,4,4,1,45441,0.17875749999999999]
[4,5,4,4,2,45442,0.1206718]
[4,5,4,4,3,45443,8.3003599999999983E-2]
[4,5,4,4,4,45444,-5.3946100000000025E-2]
[4,5,4,4,5,45445,-0.1165918]
[4,5,4,5,1,45451,0.12921079999999996]
[4,5,4,5,2,45452,7.1125099999999969E-2]
[4,5,4,5,3,45453,3.3456899999999956E-2]
[4,5,4,5,4,45454,-0.10349280000000005]
[4,5,4,5,5,45455,-0.16613850000000002]
[4,5,5,1,1,45511,0.29079840000000001]
[4,5,5,1,2,45512,0.23271270000000002]
[4,5,5,1,3,45513,0.19504450000000001]
[4,5,5,1,4,45514,5.8094800000000002E-2]
[4,5,5,1,5,45515,-4.5508999999999689E-3]
[4,5,5,2,1,45521,0.23439860000000001]
[4,5,5,2,2,45522,0.17631290000000002]
[4,5,5,2,3,45523,0.13864470000000001]
[4,5,5,2,4,45524,1.6950000000000021E-3]
[4,5,5,2,5,45525,-6.0950699999999969E-2]
[4,5,5,3,1,45531,0.22430620000000001]
[4,5,5,3,2,45532,0.16622050000000002]
[4,5,5,3,3,45533,0.12855230000000001]
[4,5,5,3,4,45534,-8.3973999999999993E-3]
[4,5,5,3,5,45535,-7.104309999999997E-2]
[4,5,5,4,1,45541,8.3912000000000014E-2]
[4,5,5,4,2,45542,2.5826300000000017E-2]
[4,5,5,4,3,45543,-1.1841899999999989E-2]
[4,5,5,4,4,45544,-0.1487916]
[4,5,5,4,5,45545,-0.21143729999999997]
[4,5,5,5,1,45551,3.4365299999999988E-2]
[4,5,5,5,2,45552,-2.372040000000001E-2]
[4,5,5,5,3,45553,-6.1388600000000015E-2]
[4,5,5,5,4,45554,-0.19833830000000002]
[4,5,5,5,5,45555,-0.26098399999999999]
[5,1,1,1,1,51111,0.62876890000000007]
[5,1,1,1,2,51112,0.57068320000000006]
[5,1,1,1,3,51113,0.53301500000000002]
[5,1,1,1,4,51114,0.39606530000000006]
[5,1,1,1,5,51115,0.33341960000000009]
[5,1,1,2,1,51121,0.57236910000000008]
[5,1,1,2,2,51122,0.51428340000000006]
[5,1,1,2,3,51123,0.47661520000000007]
[5,1,1,2,4,51124,0.33966550000000006]
[5,1,1,2,5,51125,0.27701980000000009]
[5,1,1,3,1,51131,0.56227670000000007]
[5,1,1,3,2,51132,0.50419100000000006]
[5,1,1,3,3,51133,0.46652280000000007]
[5,1,1,3,4,51134,0.32957310000000006]
[5,1,1,3,5,51135,0.26692740000000009]
[5,1,1,4,1,51141,0.42188250000000005]
[5,1,1,4,2,51142,0.36379680000000003]
[5,1,1,4,3,51143,0.32612860000000005]
[5,1,1,4,4,51144,0.18917890000000004]
[5,1,1,4,5,51145,0.12653320000000007]
[5,1,1,5,1,51151,0.37233580000000005]
[5,1,1,5,2,51152,0.31425010000000003]
[5,1,1,5,3,51153,0.27658190000000005]
[5,1,1,5,4,51154,0.13963220000000004]
[5,1,1,5,5,51155,7.6986500000000069E-2]
[5,1,2,1,1,51211,0.57051450000000004]
[5,1,2,1,2,51212,0.51242880000000002]
[5,1,2,1,3,51213,0.47476060000000003]
[5,1,2,1,4,51214,0.33781090000000003]
[5,1,2,1,5,51215,0.27516520000000005]
[5,1,2,2,1,51221,0.51411470000000004]
[5,1,2,2,2,51222,0.45602900000000002]
[5,1,2,2,3,51223,0.41836080000000003]
[5,1,2,2,4,51224,0.28141110000000003]
[5,1,2,2,5,51225,0.21876540000000005]
[5,1,2,3,1,51231,0.50402230000000003]
[5,1,2,3,2,51232,0.44593660000000002]
[5,1,2,3,3,51233,0.40826840000000003]
[5,1,2,3,4,51234,0.27131870000000002]
[5,1,2,3,5,51235,0.20867300000000005]
[5,1,2,4,1,51241,0.36362810000000001]
[5,1,2,4,2,51242,0.30554239999999999]
[5,1,2,4,3,51243,0.26787420000000001]
[5,1,2,4,4,51244,0.1309245]
[5,1,2,4,5,51245,6.8278800000000028E-2]
[5,1,2,5,1,51251,0.31408140000000001]
[5,1,2,5,2,51252,0.25599569999999999]
[5,1,2,5,3,51253,0.21832750000000001]
[5,1,2,5,4,51254,8.13778E-2]
[5,1,2,5,5,51255,1.8732100000000029E-2]
[5,1,3,1,1,51311,0.55757150000000011]
[5,1,3,1,2,51312,0.49948580000000009]
[5,1,3,1,3,51313,0.46181760000000011]
[5,1,3,1,4,51314,0.3248679000000001]
[5,1,3,1,5,51315,0.26222220000000013]
[5,1,3,2,1,51321,0.50117170000000011]
[5,1,3,2,2,51322,0.44308600000000009]
[5,1,3,2,3,51323,0.40541780000000011]
[5,1,3,2,4,51324,0.2684681000000001]
[5,1,3,2,5,51325,0.20582240000000013]
[5,1,3,3,1,51331,0.49107930000000011]
[5,1,3,3,2,51332,0.43299360000000009]
[5,1,3,3,3,51333,0.3953254000000001]
[5,1,3,3,4,51334,0.2583757000000001]
[5,1,3,3,5,51335,0.19573000000000013]
[5,1,3,4,1,51341,0.35068510000000008]
[5,1,3,4,2,51342,0.29259940000000006]
[5,1,3,4,3,51343,0.25493120000000008]
[5,1,3,4,4,51344,0.11798150000000007]
[5,1,3,4,5,51345,5.5335800000000102E-2]
[5,1,3,5,1,51351,0.30113840000000008]
[5,1,3,5,2,51352,0.24305270000000009]
[5,1,3,5,3,51353,0.20538450000000008]
[5,1,3,5,4,51354,6.8434800000000073E-2]
[5,1,3,5,5,51355,5.7891000000001025E-3]
[5,1,4,1,1,51411,0.47528340000000008]
[5,1,4,1,2,51412,0.41719770000000006]
[5,1,4,1,3,51413,0.37952950000000008]
[5,1,4,1,4,51414,0.24257980000000007]
[5,1,4,1,5,51415,0.1799341000000001]
[5,1,4,2,1,51421,0.41888360000000008]
[5,1,4,2,2,51422,0.36079790000000006]
[5,1,4,2,3,51423,0.32312970000000008]
[5,1,4,2,4,51424,0.18618000000000007]
[5,1,4,2,5,51425,0.1235343000000001]
[5,1,4,3,1,51431,0.40879120000000008]
[5,1,4,3,2,51432,0.35070550000000006]
[5,1,4,3,3,51433,0.31303730000000007]
[5,1,4,3,4,51434,0.17608760000000007]
[5,1,4,3,5,51435,0.1134419000000001]
[5,1,4,4,1,51441,0.26839700000000011]
[5,1,4,4,2,51442,0.21031130000000012]
[5,1,4,4,3,51443,0.1726431000000001]
[5,1,4,4,4,51444,3.5693400000000097E-2]
[5,1,4,4,5,51445,-2.6952299999999874E-2]
[5,1,4,5,1,51451,0.21885030000000005]
[5,1,4,5,2,51452,0.16076460000000006]
[5,1,4,5,3,51453,0.12309640000000005]
[5,1,4,5,4,51454,-1.3853299999999957E-2]
[5,1,4,5,5,51455,-7.6498999999999928E-2]
[5,1,5,1,1,51511,0.38043790000000011]
[5,1,5,1,2,51512,0.32235220000000009]
[5,1,5,1,3,51513,0.2846840000000001]
[5,1,5,1,4,51514,0.1477343000000001]
[5,1,5,1,5,51515,8.5088600000000125E-2]
[5,1,5,2,1,51521,0.32403810000000011]
[5,1,5,2,2,51522,0.26595240000000009]
[5,1,5,2,3,51523,0.2282842000000001]
[5,1,5,2,4,51524,9.1334500000000096E-2]
[5,1,5,2,5,51525,2.8688800000000125E-2]
[5,1,5,3,1,51531,0.31394570000000011]
[5,1,5,3,2,51532,0.25586000000000009]
[5,1,5,3,3,51533,0.2181918000000001]
[5,1,5,3,4,51534,8.1242100000000095E-2]
[5,1,5,3,5,51535,1.8596400000000124E-2]
[5,1,5,4,1,51541,0.17355150000000011]
[5,1,5,4,2,51542,0.11546580000000012]
[5,1,5,4,3,51543,7.7797600000000106E-2]
[5,1,5,4,4,51544,-5.9152099999999902E-2]
[5,1,5,4,5,51545,-0.12179779999999987]
[5,1,5,5,1,51551,0.12400480000000008]
[5,1,5,5,2,51552,6.5919100000000092E-2]
[5,1,5,5,3,51553,2.8250900000000079E-2]
[5,1,5,5,4,51554,-0.10869879999999993]
[5,1,5,5,5,51555,-0.1713444999999999]
[5,2,1,1,1,52111,0.57063960000000002]
[5,2,1,1,2,52112,0.51255390000000001]
[5,2,1,1,3,52113,0.47488570000000002]
[5,2,1,1,4,52114,0.33793600000000001]
[5,2,1,1,5,52115,0.27529030000000004]
[5,2,1,2,1,52121,0.51423980000000002]
[5,2,1,2,2,52122,0.45615410000000001]
[5,2,1,2,3,52123,0.41848590000000002]
[5,2,1,2,4,52124,0.28153620000000001]
[5,2,1,2,5,52125,0.21889050000000004]
[5,2,1,3,1,52131,0.50414740000000002]
[5,2,1,3,2,52132,0.44606170000000001]
[5,2,1,3,3,52133,0.40839350000000002]
[5,2,1,3,4,52134,0.27144380000000001]
[5,2,1,3,5,52135,0.20879810000000004]
[5,2,1,4,1,52141,0.3637532]
[5,2,1,4,2,52142,0.30566749999999998]
[5,2,1,4,3,52143,0.2679993]
[5,2,1,4,4,52144,0.13104959999999999]
[5,2,1,4,5,52145,6.8403900000000017E-2]
[5,2,1,5,1,52151,0.3142065]
[5,2,1,5,2,52152,0.25612079999999998]
[5,2,1,5,3,52153,0.2184526]
[5,2,1,5,4,52154,8.1502899999999989E-2]
[5,2,1,5,5,52155,1.8857200000000018E-2]
[5,2,2,1,1,52211,0.51238519999999999]
[5,2,2,1,2,52212,0.45429949999999997]
[5,2,2,1,3,52213,0.41663129999999998]
[5,2,2,1,4,52214,0.27968159999999997]
[5,2,2,1,5,52215,0.2170359]
[5,2,2,2,1,52221,0.45598539999999999]
[5,2,2,2,2,52222,0.39789969999999997]
[5,2,2,2,3,52223,0.36023149999999998]
[5,2,2,2,4,52224,0.22328179999999997]
[5,2,2,2,5,52225,0.1606361]
[5,2,2,3,1,52231,0.44589299999999998]
[5,2,2,3,2,52232,0.38780729999999997]
[5,2,2,3,3,52233,0.35013909999999998]
[5,2,2,3,4,52234,0.21318939999999997]
[5,2,2,3,5,52235,0.1505437]
[5,2,2,4,1,52241,0.30549879999999996]
[5,2,2,4,2,52242,0.24741309999999997]
[5,2,2,4,3,52243,0.20974489999999996]
[5,2,2,4,4,52244,7.2795199999999949E-2]
[5,2,2,4,5,52245,1.0149499999999978E-2]
[5,2,2,5,1,52251,0.25595209999999996]
[5,2,2,5,2,52252,0.19786639999999997]
[5,2,2,5,3,52253,0.16019819999999996]
[5,2,2,5,4,52254,2.324849999999995E-2]
[5,2,2,5,5,52255,-3.9397200000000021E-2]
[5,2,3,1,1,52311,0.49944220000000006]
[5,2,3,1,2,52312,0.44135650000000004]
[5,2,3,1,3,52313,0.40368830000000006]
[5,2,3,1,4,52314,0.26673860000000005]
[5,2,3,1,5,52315,0.20409290000000008]
[5,2,3,2,1,52321,0.44304240000000006]
[5,2,3,2,2,52322,0.38495670000000004]
[5,2,3,2,3,52323,0.34728850000000006]
[5,2,3,2,4,52324,0.21033880000000005]
[5,2,3,2,5,52325,0.14769310000000008]
[5,2,3,3,1,52331,0.43295000000000006]
[5,2,3,3,2,52332,0.37486430000000004]
[5,2,3,3,3,52333,0.33719610000000005]
[5,2,3,3,4,52334,0.20024640000000005]
[5,2,3,3,5,52335,0.13760070000000008]
[5,2,3,4,1,52341,0.29255580000000003]
[5,2,3,4,2,52342,0.23447010000000004]
[5,2,3,4,3,52343,0.19680190000000003]
[5,2,3,4,4,52344,5.9852200000000022E-2]
[5,2,3,4,5,52345,-2.7934999999999488E-3]
[5,2,3,5,1,52351,0.24300910000000003]
[5,2,3,5,2,52352,0.18492340000000004]
[5,2,3,5,3,52353,0.14725520000000003]
[5,2,3,5,4,52354,1.0305500000000023E-2]
[5,2,3,5,5,52355,-5.2340199999999948E-2]
[5,2,4,1,1,52411,0.41715410000000003]
[5,2,4,1,2,52412,0.35906840000000001]
[5,2,4,1,3,52413,0.32140020000000002]
[5,2,4,1,4,52414,0.18445050000000002]
[5,2,4,1,5,52415,0.12180480000000005]
[5,2,4,2,1,52421,0.36075430000000003]
[5,2,4,2,2,52422,0.30266860000000001]
[5,2,4,2,3,52423,0.26500040000000002]
[5,2,4,2,4,52424,0.12805070000000002]
[5,2,4,2,5,52425,6.5405000000000046E-2]
[5,2,4,3,1,52431,0.35066190000000003]
[5,2,4,3,2,52432,0.29257620000000001]
[5,2,4,3,3,52433,0.25490800000000002]
[5,2,4,3,4,52434,0.11795830000000002]
[5,2,4,3,5,52435,5.5312600000000045E-2]
[5,2,4,4,1,52441,0.21026770000000003]
[5,2,4,4,2,52442,0.15218200000000004]
[5,2,4,4,3,52443,0.11451380000000003]
[5,2,4,4,4,52444,-2.2435899999999981E-2]
[5,2,4,4,5,52445,-8.5081599999999952E-2]
[5,2,4,5,1,52451,0.160721]
[5,2,4,5,2,52452,0.10263530000000001]
[5,2,4,5,3,52453,6.49671E-2]
[5,2,4,5,4,52454,-7.1982600000000008E-2]
[5,2,4,5,5,52455,-0.13462829999999998]
[5,2,5,1,1,52511,0.32230860000000006]
[5,2,5,1,2,52512,0.26422290000000004]
[5,2,5,1,3,52513,0.22655470000000005]
[5,2,5,1,4,52514,8.9605000000000046E-2]
[5,2,5,1,5,52515,2.6959300000000075E-2]
[5,2,5,2,1,52521,0.26590880000000006]
[5,2,5,2,2,52522,0.20782310000000007]
[5,2,5,2,3,52523,0.17015490000000005]
[5,2,5,2,4,52524,3.3205200000000046E-2]
[5,2,5,2,5,52525,-2.9440499999999925E-2]
[5,2,5,3,1,52531,0.25581640000000005]
[5,2,5,3,2,52532,0.19773070000000006]
[5,2,5,3,3,52533,0.16006250000000005]
[5,2,5,3,4,52534,2.3112800000000044E-2]
[5,2,5,3,5,52535,-3.9532899999999926E-2]
[5,2,5,4,1,52541,0.11542220000000006]
[5,2,5,4,2,52542,5.7336500000000061E-2]
[5,2,5,4,3,52543,1.9668300000000055E-2]
[5,2,5,4,4,52544,-0.11728139999999995]
[5,2,5,4,5,52545,-0.17992709999999992]
[5,2,5,5,1,52551,6.5875500000000031E-2]
[5,2,5,5,2,52552,7.7898000000000342E-3]
[5,2,5,5,3,52553,-2.9878399999999972E-2]
[5,2,5,5,4,52554,-0.16682809999999998]
[5,2,5,5,5,52555,-0.22947379999999995]
[5,3,1,1,1,53111,0.55813770000000007]
[5,3,1,1,2,53112,0.50005200000000005]
[5,3,1,1,3,53113,0.46238380000000007]
[5,3,1,1,4,53114,0.32543410000000006]
[5,3,1,1,5,53115,0.26278840000000009]
[5,3,1,2,1,53121,0.50173790000000007]
[5,3,1,2,2,53122,0.44365220000000005]
[5,3,1,2,3,53123,0.40598400000000007]
[5,3,1,2,4,53124,0.26903430000000006]
[5,3,1,2,5,53125,0.20638860000000009]
[5,3,1,3,1,53131,0.49164550000000007]
[5,3,1,3,2,53132,0.43355980000000005]
[5,3,1,3,3,53133,0.39589160000000007]
[5,3,1,3,4,53134,0.25894190000000006]
[5,3,1,3,5,53135,0.19629620000000009]
[5,3,1,4,1,53141,0.35125130000000004]
[5,3,1,4,2,53142,0.29316560000000003]
[5,3,1,4,3,53143,0.25549740000000004]
[5,3,1,4,4,53144,0.11854770000000003]
[5,3,1,4,5,53145,5.5902000000000063E-2]
[5,3,1,5,1,53151,0.30170460000000004]
[5,3,1,5,2,53152,0.24361890000000005]
[5,3,1,5,3,53153,0.20595070000000004]
[5,3,1,5,4,53154,6.9001000000000035E-2]
[5,3,1,5,5,53155,6.3553000000000637E-3]
[5,3,2,1,1,53211,0.49988330000000009]
[5,3,2,1,2,53212,0.44179760000000007]
[5,3,2,1,3,53213,0.40412940000000008]
[5,3,2,1,4,53214,0.26717970000000008]
[5,3,2,1,5,53215,0.2045340000000001]
[5,3,2,2,1,53221,0.44348350000000009]
[5,3,2,2,2,53222,0.38539780000000007]
[5,3,2,2,3,53223,0.34772960000000008]
[5,3,2,2,4,53224,0.21077990000000008]
[5,3,2,2,5,53225,0.1481342000000001]
[5,3,2,3,1,53231,0.43339110000000008]
[5,3,2,3,2,53232,0.37530540000000007]
[5,3,2,3,3,53233,0.33763720000000008]
[5,3,2,3,4,53234,0.20068750000000007]
[5,3,2,3,5,53235,0.1380418000000001]
[5,3,2,4,1,53241,0.29299690000000012]
[5,3,2,4,2,53242,0.23491120000000013]
[5,3,2,4,3,53243,0.19724300000000011]
[5,3,2,4,4,53244,6.0293300000000105E-2]
[5,3,2,4,5,53245,-2.3523999999998657E-3]
[5,3,2,5,1,53251,0.24345020000000006]
[5,3,2,5,2,53252,0.18536450000000007]
[5,3,2,5,3,53253,0.14769630000000006]
[5,3,2,5,4,53254,1.0746600000000051E-2]
[5,3,2,5,5,53255,-5.189909999999992E-2]
[5,3,3,1,1,53311,0.4869403000000001]
[5,3,3,1,2,53312,0.42885460000000009]
[5,3,3,1,3,53313,0.3911864000000001]
[5,3,3,1,4,53314,0.25423670000000009]
[5,3,3,1,5,53315,0.19159100000000012]
[5,3,3,2,1,53321,0.4305405000000001]
[5,3,3,2,2,53322,0.37245480000000009]
[5,3,3,2,3,53323,0.3347866000000001]
[5,3,3,2,4,53324,0.19783690000000009]
[5,3,3,2,5,53325,0.13519120000000012]
[5,3,3,3,1,53331,0.4204481000000001]
[5,3,3,3,2,53332,0.36236240000000008]
[5,3,3,3,3,53333,0.3246942000000001]
[5,3,3,3,4,53334,0.18774450000000009]
[5,3,3,3,5,53335,0.12509880000000012]
[5,3,3,4,1,53341,0.28005390000000008]
[5,3,3,4,2,53342,0.22196820000000009]
[5,3,3,4,3,53343,0.18430000000000007]
[5,3,3,4,4,53344,4.7350300000000067E-2]
[5,3,3,4,5,53345,-1.5295399999999904E-2]
[5,3,3,5,1,53351,0.23050720000000008]
[5,3,3,5,2,53352,0.17242150000000009]
[5,3,3,5,3,53353,0.13475330000000008]
[5,3,3,5,4,53354,-2.1963999999999317E-3]
[5,3,3,5,5,53355,-6.4842099999999903E-2]
[5,3,4,1,1,53411,0.40465220000000007]
[5,3,4,1,2,53412,0.34656650000000006]
[5,3,4,1,3,53413,0.30889830000000007]
[5,3,4,1,4,53414,0.17194860000000006]
[5,3,4,1,5,53415,0.10930290000000009]
[5,3,4,2,1,53421,0.34825240000000007]
[5,3,4,2,2,53422,0.29016670000000006]
[5,3,4,2,3,53423,0.25249850000000007]
[5,3,4,2,4,53424,0.11554880000000006]
[5,3,4,2,5,53425,5.2903100000000092E-2]
[5,3,4,3,1,53431,0.33816000000000007]
[5,3,4,3,2,53432,0.28007430000000005]
[5,3,4,3,3,53433,0.24240610000000007]
[5,3,4,3,4,53434,0.10545640000000006]
[5,3,4,3,5,53435,4.281070000000009E-2]
[5,3,4,4,1,53441,0.19776580000000007]
[5,3,4,4,2,53442,0.13968010000000008]
[5,3,4,4,3,53443,0.10201190000000007]
[5,3,4,4,4,53444,-3.4937799999999936E-2]
[5,3,4,4,5,53445,-9.7583499999999906E-2]
[5,3,4,5,1,53451,0.14821910000000005]
[5,3,4,5,2,53452,9.0133400000000058E-2]
[5,3,4,5,3,53453,5.2465200000000045E-2]
[5,3,4,5,4,53454,-8.4484499999999962E-2]
[5,3,4,5,5,53455,-0.14713019999999993]
[5,3,5,1,1,53511,0.3098067000000001]
[5,3,5,1,2,53512,0.25172100000000008]
[5,3,5,1,3,53513,0.2140528000000001]
[5,3,5,1,4,53514,7.7103100000000091E-2]
[5,3,5,1,5,53515,1.445740000000012E-2]
[5,3,5,2,1,53521,0.2534069000000001]
[5,3,5,2,2,53522,0.19532120000000011]
[5,3,5,2,3,53523,0.1576530000000001]
[5,3,5,2,4,53524,2.0703300000000091E-2]
[5,3,5,2,5,53525,-4.194239999999988E-2]
[5,3,5,3,1,53531,0.2433145000000001]
[5,3,5,3,2,53532,0.18522880000000011]
[5,3,5,3,3,53533,0.1475606000000001]
[5,3,5,3,4,53534,1.061090000000009E-2]
[5,3,5,3,5,53535,-5.2034799999999881E-2]
[5,3,5,4,1,53541,0.1029203000000001]
[5,3,5,4,2,53542,4.4834600000000106E-2]
[5,3,5,4,3,53543,7.1664000000001005E-3]
[5,3,5,4,4,53544,-0.12978329999999991]
[5,3,5,4,5,53545,-0.19242899999999988]
[5,3,5,5,1,53551,5.3373600000000077E-2]
[5,3,5,5,2,53552,-4.7120999999999205E-3]
[5,3,5,5,3,53553,-4.2380299999999926E-2]
[5,3,5,5,4,53554,-0.17932999999999993]
[5,3,5,5,5,53555,-0.2419756999999999]
[5,4,1,1,1,54111,0.43627840000000007]
[5,4,1,1,2,54112,0.37819270000000005]
[5,4,1,1,3,54113,0.34052450000000006]
[5,4,1,1,4,54114,0.20357480000000006]
[5,4,1,1,5,54115,0.14092910000000008]
[5,4,1,2,1,54121,0.37987860000000007]
[5,4,1,2,2,54122,0.32179290000000005]
[5,4,1,2,3,54123,0.28412470000000006]
[5,4,1,2,4,54124,0.14717500000000006]
[5,4,1,2,5,54125,8.4529300000000085E-2]
[5,4,1,3,1,54131,0.36978620000000006]
[5,4,1,3,2,54132,0.31170050000000005]
[5,4,1,3,3,54133,0.27403230000000006]
[5,4,1,3,4,54134,0.13708260000000005]
[5,4,1,3,5,54135,7.4436900000000084E-2]
[5,4,1,4,1,54141,0.22939200000000007]
[5,4,1,4,2,54142,0.17130630000000008]
[5,4,1,4,3,54143,0.13363810000000007]
[5,4,1,4,4,54144,-3.3115999999999424E-3]
[5,4,1,4,5,54145,-6.5957299999999913E-2]
[5,4,1,5,1,54151,0.17984530000000004]
[5,4,1,5,2,54152,0.12175960000000005]
[5,4,1,5,3,54153,8.4091400000000038E-2]
[5,4,1,5,4,54154,-5.2858299999999969E-2]
[5,4,1,5,5,54155,-0.11550399999999994]
[5,4,2,1,1,54211,0.37802400000000008]
[5,4,2,1,2,54212,0.31993830000000006]
[5,4,2,1,3,54213,0.28227010000000008]
[5,4,2,1,4,54214,0.14532040000000007]
[5,4,2,1,5,54215,8.2674700000000101E-2]
[5,4,2,2,1,54221,0.32162420000000008]
[5,4,2,2,2,54222,0.26353850000000006]
[5,4,2,2,3,54223,0.22587030000000008]
[5,4,2,2,4,54224,8.8920600000000072E-2]
[5,4,2,2,5,54225,2.6274900000000101E-2]
[5,4,2,3,1,54231,0.31153180000000008]
[5,4,2,3,2,54232,0.25344610000000006]
[5,4,2,3,3,54233,0.21577790000000008]
[5,4,2,3,4,54234,7.882820000000007E-2]
[5,4,2,3,5,54235,1.61825000000001E-2]
[5,4,2,4,1,54241,0.17113760000000008]
[5,4,2,4,2,54242,0.11305190000000009]
[5,4,2,4,3,54243,7.5383700000000081E-2]
[5,4,2,4,4,54244,-6.1565999999999926E-2]
[5,4,2,4,5,54245,-0.1242116999999999]
[5,4,2,5,1,54251,0.12159090000000006]
[5,4,2,5,2,54252,6.3505200000000067E-2]
[5,4,2,5,3,54253,2.5837000000000054E-2]
[5,4,2,5,4,54254,-0.11111269999999995]
[5,4,2,5,5,54255,-0.17375839999999992]
[5,4,3,1,1,54311,0.3650810000000001]
[5,4,3,1,2,54312,0.30699530000000008]
[5,4,3,1,3,54313,0.2693271000000001]
[5,4,3,1,4,54314,0.13237740000000009]
[5,4,3,1,5,54315,6.9731700000000119E-2]
[5,4,3,2,1,54321,0.3086812000000001]
[5,4,3,2,2,54322,0.25059550000000008]
[5,4,3,2,3,54323,0.2129273000000001]
[5,4,3,2,4,54324,7.597760000000009E-2]
[5,4,3,2,5,54325,1.3331900000000119E-2]
[5,4,3,3,1,54331,0.2985888000000001]
[5,4,3,3,2,54332,0.24050310000000011]
[5,4,3,3,3,54333,0.2028349000000001]
[5,4,3,3,4,54334,6.5885200000000088E-2]
[5,4,3,3,5,54335,3.2395000000001173E-3]
[5,4,3,4,1,54341,0.1581946000000001]
[5,4,3,4,2,54342,0.10010890000000011]
[5,4,3,4,3,54343,6.2440700000000099E-2]
[5,4,3,4,4,54344,-7.4508999999999909E-2]
[5,4,3,4,5,54345,-0.13715469999999988]
[5,4,3,5,1,54351,0.10864790000000007]
[5,4,3,5,2,54352,5.0562200000000078E-2]
[5,4,3,5,3,54353,1.2894000000000072E-2]
[5,4,3,5,4,54354,-0.12405569999999994]
[5,4,3,5,5,54355,-0.18670139999999991]
[5,4,4,1,1,54411,0.28279290000000007]
[5,4,4,1,2,54412,0.22470720000000008]
[5,4,4,1,3,54413,0.18703900000000007]
[5,4,4,1,4,54414,5.0089300000000059E-2]
[5,4,4,1,5,54415,-1.2556399999999912E-2]
[5,4,4,2,1,54421,0.22639310000000007]
[5,4,4,2,2,54422,0.16830740000000008]
[5,4,4,2,3,54423,0.13063920000000007]
[5,4,4,2,4,54424,-6.3104999999999412E-3]
[5,4,4,2,5,54425,-6.8956199999999912E-2]
[5,4,4,3,1,54431,0.21630070000000007]
[5,4,4,3,2,54432,0.15821500000000008]
[5,4,4,3,3,54433,0.12054680000000007]
[5,4,4,3,4,54434,-1.6402899999999943E-2]
[5,4,4,3,5,54435,-7.9048599999999913E-2]
[5,4,4,4,1,54441,7.5906500000000071E-2]
[5,4,4,4,2,54442,1.7820800000000074E-2]
[5,4,4,4,3,54443,-1.9847399999999932E-2]
[5,4,4,4,4,54444,-0.15679709999999994]
[5,4,4,4,5,54445,-0.21944279999999991]
[5,4,4,5,1,54451,2.6359800000000044E-2]
[5,4,4,5,2,54452,-3.1725899999999953E-2]
[5,4,4,5,3,54453,-6.9394099999999959E-2]
[5,4,4,5,4,54454,-0.20634379999999997]
[5,4,4,5,5,54455,-0.26898949999999994]
[5,4,5,1,1,54511,0.18794740000000007]
[5,4,5,1,2,54512,0.12986170000000008]
[5,4,5,1,3,54513,9.2193500000000067E-2]
[5,4,5,1,4,54514,-4.475619999999994E-2]
[5,4,5,1,5,54515,-0.10740189999999991]
[5,4,5,2,1,54521,0.13154760000000007]
[5,4,5,2,2,54522,7.346190000000008E-2]
[5,4,5,2,3,54523,3.5793700000000067E-2]
[5,4,5,2,4,54524,-0.10115599999999994]
[5,4,5,2,5,54525,-0.16380169999999991]
[5,4,5,3,1,54531,0.12145520000000007]
[5,4,5,3,2,54532,6.3369500000000079E-2]
[5,4,5,3,3,54533,2.5701300000000066E-2]
[5,4,5,3,4,54534,-0.11124839999999994]
[5,4,5,3,5,54535,-0.17389409999999991]
[5,4,5,4,1,54541,-1.8938999999999928E-2]
[5,4,5,4,2,54542,-7.7024699999999918E-2]
[5,4,5,4,3,54543,-0.11469289999999993]
[5,4,5,4,4,54544,-0.25164259999999994]
[5,4,5,4,5,54545,-0.31428829999999991]
[5,4,5,5,1,54551,-6.8485699999999955E-2]
[5,4,5,5,2,54552,-0.12657139999999995]
[5,4,5,5,3,54553,-0.16423959999999996]
[5,4,5,5,4,54554,-0.30118929999999999]
[5,4,5,5,5,54555,-0.36383499999999991]
[5,5,1,1,1,55111,0.37889260000000008]
[5,5,1,1,2,55112,0.32080690000000006]
[5,5,1,1,3,55113,0.28313870000000008]
[5,5,1,1,4,55114,0.14618900000000007]
[5,5,1,1,5,55115,8.3543300000000098E-2]
[5,5,1,2,1,55121,0.32249280000000008]
[5,5,1,2,2,55122,0.26440710000000006]
[5,5,1,2,3,55123,0.22673890000000008]
[5,5,1,2,4,55124,8.9789200000000069E-2]
[5,5,1,2,5,55125,2.7143500000000098E-2]
[5,5,1,3,1,55131,0.31240040000000008]
[5,5,1,3,2,55132,0.25431470000000006]
[5,5,1,3,3,55133,0.21664650000000008]
[5,5,1,3,4,55134,7.9696800000000068E-2]
[5,5,1,3,5,55135,1.7051100000000097E-2]
[5,5,1,4,1,55141,0.17200620000000008]
[5,5,1,4,2,55142,0.11392050000000009]
[5,5,1,4,3,55143,7.6252300000000078E-2]
[5,5,1,4,4,55144,-6.0697399999999929E-2]
[5,5,1,4,5,55145,-0.1233430999999999]
[5,5,1,5,1,55151,0.12245950000000005]
[5,5,1,5,2,55152,6.4373800000000064E-2]
[5,5,1,5,3,55153,2.6705600000000052E-2]
[5,5,1,5,4,55154,-0.11024409999999996]
[5,5,1,5,5,55155,-0.17288979999999993]
[5,5,2,1,1,55211,0.3206382000000001]
[5,5,2,1,2,55212,0.26255250000000008]
[5,5,2,1,3,55213,0.22488430000000009]
[5,5,2,1,4,55214,8.7934600000000085E-2]
[5,5,2,1,5,55215,2.5288900000000114E-2]
[5,5,2,2,1,55221,0.2642384000000001]
[5,5,2,2,2,55222,0.20615270000000011]
[5,5,2,2,3,55223,0.16848450000000009]
[5,5,2,2,4,55224,3.1534800000000085E-2]
[5,5,2,2,5,55225,-3.1110899999999886E-2]
[5,5,2,3,1,55231,0.25414600000000009]
[5,5,2,3,2,55232,0.1960603000000001]
[5,5,2,3,3,55233,0.15839210000000009]
[5,5,2,3,4,55234,2.1442400000000084E-2]
[5,5,2,3,5,55235,-4.1203299999999887E-2]
[5,5,2,4,1,55241,0.1137518000000001]
[5,5,2,4,2,55242,5.56661000000001E-2]
[5,5,2,4,3,55243,1.7997900000000094E-2]
[5,5,2,4,4,55244,-0.11895179999999991]
[5,5,2,4,5,55245,-0.18159749999999988]
[5,5,2,5,1,55251,6.420510000000007E-2]
[5,5,2,5,2,55252,6.1194000000000734E-3]
[5,5,2,5,3,55253,-3.1548799999999932E-2]
[5,5,2,5,4,55254,-0.16849849999999994]
[5,5,2,5,5,55255,-0.23114419999999991]
[5,5,3,1,1,55311,0.30769520000000006]
[5,5,3,1,2,55312,0.24960950000000007]
[5,5,3,1,3,55313,0.21194130000000005]
[5,5,3,1,4,55314,7.4991600000000047E-2]
[5,5,3,1,5,55315,1.2345900000000076E-2]
[5,5,3,2,1,55321,0.25129540000000006]
[5,5,3,2,2,55322,0.19320970000000007]
[5,5,3,2,3,55323,0.15554150000000005]
[5,5,3,2,4,55324,1.8591800000000047E-2]
[5,5,3,2,5,55325,-4.4053899999999924E-2]
[5,5,3,3,1,55331,0.24120300000000006]
[5,5,3,3,2,55332,0.18311730000000007]
[5,5,3,3,3,55333,0.14544910000000005]
[5,5,3,3,4,55334,8.4994000000000458E-3]
[5,5,3,3,5,55335,-5.4146299999999925E-2]
[5,5,3,4,1,55341,0.10080880000000006]
[5,5,3,4,2,55342,4.2723100000000062E-2]
[5,5,3,4,3,55343,5.0549000000000566E-3]
[5,5,3,4,4,55344,-0.13189479999999995]
[5,5,3,4,5,55345,-0.19454049999999992]
[5,5,3,5,1,55351,5.1262100000000033E-2]
[5,5,3,5,2,55352,-6.8235999999999644E-3]
[5,5,3,5,3,55353,-4.449179999999997E-2]
[5,5,3,5,4,55354,-0.18144149999999998]
[5,5,3,5,5,55355,-0.24408719999999995]
[5,5,4,1,1,55411,0.22540710000000008]
[5,5,4,1,2,55412,0.16732140000000009]
[5,5,4,1,3,55413,0.12965320000000008]
[5,5,4,1,4,55414,-7.296499999999928E-3]
[5,5,4,1,5,55415,-6.9942199999999899E-2]
[5,5,4,2,1,55421,0.16900730000000008]
[5,5,4,2,2,55422,0.11092160000000009]
[5,5,4,2,3,55423,7.325340000000008E-2]
[5,5,4,2,4,55424,-6.3696299999999928E-2]
[5,5,4,2,5,55425,-0.1263419999999999]
[5,5,4,3,1,55431,0.15891490000000008]
[5,5,4,3,2,55432,0.10082920000000009]
[5,5,4,3,3,55433,6.3161000000000078E-2]
[5,5,4,3,4,55434,-7.3788699999999929E-2]
[5,5,4,3,5,55435,-0.1364343999999999]
[5,5,4,4,1,55441,1.8520700000000084E-2]
[5,5,4,4,2,55442,-3.9564999999999913E-2]
[5,5,4,4,3,55443,-7.7233199999999919E-2]
[5,5,4,4,4,55444,-0.21418289999999993]
[5,5,4,4,5,55445,-0.27682859999999987]
[5,5,4,5,1,55451,-3.1025999999999943E-2]
[5,5,4,5,2,55452,-8.9111699999999933E-2]
[5,5,4,5,3,55453,-0.12677989999999995]
[5,5,4,5,4,55454,-0.26372959999999995]
[5,5,4,5,5,55455,-0.32637529999999992]
[5,5,5,1,1,55511,0.13056160000000008]
[5,5,5,1,2,55512,7.2475900000000093E-2]
[5,5,5,1,3,55513,3.480770000000008E-2]
[5,5,5,1,4,55514,-0.10214199999999993]
[5,5,5,1,5,55515,-0.1647876999999999]
[5,5,5,2,1,55521,7.4161800000000083E-2]
[5,5,5,2,2,55522,1.6076100000000086E-2]
[5,5,5,2,3,55523,-2.159209999999992E-2]
[5,5,5,2,4,55524,-0.15854179999999993]
[5,5,5,2,5,55525,-0.2211874999999999]
[5,5,5,3,1,55531,6.4069400000000082E-2]
[5,5,5,3,2,55532,5.9837000000000848E-3]
[5,5,5,3,3,55533,-3.1684499999999921E-2]
[5,5,5,3,4,55534,-0.16863419999999993]
[5,5,5,3,5,55535,-0.2312798999999999]
[5,5,5,4,1,55541,-7.6324799999999915E-2]
[5,5,5,4,2,55542,-0.13441049999999991]
[5,5,5,4,3,55543,-0.17207869999999992]
[5,5,5,4,4,55544,-0.30902839999999993]
[5,5,5,4,5,55545,-0.3716740999999999]
[5,5,5,5,1,55551,-0.12587149999999994]
[5,5,5,5,2,55552,-0.18395719999999993]
[5,5,5,5,3,55553,-0.22162539999999994]
[5,5,5,5,4,55554,-0.35857509999999992]
[5,5,5,5,5,55555,-0.42122079999999995]

{"sheet":"tariffs2","index":3,"n_rows":3126,"n_cols":13,"rows_kept":3126,"cut":false,"hidden":true,"merged":[]}
["health status",null,null,null,null,null,"severity level","MO","SC","UA","PD","AD","Utility"]
[11111,{"$f":"INT(LEFT(A2,1))","v":1},{"$f":"INT(MID(A2,2,1))","v":1},{"$f":"INT(MID(A2,3,1))","v":1},{"$f":"INT(MID(A2,4,1))","v":1},{"$f":"INT(RIGHT(A2,1))","v":1},{"$f":"SUM(B2:F2)","v":5},{"$f":"IF(B2=1,\"0\",VLOOKUP(B2,coefficient2!$A$4:$B$7,2,FALSE))","v":"0"},{"$f":"IF(C2=1,\"0\",VLOOKUP(C2,coefficient2!$A$10:$B$13,2,FALSE))","v":"0"},{"$f":"IF(D2=1,\"0\",VLOOKUP(D2,coefficient2!$A$16:$B$19,2,FALSE))","v":"0"},{"$f":"IF(E2=1,\"0\",VLOOKUP(E2,coefficient2!$A$22:$B$25,2,FALSE))","v":"0"},{"$f":"IF(F2=1,\"0\",VLOOKUP(F2,coefficient2!$A$28:$A$31,2,FALSE))","v":"0"},{"$f":"1-H2-I2-J2-K2-L2","v":1}]
[11112,{"$f":"INT(LEFT(A3,1))","v":1},{"$f":"INT(MID(A3,2,1))","v":1},{"$f":"INT(MID(A3,3,1))","v":1},{"$f":"INT(MID(A3,4,1))","v":1},{"$f":"INT(RIGHT(A3,1))","v":2},{"$f":"SUM(B3:F3)","v":6},{"$f":"IF(B3=1,\"0\",VLOOKUP(B3,coefficient2!$A$4:$B$7,2,FALSE))","v":"0"},{"$f":"IF(C3=1,\"0\",VLOOKUP(C3,coefficient2!$A$10:$B$13,2,FALSE))","v":"0"},{"$f":"IF(D3=1,\"0\",VLOOKUP(D3,coefficient2!$A$16:$B$19,2,FALSE))","v":"0"},{"$f":"IF(E3=1,\"0\",VLOOKUP(E3,coefficient2!$A$22:$B$25,2,FALSE))","v":"0"},{"$f":"IF(F3=1,\"0\",VLOOKUP(F3,coefficient2!$A$28:$B$31,2,FALSE))","v":5.8085699999999997E-2},0.94191429999999998]
[11113,1,1,1,1,3,7,{"$f":"IF(B4=1,\"0\",VLOOKUP(B4,coefficient2!$A$4:$B$7,2,FALSE))","v":"0"},{"$f":"IF(C4=1,\"0\",VLOOKUP(C4,coefficient2!$A$10:$B$13,2,FALSE))","v":"0"},{"$f":"IF(D4=1,\"0\",VLOOKUP(D4,coefficient2!$A$16:$B$19,2,FALSE))","v":"0"},{"$f":"IF(E4=1,\"0\",VLOOKUP(E4,coefficient2!$A$22:$B$25,2,FALSE))","v":"0"},{"$f":"IF(F4=1,\"0\",VLOOKUP(F4,coefficient2!$A$28:$B$31,2,FALSE))","v":9.5753900000000003E-2},0.90424609999999994]
[11114,1,1,1,1,4,8,{"$f":"IF(B5=1,\"0\",VLOOKUP(B5,coefficient2!$A$4:$B$7,2,FALSE))","v":"0"},{"$f":"IF(C5=1,\"0\",VLOOKUP(C5,coefficient2!$A$10:$B$13,2,FALSE))","v":"0"},{"$f":"IF(D5=1,\"0\",VLOOKUP(D5,coefficient2!$A$16:$B$19,2,FALSE))","v":"0"},{"$f":"IF(E5=1,\"0\",VLOOKUP(E5,coefficient2!$A$22:$B$25,2,FALSE))","v":"0"},{"$f":"IF(F5=1,\"0\",VLOOKUP(F5,coefficient2!$A$28:$B$31,2,FALSE))","v":0.23270360000000001},0.76729639999999999]
[11115,1,1,1,1,5,9,{"$f":"IF(B6=1,\"0\",VLOOKUP(B6,coefficient2!$A$4:$B$7,2,FALSE))","v":"0"},{"$f":"IF(C6=1,\"0\",VLOOKUP(C6,coefficient2!$A$10:$B$13,2,FALSE))","v":"0"},{"$f":"IF(D6=1,\"0\",VLOOKUP(D6,coefficient2!$A$16:$B$19,2,FALSE))","v":"0"},{"$f":"IF(E6=1,\"0\",VLOOKUP(E6,coefficient2!$A$22:$B$25,2,FALSE))","v":"0"},{"$f":"IF(F6=1,\"0\",VLOOKUP(F6,coefficient2!$A$28:$B$31,2,FALSE))","v":0.29534929999999998},0.70465069999999996]
[11121,1,1,1,2,1,6,{"$f":"IF(B7=1,\"0\",VLOOKUP(B7,coefficient2!$A$4:$B$7,2,FALSE))","v":"0"},{"$f":"IF(C7=1,\"0\",VLOOKUP(C7,coefficient2!$A$10:$B$13,2,FALSE))","v":"0"},{"$f":"IF(D7=1,\"0\",VLOOKUP(D7,coefficient2!$A$16:$B$19,2,FALSE))","v":"0"},{"$f":"IF(E7=1,\"0\",VLOOKUP(E7,coefficient2!$A$22:$B$25,2,FALSE))","v":5.63998E-2},{"$f":"IF(F7=1,\"0\",VLOOKUP(F7,coefficient2!$A$28:$B$31,2,FALSE))","v":"0"},0.9436002]
[11122,1,1,1,2,2,7,{"$f":"IF(B8=1,\"0\",VLOOKUP(B8,coefficient2!$A$4:$B$7,2,FALSE))","v":"0"},{"$f":"IF(C8=1,\"0\",VLOOKUP(C8,coefficient2!$A$10:$B$13,2,FALSE))","v":"0"},{"$f":"IF(D8=1,\"0\",VLOOKUP(D8,coefficient2!$A$16:$B$19,2,FALSE))","v":"0"},{"$f":"IF(E8=1,\"0\",VLOOKUP(E8,coefficient2!$A$22:$B$25,2,FALSE))","v":5.63998E-2},{"$f":"IF(F8=1,\"0\",VLOOKUP(F8,coefficient2!$A$28:$B$31,2,FALSE))","v":5.8085699999999997E-2},0.88551449999999998]
[11123,1,1,1,2,3,8,{"$f":"IF(B9=1,\"0\",VLOOKUP(B9,coefficient2!$A$4:$B$7,2,FALSE))","v":"0"},{"$f":"IF(C9=1,\"0\",VLOOKUP(C9,coefficient2!$A$10:$B$13,2,FALSE))","v":"0"},{"$f":"IF(D9=1,\"0\",VLOOKUP(D9,coefficient2!$A$16:$B$19,2,FALSE))","v":"0"},{"$f":"IF(E9=1,\"0\",VLOOKUP(E9,coefficient2!$A$22:$B$25,2,FALSE))","v":5.63998E-2},{"$f":"IF(F9=1,\"0\",VLOOKUP(F9,coefficient2!$A$28:$B$31,2,FALSE))","v":9.5753900000000003E-2},0.84784630000000005]
[11124,1,1,1,2,4,9,{"$f":"IF(B10=1,\"0\",VLOOKUP(B10,coefficient2!$A$4:$B$7,2,FALSE))","v":"0"},{"$f":"IF(C10=1,\"0\",VLOOKUP(C10,coefficient2!$A$10:$B$13,2,FALSE))","v":"0"},{"$f":"IF(D10=1,\"0\",VLOOKUP(D10,coefficient2!$A$16:$B$19,2,FALSE))","v":"0"},{"$f":"IF(E10=1,\"0\",VLOOKUP(E10,coefficient2!$A$22:$B$25,2,FALSE))","v":5.63998E-2},{"$f":"IF(F10=1,\"0\",VLOOKUP(F10,coefficient2!$A$28:$B$31,2,FALSE))","v":0.23270360000000001},0.71089659999999999]
[11125,1,1,1,2,5,10,{"$f":"IF(B11=1,\"0\",VLOOKUP(B11,coefficient2!$A$4:$B$7,2,FALSE))","v":"0"},{"$f":"IF(C11=1,\"0\",VLOOKUP(C11,coefficient2!$A$10:$B$13,2,FALSE))","v":"0"},{"$f":"IF(D11=1,\"0\",VLOOKUP(D11,coefficient2!$A$16:$B$19,2,FALSE))","v":"0"},{"$f":"IF(E11=1,\"0\",VLOOKUP(E11,coefficient2!$A$22:$B$25,2,FALSE))","v":5.63998E-2},{"$f":"IF(F11=1,\"0\",VLOOKUP(F11,coefficient2!$A$28:$B$31,2,FALSE))","v":0.29534929999999998},0.64825090000000007]
[11131,1,1,1,3,1,7,{"$f":"IF(B12=1,\"0\",VLOOKUP(B12,coefficient2!$A$4:$B$7,2,FALSE))","v":"0"},{"$f":"IF(C12=1,\"0\",VLOOKUP(C12,coefficient2!$A$10:$B$13,2,FALSE))","v":"0"},{"$f":"IF(D12=1,\"0\",VLOOKUP(D12,coefficient2!$A$16:$B$19,2,FALSE))","v":"0"},{"$f":"IF(E12=1,\"0\",VLOOKUP(E12,coefficient2!$A$22:$B$25,2,FALSE))","v":6.6492200000000001E-2},{"$f":"IF(F12=1,\"0\",VLOOKUP(F12,coefficient2!$A$28:$B$31,2,FALSE))","v":"0"},0.9335078]
[11132,1,1,1,3,2,8,{"$f":"IF(B13=1,\"0\",VLOOKUP(B13,coefficient2!$A$4:$B$7,2,FALSE))","v":"0"},{"$f":"IF(C13=1,\"0\",VLOOKUP(C13,coefficient2!$A$10:$B$13,2,FALSE))","v":"0"},{"$f":"IF(D13=1,\"0\",VLOOKUP(D13,coefficient2!$A$16:$B$19,2,FALSE))","v":"0"},{"$f":"IF(E13=1,\"0\",VLOOKUP(E13,coefficient2!$A$22:$B$25,2,FALSE))","v":6.6492200000000001E-2},{"$f":"IF(F13=1,\"0\",VLOOKUP(F13,coefficient2!$A$28:$B$31,2,FALSE))","v":5.8085699999999997E-2},0.87542209999999998]
[11133,1,1,1,3,3,9,{"$f":"IF(B14=1,\"0\",VLOOKUP(B14,coefficient2!$A$4:$B$7,2,FALSE))","v":"0"},{"$f":"IF(C14=1,\"0\",VLOOKUP(C14,coefficient2!$A$10:$B$13,2,FALSE))","v":"0"},{"$f":"IF(D14=1,\"0\",VLOOKUP(D14,coefficient2!$A$16:$B$19,2,FALSE))","v":"0"},{"$f":"IF(E14=1,\"0\",VLOOKUP(E14,coefficient2!$A$22:$B$25,2,FALSE))","v":6.6492200000000001E-2},{"$f":"IF(F14=1,\"0\",VLOOKUP(F14,coefficient2!$A$28:$B$31,2,FALSE))","v":9.5753900000000003E-2},0.83775390000000005]
[11134,1,1,1,3,4,10,{"$f":"IF(B15=1,\"0\",VLOOKUP(B15,coefficient2!$A$4:$B$7,2,FALSE))","v":"0"},{"$f":"IF(C15=1,\"0\",VLOOKUP(C15,coefficient2!$A$10:$B$13,2,FALSE))","v":"0"},{"$f":"IF(D15=1,\"0\",VLOOKUP(D15,coefficient2!$A$16:$B$19,2,FALSE))","v":"0"},{"$f":"IF(E15=1,\"0\",VLOOKUP(E15,coefficient2!$A$22:$B$25,2,FALSE))","v":6.6492200000000001E-2},{"$f":"IF(F15=1,\"0\",VLOOKUP(F15,coefficient2!$A$28:$B$31,2,FALSE))","v":0.23270360000000001},0.70080419999999999]
[11135,1,1,1,3,5,11,{"$f":"IF(B16=1,\"0\",VLOOKUP(B16,coefficient2!$A$4:$B$7,2,FALSE))","v":"0"},{"$f":"IF(C16=1,\"0\",VLOOKUP(C16,coefficient2!$A$10:$B$13,2,FALSE))","v":"0"},{"$f":"IF(D16=1,\"0\",VLOOKUP(D16,coefficient2!$A$16:$B$19,2,FALSE))","v":"0"},{"$f":"IF(E16=1,\"0\",VLOOKUP(E16,coefficient2!$A$22:$B$25,2,FALSE))","v":6.6492200000000001E-2},{"$f":"IF(F16=1,\"0\",VLOOKUP(F16,coefficient2!$A$28:$B$31,2,FALSE))","v":0.29534929999999998},0.63815850000000007]
[11141,1,1,1,4,1,8,{"$f":"IF(B17=1,\"0\",VLOOKUP(B17,coefficient2!$A$4:$B$7,2,FALSE))","v":"0"},{"$f":"IF(C17=1,\"0\",VLOOKUP(C17,coefficient2!$A$10:$B$13,2,FALSE))","v":"0"},{"$f":"IF(D17=1,\"0\",VLOOKUP(D17,coefficient2!$A$16:$B$19,2,FALSE))","v":"0"},{"$f":"IF(E17=1,\"0\",VLOOKUP(E17,coefficient2!$A$22:$B$25,2,FALSE))","v":0.2068864},{"$f":"IF(F17=1,\"0\",VLOOKUP(F17,coefficient2!$A$28:$B$31,2,FALSE))","v":"0"},0.79311359999999997]
[11142,1,1,1,4,2,9,{"$f":"IF(B18=1,\"0\",VLOOKUP(B18,coefficient2!$A$4:$B$7,2,FALSE))","v":"0"},{"$f":"IF(C18=1,\"0\",VLOOKUP(C18,coefficient2!$A$10:$B$13,2,FALSE))","v":"0"},{"$f":"IF(D18=1,\"0\",VLOOKUP(D18,coefficient2!$A$16:$B$19,2,FALSE))","v":"0"},{"$f":"IF(E18=1,\"0\",VLOOKUP(E18,coefficient2!$A$22:$B$25,2,FALSE))","v":0.2068864},{"$f":"IF(F18=1,\"0\",VLOOKUP(F18,coefficient2!$A$28:$B$31,2,FALSE))","v":5.8085699999999997E-2},0.73502789999999996]
[11143,1,1,1,4,3,10,{"$f":"IF(B19=1,\"0\",VLOOKUP(B19,coefficient2!$A$4:$B$7,2,FALSE))","v":"0"},{"$f":"IF(C19=1,\"0\",VLOOKUP(C19,coefficient2!$A$10:$B$13,2,FALSE))","v":"0"},{"$f":"IF(D19=1,\"0\",VLOOKUP(D19,coefficient2!$A$16:$B$19,2,FALSE))","v":"0"},{"$f":"IF(E19=1,\"0\",VLOOKUP(E19,coefficient2!$A$22:$B$25,2,FALSE))","v":0.2068864},{"$f":"IF(F19=1,\"0\",VLOOKUP(F19,coefficient2!$A$28:$B$31,2,FALSE))","v":9.5753900000000003E-2},0.69735970000000003]
[11144,1,1,1,4,4,11,{"$f":"IF(B20=1,\"0\",VLOOKUP(B20,coefficient2!$A$4:$B$7,2,FALSE))","v":"0"},{"$f":"IF(C20=1,\"0\",VLOOKUP(C20,coefficient2!$A$10:$B$13,2,FALSE))","v":"0"},{"$f":"IF(D20=1,\"0\",VLOOKUP(D20,coefficient2!$A$16:$B$19,2,FALSE))","v":"0"},{"$f":"IF(E20=1,\"0\",VLOOKUP(E20,coefficient2!$A$22:$B$25,2,FALSE))","v":0.2068864},{"$f":"IF(F20=1,\"0\",VLOOKUP(F20,coefficient2!$A$28:$B$31,2,FALSE))","v":0.23270360000000001},0.56040999999999996]
[11145,1,1,1,4,5,12,{"$f":"IF(B21=1,\"0\",VLOOKUP(B21,coefficient2!$A$4:$B$7,2,FALSE))","v":"0"},{"$f":"IF(C21=1,\"0\",VLOOKUP(C21,coefficient2!$A$10:$B$13,2,FALSE))","v":"0"},{"$f":"IF(D21=1,\"0\",VLOOKUP(D21,coefficient2!$A$16:$B$19,2,FALSE))","v":"0"},{"$f":"IF(E21=1,\"0\",VLOOKUP(E21,coefficient2!$A$22:$B$25,2,FALSE))","v":0.2068864},{"$f":"IF(F21=1,\"0\",VLOOKUP(F21,coefficient2!$A$28:$B$31,2,FALSE))","v":0.29534929999999998},0.49776429999999999]
[11151,1,1,1,5,1,9,{"$f":"IF(B22=1,\"0\",VLOOKUP(B22,coefficient2!$A$4:$B$7,2,FALSE))","v":"0"},{"$f":"IF(C22=1,\"0\",VLOOKUP(C22,coefficient2!$A$10:$B$13,2,FALSE))","v":"0"},{"$f":"IF(D22=1,\"0\",VLOOKUP(D22,coefficient2!$A$16:$B$19,2,FALSE))","v":"0"},{"$f":"IF(E22=1,\"0\",VLOOKUP(E22,coefficient2!$A$22:$B$25,2,FALSE))","v":0.25643310000000002},{"$f":"IF(F22=1,\"0\",VLOOKUP(F22,coefficient2!$A$28:$B$31,2,FALSE))","v":"0"},0.74356690000000003]
[11152,1,1,1,5,2,10,{"$f":"IF(B23=1,\"0\",VLOOKUP(B23,coefficient2!$A$4:$B$7,2,FALSE))","v":"0"},{"$f":"IF(C23=1,\"0\",VLOOKUP(C23,coefficient2!$A$10:$B$13,2,FALSE))","v":"0"},{"$f":"IF(D23=1,\"0\",VLOOKUP(D23,coefficient2!$A$16:$B$19,2,FALSE))","v":"0"},{"$f":"IF(E23=1,\"0\",VLOOKUP(E23,coefficient2!$A$22:$B$25,2,FALSE))","v":0.25643310000000002},{"$f":"IF(F23=1,\"0\",VLOOKUP(F23,coefficient2!$A$28:$B$31,2,FALSE))","v":5.8085699999999997E-2},0.68548120000000001]
[11153,1,1,1,5,3,11,{"$f":"IF(B24=1,\"0\",VLOOKUP(B24,coefficient2!$A$4:$B$7,2,FALSE))","v":"0"},{"$f":"IF(C24=1,\"0\",VLOOKUP(C24,coefficient2!$A$10:$B$13,2,FALSE))","v":"0"},{"$f":"IF(D24=1,\"0\",VLOOKUP(D24,coefficient2!$A$16:$B$19,2,FALSE))","v":"0"},{"$f":"IF(E24=1,\"0\",VLOOKUP(E24,coefficient2!$A$22:$B$25,2,FALSE))","v":0.25643310000000002},{"$f":"IF(F24=1,\"0\",VLOOKUP(F24,coefficient2!$A$28:$B$31,2,FALSE))","v":9.5753900000000003E-2},0.64781299999999997]
[11154,1,1,1,5,4,12,{"$f":"IF(B25=1,\"0\",VLOOKUP(B25,coefficient2!$A$4:$B$7,2,FALSE))","v":"0"},{"$f":"IF(C25=1,\"0\",VLOOKUP(C25,coefficient2!$A$10:$B$13,2,FALSE))","v":"0"},{"$f":"IF(D25=1,\"0\",VLOOKUP(D25,coefficient2!$A$16:$B$19,2,FALSE))","v":"0"},{"$f":"IF(E25=1,\"0\",VLOOKUP(E25,coefficient2!$A$22:$B$25,2,FALSE))","v":0.25643310000000002},{"$f":"IF(F25=1,\"0\",VLOOKUP(F25,coefficient2!$A$28:$B$31,2,FALSE))","v":0.23270360000000001},0.51086330000000002]
[11155,1,1,1,5,5,13,{"$f":"IF(B26=1,\"0\",VLOOKUP(B26,coefficient2!$A$4:$B$7,2,FALSE))","v":"0"},{"$f":"IF(C26=1,\"0\",VLOOKUP(C26,coefficient2!$A$10:$B$13,2,FALSE))","v":"0"},{"$f":"IF(D26=1,\"0\",VLOOKUP(D26,coefficient2!$A$16:$B$19,2,FALSE))","v":"0"},{"$f":"IF(E26=1,\"0\",VLOOKUP(E26,coefficient2!$A$22:$B$25,2,FALSE))","v":0.25643310000000002},{"$f":"IF(F26=1,\"0\",VLOOKUP(F26,coefficient2!$A$28:$B$31,2,FALSE))","v":0.29534929999999998},0.44821760000000005]
[11211,1,1,2,1,1,6,{"$f":"IF(B27=1,\"0\",VLOOKUP(B27,coefficient2!$A$4:$B$7,2,FALSE))","v":"0"},{"$f":"IF(C27=1,\"0\",VLOOKUP(C27,coefficient2!$A$10:$B$13,2,FALSE))","v":"0"},{"$f":"IF(D27=1,\"0\",VLOOKUP(D27,coefficient2!$A$16:$B$19,2,FALSE))","v":5.8254399999999998E-2},{"$f":"IF(E27=1,\"0\",VLOOKUP(E27,coefficient2!$A$22:$B$25,2,FALSE))","v":"0"},{"$f":"IF(F27=1,\"0\",VLOOKUP(F27,coefficient2!$A$28:$B$31,2,FALSE))","v":"0"},0.94174559999999996]
[11212,1,1,2,1,2,7,{"$f":"IF(B28=1,\"0\",VLOOKUP(B28,coefficient2!$A$4:$B$7,2,FALSE))","v":"0"},{"$f":"IF(C28=1,\"0\",VLOOKUP(C28,coefficient2!$A$10:$B$13,2,FALSE))","v":"0"},{"$f":"IF(D28=1,\"0\",VLOOKUP(D28,coefficient2!$A$16:$B$19,2,FALSE))","v":5.8254399999999998E-2},{"$f":"IF(E28=1,\"0\",VLOOKUP(E28,coefficient2!$A$22:$B$25,2,FALSE))","v":"0"},{"$f":"IF(F28=1,\"0\",VLOOKUP(F28,coefficient2!$A$28:$B$31,2,FALSE))","v":5.8085699999999997E-2},0.88365989999999994]
[11213,1,1,2,1,3,8,{"$f":"IF(B29=1,\"0\",VLOOKUP(B29,coefficient2!$A$4:$B$7,2,FALSE))","v":"0"},{"$f":"IF(C29=1,\"0\",VLOOKUP(C29,coefficient2!$A$10:$B$13,2,FALSE))","v":"0"},{"$f":"IF(D29=1,\"0\",VLOOKUP(D29,coefficient2!$A$16:$B$19,2,FALSE))","v":5.8254399999999998E-2},{"$f":"IF(E29=1,\"0\",VLOOKUP(E29,coefficient2!$A$22:$B$25,2,FALSE))","v":"0"},{"$f":"IF(F29=1,\"0\",VLOOKUP(F29,coefficient2!$A$28:$B$31,2,FALSE))","v":9.5753900000000003E-2},0.8459916999999999]
[11214,1,1,2,1,4,9,{"$f":"IF(B30=1,\"0\",VLOOKUP(B30,coefficient2!$A$4:$B$7,2,FALSE))","v":"0"},{"$f":"IF(C30=1,\"0\",VLOOKUP(C30,coefficient2!$A$10:$B$13,2,FALSE))","v":"0"},{"$f":"IF(D30=1,\"0\",VLOOKUP(D30,coefficient2!$A$16:$B$19,2,FALSE))","v":5.8254399999999998E-2},{"$f":"IF(E30=1,\"0\",VLOOKUP(E30,coefficient2!$A$22:$B$25,2,FALSE))","v":"0"},{"$f":"IF(F30=1,\"0\",VLOOKUP(F30,coefficient2!$A$28:$B$31,2,FALSE))","v":0.23270360000000001},0.70904199999999995]
[11215,1,1,2,1,5,10,{"$f":"IF(B31=1,\"0\",VLOOKUP(B31,coefficient2!$A$4:$B$7,2,FALSE))","v":"0"},{"$f":"IF(C31=1,\"0\",VLOOKUP(C31,coefficient2!$A$10:$B$13,2,FALSE))","v":"0"},{"$f":"IF(D31=1,\"0\",VLOOKUP(D31,coefficient2!$A$16:$B$19,2,FALSE))","v":5.8254399999999998E-2},{"$f":"IF(E31=1,\"0\",VLOOKUP(E31,coefficient2!$A$22:$B$25,2,FALSE))","v":"0"},{"$f":"IF(F31=1,\"0\",VLOOKUP(F31,coefficient2!$A$28:$B$31,2,FALSE))","v":0.29534929999999998},0.64639629999999992]
[11221,1,1,2,2,1,7,{"$f":"IF(B32=1,\"0\",VLOOKUP(B32,coefficient2!$A$4:$B$7,2,FALSE))","v":"0"},{"$f":"IF(C32=1,\"0\",VLOOKUP(C32,coefficient2!$A$10:$B$13,2,FALSE))","v":"0"},{"$f":"IF(D32=1,\"0\",VLOOKUP(D32,coefficient2!$A$16:$B$19,2,FALSE))","v":5.8254399999999998E-2},{"$f":"IF(E32=1,\"0\",VLOOKUP(E32,coefficient2!$A$22:$B$25,2,FALSE))","v":5.63998E-2},{"$f":"IF(F32=1,\"0\",VLOOKUP(F32,coefficient2!$A$28:$B$31,2,FALSE))","v":"0"},0.88534579999999996]
[11222,1,1,2,2,2,8,{"$f":"IF(B33=1,\"0\",VLOOKUP(B33,coefficient2!$A$4:$B$7,2,FALSE))","v":"0"},{"$f":"IF(C33=1,\"0\",VLOOKUP(C33,coefficient2!$A$10:$B$13,2,FALSE))","v":"0"},{"$f":"IF(D33=1,\"0\",VLOOKUP(D33,coefficient2!$A$16:$B$19,2,FALSE))","v":5.8254399999999998E-2},{"$f":"IF(E33=1,\"0\",VLOOKUP(E33,coefficient2!$A$22:$B$25,2,FALSE))","v":5.63998E-2},{"$f":"IF(F33=1,\"0\",VLOOKUP(F33,coefficient2!$A$28:$B$31,2,FALSE))","v":5.8085699999999997E-2},0.82726009999999994]
[11223,1,1,2,2,3,9,{"$f":"IF(B34=1,\"0\",VLOOKUP(B34,coefficient2!$A$4:$B$7,2,FALSE))","v":"0"},{"$f":"IF(C34=1,\"0\",VLOOKUP(C34,coefficient2!$A$10:$B$13,2,FALSE))","v":"0"},{"$f":"IF(D34=1,\"0\",VLOOKUP(D34,coefficient2!$A$16:$B$19,2,FALSE))","v":5.8254399999999998E-2},{"$f":"IF(E34=1,\"0\",VLOOKUP(E34,coefficient2!$A$22:$B$25,2,FALSE))","v":5.63998E-2},{"$f":"IF(F34=1,\"0\",VLOOKUP(F34,coefficient2!$A$28:$B$31,2,FALSE))","v":9.5753900000000003E-2},0.78959190000000001]
[11224,1,1,2,2,4,10,{"$f":"IF(B35=1,\"0\",VLOOKUP(B35,coefficient2!$A$4:$B$7,2,FALSE))","v":"0"},{"$f":"IF(C35=1,\"0\",VLOOKUP(C35,coefficient2!$A$10:$B$13,2,FALSE))","v":"0"},{"$f":"IF(D35=1,\"0\",VLOOKUP(D35,coefficient2!$A$16:$B$19,2,FALSE))","v":5.8254399999999998E-2},{"$f":"IF(E35=1,\"0\",VLOOKUP(E35,coefficient2!$A$22:$B$25,2,FALSE))","v":5.63998E-2},{"$f":"IF(F35=1,\"0\",VLOOKUP(F35,coefficient2!$A$28:$B$31,2,FALSE))","v":0.23270360000000001},0.65264219999999995]
[11225,1,1,2,2,5,11,{"$f":"IF(B36=1,\"0\",VLOOKUP(B36,coefficient2!$A$4:$B$7,2,FALSE))","v":"0"},{"$f":"IF(C36=1,\"0\",VLOOKUP(C36,coefficient2!$A$10:$B$13,2,FALSE))","v":"0"},{"$f":"IF(D36=1,\"0\",VLOOKUP(D36,coefficient2!$A$16:$B$19,2,FALSE))","v":5.8254399999999998E-2},{"$f":"IF(E36=1,\"0\",VLOOKUP(E36,coefficient2!$A$22:$B$25,2,FALSE))","v":5.63998E-2},{"$f":"IF(F36=1,\"0\",VLOOKUP(F36,coefficient2!$A$28:$B$31,2,FALSE))","v":0.29534929999999998},0.58999650000000003]
[11231,1,1,2,3,1,8,{"$f":"IF(B37=1,\"0\",VLOOKUP(B37,coefficient2!$A$4:$B$7,2,FALSE))","v":"0"},{"$f":"IF(C37=1,\"0\",VLOOKUP(C37,coefficient2!$A$10:$B$13,2,FALSE))","v":"0"},{"$f":"IF(D37=1,\"0\",VLOOKUP(D37,coefficient2!$A$16:$B$19,2,FALSE))","v":5.8254399999999998E-2},{"$f":"IF(E37=1,\"0\",VLOOKUP(E37,coefficient2!$A$22:$B$25,2,FALSE))","v":6.6492200000000001E-2},{"$f":"IF(F37=1,\"0\",VLOOKUP(F37,coefficient2!$A$28:$B$31,2,FALSE))","v":"0"},0.87525339999999996]
[11232,1,1,2,3,2,9,{"$f":"IF(B38=1,\"0\",VLOOKUP(B38,coefficient2!$A$4:$B$7,2,FALSE))","v":"0"},{"$f":"IF(C38=1,\"0\",VLOOKUP(C38,coefficient2!$A$10:$B$13,2,FALSE))","v":"0"},{"$f":"IF(D38=1,\"0\",VLOOKUP(D38,coefficient2!$A$16:$B$19,2,FALSE))","v":5.8254399999999998E-2},{"$f":"IF(E38=1,\"0\",VLOOKUP(E38,coefficient2!$A$22:$B$25,2,FALSE))","v":6.6492200000000001E-2},{"$f":"IF(F38=1,\"0\",VLOOKUP(F38,coefficient2!$A$28:$B$31,2,FALSE))","v":5.8085699999999997E-2},0.81716769999999994]
[11233,1,1,2,3,3,10,{"$f":"IF(B39=1,\"0\",VLOOKUP(B39,coefficient2!$A$4:$B$7,2,FALSE))","v":"0"},{"$f":"IF(C39=1,\"0\",VLOOKUP(C39,coefficient2!$A$10:$B$13,2,FALSE))","v":"0"},{"$f":"IF(D39=1,\"0\",VLOOKUP(D39,coefficient2!$A$16:$B$19,2,FALSE))","v":5.8254399999999998E-2},{"$f":"IF(E39=1,\"0\",VLOOKUP(E39,coefficient2!$A$22:$B$25,2,FALSE))","v":6.6492200000000001E-2},{"$f":"IF(F39=1,\"0\",VLOOKUP(F39,coefficient2!$A$28:$B$31,2,FALSE))","v":9.5753900000000003E-2},0.77949950000000001]
[11234,1,1,2,3,4,11,{"$f":"IF(B40=1,\"0\",VLOOKUP(B40,coefficient2!$A$4:$B$7,2,FALSE))","v":"0"},{"$f":"IF(C40=1,\"0\",VLOOKUP(C40,coefficient2!$A$10:$B$13,2,FALSE))","v":"0"},{"$f":"IF(D40=1,\"0\",VLOOKUP(D40,coefficient2!$A$16:$B$19,2,FALSE))","v":5.8254399999999998E-2},{"$f":"IF(E40=1,\"0\",VLOOKUP(E40,coefficient2!$A$22:$B$25,2,FALSE))","v":6.6492200000000001E-2},{"$f":"IF(F40=1,\"0\",VLOOKUP(F40,coefficient2!$A$28:$B$31,2,FALSE))","v":0.23270360000000001},0.64254979999999995]
[11235,1,1,2,3,5,12,{"$f":"IF(B41=1,\"0\",VLOOKUP(B41,coefficient2!$A$4:$B$7,2,FALSE))","v":"0"},{"$f":"IF(C41=1,\"0\",VLOOKUP(C41,coefficient2!$A$10:$B$13,2,FALSE))","v":"0"},{"$f":"IF(D41=1,\"0\",VLOOKUP(D41,coefficient2!$A$16:$B$19,2,FALSE))","v":5.8254399999999998E-2},{"$f":"IF(E41=1,\"0\",VLOOKUP(E41,coefficient2!$A$22:$B$25,2,FALSE))","v":6.6492200000000001E-2},{"$f":"IF(F41=1,\"0\",VLOOKUP(F41,coefficient2!$A$28:$B$31,2,FALSE))","v":0.29534929999999998},0.57990410000000003]
[11241,1,1,2,4,1,9,{"$f":"IF(B42=1,\"0\",VLOOKUP(B42,coefficient2!$A$4:$B$7,2,FALSE))","v":"0"},{"$f":"IF(C42=1,\"0\",VLOOKUP(C42,coefficient2!$A$10:$B$13,2,FALSE))","v":"0"},{"$f":"IF(D42=1,\"0\",VLOOKUP(D42,coefficient2!$A$16:$B$19,2,FALSE))","v":5.8254399999999998E-2},{"$f":"IF(E42=1,\"0\",VLOOKUP(E42,coefficient2!$A$22:$B$25,2,FALSE))","v":0.2068864},{"$f":"IF(F42=1,\"0\",VLOOKUP(F42,coefficient2!$A$28:$B$31,2,FALSE))","v":"0"},0.73485919999999993]
[11242,1,1,2,4,2,10,{"$f":"IF(B43=1,\"0\",VLOOKUP(B43,coefficient2!$A$4:$B$7,2,FALSE))","v":"0"},{"$f":"IF(C43=1,\"0\",VLOOKUP(C43,coefficient2!$A$10:$B$13,2,FALSE))","v":"0"},{"$f":"IF(D43=1,\"0\",VLOOKUP(D43,coefficient2!$A$16:$B$19,2,FALSE))","v":5.8254399999999998E-2},{"$f":"IF(E43=1,\"0\",VLOOKUP(E43,coefficient2!$A$22:$B$25,2,FALSE))","v":0.2068864},{"$f":"IF(F43=1,\"0\",VLOOKUP(F43,coefficient2!$A$28:$B$31,2,FALSE))","v":5.8085699999999997E-2},0.67677349999999992]
[11243,1,1,2,4,3,11,{"$f":"IF(B44=1,\"0\",VLOOKUP(B44,coefficient2!$A$4:$B$7,2,FALSE))","v":"0"},{"$f":"IF(C44=1,\"0\",VLOOKUP(C44,coefficient2!$A$10:$B$13,2,FALSE))","v":"0"},{"$f":"IF(D44=1,\"0\",VLOOKUP(D44,coefficient2!$A$16:$B$19,2,FALSE))","v":5.8254399999999998E-2},{"$f":"IF(E44=1,\"0\",VLOOKUP(E44,coefficient2!$A$22:$B$25,2,FALSE))","v":0.2068864},{"$f":"IF(F44=1,\"0\",VLOOKUP(F44,coefficient2!$A$28:$B$31,2,FALSE))","v":9.5753900000000003E-2},0.63910529999999999]
[11244,1,1,2,4,4,12,{"$f":"IF(B45=1,\"0\",VLOOKUP(B45,coefficient2!$A$4:$B$7,2,FALSE))","v":"0"},{"$f":"IF(C45=1,\"0\",VLOOKUP(C45,coefficient2!$A$10:$B$13,2,FALSE))","v":"0"},{"$f":"IF(D45=1,\"0\",VLOOKUP(D45,coefficient2!$A$16:$B$19,2,FALSE))","v":5.8254399999999998E-2},{"$f":"IF(E45=1,\"0\",VLOOKUP(E45,coefficient2!$A$22:$B$25,2,FALSE))","v":0.2068864},{"$f":"IF(F45=1,\"0\",VLOOKUP(F45,coefficient2!$A$28:$B$31,2,FALSE))","v":0.23270360000000001},0.50215559999999992]
[11245,1,1,2,4,5,13,{"$f":"IF(B46=1,\"0\",VLOOKUP(B46,coefficient2!$A$4:$B$7,2,FALSE))","v":"0"},{"$f":"IF(C46=1,\"0\",VLOOKUP(C46,coefficient2!$A$10:$B$13,2,FALSE))","v":"0"},{"$f":"IF(D46=1,\"0\",VLOOKUP(D46,coefficient2!$A$16:$B$19,2,FALSE))","v":5.8254399999999998E-2},{"$f":"IF(E46=1,\"0\",VLOOKUP(E46,coefficient2!$A$22:$B$25,2,FALSE))","v":0.2068864},{"$f":"IF(F46=1,\"0\",VLOOKUP(F46,coefficient2!$A$28:$B$31,2,FALSE))","v":0.29534929999999998},0.43950989999999995]
[11251,1,1,2,5,1,10,{"$f":"IF(B47=1,\"0\",VLOOKUP(B47,coefficient2!$A$4:$B$7,2,FALSE))","v":"0"},{"$f":"IF(C47=1,\"0\",VLOOKUP(C47,coefficient2!$A$10:$B$13,2,FALSE))","v":"0"},{"$f":"IF(D47=1,\"0\",VLOOKUP(D47,coefficient2!$A$16:$B$19,2,FALSE))","v":5.8254399999999998E-2},{"$f":"IF(E47=1,\"0\",VLOOKUP(E47,coefficient2!$A$22:$B$25,2,FALSE))","v":0.25643310000000002},{"$f":"IF(F47=1,\"0\",VLOOKUP(F47,coefficient2!$A$28:$B$31,2,FALSE))","v":"0"},0.68531249999999999]
[11252,1,1,2,5,2,11,{"$f":"IF(B48=1,\"0\",VLOOKUP(B48,coefficient2!$A$4:$B$7,2,FALSE))","v":"0"},{"$f":"IF(C48=1,\"0\",VLOOKUP(C48,coefficient2!$A$10:$B$13,2,FALSE))","v":"0"},{"$f":"IF(D48=1,\"0\",VLOOKUP(D48,coefficient2!$A$16:$B$19,2,FALSE))","v":5.8254399999999998E-2},{"$f":"IF(E48=1,\"0\",VLOOKUP(E48,coefficient2!$A$22:$B$25,2,FALSE))","v":0.25643310000000002},{"$f":"IF(F48=1,\"0\",VLOOKUP(F48,coefficient2!$A$28:$B$31,2,FALSE))","v":5.8085699999999997E-2},0.62722679999999997]
[11253,1,1,2,5,3,12,{"$f":"IF(B49=1,\"0\",VLOOKUP(B49,coefficient2!$A$4:$B$7,2,FALSE))","v":"0"},{"$f":"IF(C49=1,\"0\",VLOOKUP(C49,coefficient2!$A$10:$B$13,2,FALSE))","v":"0"},{"$f":"IF(D49=1,\"0\",VLOOKUP(D49,coefficient2!$A$16:$B$19,2,FALSE))","v":5.8254399999999998E-2},{"$f":"IF(E49=1,\"0\",VLOOKUP(E49,coefficient2!$A$22:$B$25,2,FALSE))","v":0.25643310000000002},{"$f":"IF(F49=1,\"0\",VLOOKUP(F49,coefficient2!$A$28:$B$31,2,FALSE))","v":9.5753900000000003E-2},0.58955859999999993]
[11254,1,1,2,5,4,13,{"$f":"IF(B50=1,\"0\",VLOOKUP(B50,coefficient2!$A$4:$B$7,2,FALSE))","v":"0"},{"$f":"IF(C50=1,\"0\",VLOOKUP(C50,coefficient2!$A$10:$B$13,2,FALSE))","v":"0"},{"$f":"IF(D50=1,\"0\",VLOOKUP(D50,coefficient2!$A$16:$B$19,2,FALSE))","v":5.8254399999999998E-2},{"$f":"IF(E50=1,\"0\",VLOOKUP(E50,coefficient2!$A$22:$B$25,2,FALSE))","v":0.25643310000000002},{"$f":"IF(F50=1,\"0\",VLOOKUP(F50,coefficient2!$A$28:$B$31,2,FALSE))","v":0.23270360000000001},0.45260889999999998]
[11255,1,1,2,5,5,14,{"$f":"IF(B51=1,\"0\",VLOOKUP(B51,coefficient2!$A$4:$B$7,2,FALSE))","v":"0"},{"$f":"IF(C51=1,\"0\",VLOOKUP(C51,coefficient2!$A$10:$B$13,2,FALSE))","v":"0"},{"$f":"IF(D51=1,\"0\",VLOOKUP(D51,coefficient2!$A$16:$B$19,2,FALSE))","v":5.8254399999999998E-2},{"$f":"IF(E51=1,\"0\",VLOOKUP(E51,coefficient2!$A$22:$B$25,2,FALSE))","v":0.25643310000000002},{"$f":"IF(F51=1,\"0\",VLOOKUP(F51,coefficient2!$A$28:$B$31,2,FALSE))","v":0.29534929999999998},0.38996320000000001]
[11311,1,1,3,1,1,7,{"$f":"IF(B52=1,\"0\",VLOOKUP(B52,coefficient2!$A$4:$B$7,2,FALSE))","v":"0"},{"$f":"IF(C52=1,\"0\",VLOOKUP(C52,coefficient2!$A$10:$B$13,2,FALSE))","v":"0"},{"$f":"IF(D52=1,\"0\",VLOOKUP(D52,coefficient2!$A$16:$B$19,2,FALSE))","v":7.1197399999999994E-2},{"$f":"IF(E52=1,\"0\",VLOOKUP(E52,coefficient2!$A$22:$B$25,2,FALSE))","v":"0"},{"$f":"IF(F52=1,\"0\",VLOOKUP(F52,coefficient2!$A$28:$B$31,2,FALSE))","v":"0"},0.92880260000000003]
[11312,1,1,3,1,2,8,{"$f":"IF(B53=1,\"0\",VLOOKUP(B53,coefficient2!$A$4:$B$7,2,FALSE))","v":"0"},{"$f":"IF(C53=1,\"0\",VLOOKUP(C53,coefficient2!$A$10:$B$13,2,FALSE))","v":"0"},{"$f":"IF(D53=1,\"0\",VLOOKUP(D53,coefficient2!$A$16:$B$19,2,FALSE))","v":7.1197399999999994E-2},{"$f":"IF(E53=1,\"0\",VLOOKUP(E53,coefficient2!$A$22:$B$25,2,FALSE))","v":"0"},{"$f":"IF(F53=1,\"0\",VLOOKUP(F53,coefficient2!$A$28:$B$31,2,FALSE))","v":5.8085699999999997E-2},0.87071690000000002]
[11313,1,1,3,1,3,9,{"$f":"IF(B54=1,\"0\",VLOOKUP(B54,coefficient2!$A$4:$B$7,2,FALSE))","v":"0"},{"$f":"IF(C54=1,\"0\",VLOOKUP(C54,coefficient2!$A$10:$B$13,2,FALSE))","v":"0"},{"$f":"IF(D54=1,\"0\",VLOOKUP(D54,coefficient2!$A$16:$B$19,2,FALSE))","v":7.1197399999999994E-2},{"$f":"IF(E54=1,\"0\",VLOOKUP(E54,coefficient2!$A$22:$B$25,2,FALSE))","v":"0"},{"$f":"IF(F54=1,\"0\",VLOOKUP(F54,coefficient2!$A$28:$B$31,2,FALSE))","v":9.5753900000000003E-2},0.83304869999999998]
[11314,1,1,3,1,4,10,{"$f":"IF(B55=1,\"0\",VLOOKUP(B55,coefficient2!$A$4:$B$7,2,FALSE))","v":"0"},{"$f":"IF(C55=1,\"0\",VLOOKUP(C55,coefficient2!$A$10:$B$13,2,FALSE))","v":"0"},{"$f":"IF(D55=1,\"0\",VLOOKUP(D55,coefficient2!$A$16:$B$19,2,FALSE))","v":7.1197399999999994E-2},{"$f":"IF(E55=1,\"0\",VLOOKUP(E55,coefficient2!$A$22:$B$25,2,FALSE))","v":"0"},{"$f":"IF(F55=1,\"0\",VLOOKUP(F55,coefficient2!$A$28:$B$31,2,FALSE))","v":0.23270360000000001},0.69609900000000002]
[11315,1,1,3,1,5,11,{"$f":"IF(B56=1,\"0\",VLOOKUP(B56,coefficient2!$A$4:$B$7,2,FALSE))","v":"0"},{"$f":"IF(C56=1,\"0\",VLOOKUP(C56,coefficient2!$A$10:$B$13,2,FALSE))","v":"0"},{"$f":"IF(D56=1,\"0\",VLOOKUP(D56,coefficient2!$A$16:$B$19,2,FALSE))","v":7.1197399999999994E-2},{"$f":"IF(E56=1,\"0\",VLOOKUP(E56,coefficient2!$A$22:$B$25,2,FALSE))","v":"0"},{"$f":"IF(F56=1,\"0\",VLOOKUP(F56,coefficient2!$A$28:$B$31,2,FALSE))","v":0.29534929999999998},0.6334533]
[11321,1,1,3,2,1,8,{"$f":"IF(B57=1,\"0\",VLOOKUP(B57,coefficient2!$A$4:$B$7,2,FALSE))","v":"0"},{"$f":"IF(C57=1,\"0\",VLOOKUP(C57,coefficient2!$A$10:$B$13,2,FALSE))","v":"0"},{"$f":"IF(D57=1,\"0\",VLOOKUP(D57,coefficient2!$A$16:$B$19,2,FALSE))","v":7.1197399999999994E-2},{"$f":"IF(E57=1,\"0\",VLOOKUP(E57,coefficient2!$A$22:$B$25,2,FALSE))","v":5.63998E-2},{"$f":"IF(F57=1,\"0\",VLOOKUP(F57,coefficient2!$A$28:$B$31,2,FALSE))","v":"0"},0.87240280000000003]
[11322,1,1,3,2,2,9,{"$f":"IF(B58=1,\"0\",VLOOKUP(B58,coefficient2!$A$4:$B$7,2,FALSE))","v":"0"},{"$f":"IF(C58=1,\"0\",VLOOKUP(C58,coefficient2!$A$10:$B$13,2,FALSE))","v":"0"},{"$f":"IF(D58=1,\"0\",VLOOKUP(D58,coefficient2!$A$16:$B$19,2,FALSE))","v":7.1197399999999994E-2},{"$f":"IF(E58=1,\"0\",VLOOKUP(E58,coefficient2!$A$22:$B$25,2,FALSE))","v":5.63998E-2},{"$f":"IF(F58=1,\"0\",VLOOKUP(F58,coefficient2!$A$28:$B$31,2,FALSE))","v":5.8085699999999997E-2},0.81431710000000002]
[11323,1,1,3,2,3,10,{"$f":"IF(B59=1,\"0\",VLOOKUP(B59,coefficient2!$A$4:$B$7,2,FALSE))","v":"0"},{"$f":"IF(C59=1,\"0\",VLOOKUP(C59,coefficient2!$A$10:$B$13,2,FALSE))","v":"0"},{"$f":"IF(D59=1,\"0\",VLOOKUP(D59,coefficient2!$A$16:$B$19,2,FALSE))","v":7.1197399999999994E-2},{"$f":"IF(E59=1,\"0\",VLOOKUP(E59,coefficient2!$A$22:$B$25,2,FALSE))","v":5.63998E-2},{"$f":"IF(F59=1,\"0\",VLOOKUP(F59,coefficient2!$A$28:$B$31,2,FALSE))","v":9.5753900000000003E-2},0.77664890000000009]
[11324,1,1,3,2,4,11,{"$f":"IF(B60=1,\"0\",VLOOKUP(B60,coefficient2!$A$4:$B$7,2,FALSE))","v":"0"},{"$f":"IF(C60=1,\"0\",VLOOKUP(C60,coefficient2!$A$10:$B$13,2,FALSE))","v":"0"},{"$f":"IF(D60=1,\"0\",VLOOKUP(D60,coefficient2!$A$16:$B$19,2,FALSE))","v":7.1197399999999994E-2},{"$f":"IF(E60=1,\"0\",VLOOKUP(E60,coefficient2!$A$22:$B$25,2,FALSE))","v":5.63998E-2},{"$f":"IF(F60=1,\"0\",VLOOKUP(F60,coefficient2!$A$28:$B$31,2,FALSE))","v":0.23270360000000001},0.63969920000000002]
[11325,1,1,3,2,5,12,{"$f":"IF(B61=1,\"0\",VLOOKUP(B61,coefficient2!$A$4:$B$7,2,FALSE))","v":"0"},{"$f":"IF(C61=1,\"0\",VLOOKUP(C61,coefficient2!$A$10:$B$13,2,FALSE))","v":"0"},{"$f":"IF(D61=1,\"0\",VLOOKUP(D61,coefficient2!$A$16:$B$19,2,FALSE))","v":7.1197399999999994E-2},{"$f":"IF(E61=1,\"0\",VLOOKUP(E61,coefficient2!$A$22:$B$25,2,FALSE))","v":5.63998E-2},{"$f":"IF(F61=1,\"0\",VLOOKUP(F61,coefficient2!$A$28:$B$31,2,FALSE))","v":0.29534929999999998},0.57705350000000011]
[11331,1,1,3,3,1,9,{"$f":"IF(B62=1,\"0\",VLOOKUP(B62,coefficient2!$A$4:$B$7,2,FALSE))","v":"0"},{"$f":"IF(C62=1,\"0\",VLOOKUP(C62,coefficient2!$A$10:$B$13,2,FALSE))","v":"0"},{"$f":"IF(D62=1,\"0\",VLOOKUP(D62,coefficient2!$A$16:$B$19,2,FALSE))","v":7.1197399999999994E-2},{"$f":"IF(E62=1,\"0\",VLOOKUP(E62,coefficient2!$A$22:$B$25,2,FALSE))","v":6.6492200000000001E-2},{"$f":"IF(F62=1,\"0\",VLOOKUP(F62,coefficient2!$A$28:$B$31,2,FALSE))","v":"0"},0.86231040000000003]
[11332,1,1,3,3,2,10,{"$f":"IF(B63=1,\"0\",VLOOKUP(B63,coefficient2!$A$4:$B$7,2,FALSE))","v":"0"},{"$f":"IF(C63=1,\"0\",VLOOKUP(C63,coefficient2!$A$10:$B$13,2,FALSE))","v":"0"},{"$f":"IF(D63=1,\"0\",VLOOKUP(D63,coefficient2!$A$16:$B$19,2,FALSE))","v":7.1197399999999994E-2},{"$f":"IF(E63=1,\"0\",VLOOKUP(E63,coefficient2!$A$22:$B$25,2,FALSE))","v":6.6492200000000001E-2},{"$f":"IF(F63=1,\"0\",VLOOKUP(F63,coefficient2!$A$28:$B$31,2,FALSE))","v":5.8085699999999997E-2},0.80422470000000001]
[11333,1,1,3,3,3,11,{"$f":"IF(B64=1,\"0\",VLOOKUP(B64,coefficient2!$A$4:$B$7,2,FALSE))","v":"0"},{"$f":"IF(C64=1,\"0\",VLOOKUP(C64,coefficient2!$A$10:$B$13,2,FALSE))","v":"0"},{"$f":"IF(D64=1,\"0\",VLOOKUP(D64,coefficient2!$A$16:$B$19,2,FALSE))","v":7.1197399999999994E-2},{"$f":"IF(E64=1,\"0\",VLOOKUP(E64,coefficient2!$A$22:$B$25,2,FALSE))","v":6.6492200000000001E-2},{"$f":"IF(F64=1,\"0\",VLOOKUP(F64,coefficient2!$A$28:$B$31,2,FALSE))","v":9.5753900000000003E-2},0.76655650000000009]
[11334,1,1,3,3,4,12,{"$f":"IF(B65=1,\"0\",VLOOKUP(B65,coefficient2!$A$4:$B$7,2,FALSE))","v":"0"},{"$f":"IF(C65=1,\"0\",VLOOKUP(C65,coefficient2!$A$10:$B$13,2,FALSE))","v":"0"},{"$f":"IF(D65=1,\"0\",VLOOKUP(D65,coefficient2!$A$16:$B$19,2,FALSE))","v":7.1197399999999994E-2},{"$f":"IF(E65=1,\"0\",VLOOKUP(E65,coefficient2!$A$22:$B$25,2,FALSE))","v":6.6492200000000001E-2},{"$f":"IF(F65=1,\"0\",VLOOKUP(F65,coefficient2!$A$28:$B$31,2,FALSE))","v":0.23270360000000001},0.62960680000000002]
[11335,1,1,3,3,5,13,{"$f":"IF(B66=1,\"0\",VLOOKUP(B66,coefficient2!$A$4:$B$7,2,FALSE))","v":"0"},{"$f":"IF(C66=1,\"0\",VLOOKUP(C66,coefficient2!$A$10:$B$13,2,FALSE))","v":"0"},{"$f":"IF(D66=1,\"0\",VLOOKUP(D66,coefficient2!$A$16:$B$19,2,FALSE))","v":7.1197399999999994E-2},{"$f":"IF(E66=1,\"0\",VLOOKUP(E66,coefficient2!$A$22:$B$25,2,FALSE))","v":6.6492200000000001E-2},{"$f":"IF(F66=1,\"0\",VLOOKUP(F66,coefficient2!$A$28:$B$31,2,FALSE))","v":0.29534929999999998},{"$f":"1-H66-I66-J66-K66-L66","v":0.56696110000000011}]
[11341,{"$f":"INT(LEFT(A67,1))","v":1},{"$f":"INT(MID(A67,2,1))","v":1},{"$f":"INT(MID(A67,3,1))","v":3},{"$f":"INT(MID(A67,4,1))","v":4},{"$f":"INT(RIGHT(A67,1))","v":1},{"$f":"SUM(B67:F67)","v":10},{"$f":"IF(B67=1,\"0\",VLOOKUP(B67,coefficient2!$A$4:$B$7,2,FALSE))","v":"0"},{"$f":"IF(C67=1,\"0\",VLOOKUP(C67,coefficient2!$A$10:$B$13,2,FALSE))","v":"0"},{"$f":"IF(D67=1,\"0\",VLOOKUP(D67,coefficient2!$A$16:$B$19,2,FALSE))","v":7.1197399999999994E-2},{"$f":"IF(E67=1,\"0\",VLOOKUP(E67,coefficient2!$A$22:$B$25,2,FALSE))","v":0.2068864},{"$f":"IF(F67=1,\"0\",VLOOKUP(F67,coefficient2!$A$28:$B$31,2,FALSE))","v":"0"},0.72191620000000001]
[11342,1,1,3,4,2,11,{"$f":"IF(B68=1,\"0\",VLOOKUP(B68,coefficient2!$A$4:$B$7,2,FALSE))","v":"0"},{"$f":"IF(C68=1,\"0\",VLOOKUP(C68,coefficient2!$A$10:$B$13,2,FALSE))","v":"0"},{"$f":"IF(D68=1,\"0\",VLOOKUP(D68,coefficient2!$A$16:$B$19,2,FALSE))","v":7.1197399999999994E-2},{"$f":"IF(E68=1,\"0\",VLOOKUP(E68,coefficient2!$A$22:$B$25,2,FALSE))","v":0.2068864},{"$f":"IF(F68=1,\"0\",VLOOKUP(F68,coefficient2!$A$28:$B$31,2,FALSE))","v":5.8085699999999997E-2},0.66383049999999999]
[11343,1,1,3,4,3,12,{"$f":"IF(B69=1,\"0\",VLOOKUP(B69,coefficient2!$A$4:$B$7,2,FALSE))","v":"0"},{"$f":"IF(C69=1,\"0\",VLOOKUP(C69,coefficient2!$A$10:$B$13,2,FALSE))","v":"0"},{"$f":"IF(D69=1,\"0\",VLOOKUP(D69,coefficient2!$A$16:$B$19,2,FALSE))","v":7.1197399999999994E-2},{"$f":"IF(E69=1,\"0\",VLOOKUP(E69,coefficient2!$A$22:$B$25,2,FALSE))","v":0.2068864},{"$f":"IF(F69=1,\"0\",VLOOKUP(F69,coefficient2!$A$28:$B$31,2,FALSE))","v":9.5753900000000003E-2},0.62616230000000006]
[11344,1,1,3,4,4,13,{"$f":"IF(B70=1,\"0\",VLOOKUP(B70,coefficient2!$A$4:$B$7,2,FALSE))","v":"0"},{"$f":"IF(C70=1,\"0\",VLOOKUP(C70,coefficient2!$A$10:$B$13,2,FALSE))","v":"0"},{"$f":"IF(D70=1,\"0\",VLOOKUP(D70,coefficient2!$A$16:$B$19,2,FALSE))","v":7.1197399999999994E-2},{"$f":"IF(E70=1,\"0\",VLOOKUP(E70,coefficient2!$A$22:$B$25,2,FALSE))","v":0.2068864},{"$f":"IF(F70=1,\"0\",VLOOKUP(F70,coefficient2!$A$28:$B$31,2,FALSE))","v":0.23270360000000001},0.4892126]
[11345,1,1,3,4,5,14,{"$f":"IF(B71=1,\"0\",VLOOKUP(B71,coefficient2!$A$4:$B$7,2,FALSE))","v":"0"},{"$f":"IF(C71=1,\"0\",VLOOKUP(C71,coefficient2!$A$10:$B$13,2,FALSE))","v":"0"},{"$f":"IF(D71=1,\"0\",VLOOKUP(D71,coefficient2!$A$16:$B$19,2,FALSE))","v":7.1197399999999994E-2},{"$f":"IF(E71=1,\"0\",VLOOKUP(E71,coefficient2!$A$22:$B$25,2,FALSE))","v":0.2068864},{"$f":"IF(F71=1,\"0\",VLOOKUP(F71,coefficient2!$A$28:$B$31,2,FALSE))","v":0.29534929999999998},0.42656690000000003]
[11351,1,1,3,5,1,11,{"$f":"IF(B72=1,\"0\",VLOOKUP(B72,coefficient2!$A$4:$B$7,2,FALSE))","v":"0"},{"$f":"IF(C72=1,\"0\",VLOOKUP(C72,coefficient2!$A$10:$B$13,2,FALSE))","v":"0"},{"$f":"IF(D72=1,\"0\",VLOOKUP(D72,coefficient2!$A$16:$B$19,2,FALSE))","v":7.1197399999999994E-2},{"$f":"IF(E72=1,\"0\",VLOOKUP(E72,coefficient2!$A$22:$B$25,2,FALSE))","v":0.25643310000000002},{"$f":"IF(F72=1,\"0\",VLOOKUP(F72,coefficient2!$A$28:$B$31,2,FALSE))","v":"0"},0.67236950000000006]
[11352,1,1,3,5,2,12,{"$f":"IF(B73=1,\"0\",VLOOKUP(B73,coefficient2!$A$4:$B$7,2,FALSE))","v":"0"},{"$f":"IF(C73=1,\"0\",VLOOKUP(C73,coefficient2!$A$10:$B$13,2,FALSE))","v":"0"},{"$f":"IF(D73=1,\"0\",VLOOKUP(D73,coefficient2!$A$16:$B$19,2,FALSE))","v":7.1197399999999994E-2},{"$f":"IF(E73=1,\"0\",VLOOKUP(E73,coefficient2!$A$22:$B$25,2,FALSE))","v":0.25643310000000002},{"$f":"IF(F73=1,\"0\",VLOOKUP(F73,coefficient2!$A$28:$B$31,2,FALSE))","v":5.8085699999999997E-2},0.61428380000000005]
[11353,1,1,3,5,3,13,{"$f":"IF(B74=1,\"0\",VLOOKUP(B74,coefficient2!$A$4:$B$7,2,FALSE))","v":"0"},{"$f":"IF(C74=1,\"0\",VLOOKUP(C74,coefficient2!$A$10:$B$13,2,FALSE))","v":"0"},{"$f":"IF(D74=1,\"0\",VLOOKUP(D74,coefficient2!$A$16:$B$19,2,FALSE))","v":7.1197399999999994E-2},{"$f":"IF(E74=1,\"0\",VLOOKUP(E74,coefficient2!$A$22:$B$25,2,FALSE))","v":0.25643310000000002},{"$f":"IF(F74=1,\"0\",VLOOKUP(F74,coefficient2!$A$28:$B$31,2,FALSE))","v":9.5753900000000003E-2},0.57661560000000001]
[11354,1,1,3,5,4,14,{"$f":"IF(B75=1,\"0\",VLOOKUP(B75,coefficient2!$A$4:$B$7,2,FALSE))","v":"0"},{"$f":"IF(C75=1,\"0\",VLOOKUP(C75,coefficient2!$A$10:$B$13,2,FALSE))","v":"0"},{"$f":"IF(D75=1,\"0\",VLOOKUP(D75,coefficient2!$A$16:$B$19,2,FALSE))","v":7.1197399999999994E-2},{"$f":"IF(E75=1,\"0\",VLOOKUP(E75,coefficient2!$A$22:$B$25,2,FALSE))","v":0.25643310000000002},{"$f":"IF(F75=1,\"0\",VLOOKUP(F75,coefficient2!$A$28:$B$31,2,FALSE))","v":0.23270360000000001},0.43966590000000005]
[11355,1,1,3,5,5,15,{"$f":"IF(B76=1,\"0\",VLOOKUP(B76,coefficient2!$A$4:$B$7,2,FALSE))","v":"0"},{"$f":"IF(C76=1,\"0\",VLOOKUP(C76,coefficient2!$A$10:$B$13,2,FALSE))","v":"0"},{"$f":"IF(D76=1,\"0\",VLOOKUP(D76,coefficient2!$A$16:$B$19,2,FALSE))","v":7.1197399999999994E-2},{"$f":"IF(E76=1,\"0\",VLOOKUP(E76,coefficient2!$A$22:$B$25,2,FALSE))","v":0.25643310000000002},{"$f":"IF(F76=1,\"0\",VLOOKUP(F76,coefficient2!$A$28:$B$31,2,FALSE))","v":0.29534929999999998},0.37702020000000008]
[11411,1,1,4,1,1,8,{"$f":"IF(B77=1,\"0\",VLOOKUP(B77,coefficient2!$A$4:$B$7,2,FALSE))","v":"0"},{"$f":"IF(C77=1,\"0\",VLOOKUP(C77,coefficient2!$A$10:$B$13,2,FALSE))","v":"0"},{"$f":"IF(D77=1,\"0\",VLOOKUP(D77,coefficient2!$A$16:$B$19,2,FALSE))","v":0.1534855},{"$f":"IF(E77=1,\"0\",VLOOKUP(E77,coefficient2!$A$22:$B$25,2,FALSE))","v":"0"},{"$f":"IF(F77=1,\"0\",VLOOKUP(F77,coefficient2!$A$28:$B$31,2,FALSE))","v":"0"},0.84651450000000006]
[11412,1,1,4,1,2,9,{"$f":"IF(B78=1,\"0\",VLOOKUP(B78,coefficient2!$A$4:$B$7,2,FALSE))","v":"0"},{"$f":"IF(C78=1,\"0\",VLOOKUP(C78,coefficient2!$A$10:$B$13,2,FALSE))","v":"0"},{"$f":"IF(D78=1,\"0\",VLOOKUP(D78,coefficient2!$A$16:$B$19,2,FALSE))","v":0.1534855},{"$f":"IF(E78=1,\"0\",VLOOKUP(E78,coefficient2!$A$22:$B$25,2,FALSE))","v":"0"},{"$f":"IF(F78=1,\"0\",VLOOKUP(F78,coefficient2!$A$28:$B$31,2,FALSE))","v":5.8085699999999997E-2},0.78842880000000004]
[11413,1,1,4,1,3,10,{"$f":"IF(B79=1,\"0\",VLOOKUP(B79,coefficient2!$A$4:$B$7,2,FALSE))","v":"0"},{"$f":"IF(C79=1,\"0\",VLOOKUP(C79,coefficient2!$A$10:$B$13,2,FALSE))","v":"0"},{"$f":"IF(D79=1,\"0\",VLOOKUP(D79,coefficient2!$A$16:$B$19,2,FALSE))","v":0.1534855},{"$f":"IF(E79=1,\"0\",VLOOKUP(E79,coefficient2!$A$22:$B$25,2,FALSE))","v":"0"},{"$f":"IF(F79=1,\"0\",VLOOKUP(F79,coefficient2!$A$28:$B$31,2,FALSE))","v":9.5753900000000003E-2},0.7507606]
[11414,1,1,4,1,4,11,{"$f":"IF(B80=1,\"0\",VLOOKUP(B80,coefficient2!$A$4:$B$7,2,FALSE))","v":"0"},{"$f":"IF(C80=1,\"0\",VLOOKUP(C80,coefficient2!$A$10:$B$13,2,FALSE))","v":"0"},{"$f":"IF(D80=1,\"0\",VLOOKUP(D80,coefficient2!$A$16:$B$19,2,FALSE))","v":0.1534855},{"$f":"IF(E80=1,\"0\",VLOOKUP(E80,coefficient2!$A$22:$B$25,2,FALSE))","v":"0"},{"$f":"IF(F80=1,\"0\",VLOOKUP(F80,coefficient2!$A$28:$B$31,2,FALSE))","v":0.23270360000000001},0.61381090000000005]
[11415,1,1,4,1,5,12,{"$f":"IF(B81=1,\"0\",VLOOKUP(B81,coefficient2!$A$4:$B$7,2,FALSE))","v":"0"},{"$f":"IF(C81=1,\"0\",VLOOKUP(C81,coefficient2!$A$10:$B$13,2,FALSE))","v":"0"},{"$f":"IF(D81=1,\"0\",VLOOKUP(D81,coefficient2!$A$16:$B$19,2,FALSE))","v":0.1534855},{"$f":"IF(E81=1,\"0\",VLOOKUP(E81,coefficient2!$A$22:$B$25,2,FALSE))","v":"0"},{"$f":"IF(F81=1,\"0\",VLOOKUP(F81,coefficient2!$A$28:$B$31,2,FALSE))","v":0.29534929999999998},0.55116520000000002]
[11421,1,1,4,2,1,9,{"$f":"IF(B82=1,\"0\",VLOOKUP(B82,coefficient2!$A$4:$B$7,2,FALSE))","v":"0"},{"$f":"IF(C82=1,\"0\",VLOOKUP(C82,coefficient2!$A$10:$B$13,2,FALSE))","v":"0"},{"$f":"IF(D82=1,\"0\",VLOOKUP(D82,coefficient2!$A$16:$B$19,2,FALSE))","v":0.1534855},{"$f":"IF(E82=1,\"0\",VLOOKUP(E82,coefficient2!$A$22:$B$25,2,FALSE))","v":5.63998E-2},{"$f":"IF(F82=1,\"0\",VLOOKUP(F82,coefficient2!$A$28:$B$31,2,FALSE))","v":"0"},0.79011470000000006]
[11422,1,1,4,2,2,10,{"$f":"IF(B83=1,\"0\",VLOOKUP(B83,coefficient2!$A$4:$B$7,2,FALSE))","v":"0"},{"$f":"IF(C83=1,\"0\",VLOOKUP(C83,coefficient2!$A$10:$B$13,2,FALSE))","v":"0"},{"$f":"IF(D83=1,\"0\",VLOOKUP(D83,coefficient2!$A$16:$B$19,2,FALSE))","v":0.1534855},{"$f":"IF(E83=1,\"0\",VLOOKUP(E83,coefficient2!$A$22:$B$25,2,FALSE))","v":5.63998E-2},{"$f":"IF(F83=1,\"0\",VLOOKUP(F83,coefficient2!$A$28:$B$31,2,FALSE))","v":5.8085699999999997E-2},0.73202900000000004]
[11423,1,1,4,2,3,11,{"$f":"IF(B84=1,\"0\",VLOOKUP(B84,coefficient2!$A$4:$B$7,2,FALSE))","v":"0"},{"$f":"IF(C84=1,\"0\",VLOOKUP(C84,coefficient2!$A$10:$B$13,2,FALSE))","v":"0"},{"$f":"IF(D84=1,\"0\",VLOOKUP(D84,coefficient2!$A$16:$B$19,2,FALSE))","v":0.1534855},{"$f":"IF(E84=1,\"0\",VLOOKUP(E84,coefficient2!$A$22:$B$25,2,FALSE))","v":5.63998E-2},{"$f":"IF(F84=1,\"0\",VLOOKUP(F84,coefficient2!$A$28:$B$31,2,FALSE))","v":9.5753900000000003E-2},0.69436080000000011]
[11424,1,1,4,2,4,12,{"$f":"IF(B85=1,\"0\",VLOOKUP(B85,coefficient2!$A$4:$B$7,2,FALSE))","v":"0"},{"$f":"IF(C85=1,\"0\",VLOOKUP(C85,coefficient2!$A$10:$B$13,2,FALSE))","v":"0"},{"$f":"IF(D85=1,\"0\",VLOOKUP(D85,coefficient2!$A$16:$B$19,2,FALSE))","v":0.1534855},{"$f":"IF(E85=1,\"0\",VLOOKUP(E85,coefficient2!$A$22:$B$25,2,FALSE))","v":5.63998E-2},{"$f":"IF(F85=1,\"0\",VLOOKUP(F85,coefficient2!$A$28:$B$31,2,FALSE))","v":0.23270360000000001},0.55741110000000005]
[11425,1,1,4,2,5,13,{"$f":"IF(B86=1,\"0\",VLOOKUP(B86,coefficient2!$A$4:$B$7,2,FALSE))","v":"0"},{"$f":"IF(C86=1,\"0\",VLOOKUP(C86,coefficient2!$A$10:$B$13,2,FALSE))","v":"0"},{"$f":"IF(D86=1,\"0\",VLOOKUP(D86,coefficient2!$A$16:$B$19,2,FALSE))","v":0.1534855},{"$f":"IF(E86=1,\"0\",VLOOKUP(E86,coefficient2!$A$22:$B$25,2,FALSE))","v":5.63998E-2},{"$f":"IF(F86=1,\"0\",VLOOKUP(F86,coefficient2!$A$28:$B$31,2,FALSE))","v":0.29534929999999998},0.49476540000000008]
[11431,1,1,4,3,1,10,{"$f":"IF(B87=1,\"0\",VLOOKUP(B87,coefficient2!$A$4:$B$7,2,FALSE))","v":"0"},{"$f":"IF(C87=1,\"0\",VLOOKUP(C87,coefficient2!$A$10:$B$13,2,FALSE))","v":"0"},{"$f":"IF(D87=1,\"0\",VLOOKUP(D87,coefficient2!$A$16:$B$19,2,FALSE))","v":0.1534855},{"$f":"IF(E87=1,\"0\",VLOOKUP(E87,coefficient2!$A$22:$B$25,2,FALSE))","v":6.6492200000000001E-2},{"$f":"IF(F87=1,\"0\",VLOOKUP(F87,coefficient2!$A$28:$B$31,2,FALSE))","v":"0"},0.78002230000000006]
[11432,1,1,4,3,2,11,{"$f":"IF(B88=1,\"0\",VLOOKUP(B88,coefficient2!$A$4:$B$7,2,FALSE))","v":"0"},{"$f":"IF(C88=1,\"0\",VLOOKUP(C88,coefficient2!$A$10:$B$13,2,FALSE))","v":"0"},{"$f":"IF(D88=1,\"0\",VLOOKUP(D88,coefficient2!$A$16:$B$19,2,FALSE))","v":0.1534855},{"$f":"IF(E88=1,\"0\",VLOOKUP(E88,coefficient2!$A$22:$B$25,2,FALSE))","v":6.6492200000000001E-2},{"$f":"IF(F88=1,\"0\",VLOOKUP(F88,coefficient2!$A$28:$B$31,2,FALSE))","v":5.8085699999999997E-2},0.72193660000000004]
[11433,1,1,4,3,3,12,{"$f":"IF(B89=1,\"0\",VLOOKUP(B89,coefficient2!$A$4:$B$7,2,FALSE))","v":"0"},{"$f":"IF(C89=1,\"0\",VLOOKUP(C89,coefficient2!$A$10:$B$13,2,FALSE))","v":"0"},{"$f":"IF(D89=1,\"0\",VLOOKUP(D89,coefficient2!$A$16:$B$19,2,FALSE))","v":0.1534855},{"$f":"IF(E89=1,\"0\",VLOOKUP(E89,coefficient2!$A$22:$B$25,2,FALSE))","v":6.6492200000000001E-2},{"$f":"IF(F89=1,\"0\",VLOOKUP(F89,coefficient2!$A$28:$B$31,2,FALSE))","v":9.5753900000000003E-2},0.68426840000000011]
[11434,1,1,4,3,4,13,{"$f":"IF(B90=1,\"0\",VLOOKUP(B90,coefficient2!$A$4:$B$7,2,FALSE))","v":"0"},{"$f":"IF(C90=1,\"0\",VLOOKUP(C90,coefficient2!$A$10:$B$13,2,FALSE))","v":"0"},{"$f":"IF(D90=1,\"0\",VLOOKUP(D90,coefficient2!$A$16:$B$19,2,FALSE))","v":0.1534855},{"$f":"IF(E90=1,\"0\",VLOOKUP(E90,coefficient2!$A$22:$B$25,2,FALSE))","v":6.6492200000000001E-2},{"$f":"IF(F90=1,\"0\",VLOOKUP(F90,coefficient2!$A$28:$B$31,2,FALSE))","v":0.23270360000000001},0.54731870000000005]
[11435,1,1,4,3,5,14,{"$f":"IF(B91=1,\"0\",VLOOKUP(B91,coefficient2!$A$4:$B$7,2,FALSE))","v":"0"},{"$f":"IF(C91=1,\"0\",VLOOKUP(C91,coefficient2!$A$10:$B$13,2,FALSE))","v":"0"},{"$f":"IF(D91=1,\"0\",VLOOKUP(D91,coefficient2!$A$16:$B$19,2,FALSE))","v":0.1534855},{"$f":"IF(E91=1,\"0\",VLOOKUP(E91,coefficient2!$A$22:$B$25,2,FALSE))","v":6.6492200000000001E-2},{"$f":"IF(F91=1,\"0\",VLOOKUP(F91,coefficient2!$A$28:$B$31,2,FALSE))","v":0.29534929999999998},0.48467300000000008]
[11441,1,1,4,4,1,11,{"$f":"IF(B92=1,\"0\",VLOOKUP(B92,coefficient2!$A$4:$B$7,2,FALSE))","v":"0"},{"$f":"IF(C92=1,\"0\",VLOOKUP(C92,coefficient2!$A$10:$B$13,2,FALSE))","v":"0"},{"$f":"IF(D92=1,\"0\",VLOOKUP(D92,coefficient2!$A$16:$B$19,2,FALSE))","v":0.1534855},{"$f":"IF(E92=1,\"0\",VLOOKUP(E92,coefficient2!$A$22:$B$25,2,FALSE))","v":0.2068864},{"$f":"IF(F92=1,\"0\",VLOOKUP(F92,coefficient2!$A$28:$B$31,2,FALSE))","v":"0"},0.63962810000000003]
[11442,1,1,4,4,2,12,{"$f":"IF(B93=1,\"0\",VLOOKUP(B93,coefficient2!$A$4:$B$7,2,FALSE))","v":"0"},{"$f":"IF(C93=1,\"0\",VLOOKUP(C93,coefficient2!$A$10:$B$13,2,FALSE))","v":"0"},{"$f":"IF(D93=1,\"0\",VLOOKUP(D93,coefficient2!$A$16:$B$19,2,FALSE))","v":0.1534855},{"$f":"IF(E93=1,\"0\",VLOOKUP(E93,coefficient2!$A$22:$B$25,2,FALSE))","v":0.2068864},{"$f":"IF(F93=1,\"0\",VLOOKUP(F93,coefficient2!$A$28:$B$31,2,FALSE))","v":5.8085699999999997E-2},0.58154240000000001]
[11443,1,1,4,4,3,13,{"$f":"IF(B94=1,\"0\",VLOOKUP(B94,coefficient2!$A$4:$B$7,2,FALSE))","v":"0"},{"$f":"IF(C94=1,\"0\",VLOOKUP(C94,coefficient2!$A$10:$B$13,2,FALSE))","v":"0"},{"$f":"IF(D94=1,\"0\",VLOOKUP(D94,coefficient2!$A$16:$B$19,2,FALSE))","v":0.1534855},{"$f":"IF(E94=1,\"0\",VLOOKUP(E94,coefficient2!$A$22:$B$25,2,FALSE))","v":0.2068864},{"$f":"IF(F94=1,\"0\",VLOOKUP(F94,coefficient2!$A$28:$B$31,2,FALSE))","v":9.5753900000000003E-2},0.54387420000000009]
[11444,1,1,4,4,4,14,{"$f":"IF(B95=1,\"0\",VLOOKUP(B95,coefficient2!$A$4:$B$7,2,FALSE))","v":"0"},{"$f":"IF(C95=1,\"0\",VLOOKUP(C95,coefficient2!$A$10:$B$13,2,FALSE))","v":"0"},{"$f":"IF(D95=1,\"0\",VLOOKUP(D95,coefficient2!$A$16:$B$19,2,FALSE))","v":0.1534855},{"$f":"IF(E95=1,\"0\",VLOOKUP(E95,coefficient2!$A$22:$B$25,2,FALSE))","v":0.2068864},{"$f":"IF(F95=1,\"0\",VLOOKUP(F95,coefficient2!$A$28:$B$31,2,FALSE))","v":0.23270360000000001},0.40692450000000002]
[11445,1,1,4,4,5,15,{"$f":"IF(B96=1,\"0\",VLOOKUP(B96,coefficient2!$A$4:$B$7,2,FALSE))","v":"0"},{"$f":"IF(C96=1,\"0\",VLOOKUP(C96,coefficient2!$A$10:$B$13,2,FALSE))","v":"0"},{"$f":"IF(D96=1,\"0\",VLOOKUP(D96,coefficient2!$A$16:$B$19,2,FALSE))","v":0.1534855},{"$f":"IF(E96=1,\"0\",VLOOKUP(E96,coefficient2!$A$22:$B$25,2,FALSE))","v":0.2068864},{"$f":"IF(F96=1,\"0\",VLOOKUP(F96,coefficient2!$A$28:$B$31,2,FALSE))","v":0.29534929999999998},0.34427880000000005]
[11451,1,1,4,5,1,12,{"$f":"IF(B97=1,\"0\",VLOOKUP(B97,coefficient2!$A$4:$B$7,2,FALSE))","v":"0"},{"$f":"IF(C97=1,\"0\",VLOOKUP(C97,coefficient2!$A$10:$B$13,2,FALSE))","v":"0"},{"$f":"IF(D97=1,\"0\",VLOOKUP(D97,coefficient2!$A$16:$B$19,2,FALSE))","v":0.1534855},{"$f":"IF(E97=1,\"0\",VLOOKUP(E97,coefficient2!$A$22:$B$25,2,FALSE))","v":0.25643310000000002},{"$f":"IF(F97=1,\"0\",VLOOKUP(F97,coefficient2!$A$28:$B$31,2,FALSE))","v":"0"},0.59008140000000009]
[11452,1,1,4,5,2,13,{"$f":"IF(B98=1,\"0\",VLOOKUP(B98,coefficient2!$A$4:$B$7,2,FALSE))","v":"0"},{"$f":"IF(C98=1,\"0\",VLOOKUP(C98,coefficient2!$A$10:$B$13,2,FALSE))","v":"0"},{"$f":"IF(D98=1,\"0\",VLOOKUP(D98,coefficient2!$A$16:$B$19,2,FALSE))","v":0.1534855},{"$f":"IF(E98=1,\"0\",VLOOKUP(E98,coefficient2!$A$22:$B$25,2,FALSE))","v":0.25643310000000002},{"$f":"IF(F98=1,\"0\",VLOOKUP(F98,coefficient2!$A$28:$B$31,2,FALSE))","v":5.8085699999999997E-2},0.53199570000000007]
[11453,1,1,4,5,3,14,{"$f":"IF(B99=1,\"0\",VLOOKUP(B99,coefficient2!$A$4:$B$7,2,FALSE))","v":"0"},{"$f":"IF(C99=1,\"0\",VLOOKUP(C99,coefficient2!$A$10:$B$13,2,FALSE))","v":"0"},{"$f":"IF(D99=1,\"0\",VLOOKUP(D99,coefficient2!$A$16:$B$19,2,FALSE))","v":0.1534855},{"$f":"IF(E99=1,\"0\",VLOOKUP(E99,coefficient2!$A$22:$B$25,2,FALSE))","v":0.25643310000000002},{"$f":"IF(F99=1,\"0\",VLOOKUP(F99,coefficient2!$A$28:$B$31,2,FALSE))","v":9.5753900000000003E-2},0.49432750000000009]
[11454,1,1,4,5,4,15,{"$f":"IF(B100=1,\"0\",VLOOKUP(B100,coefficient2!$A$4:$B$7,2,FALSE))","v":"0"},{"$f":"IF(C100=1,\"0\",VLOOKUP(C100,coefficient2!$A$10:$B$13,2,FALSE))","v":"0"},{"$f":"IF(D100=1,\"0\",VLOOKUP(D100,coefficient2!$A$16:$B$19,2,FALSE))","v":0.1534855},{"$f":"IF(E100=1,\"0\",VLOOKUP(E100,coefficient2!$A$22:$B$25,2,FALSE))","v":0.25643310000000002},{"$f":"IF(F100=1,\"0\",VLOOKUP(F100,coefficient2!$A$28:$B$31,2,FALSE))","v":0.23270360000000001},0.35737780000000008]
[11455,1,1,4,5,5,16,{"$f":"IF(B101=1,\"0\",VLOOKUP(B101,coefficient2!$A$4:$B$7,2,FALSE))","v":"0"},{"$f":"IF(C101=1,\"0\",VLOOKUP(C101,coefficient2!$A$10:$B$13,2,FALSE))","v":"0"},{"$f":"IF(D101=1,\"0\",VLOOKUP(D101,coefficient2!$A$16:$B$19,2,FALSE))","v":0.1534855},{"$f":"IF(E101=1,\"0\",VLOOKUP(E101,coefficient2!$A$22:$B$25,2,FALSE))","v":0.25643310000000002},{"$f":"IF(F101=1,\"0\",VLOOKUP(F101,coefficient2!$A$28:$B$31,2,FALSE))","v":0.29534929999999998},0.29473210000000011]
[11511,1,1,5,1,1,9,{"$f":"IF(B102=1,\"0\",VLOOKUP(B102,coefficient2!$A$4:$B$7,2,FALSE))","v":"0"},{"$f":"IF(C102=1,\"0\",VLOOKUP(C102,coefficient2!$A$10:$B$13,2,FALSE))","v":"0"},{"$f":"IF(D102=1,\"0\",VLOOKUP(D102,coefficient2!$A$16:$B$19,2,FALSE))","v":0.248331},{"$f":"IF(E102=1,\"0\",VLOOKUP(E102,coefficient2!$A$22:$B$25,2,FALSE))","v":"0"},{"$f":"IF(F102=1,\"0\",VLOOKUP(F102,coefficient2!$A$28:$B$31,2,FALSE))","v":"0"},0.75166900000000003]
[11512,1,1,5,1,2,10,{"$f":"IF(B103=1,\"0\",VLOOKUP(B103,coefficient2!$A$4:$B$7,2,FALSE))","v":"0"},{"$f":"IF(C103=1,\"0\",VLOOKUP(C103,coefficient2!$A$10:$B$13,2,FALSE))","v":"0"},{"$f":"IF(D103=1,\"0\",VLOOKUP(D103,coefficient2!$A$16:$B$19,2,FALSE))","v":0.248331},{"$f":"IF(E103=1,\"0\",VLOOKUP(E103,coefficient2!$A$22:$B$25,2,FALSE))","v":"0"},{"$f":"IF(F103=1,\"0\",VLOOKUP(F103,coefficient2!$A$28:$B$31,2,FALSE))","v":5.8085699999999997E-2},0.69358330000000001]
[11513,1,1,5,1,3,11,{"$f":"IF(B104=1,\"0\",VLOOKUP(B104,coefficient2!$A$4:$B$7,2,FALSE))","v":"0"},{"$f":"IF(C104=1,\"0\",VLOOKUP(C104,coefficient2!$A$10:$B$13,2,FALSE))","v":"0"},{"$f":"IF(D104=1,\"0\",VLOOKUP(D104,coefficient2!$A$16:$B$19,2,FALSE))","v":0.248331},{"$f":"IF(E104=1,\"0\",VLOOKUP(E104,coefficient2!$A$22:$B$25,2,FALSE))","v":"0"},{"$f":"IF(F104=1,\"0\",VLOOKUP(F104,coefficient2!$A$28:$B$31,2,FALSE))","v":9.5753900000000003E-2},0.65591510000000008]
[11514,1,1,5,1,4,12,{"$f":"IF(B105=1,\"0\",VLOOKUP(B105,coefficient2!$A$4:$B$7,2,FALSE))","v":"0"},{"$f":"IF(C105=1,\"0\",VLOOKUP(C105,coefficient2!$A$10:$B$13,2,FALSE))","v":"0"},{"$f":"IF(D105=1,\"0\",VLOOKUP(D105,coefficient2!$A$16:$B$19,2,FALSE))","v":0.248331},{"$f":"IF(E105=1,\"0\",VLOOKUP(E105,coefficient2!$A$22:$B$25,2,FALSE))","v":"0"},{"$f":"IF(F105=1,\"0\",VLOOKUP(F105,coefficient2!$A$28:$B$31,2,FALSE))","v":0.23270360000000001},0.51896540000000002]
[11515,1,1,5,1,5,13,{"$f":"IF(B106=1,\"0\",VLOOKUP(B106,coefficient2!$A$4:$B$7,2,FALSE))","v":"0"},{"$f":"IF(C106=1,\"0\",VLOOKUP(C106,coefficient2!$A$10:$B$13,2,FALSE))","v":"0"},{"$f":"IF(D106=1,\"0\",VLOOKUP(D106,coefficient2!$A$16:$B$19,2,FALSE))","v":0.248331},{"$f":"IF(E106=1,\"0\",VLOOKUP(E106,coefficient2!$A$22:$B$25,2,FALSE))","v":"0"},{"$f":"IF(F106=1,\"0\",VLOOKUP(F106,coefficient2!$A$28:$B$31,2,FALSE))","v":0.29534929999999998},0.45631970000000005]
[11521,1,1,5,2,1,10,{"$f":"IF(B107=1,\"0\",VLOOKUP(B107,coefficient2!$A$4:$B$7,2,FALSE))","v":"0"},{"$f":"IF(C107=1,\"0\",VLOOKUP(C107,coefficient2!$A$10:$B$13,2,FALSE))","v":"0"},{"$f":"IF(D107=1,\"0\",VLOOKUP(D107,coefficient2!$A$16:$B$19,2,FALSE))","v":0.248331},{"$f":"IF(E107=1,\"0\",VLOOKUP(E107,coefficient2!$A$22:$B$25,2,FALSE))","v":5.63998E-2},{"$f":"IF(F107=1,\"0\",VLOOKUP(F107,coefficient2!$A$28:$B$31,2,FALSE))","v":"0"},0.69526920000000003]
[11522,1,1,5,2,2,11,{"$f":"IF(B108=1,\"0\",VLOOKUP(B108,coefficient2!$A$4:$B$7,2,FALSE))","v":"0"},{"$f":"IF(C108=1,\"0\",VLOOKUP(C108,coefficient2!$A$10:$B$13,2,FALSE))","v":"0"},{"$f":"IF(D108=1,\"0\",VLOOKUP(D108,coefficient2!$A$16:$B$19,2,FALSE))","v":0.248331},{"$f":"IF(E108=1,\"0\",VLOOKUP(E108,coefficient2!$A$22:$B$25,2,FALSE))","v":5.63998E-2},{"$f":"IF(F108=1,\"0\",VLOOKUP(F108,coefficient2!$A$28:$B$31,2,FALSE))","v":5.8085699999999997E-2},0.63718350000000001]
[11523,1,1,5,2,3,12,{"$f":"IF(B109=1,\"0\",VLOOKUP(B109,coefficient2!$A$4:$B$7,2,FALSE))","v":"0"},{"$f":"IF(C109=1,\"0\",VLOOKUP(C109,coefficient2!$A$10:$B$13,2,FALSE))","v":"0"},{"$f":"IF(D109=1,\"0\",VLOOKUP(D109,coefficient2!$A$16:$B$19,2,FALSE))","v":0.248331},{"$f":"IF(E109=1,\"0\",VLOOKUP(E109,coefficient2!$A$22:$B$25,2,FALSE))","v":5.63998E-2},{"$f":"IF(F109=1,\"0\",VLOOKUP(F109,coefficient2!$A$28:$B$31,2,FALSE))","v":9.5753900000000003E-2},0.59951529999999997]
[11524,1,1,5,2,4,13,{"$f":"IF(B110=1,\"0\",VLOOKUP(B110,coefficient2!$A$4:$B$7,2,FALSE))","v":"0"},{"$f":"IF(C110=1,\"0\",VLOOKUP(C110,coefficient2!$A$10:$B$13,2,FALSE))","v":"0"},{"$f":"IF(D110=1,\"0\",VLOOKUP(D110,coefficient2!$A$16:$B$19,2,FALSE))","v":0.248331},{"$f":"IF(E110=1,\"0\",VLOOKUP(E110,coefficient2!$A$22:$B$25,2,FALSE))","v":5.63998E-2},{"$f":"IF(F110=1,\"0\",VLOOKUP(F110,coefficient2!$A$28:$B$31,2,FALSE))","v":0.23270360000000001},0.46256560000000002]
[11525,1,1,5,2,5,14,{"$f":"IF(B111=1,\"0\",VLOOKUP(B111,coefficient2!$A$4:$B$7,2,FALSE))","v":"0"},{"$f":"IF(C111=1,\"0\",VLOOKUP(C111,coefficient2!$A$10:$B$13,2,FALSE))","v":"0"},{"$f":"IF(D111=1,\"0\",VLOOKUP(D111,coefficient2!$A$16:$B$19,2,FALSE))","v":0.248331},{"$f":"IF(E111=1,\"0\",VLOOKUP(E111,coefficient2!$A$22:$B$25,2,FALSE))","v":5.63998E-2},{"$f":"IF(F111=1,\"0\",VLOOKUP(F111,coefficient2!$A$28:$B$31,2,FALSE))","v":0.29534929999999998},0.39991990000000005]
[11531,1,1,5,3,1,11,{"$f":"IF(B112=1,\"0\",VLOOKUP(B112,coefficient2!$A$4:$B$7,2,FALSE))","v":"0"},{"$f":"IF(C112=1,\"0\",VLOOKUP(C112,coefficient2!$A$10:$B$13,2,FALSE))","v":"0"},{"$f":"IF(D112=1,\"0\",VLOOKUP(D112,coefficient2!$A$16:$B$19,2,FALSE))","v":0.248331},{"$f":"IF(E112=1,\"0\",VLOOKUP(E112,coefficient2!$A$22:$B$25,2,FALSE))","v":6.6492200000000001E-2},{"$f":"IF(F112=1,\"0\",VLOOKUP(F112,coefficient2!$A$28:$B$31,2,FALSE))","v":"0"},0.68517680000000003]
[11532,1,1,5,3,2,12,{"$f":"IF(B113=1,\"0\",VLOOKUP(B113,coefficient2!$A$4:$B$7,2,FALSE))","v":"0"},{"$f":"IF(C113=1,\"0\",VLOOKUP(C113,coefficient2!$A$10:$B$13,2,FALSE))","v":"0"},{"$f":"IF(D113=1,\"0\",VLOOKUP(D113,coefficient2!$A$16:$B$19,2,FALSE))","v":0.248331},{"$f":"IF(E113=1,\"0\",VLOOKUP(E113,coefficient2!$A$22:$B$25,2,FALSE))","v":6.6492200000000001E-2},{"$f":"IF(F113=1,\"0\",VLOOKUP(F113,coefficient2!$A$28:$B$31,2,FALSE))","v":5.8085699999999997E-2},0.62709110000000001]
[11533,1,1,5,3,3,13,{"$f":"IF(B114=1,\"0\",VLOOKUP(B114,coefficient2!$A$4:$B$7,2,FALSE))","v":"0"},{"$f":"IF(C114=1,\"0\",VLOOKUP(C114,coefficient2!$A$10:$B$13,2,FALSE))","v":"0"},{"$f":"IF(D114=1,\"0\",VLOOKUP(D114,coefficient2!$A$16:$B$19,2,FALSE))","v":0.248331},{"$f":"IF(E114=1,\"0\",VLOOKUP(E114,coefficient2!$A$22:$B$25,2,FALSE))","v":6.6492200000000001E-2},{"$f":"IF(F114=1,\"0\",VLOOKUP(F114,coefficient2!$A$28:$B$31,2,FALSE))","v":9.5753900000000003E-2},0.58942289999999997]
[11534,1,1,5,3,4,14,{"$f":"IF(B115=1,\"0\",VLOOKUP(B115,coefficient2!$A$4:$B$7,2,FALSE))","v":"0"},{"$f":"IF(C115=1,\"0\",VLOOKUP(C115,coefficient2!$A$10:$B$13,2,FALSE))","v":"0"},{"$f":"IF(D115=1,\"0\",VLOOKUP(D115,coefficient2!$A$16:$B$19,2,FALSE))","v":0.248331},{"$f":"IF(E115=1,\"0\",VLOOKUP(E115,coefficient2!$A$22:$B$25,2,FALSE))","v":6.6492200000000001E-2},{"$f":"IF(F115=1,\"0\",VLOOKUP(F115,coefficient2!$A$28:$B$31,2,FALSE))","v":0.23270360000000001},0.45247320000000002]
[11535,1,1,5,3,5,15,{"$f":"IF(B116=1,\"0\",VLOOKUP(B116,coefficient2!$A$4:$B$7,2,FALSE))","v":"0"},{"$f":"IF(C116=1,\"0\",VLOOKUP(C116,coefficient2!$A$10:$B$13,2,FALSE))","v":"0"},{"$f":"IF(D116=1,\"0\",VLOOKUP(D116,coefficient2!$A$16:$B$19,2,FALSE))","v":0.248331},{"$f":"IF(E116=1,\"0\",VLOOKUP(E116,coefficient2!$A$22:$B$25,2,FALSE))","v":6.6492200000000001E-2},{"$f":"IF(F116=1,\"0\",VLOOKUP(F116,coefficient2!$A$28:$B$31,2,FALSE))","v":0.29534929999999998},0.38982750000000005]
[11541,1,1,5,4,1,12,{"$f":"IF(B117=1,\"0\",VLOOKUP(B117,coefficient2!$A$4:$B$7,2,FALSE))","v":"0"},{"$f":"IF(C117=1,\"0\",VLOOKUP(C117,coefficient2!$A$10:$B$13,2,FALSE))","v":"0"},{"$f":"IF(D117=1,\"0\",VLOOKUP(D117,coefficient2!$A$16:$B$19,2,FALSE))","v":0.248331},{"$f":"IF(E117=1,\"0\",VLOOKUP(E117,coefficient2!$A$22:$B$25,2,FALSE))","v":0.2068864},{"$f":"IF(F117=1,\"0\",VLOOKUP(F117,coefficient2!$A$28:$B$31,2,FALSE))","v":"0"},0.54478260000000001]
[11542,1,1,5,4,2,13,{"$f":"IF(B118=1,\"0\",VLOOKUP(B118,coefficient2!$A$4:$B$7,2,FALSE))","v":"0"},{"$f":"IF(C118=1,\"0\",VLOOKUP(C118,coefficient2!$A$10:$B$13,2,FALSE))","v":"0"},{"$f":"IF(D118=1,\"0\",VLOOKUP(D118,coefficient2!$A$16:$B$19,2,FALSE))","v":0.248331},{"$f":"IF(E118=1,\"0\",VLOOKUP(E118,coefficient2!$A$22:$B$25,2,FALSE))","v":0.2068864},{"$f":"IF(F118=1,\"0\",VLOOKUP(F118,coefficient2!$A$28:$B$31,2,FALSE))","v":5.8085699999999997E-2},0.48669689999999999]
[11543,1,1,5,4,3,14,{"$f":"IF(B119=1,\"0\",VLOOKUP(B119,coefficient2!$A$4:$B$7,2,FALSE))","v":"0"},{"$f":"IF(C119=1,\"0\",VLOOKUP(C119,coefficient2!$A$10:$B$13,2,FALSE))","v":"0"},{"$f":"IF(D119=1,\"0\",VLOOKUP(D119,coefficient2!$A$16:$B$19,2,FALSE))","v":0.248331},{"$f":"IF(E119=1,\"0\",VLOOKUP(E119,coefficient2!$A$22:$B$25,2,FALSE))","v":0.2068864},{"$f":"IF(F119=1,\"0\",VLOOKUP(F119,coefficient2!$A$28:$B$31,2,FALSE))","v":9.5753900000000003E-2},0.4490287]
[11544,1,1,5,4,4,15,{"$f":"IF(B120=1,\"0\",VLOOKUP(B120,coefficient2!$A$4:$B$7,2,FALSE))","v":"0"},{"$f":"IF(C120=1,\"0\",VLOOKUP(C120,coefficient2!$A$10:$B$13,2,FALSE))","v":"0"},{"$f":"IF(D120=1,\"0\",VLOOKUP(D120,coefficient2!$A$16:$B$19,2,FALSE))","v":0.248331},{"$f":"IF(E120=1,\"0\",VLOOKUP(E120,coefficient2!$A$22:$B$25,2,FALSE))","v":0.2068864},{"$f":"IF(F120=1,\"0\",VLOOKUP(F120,coefficient2!$A$28:$B$31,2,FALSE))","v":0.23270360000000001},0.312079]
[11545,1,1,5,4,5,16,{"$f":"IF(B121=1,\"0\",VLOOKUP(B121,coefficient2!$A$4:$B$7,2,FALSE))","v":"0"},{"$f":"IF(C121=1,\"0\",VLOOKUP(C121,coefficient2!$A$10:$B$13,2,FALSE))","v":"0"},{"$f":"IF(D121=1,\"0\",VLOOKUP(D121,coefficient2!$A$16:$B$19,2,FALSE))","v":0.248331},{"$f":"IF(E121=1,\"0\",VLOOKUP(E121,coefficient2!$A$22:$B$25,2,FALSE))","v":0.2068864},{"$f":"IF(F121=1,\"0\",VLOOKUP(F121,coefficient2!$A$28:$B$31,2,FALSE))","v":0.29534929999999998},0.24943330000000002]
[11551,1,1,5,5,1,13,{"$f":"IF(B122=1,\"0\",VLOOKUP(B122,coefficient2!$A$4:$B$7,2,FALSE))","v":"0"},{"$f":"IF(C122=1,\"0\",VLOOKUP(C122,coefficient2!$A$10:$B$13,2,FALSE))","v":"0"},{"$f":"IF(D122=1,\"0\",VLOOKUP(D122,coefficient2!$A$16:$B$19,2,FALSE))","v":0.248331},{"$f":"IF(E122=1,\"0\",VLOOKUP(E122,coefficient2!$A$22:$B$25,2,FALSE))","v":0.25643310000000002},{"$f":"IF(F122=1,\"0\",VLOOKUP(F122,coefficient2!$A$28:$B$31,2,FALSE))","v":"0"},0.49523590000000001]
[11552,1,1,5,5,2,14,{"$f":"IF(B123=1,\"0\",VLOOKUP(B123,coefficient2!$A$4:$B$7,2,FALSE))","v":"0"},{"$f":"IF(C123=1,\"0\",VLOOKUP(C123,coefficient2!$A$10:$B$13,2,FALSE))","v":"0"},{"$f":"IF(D123=1,\"0\",VLOOKUP(D123,coefficient2!$A$16:$B$19,2,FALSE))","v":0.248331},{"$f":"IF(E123=1,\"0\",VLOOKUP(E123,coefficient2!$A$22:$B$25,2,FALSE))","v":0.25643310000000002},{"$f":"IF(F123=1,\"0\",VLOOKUP(F123,coefficient2!$A$28:$B$31,2,FALSE))","v":5.8085699999999997E-2},0.43715019999999999]
[11553,1,1,5,5,3,15,{"$f":"IF(B124=1,\"0\",VLOOKUP(B124,coefficient2!$A$4:$B$7,2,FALSE))","v":"0"},{"$f":"IF(C124=1,\"0\",VLOOKUP(C124,coefficient2!$A$10:$B$13,2,FALSE))","v":"0"},{"$f":"IF(D124=1,\"0\",VLOOKUP(D124,coefficient2!$A$16:$B$19,2,FALSE))","v":0.248331},{"$f":"IF(E124=1,\"0\",VLOOKUP(E124,coefficient2!$A$22:$B$25,2,FALSE))","v":0.25643310000000002},{"$f":"IF(F124=1,\"0\",VLOOKUP(F124,coefficient2!$A$28:$B$31,2,FALSE))","v":9.5753900000000003E-2},0.399482]
[11554,1,1,5,5,4,16,{"$f":"IF(B125=1,\"0\",VLOOKUP(B125,coefficient2!$A$4:$B$7,2,FALSE))","v":"0"},{"$f":"IF(C125=1,\"0\",VLOOKUP(C125,coefficient2!$A$10:$B$13,2,FALSE))","v":"0"},{"$f":"IF(D125=1,\"0\",VLOOKUP(D125,coefficient2!$A$16:$B$19,2,FALSE))","v":0.248331},{"$f":"IF(E125=1,\"0\",VLOOKUP(E125,coefficient2!$A$22:$B$25,2,FALSE))","v":0.25643310000000002},{"$f":"IF(F125=1,\"0\",VLOOKUP(F125,coefficient2!$A$28:$B$31,2,FALSE))","v":0.23270360000000001},0.2625323]
[11555,1,1,5,5,5,17,{"$f":"IF(B126=1,\"0\",VLOOKUP(B126,coefficient2!$A$4:$B$7,2,FALSE))","v":"0"},{"$f":"IF(C126=1,\"0\",VLOOKUP(C126,coefficient2!$A$10:$B$13,2,FALSE))","v":"0"},{"$f":"IF(D126=1,\"0\",VLOOKUP(D126,coefficient2!$A$16:$B$19,2,FALSE))","v":0.248331},{"$f":"IF(E126=1,\"0\",VLOOKUP(E126,coefficient2!$A$22:$B$25,2,FALSE))","v":0.25643310000000002},{"$f":"IF(F126=1,\"0\",VLOOKUP(F126,coefficient2!$A$28:$B$31,2,FALSE))","v":0.29534929999999998},0.19988660000000003]
[12111,1,2,1,1,1,6,{"$f":"IF(B127=1,\"0\",VLOOKUP(B127,coefficient2!$A$4:$B$7,2,FALSE))","v":"0"},{"$f":"IF(C127=1,\"0\",VLOOKUP(C127,coefficient2!$A$10:$B$13,2,FALSE))","v":5.8129300000000002E-2},{"$f":"IF(D127=1,\"0\",VLOOKUP(D127,coefficient2!$A$16:$B$19,2,FALSE))","v":"0"},{"$f":"IF(E127=1,\"0\",VLOOKUP(E127,coefficient2!$A$22:$B$25,2,FALSE))","v":"0"},{"$f":"IF(F127=1,\"0\",VLOOKUP(F127,coefficient2!$A$28:$B$31,2,FALSE))","v":"0"},0.94187069999999995]
[12112,1,2,1,1,2,7,{"$f":"IF(B128=1,\"0\",VLOOKUP(B128,coefficient2!$A$4:$B$7,2,FALSE))","v":"0"},{"$f":"IF(C128=1,\"0\",VLOOKUP(C128,coefficient2!$A$10:$B$13,2,FALSE))","v":5.8129300000000002E-2},{"$f":"IF(D128=1,\"0\",VLOOKUP(D128,coefficient2!$A$16:$B$19,2,FALSE))","v":"0"},{"$f":"IF(E128=1,\"0\",VLOOKUP(E128,coefficient2!$A$22:$B$25,2,FALSE))","v":"0"},{"$f":"IF(F128=1,\"0\",VLOOKUP(F128,coefficient2!$A$28:$B$31,2,FALSE))","v":5.8085699999999997E-2},0.88378499999999993]
[12113,1,2,1,1,3,8,{"$f":"IF(B129=1,\"0\",VLOOKUP(B129,coefficient2!$A$4:$B$7,2,FALSE))","v":"0"},{"$f":"IF(C129=1,\"0\",VLOOKUP(C129,coefficient2!$A$10:$B$13,2,FALSE))","v":5.8129300000000002E-2},{"$f":"IF(D129=1,\"0\",VLOOKUP(D129,coefficient2!$A$16:$B$19,2,FALSE))","v":"0"},{"$f":"IF(E129=1,\"0\",VLOOKUP(E129,coefficient2!$A$22:$B$25,2,FALSE))","v":"0"},{"$f":"IF(F129=1,\"0\",VLOOKUP(F129,coefficient2!$A$28:$B$31,2,FALSE))","v":9.5753900000000003E-2},0.84611679999999989]
[12114,1,2,1,1,4,9,{"$f":"IF(B130=1,\"0\",VLOOKUP(B130,coefficient2!$A$4:$B$7,2,FALSE))","v":"0"},{"$f":"IF(C130=1,\"0\",VLOOKUP(C130,coefficient2!$A$10:$B$13,2,FALSE))","v":5.8129300000000002E-2},{"$f":"IF(D130=1,\"0\",VLOOKUP(D130,coefficient2!$A$16:$B$19,2,FALSE))","v":"0"},{"$f":"IF(E130=1,\"0\",VLOOKUP(E130,coefficient2!$A$22:$B$25,2,FALSE))","v":"0"},{"$f":"IF(F130=1,\"0\",VLOOKUP(F130,coefficient2!$A$28:$B$31,2,FALSE))","v":0.23270360000000001},{"$f":"1-H130-I130-J130-K130-L130","v":0.70916709999999994}]
[12115,{"$f":"INT(LEFT(A131,1))","v":1},{"$f":"INT(MID(A131,2,1))","v":2},{"$f":"INT(MID(A131,3,1))","v":1},{"$f":"INT(MID(A131,4,1))","v":1},{"$f":"INT(RIGHT(A131,1))","v":5},{"$f":"SUM(B131:F131)","v":10},{"$f":"IF(B131=1,\"0\",VLOOKUP(B131,coefficient2!$A$4:$B$7,2,FALSE))","v":"0"},{"$f":"IF(C131=1,\"0\",VLOOKUP(C131,coefficient2!$A$10:$B$13,2,FALSE))","v":5.8129300000000002E-2},{"$f":"IF(D131=1,\"0\",VLOOKUP(D131,coefficient2!$A$16:$B$19,2,FALSE))","v":"0"},{"$f":"IF(E131=1,\"0\",VLOOKUP(E131,coefficient2!$A$22:$B$25,2,FALSE))","v":"0"},{"$f":"IF(F131=1,\"0\",VLOOKUP(F131,coefficient2!$A$28:$B$31,2,FALSE))","v":0.29534929999999998},0.64652139999999991]
[12121,1,2,1,2,1,7,{"$f":"IF(B132=1,\"0\",VLOOKUP(B132,coefficient2!$A$4:$B$7,2,FALSE))","v":"0"},{"$f":"IF(C132=1,\"0\",VLOOKUP(C132,coefficient2!$A$10:$B$13,2,FALSE))","v":5.8129300000000002E-2},{"$f":"IF(D132=1,\"0\",VLOOKUP(D132,coefficient2!$A$16:$B$19,2,FALSE))","v":"0"},{"$f":"IF(E132=1,\"0\",VLOOKUP(E132,coefficient2!$A$22:$B$25,2,FALSE))","v":5.63998E-2},{"$f":"IF(F132=1,\"0\",VLOOKUP(F132,coefficient2!$A$28:$B$31,2,FALSE))","v":"0"},0.88547089999999995]
[12122,1,2,1,2,2,8,{"$f":"IF(B133=1,\"0\",VLOOKUP(B133,coefficient2!$A$4:$B$7,2,FALSE))","v":"0"},{"$f":"IF(C133=1,\"0\",VLOOKUP(C133,coefficient2!$A$10:$B$13,2,FALSE))","v":5.8129300000000002E-2},{"$f":"IF(D133=1,\"0\",VLOOKUP(D133,coefficient2!$A$16:$B$19,2,FALSE))","v":"0"},{"$f":"IF(E133=1,\"0\",VLOOKUP(E133,coefficient2!$A$22:$B$25,2,FALSE))","v":5.63998E-2},{"$f":"IF(F133=1,\"0\",VLOOKUP(F133,coefficient2!$A$28:$B$31,2,FALSE))","v":5.8085699999999997E-2},0.82738519999999993]
[12123,1,2,1,2,3,9,{"$f":"IF(B134=1,\"0\",VLOOKUP(B134,coefficient2!$A$4:$B$7,2,FALSE))","v":"0"},{"$f":"IF(C134=1,\"0\",VLOOKUP(C134,coefficient2!$A$10:$B$13,2,FALSE))","v":5.8129300000000002E-2},{"$f":"IF(D134=1,\"0\",VLOOKUP(D134,coefficient2!$A$16:$B$19,2,FALSE))","v":"0"},{"$f":"IF(E134=1,\"0\",VLOOKUP(E134,coefficient2!$A$22:$B$25,2,FALSE))","v":5.63998E-2},{"$f":"IF(F134=1,\"0\",VLOOKUP(F134,coefficient2!$A$28:$B$31,2,FALSE))","v":9.5753900000000003E-2},0.789717]
[12124,1,2,1,2,4,10,{"$f":"IF(B135=1,\"0\",VLOOKUP(B135,coefficient2!$A$4:$B$7,2,FALSE))","v":"0"},{"$f":"IF(C135=1,\"0\",VLOOKUP(C135,coefficient2!$A$10:$B$13,2,FALSE))","v":5.8129300000000002E-2},{"$f":"IF(D135=1,\"0\",VLOOKUP(D135,coefficient2!$A$16:$B$19,2,FALSE))","v":"0"},{"$f":"IF(E135=1,\"0\",VLOOKUP(E135,coefficient2!$A$22:$B$25,2,FALSE))","v":5.63998E-2},{"$f":"IF(F135=1,\"0\",VLOOKUP(F135,coefficient2!$A$28:$B$31,2,FALSE))","v":0.23270360000000001},0.65276729999999994]
[12125,1,2,1,2,5,11,{"$f":"IF(B136=1,\"0\",VLOOKUP(B136,coefficient2!$A$4:$B$7,2,FALSE))","v":"0"},{"$f":"IF(C136=1,\"0\",VLOOKUP(C136,coefficient2!$A$10:$B$13,2,FALSE))","v":5.8129300000000002E-2},{"$f":"IF(D136=1,\"0\",VLOOKUP(D136,coefficient2!$A$16:$B$19,2,FALSE))","v":"0"},{"$f":"IF(E136=1,\"0\",VLOOKUP(E136,coefficient2!$A$22:$B$25,2,FALSE))","v":5.63998E-2},{"$f":"IF(F136=1,\"0\",VLOOKUP(F136,coefficient2!$A$28:$B$31,2,FALSE))","v":0.29534929999999998},0.59012160000000002]
[12131,1,2,1,3,1,8,{"$f":"IF(B137=1,\"0\",VLOOKUP(B137,coefficient2!$A$4:$B$7,2,FALSE))","v":"0"},{"$f":"IF(C137=1,\"0\",VLOOKUP(C137,coefficient2!$A$10:$B$13,2,FALSE))","v":5.8129300000000002E-2},{"$f":"IF(D137=1,\"0\",VLOOKUP(D137,coefficient2!$A$16:$B$19,2,FALSE))","v":"0"},{"$f":"IF(E137=1,\"0\",VLOOKUP(E137,coefficient2!$A$22:$B$25,2,FALSE))","v":6.6492200000000001E-2},{"$f":"IF(F137=1,\"0\",VLOOKUP(F137,coefficient2!$A$28:$B$31,2,FALSE))","v":"0"},0.87537849999999995]
[12132,1,2,1,3,2,9,{"$f":"IF(B138=1,\"0\",VLOOKUP(B138,coefficient2!$A$4:$B$7,2,FALSE))","v":"0"},{"$f":"IF(C138=1,\"0\",VLOOKUP(C138,coefficient2!$A$10:$B$13,2,FALSE))","v":5.8129300000000002E-2},{"$f":"IF(D138=1,\"0\",VLOOKUP(D138,coefficient2!$A$16:$B$19,2,FALSE))","v":"0"},{"$f":"IF(E138=1,\"0\",VLOOKUP(E138,coefficient2!$A$22:$B$25,2,FALSE))","v":6.6492200000000001E-2},{"$f":"IF(F138=1,\"0\",VLOOKUP(F138,coefficient2!$A$28:$B$31,2,FALSE))","v":5.8085699999999997E-2},0.81729279999999993]
[12133,1,2,1,3,3,10,{"$f":"IF(B139=1,\"0\",VLOOKUP(B139,coefficient2!$A$4:$B$7,2,FALSE))","v":"0"},{"$f":"IF(C139=1,\"0\",VLOOKUP(C139,coefficient2!$A$10:$B$13,2,FALSE))","v":5.8129300000000002E-2},{"$f":"IF(D139=1,\"0\",VLOOKUP(D139,coefficient2!$A$16:$B$19,2,FALSE))","v":"0"},{"$f":"IF(E139=1,\"0\",VLOOKUP(E139,coefficient2!$A$22:$B$25,2,FALSE))","v":6.6492200000000001E-2},{"$f":"IF(F139=1,\"0\",VLOOKUP(F139,coefficient2!$A$28:$B$31,2,FALSE))","v":9.5753900000000003E-2},0.7796246]
[12134,1,2,1,3,4,11,{"$f":"IF(B140=1,\"0\",VLOOKUP(B140,coefficient2!$A$4:$B$7,2,FALSE))","v":"0"},{"$f":"IF(C140=1,\"0\",VLOOKUP(C140,coefficient2!$A$10:$B$13,2,FALSE))","v":5.8129300000000002E-2},{"$f":"IF(D140=1,\"0\",VLOOKUP(D140,coefficient2!$A$16:$B$19,2,FALSE))","v":"0"},{"$f":"IF(E140=1,\"0\",VLOOKUP(E140,coefficient2!$A$22:$B$25,2,FALSE))","v":6.6492200000000001E-2},{"$f":"IF(F140=1,\"0\",VLOOKUP(F140,coefficient2!$A$28:$B$31,2,FALSE))","v":0.23270360000000001},0.64267489999999994]
[12135,1,2,1,3,5,12,{"$f":"IF(B141=1,\"0\",VLOOKUP(B141,coefficient2!$A$4:$B$7,2,FALSE))","v":"0"},{"$f":"IF(C141=1,\"0\",VLOOKUP(C141,coefficient2!$A$10:$B$13,2,FALSE))","v":5.8129300000000002E-2},{"$f":"IF(D141=1,\"0\",VLOOKUP(D141,coefficient2!$A$16:$B$19,2,FALSE))","v":"0"},{"$f":"IF(E141=1,\"0\",VLOOKUP(E141,coefficient2!$A$22:$B$25,2,FALSE))","v":6.6492200000000001E-2},{"$f":"IF(F141=1,\"0\",VLOOKUP(F141,coefficient2!$A$28:$B$31,2,FALSE))","v":0.29534929999999998},0.58002920000000002]
[12141,1,2,1,4,1,9,{"$f":"IF(B142=1,\"0\",VLOOKUP(B142,coefficient2!$A$4:$B$7,2,FALSE))","v":"0"},{"$f":"IF(C142=1,\"0\",VLOOKUP(C142,coefficient2!$A$10:$B$13,2,FALSE))","v":5.8129300000000002E-2},{"$f":"IF(D142=1,\"0\",VLOOKUP(D142,coefficient2!$A$16:$B$19,2,FALSE))","v":"0"},{"$f":"IF(E142=1,\"0\",VLOOKUP(E142,coefficient2!$A$22:$B$25,2,FALSE))","v":0.2068864},{"$f":"IF(F142=1,\"0\",VLOOKUP(F142,coefficient2!$A$28:$B$31,2,FALSE))","v":"0"},0.73498429999999992]
[12142,1,2,1,4,2,10,{"$f":"IF(B143=1,\"0\",VLOOKUP(B143,coefficient2!$A$4:$B$7,2,FALSE))","v":"0"},{"$f":"IF(C143=1,\"0\",VLOOKUP(C143,coefficient2!$A$10:$B$13,2,FALSE))","v":5.8129300000000002E-2},{"$f":"IF(D143=1,\"0\",VLOOKUP(D143,coefficient2!$A$16:$B$19,2,FALSE))","v":"0"},{"$f":"IF(E143=1,\"0\",VLOOKUP(E143,coefficient2!$A$22:$B$25,2,FALSE))","v":0.2068864},{"$f":"IF(F143=1,\"0\",VLOOKUP(F143,coefficient2!$A$28:$B$31,2,FALSE))","v":5.8085699999999997E-2},0.67689859999999991]
[12143,1,2,1,4,3,11,{"$f":"IF(B144=1,\"0\",VLOOKUP(B144,coefficient2!$A$4:$B$7,2,FALSE))","v":"0"},{"$f":"IF(C144=1,\"0\",VLOOKUP(C144,coefficient2!$A$10:$B$13,2,FALSE))","v":5.8129300000000002E-2},{"$f":"IF(D144=1,\"0\",VLOOKUP(D144,coefficient2!$A$16:$B$19,2,FALSE))","v":"0"},{"$f":"IF(E144=1,\"0\",VLOOKUP(E144,coefficient2!$A$22:$B$25,2,FALSE))","v":0.2068864},{"$f":"IF(F144=1,\"0\",VLOOKUP(F144,coefficient2!$A$28:$B$31,2,FALSE))","v":9.5753900000000003E-2},0.63923039999999998]
[12144,1,2,1,4,4,12,{"$f":"IF(B145=1,\"0\",VLOOKUP(B145,coefficient2!$A$4:$B$7,2,FALSE))","v":"0"},{"$f":"IF(C145=1,\"0\",VLOOKUP(C145,coefficient2!$A$10:$B$13,2,FALSE))","v":5.8129300000000002E-2},{"$f":"IF(D145=1,\"0\",VLOOKUP(D145,coefficient2!$A$16:$B$19,2,FALSE))","v":"0"},{"$f":"IF(E145=1,\"0\",VLOOKUP(E145,coefficient2!$A$22:$B$25,2,FALSE))","v":0.2068864},{"$f":"IF(F145=1,\"0\",VLOOKUP(F145,coefficient2!$A$28:$B$31,2,FALSE))","v":0.23270360000000001},0.50228069999999991]
[12145,1,2,1,4,5,13,{"$f":"IF(B146=1,\"0\",VLOOKUP(B146,coefficient2!$A$4:$B$7,2,FALSE))","v":"0"},{"$f":"IF(C146=1,\"0\",VLOOKUP(C146,coefficient2!$A$10:$B$13,2,FALSE))","v":5.8129300000000002E-2},{"$f":"IF(D146=1,\"0\",VLOOKUP(D146,coefficient2!$A$16:$B$19,2,FALSE))","v":"0"},{"$f":"IF(E146=1,\"0\",VLOOKUP(E146,coefficient2!$A$22:$B$25,2,FALSE))","v":0.2068864},{"$f":"IF(F146=1,\"0\",VLOOKUP(F146,coefficient2!$A$28:$B$31,2,FALSE))","v":0.29534929999999998},0.43963499999999994]
[12151,1,2,1,5,1,10,{"$f":"IF(B147=1,\"0\",VLOOKUP(B147,coefficient2!$A$4:$B$7,2,FALSE))","v":"0"},{"$f":"IF(C147=1,\"0\",VLOOKUP(C147,coefficient2!$A$10:$B$13,2,FALSE))","v":5.8129300000000002E-2},{"$f":"IF(D147=1,\"0\",VLOOKUP(D147,coefficient2!$A$16:$B$19,2,FALSE))","v":"0"},{"$f":"IF(E147=1,\"0\",VLOOKUP(E147,coefficient2!$A$22:$B$25,2,FALSE))","v":0.25643310000000002},{"$f":"IF(F147=1,\"0\",VLOOKUP(F147,coefficient2!$A$28:$B$31,2,FALSE))","v":"0"},0.68543759999999998]
[12152,1,2,1,5,2,11,{"$f":"IF(B148=1,\"0\",VLOOKUP(B148,coefficient2!$A$4:$B$7,2,FALSE))","v":"0"},{"$f":"IF(C148=1,\"0\",VLOOKUP(C148,coefficient2!$A$10:$B$13,2,FALSE))","v":5.8129300000000002E-2},{"$f":"IF(D148=1,\"0\",VLOOKUP(D148,coefficient2!$A$16:$B$19,2,FALSE))","v":"0"},{"$f":"IF(E148=1,\"0\",VLOOKUP(E148,coefficient2!$A$22:$B$25,2,FALSE))","v":0.25643310000000002},{"$f":"IF(F148=1,\"0\",VLOOKUP(F148,coefficient2!$A$28:$B$31,2,FALSE))","v":5.8085699999999997E-2},0.62735189999999996]
[12153,1,2,1,5,3,12,{"$f":"IF(B149=1,\"0\",VLOOKUP(B149,coefficient2!$A$4:$B$7,2,FALSE))","v":"0"},{"$f":"IF(C149=1,\"0\",VLOOKUP(C149,coefficient2!$A$10:$B$13,2,FALSE))","v":5.8129300000000002E-2},{"$f":"IF(D149=1,\"0\",VLOOKUP(D149,coefficient2!$A$16:$B$19,2,FALSE))","v":"0"},{"$f":"IF(E149=1,\"0\",VLOOKUP(E149,coefficient2!$A$22:$B$25,2,FALSE))","v":0.25643310000000002},{"$f":"IF(F149=1,\"0\",VLOOKUP(F149,coefficient2!$A$28:$B$31,2,FALSE))","v":9.5753900000000003E-2},0.58968369999999992]
[12154,1,2,1,5,4,13,{"$f":"IF(B150=1,\"0\",VLOOKUP(B150,coefficient2!$A$4:$B$7,2,FALSE))","v":"0"},{"$f":"IF(C150=1,\"0\",VLOOKUP(C150,coefficient2!$A$10:$B$13,2,FALSE))","v":5.8129300000000002E-2},{"$f":"IF(D150=1,\"0\",VLOOKUP(D150,coefficient2!$A$16:$B$19,2,FALSE))","v":"0"},{"$f":"IF(E150=1,\"0\",VLOOKUP(E150,coefficient2!$A$22:$B$25,2,FALSE))","v":0.25643310000000002},{"$f":"IF(F150=1,\"0\",VLOOKUP(F150,coefficient2!$A$28:$B$31,2,FALSE))","v":0.23270360000000001},0.45273399999999997]
[12155,1,2,1,5,5,14,{"$f":"IF(B151=1,\"0\",VLOOKUP(B151,coefficient2!$A$4:$B$7,2,FALSE))","v":"0"},{"$f":"IF(C151=1,\"0\",VLOOKUP(C151,coefficient2!$A$10:$B$13,2,FALSE))","v":5.8129300000000002E-2},{"$f":"IF(D151=1,\"0\",VLOOKUP(D151,coefficient2!$A$16:$B$19,2,FALSE))","v":"0"},{"$f":"IF(E151=1,\"0\",VLOOKUP(E151,coefficient2!$A$22:$B$25,2,FALSE))","v":0.25643310000000002},{"$f":"IF(F151=1,\"0\",VLOOKUP(F151,coefficient2!$A$28:$B$31,2,FALSE))","v":0.29534929999999998},0.3900883]
[12211,1,2,2,1,1,7,{"$f":"IF(B152=1,\"0\",VLOOKUP(B152,coefficient2!$A$4:$B$7,2,FALSE))","v":"0"},{"$f":"IF(C152=1,\"0\",VLOOKUP(C152,coefficient2!$A$10:$B$13,2,FALSE))","v":5.8129300000000002E-2},{"$f":"IF(D152=1,\"0\",VLOOKUP(D152,coefficient2!$A$16:$B$19,2,FALSE))","v":5.8254399999999998E-2},{"$f":"IF(E152=1,\"0\",VLOOKUP(E152,coefficient2!$A$22:$B$25,2,FALSE))","v":"0"},{"$f":"IF(F152=1,\"0\",VLOOKUP(F152,coefficient2!$A$28:$B$31,2,FALSE))","v":"0"},0.88361629999999991]
[12212,1,2,2,1,2,8,{"$f":"IF(B153=1,\"0\",VLOOKUP(B153,coefficient2!$A$4:$B$7,2,FALSE))","v":"0"},{"$f":"IF(C153=1,\"0\",VLOOKUP(C153,coefficient2!$A$10:$B$13,2,FALSE))","v":5.8129300000000002E-2},{"$f":"IF(D153=1,\"0\",VLOOKUP(D153,coefficient2!$A$16:$B$19,2,FALSE))","v":5.8254399999999998E-2},{"$f":"IF(E153=1,\"0\",VLOOKUP(E153,coefficient2!$A$22:$B$25,2,FALSE))","v":"0"},{"$f":"IF(F153=1,\"0\",VLOOKUP(F153,coefficient2!$A$28:$B$31,2,FALSE))","v":5.8085699999999997E-2},0.82553059999999989]
[12213,1,2,2,1,3,9,{"$f":"IF(B154=1,\"0\",VLOOKUP(B154,coefficient2!$A$4:$B$7,2,FALSE))","v":"0"},{"$f":"IF(C154=1,\"0\",VLOOKUP(C154,coefficient2!$A$10:$B$13,2,FALSE))","v":5.8129300000000002E-2},{"$f":"IF(D154=1,\"0\",VLOOKUP(D154,coefficient2!$A$16:$B$19,2,FALSE))","v":5.8254399999999998E-2},{"$f":"IF(E154=1,\"0\",VLOOKUP(E154,coefficient2!$A$22:$B$25,2,FALSE))","v":"0"},{"$f":"IF(F154=1,\"0\",VLOOKUP(F154,coefficient2!$A$28:$B$31,2,FALSE))","v":9.5753900000000003E-2},0.78786239999999985]
[12214,1,2,2,1,4,10,{"$f":"IF(B155=1,\"0\",VLOOKUP(B155,coefficient2!$A$4:$B$7,2,FALSE))","v":"0"},{"$f":"IF(C155=1,\"0\",VLOOKUP(C155,coefficient2!$A$10:$B$13,2,FALSE))","v":5.8129300000000002E-2},{"$f":"IF(D155=1,\"0\",VLOOKUP(D155,coefficient2!$A$16:$B$19,2,FALSE))","v":5.8254399999999998E-2},{"$f":"IF(E155=1,\"0\",VLOOKUP(E155,coefficient2!$A$22:$B$25,2,FALSE))","v":"0"},{"$f":"IF(F155=1,\"0\",VLOOKUP(F155,coefficient2!$A$28:$B$31,2,FALSE))","v":0.23270360000000001},0.6509126999999999]
[12215,1,2,2,1,5,11,{"$f":"IF(B156=1,\"0\",VLOOKUP(B156,coefficient2!$A$4:$B$7,2,FALSE))","v":"0"},{"$f":"IF(C156=1,\"0\",VLOOKUP(C156,coefficient2!$A$10:$B$13,2,FALSE))","v":5.8129300000000002E-2},{"$f":"IF(D156=1,\"0\",VLOOKUP(D156,coefficient2!$A$16:$B$19,2,FALSE))","v":5.8254399999999998E-2},{"$f":"IF(E156=1,\"0\",VLOOKUP(E156,coefficient2!$A$22:$B$25,2,FALSE))","v":"0"},{"$f":"IF(F156=1,\"0\",VLOOKUP(F156,coefficient2!$A$28:$B$31,2,FALSE))","v":0.29534929999999998},0.58826699999999987]
[12221,1,2,2,2,1,8,{"$f":"IF(B157=1,\"0\",VLOOKUP(B157,coefficient2!$A$4:$B$7,2,FALSE))","v":"0"},{"$f":"IF(C157=1,\"0\",VLOOKUP(C157,coefficient2!$A$10:$B$13,2,FALSE))","v":5.8129300000000002E-2},{"$f":"IF(D157=1,\"0\",VLOOKUP(D157,coefficient2!$A$16:$B$19,2,FALSE))","v":5.8254399999999998E-2},{"$f":"IF(E157=1,\"0\",VLOOKUP(E157,coefficient2!$A$22:$B$25,2,FALSE))","v":5.63998E-2},{"$f":"IF(F157=1,\"0\",VLOOKUP(F157,coefficient2!$A$28:$B$31,2,FALSE))","v":"0"},0.82721649999999991]
[12222,1,2,2,2,2,9,{"$f":"IF(B158=1,\"0\",VLOOKUP(B158,coefficient2!$A$4:$B$7,2,FALSE))","v":"0"},{"$f":"IF(C158=1,\"0\",VLOOKUP(C158,coefficient2!$A$10:$B$13,2,FALSE))","v":5.8129300000000002E-2},{"$f":"IF(D158=1,\"0\",VLOOKUP(D158,coefficient2!$A$16:$B$19,2,FALSE))","v":5.8254399999999998E-2},{"$f":"IF(E158=1,\"0\",VLOOKUP(E158,coefficient2!$A$22:$B$25,2,FALSE))","v":5.63998E-2},{"$f":"IF(F158=1,\"0\",VLOOKUP(F158,coefficient2!$A$28:$B$31,2,FALSE))","v":5.8085699999999997E-2},0.76913079999999989]
[12223,1,2,2,2,3,10,{"$f":"IF(B159=1,\"0\",VLOOKUP(B159,coefficient2!$A$4:$B$7,2,FALSE))","v":"0"},{"$f":"IF(C159=1,\"0\",VLOOKUP(C159,coefficient2!$A$10:$B$13,2,FALSE))","v":5.8129300000000002E-2},{"$f":"IF(D159=1,\"0\",VLOOKUP(D159,coefficient2!$A$16:$B$19,2,FALSE))","v":5.8254399999999998E-2},{"$f":"IF(E159=1,\"0\",VLOOKUP(E159,coefficient2!$A$22:$B$25,2,FALSE))","v":5.63998E-2},{"$f":"IF(F159=1,\"0\",VLOOKUP(F159,coefficient2!$A$28:$B$31,2,FALSE))","v":9.5753900000000003E-2},0.73146259999999996]
[12224,1,2,2,2,4,11,{"$f":"IF(B160=1,\"0\",VLOOKUP(B160,coefficient2!$A$4:$B$7,2,FALSE))","v":"0"},{"$f":"IF(C160=1,\"0\",VLOOKUP(C160,coefficient2!$A$10:$B$13,2,FALSE))","v":5.8129300000000002E-2},{"$f":"IF(D160=1,\"0\",VLOOKUP(D160,coefficient2!$A$16:$B$19,2,FALSE))","v":5.8254399999999998E-2},{"$f":"IF(E160=1,\"0\",VLOOKUP(E160,coefficient2!$A$22:$B$25,2,FALSE))","v":5.63998E-2},{"$f":"IF(F160=1,\"0\",VLOOKUP(F160,coefficient2!$A$28:$B$31,2,FALSE))","v":0.23270360000000001},0.5945128999999999]
[12225,1,2,2,2,5,12,{"$f":"IF(B161=1,\"0\",VLOOKUP(B161,coefficient2!$A$4:$B$7,2,FALSE))","v":"0"},{"$f":"IF(C161=1,\"0\",VLOOKUP(C161,coefficient2!$A$10:$B$13,2,FALSE))","v":5.8129300000000002E-2},{"$f":"IF(D161=1,\"0\",VLOOKUP(D161,coefficient2!$A$16:$B$19,2,FALSE))","v":5.8254399999999998E-2},{"$f":"IF(E161=1,\"0\",VLOOKUP(E161,coefficient2!$A$22:$B$25,2,FALSE))","v":5.63998E-2},{"$f":"IF(F161=1,\"0\",VLOOKUP(F161,coefficient2!$A$28:$B$31,2,FALSE))","v":0.29534929999999998},0.53186719999999998]
[12231,1,2,2,3,1,9,{"$f":"IF(B162=1,\"0\",VLOOKUP(B162,coefficient2!$A$4:$B$7,2,FALSE))","v":"0"},{"$f":"IF(C162=1,\"0\",VLOOKUP(C162,coefficient2!$A$10:$B$13,2,FALSE))","v":5.8129300000000002E-2},{"$f":"IF(D162=1,\"0\",VLOOKUP(D162,coefficient2!$A$16:$B$19,2,FALSE))","v":5.8254399999999998E-2},{"$f":"IF(E162=1,\"0\",VLOOKUP(E162,coefficient2!$A$22:$B$25,2,FALSE))","v":6.6492200000000001E-2},{"$f":"IF(F162=1,\"0\",VLOOKUP(F162,coefficient2!$A$28:$B$31,2,FALSE))","v":"0"},0.81712409999999991]
[12232,1,2,2,3,2,10,{"$f":"IF(B163=1,\"0\",VLOOKUP(B163,coefficient2!$A$4:$B$7,2,FALSE))","v":"0"},{"$f":"IF(C163=1,\"0\",VLOOKUP(C163,coefficient2!$A$10:$B$13,2,FALSE))","v":5.8129300000000002E-2},{"$f":"IF(D163=1,\"0\",VLOOKUP(D163,coefficient2!$A$16:$B$19,2,FALSE))","v":5.8254399999999998E-2},{"$f":"IF(E163=1,\"0\",VLOOKUP(E163,coefficient2!$A$22:$B$25,2,FALSE))","v":6.6492200000000001E-2},{"$f":"IF(F163=1,\"0\",VLOOKUP(F163,coefficient2!$A$28:$B$31,2,FALSE))","v":5.8085699999999997E-2},0.75903839999999989]
[12233,1,2,2,3,3,11,{"$f":"IF(B164=1,\"0\",VLOOKUP(B164,coefficient2!$A$4:$B$7,2,FALSE))","v":"0"},{"$f":"IF(C164=1,\"0\",VLOOKUP(C164,coefficient2!$A$10:$B$13,2,FALSE))","v":5.8129300000000002E-2},{"$f":"IF(D164=1,\"0\",VLOOKUP(D164,coefficient2!$A$16:$B$19,2,FALSE))","v":5.8254399999999998E-2},{"$f":"IF(E164=1,\"0\",VLOOKUP(E164,coefficient2!$A$22:$B$25,2,FALSE))","v":6.6492200000000001E-2},{"$f":"IF(F164=1,\"0\",VLOOKUP(F164,coefficient2!$A$28:$B$31,2,FALSE))","v":9.5753900000000003E-2},0.72137019999999996]
[12234,1,2,2,3,4,12,{"$f":"IF(B165=1,\"0\",VLOOKUP(B165,coefficient2!$A$4:$B$7,2,FALSE))","v":"0"},{"$f":"IF(C165=1,\"0\",VLOOKUP(C165,coefficient2!$A$10:$B$13,2,FALSE))","v":5.8129300000000002E-2},{"$f":"IF(D165=1,\"0\",VLOOKUP(D165,coefficient2!$A$16:$B$19,2,FALSE))","v":5.8254399999999998E-2},{"$f":"IF(E165=1,\"0\",VLOOKUP(E165,coefficient2!$A$22:$B$25,2,FALSE))","v":6.6492200000000001E-2},{"$f":"IF(F165=1,\"0\",VLOOKUP(F165,coefficient2!$A$28:$B$31,2,FALSE))","v":0.23270360000000001},0.5844204999999999]
[12235,1,2,2,3,5,13,{"$f":"IF(B166=1,\"0\",VLOOKUP(B166,coefficient2!$A$4:$B$7,2,FALSE))","v":"0"},{"$f":"IF(C166=1,\"0\",VLOOKUP(C166,coefficient2!$A$10:$B$13,2,FALSE))","v":5.8129300000000002E-2},{"$f":"IF(D166=1,\"0\",VLOOKUP(D166,coefficient2!$A$16:$B$19,2,FALSE))","v":5.8254399999999998E-2},{"$f":"IF(E166=1,\"0\",VLOOKUP(E166,coefficient2!$A$22:$B$25,2,FALSE))","v":6.6492200000000001E-2},{"$f":"IF(F166=1,\"0\",VLOOKUP(F166,coefficient2!$A$28:$B$31,2,FALSE))","v":0.29534929999999998},0.52177479999999998]
[12241,1,2,2,4,1,10,{"$f":"IF(B167=1,\"0\",VLOOKUP(B167,coefficient2!$A$4:$B$7,2,FALSE))","v":"0"},{"$f":"IF(C167=1,\"0\",VLOOKUP(C167,coefficient2!$A$10:$B$13,2,FALSE))","v":5.8129300000000002E-2},{"$f":"IF(D167=1,\"0\",VLOOKUP(D167,coefficient2!$A$16:$B$19,2,FALSE))","v":5.8254399999999998E-2},{"$f":"IF(E167=1,\"0\",VLOOKUP(E167,coefficient2!$A$22:$B$25,2,FALSE))","v":0.2068864},{"$f":"IF(F167=1,\"0\",VLOOKUP(F167,coefficient2!$A$28:$B$31,2,FALSE))","v":"0"},0.67672989999999988]
[12242,1,2,2,4,2,11,{"$f":"IF(B168=1,\"0\",VLOOKUP(B168,coefficient2!$A$4:$B$7,2,FALSE))","v":"0"},{"$f":"IF(C168=1,\"0\",VLOOKUP(C168,coefficient2!$A$10:$B$13,2,FALSE))","v":5.8129300000000002E-2},{"$f":"IF(D168=1,\"0\",VLOOKUP(D168,coefficient2!$A$16:$B$19,2,FALSE))","v":5.8254399999999998E-2},{"$f":"IF(E168=1,\"0\",VLOOKUP(E168,coefficient2!$A$22:$B$25,2,FALSE))","v":0.2068864},{"$f":"IF(F168=1,\"0\",VLOOKUP(F168,coefficient2!$A$28:$B$31,2,FALSE))","v":5.8085699999999997E-2},0.61864419999999987]
[12243,1,2,2,4,3,12,{"$f":"IF(B169=1,\"0\",VLOOKUP(B169,coefficient2!$A$4:$B$7,2,FALSE))","v":"0"},{"$f":"IF(C169=1,\"0\",VLOOKUP(C169,coefficient2!$A$10:$B$13,2,FALSE))","v":5.8129300000000002E-2},{"$f":"IF(D169=1,\"0\",VLOOKUP(D169,coefficient2!$A$16:$B$19,2,FALSE))","v":5.8254399999999998E-2},{"$f":"IF(E169=1,\"0\",VLOOKUP(E169,coefficient2!$A$22:$B$25,2,FALSE))","v":0.2068864},{"$f":"IF(F169=1,\"0\",VLOOKUP(F169,coefficient2!$A$28:$B$31,2,FALSE))","v":9.5753900000000003E-2},0.58097599999999994]
[12244,1,2,2,4,4,13,{"$f":"IF(B170=1,\"0\",VLOOKUP(B170,coefficient2!$A$4:$B$7,2,FALSE))","v":"0"},{"$f":"IF(C170=1,\"0\",VLOOKUP(C170,coefficient2!$A$10:$B$13,2,FALSE))","v":5.8129300000000002E-2},{"$f":"IF(D170=1,\"0\",VLOOKUP(D170,coefficient2!$A$16:$B$19,2,FALSE))","v":5.8254399999999998E-2},{"$f":"IF(E170=1,\"0\",VLOOKUP(E170,coefficient2!$A$22:$B$25,2,FALSE))","v":0.2068864},{"$f":"IF(F170=1,\"0\",VLOOKUP(F170,coefficient2!$A$28:$B$31,2,FALSE))","v":0.23270360000000001},0.44402629999999987]
[12245,1,2,2,4,5,14,{"$f":"IF(B171=1,\"0\",VLOOKUP(B171,coefficient2!$A$4:$B$7,2,FALSE))","v":"0"},{"$f":"IF(C171=1,\"0\",VLOOKUP(C171,coefficient2!$A$10:$B$13,2,FALSE))","v":5.8129300000000002E-2},{"$f":"IF(D171=1,\"0\",VLOOKUP(D171,coefficient2!$A$16:$B$19,2,FALSE))","v":5.8254399999999998E-2},{"$f":"IF(E171=1,\"0\",VLOOKUP(E171,coefficient2!$A$22:$B$25,2,FALSE))","v":0.2068864},{"$f":"IF(F171=1,\"0\",VLOOKUP(F171,coefficient2!$A$28:$B$31,2,FALSE))","v":0.29534929999999998},0.3813805999999999]
[12251,1,2,2,5,1,11,{"$f":"IF(B172=1,\"0\",VLOOKUP(B172,coefficient2!$A$4:$B$7,2,FALSE))","v":"0"},{"$f":"IF(C172=1,\"0\",VLOOKUP(C172,coefficient2!$A$10:$B$13,2,FALSE))","v":5.8129300000000002E-2},{"$f":"IF(D172=1,\"0\",VLOOKUP(D172,coefficient2!$A$16:$B$19,2,FALSE))","v":5.8254399999999998E-2},{"$f":"IF(E172=1,\"0\",VLOOKUP(E172,coefficient2!$A$22:$B$25,2,FALSE))","v":0.25643310000000002},{"$f":"IF(F172=1,\"0\",VLOOKUP(F172,coefficient2!$A$28:$B$31,2,FALSE))","v":"0"},0.62718319999999994]
[12252,1,2,2,5,2,12,{"$f":"IF(B173=1,\"0\",VLOOKUP(B173,coefficient2!$A$4:$B$7,2,FALSE))","v":"0"},{"$f":"IF(C173=1,\"0\",VLOOKUP(C173,coefficient2!$A$10:$B$13,2,FALSE))","v":5.8129300000000002E-2},{"$f":"IF(D173=1,\"0\",VLOOKUP(D173,coefficient2!$A$16:$B$19,2,FALSE))","v":5.8254399999999998E-2},{"$f":"IF(E173=1,\"0\",VLOOKUP(E173,coefficient2!$A$22:$B$25,2,FALSE))","v":0.25643310000000002},{"$f":"IF(F173=1,\"0\",VLOOKUP(F173,coefficient2!$A$28:$B$31,2,FALSE))","v":5.8085699999999997E-2},0.56909749999999992]
[12253,1,2,2,5,3,13,{"$f":"IF(B174=1,\"0\",VLOOKUP(B174,coefficient2!$A$4:$B$7,2,FALSE))","v":"0"},{"$f":"IF(C174=1,\"0\",VLOOKUP(C174,coefficient2!$A$10:$B$13,2,FALSE))","v":5.8129300000000002E-2},{"$f":"IF(D174=1,\"0\",VLOOKUP(D174,coefficient2!$A$16:$B$19,2,FALSE))","v":5.8254399999999998E-2},{"$f":"IF(E174=1,\"0\",VLOOKUP(E174,coefficient2!$A$22:$B$25,2,FALSE))","v":0.25643310000000002},{"$f":"IF(F174=1,\"0\",VLOOKUP(F174,coefficient2!$A$28:$B$31,2,FALSE))","v":9.5753900000000003E-2},0.53142929999999988]
[12254,1,2,2,5,4,14,{"$f":"IF(B175=1,\"0\",VLOOKUP(B175,coefficient2!$A$4:$B$7,2,FALSE))","v":"0"},{"$f":"IF(C175=1,\"0\",VLOOKUP(C175,coefficient2!$A$10:$B$13,2,FALSE))","v":5.8129300000000002E-2},{"$f":"IF(D175=1,\"0\",VLOOKUP(D175,coefficient2!$A$16:$B$19,2,FALSE))","v":5.8254399999999998E-2},{"$f":"IF(E175=1,\"0\",VLOOKUP(E175,coefficient2!$A$22:$B$25,2,FALSE))","v":0.25643310000000002},{"$f":"IF(F175=1,\"0\",VLOOKUP(F175,coefficient2!$A$28:$B$31,2,FALSE))","v":0.23270360000000001},0.39447959999999993]
[12255,1,2,2,5,5,15,{"$f":"IF(B176=1,\"0\",VLOOKUP(B176,coefficient2!$A$4:$B$7,2,FALSE))","v":"0"},{"$f":"IF(C176=1,\"0\",VLOOKUP(C176,coefficient2!$A$10:$B$13,2,FALSE))","v":5.8129300000000002E-2},{"$f":"IF(D176=1,\"0\",VLOOKUP(D176,coefficient2!$A$16:$B$19,2,FALSE))","v":5.8254399999999998E-2},{"$f":"IF(E176=1,\"0\",VLOOKUP(E176,coefficient2!$A$22:$B$25,2,FALSE))","v":0.25643310000000002},{"$f":"IF(F176=1,\"0\",VLOOKUP(F176,coefficient2!$A$28:$B$31,2,FALSE))","v":0.29534929999999998},0.33183389999999996]
[12311,1,2,3,1,1,8,{"$f":"IF(B177=1,\"0\",VLOOKUP(B177,coefficient2!$A$4:$B$7,2,FALSE))","v":"0"},{"$f":"IF(C177=1,\"0\",VLOOKUP(C177,coefficient2!$A$10:$B$13,2,FALSE))","v":5.8129300000000002E-2},{"$f":"IF(D177=1,\"0\",VLOOKUP(D177,coefficient2!$A$16:$B$19,2,FALSE))","v":7.1197399999999994E-2},{"$f":"IF(E177=1,\"0\",VLOOKUP(E177,coefficient2!$A$22:$B$25,2,FALSE))","v":"0"},{"$f":"IF(F177=1,\"0\",VLOOKUP(F177,coefficient2!$A$28:$B$31,2,FALSE))","v":"0"},0.87067329999999998]
[12312,1,2,3,1,2,9,{"$f":"IF(B178=1,\"0\",VLOOKUP(B178,coefficient2!$A$4:$B$7,2,FALSE))","v":"0"},{"$f":"IF(C178=1,\"0\",VLOOKUP(C178,coefficient2!$A$10:$B$13,2,FALSE))","v":5.8129300000000002E-2},{"$f":"IF(D178=1,\"0\",VLOOKUP(D178,coefficient2!$A$16:$B$19,2,FALSE))","v":7.1197399999999994E-2},{"$f":"IF(E178=1,\"0\",VLOOKUP(E178,coefficient2!$A$22:$B$25,2,FALSE))","v":"0"},{"$f":"IF(F178=1,\"0\",VLOOKUP(F178,coefficient2!$A$28:$B$31,2,FALSE))","v":5.8085699999999997E-2},0.81258759999999997]
[12313,1,2,3,1,3,10,{"$f":"IF(B179=1,\"0\",VLOOKUP(B179,coefficient2!$A$4:$B$7,2,FALSE))","v":"0"},{"$f":"IF(C179=1,\"0\",VLOOKUP(C179,coefficient2!$A$10:$B$13,2,FALSE))","v":5.8129300000000002E-2},{"$f":"IF(D179=1,\"0\",VLOOKUP(D179,coefficient2!$A$16:$B$19,2,FALSE))","v":7.1197399999999994E-2},{"$f":"IF(E179=1,\"0\",VLOOKUP(E179,coefficient2!$A$22:$B$25,2,FALSE))","v":"0"},{"$f":"IF(F179=1,\"0\",VLOOKUP(F179,coefficient2!$A$28:$B$31,2,FALSE))","v":9.5753900000000003E-2},0.77491939999999992]
[12314,1,2,3,1,4,11,{"$f":"IF(B180=1,\"0\",VLOOKUP(B180,coefficient2!$A$4:$B$7,2,FALSE))","v":"0"},{"$f":"IF(C180=1,\"0\",VLOOKUP(C180,coefficient2!$A$10:$B$13,2,FALSE))","v":5.8129300000000002E-2},{"$f":"IF(D180=1,\"0\",VLOOKUP(D180,coefficient2!$A$16:$B$19,2,FALSE))","v":7.1197399999999994E-2},{"$f":"IF(E180=1,\"0\",VLOOKUP(E180,coefficient2!$A$22:$B$25,2,FALSE))","v":"0"},{"$f":"IF(F180=1,\"0\",VLOOKUP(F180,coefficient2!$A$28:$B$31,2,FALSE))","v":0.23270360000000001},0.63796969999999997]
[12315,1,2,3,1,5,12,{"$f":"IF(B181=1,\"0\",VLOOKUP(B181,coefficient2!$A$4:$B$7,2,FALSE))","v":"0"},{"$f":"IF(C181=1,\"0\",VLOOKUP(C181,coefficient2!$A$10:$B$13,2,FALSE))","v":5.8129300000000002E-2},{"$f":"IF(D181=1,\"0\",VLOOKUP(D181,coefficient2!$A$16:$B$19,2,FALSE))","v":7.1197399999999994E-2},{"$f":"IF(E181=1,\"0\",VLOOKUP(E181,coefficient2!$A$22:$B$25,2,FALSE))","v":"0"},{"$f":"IF(F181=1,\"0\",VLOOKUP(F181,coefficient2!$A$28:$B$31,2,FALSE))","v":0.29534929999999998},0.57532399999999995]
[12321,1,2,3,2,1,9,{"$f":"IF(B182=1,\"0\",VLOOKUP(B182,coefficient2!$A$4:$B$7,2,FALSE))","v":"0"},{"$f":"IF(C182=1,\"0\",VLOOKUP(C182,coefficient2!$A$10:$B$13,2,FALSE))","v":5.8129300000000002E-2},{"$f":"IF(D182=1,\"0\",VLOOKUP(D182,coefficient2!$A$16:$B$19,2,FALSE))","v":7.1197399999999994E-2},{"$f":"IF(E182=1,\"0\",VLOOKUP(E182,coefficient2!$A$22:$B$25,2,FALSE))","v":5.63998E-2},{"$f":"IF(F182=1,\"0\",VLOOKUP(F182,coefficient2!$A$28:$B$31,2,FALSE))","v":"0"},0.81427349999999998]
[12322,1,2,3,2,2,10,{"$f":"IF(B183=1,\"0\",VLOOKUP(B183,coefficient2!$A$4:$B$7,2,FALSE))","v":"0"},{"$f":"IF(C183=1,\"0\",VLOOKUP(C183,coefficient2!$A$10:$B$13,2,FALSE))","v":5.8129300000000002E-2},{"$f":"IF(D183=1,\"0\",VLOOKUP(D183,coefficient2!$A$16:$B$19,2,FALSE))","v":7.1197399999999994E-2},{"$f":"IF(E183=1,\"0\",VLOOKUP(E183,coefficient2!$A$22:$B$25,2,FALSE))","v":5.63998E-2},{"$f":"IF(F183=1,\"0\",VLOOKUP(F183,coefficient2!$A$28:$B$31,2,FALSE))","v":5.8085699999999997E-2},0.75618779999999997]
[12323,1,2,3,2,3,11,{"$f":"IF(B184=1,\"0\",VLOOKUP(B184,coefficient2!$A$4:$B$7,2,FALSE))","v":"0"},{"$f":"IF(C184=1,\"0\",VLOOKUP(C184,coefficient2!$A$10:$B$13,2,FALSE))","v":5.8129300000000002E-2},{"$f":"IF(D184=1,\"0\",VLOOKUP(D184,coefficient2!$A$16:$B$19,2,FALSE))","v":7.1197399999999994E-2},{"$f":"IF(E184=1,\"0\",VLOOKUP(E184,coefficient2!$A$22:$B$25,2,FALSE))","v":5.63998E-2},{"$f":"IF(F184=1,\"0\",VLOOKUP(F184,coefficient2!$A$28:$B$31,2,FALSE))","v":9.5753900000000003E-2},0.71851960000000004]
[12324,1,2,3,2,4,12,{"$f":"IF(B185=1,\"0\",VLOOKUP(B185,coefficient2!$A$4:$B$7,2,FALSE))","v":"0"},{"$f":"IF(C185=1,\"0\",VLOOKUP(C185,coefficient2!$A$10:$B$13,2,FALSE))","v":5.8129300000000002E-2},{"$f":"IF(D185=1,\"0\",VLOOKUP(D185,coefficient2!$A$16:$B$19,2,FALSE))","v":7.1197399999999994E-2},{"$f":"IF(E185=1,\"0\",VLOOKUP(E185,coefficient2!$A$22:$B$25,2,FALSE))","v":5.63998E-2},{"$f":"IF(F185=1,\"0\",VLOOKUP(F185,coefficient2!$A$28:$B$31,2,FALSE))","v":0.23270360000000001},0.58156989999999997]
[12325,1,2,3,2,5,13,{"$f":"IF(B186=1,\"0\",VLOOKUP(B186,coefficient2!$A$4:$B$7,2,FALSE))","v":"0"},{"$f":"IF(C186=1,\"0\",VLOOKUP(C186,coefficient2!$A$10:$B$13,2,FALSE))","v":5.8129300000000002E-2},{"$f":"IF(D186=1,\"0\",VLOOKUP(D186,coefficient2!$A$16:$B$19,2,FALSE))","v":7.1197399999999994E-2},{"$f":"IF(E186=1,\"0\",VLOOKUP(E186,coefficient2!$A$22:$B$25,2,FALSE))","v":5.63998E-2},{"$f":"IF(F186=1,\"0\",VLOOKUP(F186,coefficient2!$A$28:$B$31,2,FALSE))","v":0.29534929999999998},0.51892420000000006]
[12331,1,2,3,3,1,10,{"$f":"IF(B187=1,\"0\",VLOOKUP(B187,coefficient2!$A$4:$B$7,2,FALSE))","v":"0"},{"$f":"IF(C187=1,\"0\",VLOOKUP(C187,coefficient2!$A$10:$B$13,2,FALSE))","v":5.8129300000000002E-2},{"$f":"IF(D187=1,\"0\",VLOOKUP(D187,coefficient2!$A$16:$B$19,2,FALSE))","v":7.1197399999999994E-2},{"$f":"IF(E187=1,\"0\",VLOOKUP(E187,coefficient2!$A$22:$B$25,2,FALSE))","v":6.6492200000000001E-2},{"$f":"IF(F187=1,\"0\",VLOOKUP(F187,coefficient2!$A$28:$B$31,2,FALSE))","v":"0"},0.80418109999999998]
[12332,1,2,3,3,2,11,{"$f":"IF(B188=1,\"0\",VLOOKUP(B188,coefficient2!$A$4:$B$7,2,FALSE))","v":"0"},{"$f":"IF(C188=1,\"0\",VLOOKUP(C188,coefficient2!$A$10:$B$13,2,FALSE))","v":5.8129300000000002E-2},{"$f":"IF(D188=1,\"0\",VLOOKUP(D188,coefficient2!$A$16:$B$19,2,FALSE))","v":7.1197399999999994E-2},{"$f":"IF(E188=1,\"0\",VLOOKUP(E188,coefficient2!$A$22:$B$25,2,FALSE))","v":6.6492200000000001E-2},{"$f":"IF(F188=1,\"0\",VLOOKUP(F188,coefficient2!$A$28:$B$31,2,FALSE))","v":5.8085699999999997E-2},0.74609539999999996]
[12333,1,2,3,3,3,12,{"$f":"IF(B189=1,\"0\",VLOOKUP(B189,coefficient2!$A$4:$B$7,2,FALSE))","v":"0"},{"$f":"IF(C189=1,\"0\",VLOOKUP(C189,coefficient2!$A$10:$B$13,2,FALSE))","v":5.8129300000000002E-2},{"$f":"IF(D189=1,\"0\",VLOOKUP(D189,coefficient2!$A$16:$B$19,2,FALSE))","v":7.1197399999999994E-2},{"$f":"IF(E189=1,\"0\",VLOOKUP(E189,coefficient2!$A$22:$B$25,2,FALSE))","v":6.6492200000000001E-2},{"$f":"IF(F189=1,\"0\",VLOOKUP(F189,coefficient2!$A$28:$B$31,2,FALSE))","v":9.5753900000000003E-2},0.70842720000000003]
[12334,1,2,3,3,4,13,{"$f":"IF(B190=1,\"0\",VLOOKUP(B190,coefficient2!$A$4:$B$7,2,FALSE))","v":"0"},{"$f":"IF(C190=1,\"0\",VLOOKUP(C190,coefficient2!$A$10:$B$13,2,FALSE))","v":5.8129300000000002E-2},{"$f":"IF(D190=1,\"0\",VLOOKUP(D190,coefficient2!$A$16:$B$19,2,FALSE))","v":7.1197399999999994E-2},{"$f":"IF(E190=1,\"0\",VLOOKUP(E190,coefficient2!$A$22:$B$25,2,FALSE))","v":6.6492200000000001E-2},{"$f":"IF(F190=1,\"0\",VLOOKUP(F190,coefficient2!$A$28:$B$31,2,FALSE))","v":0.23270360000000001},0.57147749999999997]
[12335,1,2,3,3,5,14,{"$f":"IF(B191=1,\"0\",VLOOKUP(B191,coefficient2!$A$4:$B$7,2,FALSE))","v":"0"},{"$f":"IF(C191=1,\"0\",VLOOKUP(C191,coefficient2!$A$10:$B$13,2,FALSE))","v":5.8129300000000002E-2},{"$f":"IF(D191=1,\"0\",VLOOKUP(D191,coefficient2!$A$16:$B$19,2,FALSE))","v":7.1197399999999994E-2},{"$f":"IF(E191=1,\"0\",VLOOKUP(E191,coefficient2!$A$22:$B$25,2,FALSE))","v":6.6492200000000001E-2},{"$f":"IF(F191=1,\"0\",VLOOKUP(F191,coefficient2!$A$28:$B$31,2,FALSE))","v":0.29534929999999998},0.50883180000000006]
[12341,1,2,3,4,1,11,{"$f":"IF(B192=1,\"0\",VLOOKUP(B192,coefficient2!$A$4:$B$7,2,FALSE))","v":"0"},{"$f":"IF(C192=1,\"0\",VLOOKUP(C192,coefficient2!$A$10:$B$13,2,FALSE))","v":5.8129300000000002E-2},{"$f":"IF(D192=1,\"0\",VLOOKUP(D192,coefficient2!$A$16:$B$19,2,FALSE))","v":7.1197399999999994E-2},{"$f":"IF(E192=1,\"0\",VLOOKUP(E192,coefficient2!$A$22:$B$25,2,FALSE))","v":0.2068864},{"$f":"IF(F192=1,\"0\",VLOOKUP(F192,coefficient2!$A$28:$B$31,2,FALSE))","v":"0"},0.66378689999999996]
[12342,1,2,3,4,2,12,{"$f":"IF(B193=1,\"0\",VLOOKUP(B193,coefficient2!$A$4:$B$7,2,FALSE))","v":"0"},{"$f":"IF(C193=1,\"0\",VLOOKUP(C193,coefficient2!$A$10:$B$13,2,FALSE))","v":5.8129300000000002E-2},{"$f":"IF(D193=1,\"0\",VLOOKUP(D193,coefficient2!$A$16:$B$19,2,FALSE))","v":7.1197399999999994E-2},{"$f":"IF(E193=1,\"0\",VLOOKUP(E193,coefficient2!$A$22:$B$25,2,FALSE))","v":0.2068864},{"$f":"IF(F193=1,\"0\",VLOOKUP(F193,coefficient2!$A$28:$B$31,2,FALSE))","v":5.8085699999999997E-2},0.60570119999999994]
[12343,1,2,3,4,3,13,{"$f":"IF(B194=1,\"0\",VLOOKUP(B194,coefficient2!$A$4:$B$7,2,FALSE))","v":"0"},{"$f":"IF(C194=1,\"0\",VLOOKUP(C194,coefficient2!$A$10:$B$13,2,FALSE))","v":5.8129300000000002E-2},{"$f":"IF(D194=1,\"0\",VLOOKUP(D194,coefficient2!$A$16:$B$19,2,FALSE))","v":7.1197399999999994E-2},{"$f":"IF(E194=1,\"0\",VLOOKUP(E194,coefficient2!$A$22:$B$25,2,FALSE))","v":0.2068864},{"$f":"IF(F194=1,\"0\",VLOOKUP(F194,coefficient2!$A$28:$B$31,2,FALSE))","v":9.5753900000000003E-2},{"$f":"1-H194-I194-J194-K194-L194","v":0.56803300000000001}]
[12344,{"$f":"INT(LEFT(A195,1))","v":1},{"$f":"INT(MID(A195,2,1))","v":2},{"$f":"INT(MID(A195,3,1))","v":3},{"$f":"INT(MID(A195,4,1))","v":4},{"$f":"INT(RIGHT(A195,1))","v":4},{"$f":"SUM(B195:F195)","v":14},{"$f":"IF(B195=1,\"0\",VLOOKUP(B195,coefficient2!$A$4:$B$7,2,FALSE))","v":"0"},{"$f":"IF(C195=1,\"0\",VLOOKUP(C195,coefficient2!$A$10:$B$13,2,FALSE))","v":5.8129300000000002E-2},{"$f":"IF(D195=1,\"0\",VLOOKUP(D195,coefficient2!$A$16:$B$19,2,FALSE))","v":7.1197399999999994E-2},{"$f":"IF(E195=1,\"0\",VLOOKUP(E195,coefficient2!$A$22:$B$25,2,FALSE))","v":0.2068864},{"$f":"IF(F195=1,\"0\",VLOOKUP(F195,coefficient2!$A$28:$B$31,2,FALSE))","v":0.23270360000000001},0.43108329999999995]
[12345,1,2,3,4,5,15,{"$f":"IF(B196=1,\"0\",VLOOKUP(B196,coefficient2!$A$4:$B$7,2,FALSE))","v":"0"},{"$f":"IF(C196=1,\"0\",VLOOKUP(C196,coefficient2!$A$10:$B$13,2,FALSE))","v":5.8129300000000002E-2},{"$f":"IF(D196=1,\"0\",VLOOKUP(D196,coefficient2!$A$16:$B$19,2,FALSE))","v":7.1197399999999994E-2},{"$f":"IF(E196=1,\"0\",VLOOKUP(E196,coefficient2!$A$22:$B$25,2,FALSE))","v":0.2068864},{"$f":"IF(F196=1,\"0\",VLOOKUP(F196,coefficient2!$A$28:$B$31,2,FALSE))","v":0.29534929999999998},0.36843759999999998]
[12351,1,2,3,5,1,12,{"$f":"IF(B197=1,\"0\",VLOOKUP(B197,coefficient2!$A$4:$B$7,2,FALSE))","v":"0"},{"$f":"IF(C197=1,\"0\",VLOOKUP(C197,coefficient2!$A$10:$B$13,2,FALSE))","v":5.8129300000000002E-2},{"$f":"IF(D197=1,\"0\",VLOOKUP(D197,coefficient2!$A$16:$B$19,2,FALSE))","v":7.1197399999999994E-2},{"$f":"IF(E197=1,\"0\",VLOOKUP(E197,coefficient2!$A$22:$B$25,2,FALSE))","v":0.25643310000000002},{"$f":"IF(F197=1,\"0\",VLOOKUP(F197,coefficient2!$A$28:$B$31,2,FALSE))","v":"0"},0.61424020000000001]
[12352,1,2,3,5,2,13,{"$f":"IF(B198=1,\"0\",VLOOKUP(B198,coefficient2!$A$4:$B$7,2,FALSE))","v":"0"},{"$f":"IF(C198=1,\"0\",VLOOKUP(C198,coefficient2!$A$10:$B$13,2,FALSE))","v":5.8129300000000002E-2},{"$f":"IF(D198=1,\"0\",VLOOKUP(D198,coefficient2!$A$16:$B$19,2,FALSE))","v":7.1197399999999994E-2},{"$f":"IF(E198=1,\"0\",VLOOKUP(E198,coefficient2!$A$22:$B$25,2,FALSE))","v":0.25643310000000002},{"$f":"IF(F198=1,\"0\",VLOOKUP(F198,coefficient2!$A$28:$B$31,2,FALSE))","v":5.8085699999999997E-2},0.5561545]
[12353,1,2,3,5,3,14,{"$f":"IF(B199=1,\"0\",VLOOKUP(B199,coefficient2!$A$4:$B$7,2,FALSE))","v":"0"},{"$f":"IF(C199=1,\"0\",VLOOKUP(C199,coefficient2!$A$10:$B$13,2,FALSE))","v":5.8129300000000002E-2},{"$f":"IF(D199=1,\"0\",VLOOKUP(D199,coefficient2!$A$16:$B$19,2,FALSE))","v":7.1197399999999994E-2},{"$f":"IF(E199=1,\"0\",VLOOKUP(E199,coefficient2!$A$22:$B$25,2,FALSE))","v":0.25643310000000002},{"$f":"IF(F199=1,\"0\",VLOOKUP(F199,coefficient2!$A$28:$B$31,2,FALSE))","v":9.5753900000000003E-2},0.51848629999999996]
[12354,1,2,3,5,4,15,{"$f":"IF(B200=1,\"0\",VLOOKUP(B200,coefficient2!$A$4:$B$7,2,FALSE))","v":"0"},{"$f":"IF(C200=1,\"0\",VLOOKUP(C200,coefficient2!$A$10:$B$13,2,FALSE))","v":5.8129300000000002E-2},{"$f":"IF(D200=1,\"0\",VLOOKUP(D200,coefficient2!$A$16:$B$19,2,FALSE))","v":7.1197399999999994E-2},{"$f":"IF(E200=1,\"0\",VLOOKUP(E200,coefficient2!$A$22:$B$25,2,FALSE))","v":0.25643310000000002},{"$f":"IF(F200=1,\"0\",VLOOKUP(F200,coefficient2!$A$28:$B$31,2,FALSE))","v":0.23270360000000001},0.3815366]
[12355,1,2,3,5,5,16,{"$f":"IF(B201=1,\"0\",VLOOKUP(B201,coefficient2!$A$4:$B$7,2,FALSE))","v":"0"},{"$f":"IF(C201=1,\"0\",VLOOKUP(C201,coefficient2!$A$10:$B$13,2,FALSE))","v":5.8129300000000002E-2},{"$f":"IF(D201=1,\"0\",VLOOKUP(D201,coefficient2!$A$16:$B$19,2,FALSE))","v":7.1197399999999994E-2},{"$f":"IF(E201=1,\"0\",VLOOKUP(E201,coefficient2!$A$22:$B$25,2,FALSE))","v":0.25643310000000002},{"$f":"IF(F201=1,\"0\",VLOOKUP(F201,coefficient2!$A$28:$B$31,2,FALSE))","v":0.29534929999999998},0.31889090000000003]
[12411,1,2,4,1,1,9,{"$f":"IF(B202=1,\"0\",VLOOKUP(B202,coefficient2!$A$4:$B$7,2,FALSE))","v":"0"},{"$f":"IF(C202=1,\"0\",VLOOKUP(C202,coefficient2!$A$10:$B$13,2,FALSE))","v":5.8129300000000002E-2},{"$f":"IF(D202=1,\"0\",VLOOKUP(D202,coefficient2!$A$16:$B$19,2,FALSE))","v":0.1534855},{"$f":"IF(E202=1,\"0\",VLOOKUP(E202,coefficient2!$A$22:$B$25,2,FALSE))","v":"0"},{"$f":"IF(F202=1,\"0\",VLOOKUP(F202,coefficient2!$A$28:$B$31,2,FALSE))","v":"0"},0.78838520000000001]
[12412,1,2,4,1,2,10,{"$f":"IF(B203=1,\"0\",VLOOKUP(B203,coefficient2!$A$4:$B$7,2,FALSE))","v":"0"},{"$f":"IF(C203=1,\"0\",VLOOKUP(C203,coefficient2!$A$10:$B$13,2,FALSE))","v":5.8129300000000002E-2},{"$f":"IF(D203=1,\"0\",VLOOKUP(D203,coefficient2!$A$16:$B$19,2,FALSE))","v":0.1534855},{"$f":"IF(E203=1,\"0\",VLOOKUP(E203,coefficient2!$A$22:$B$25,2,FALSE))","v":"0"},{"$f":"IF(F203=1,\"0\",VLOOKUP(F203,coefficient2!$A$28:$B$31,2,FALSE))","v":5.8085699999999997E-2},0.73029949999999999]
[12413,1,2,4,1,3,11,{"$f":"IF(B204=1,\"0\",VLOOKUP(B204,coefficient2!$A$4:$B$7,2,FALSE))","v":"0"},{"$f":"IF(C204=1,\"0\",VLOOKUP(C204,coefficient2!$A$10:$B$13,2,FALSE))","v":5.8129300000000002E-2},{"$f":"IF(D204=1,\"0\",VLOOKUP(D204,coefficient2!$A$16:$B$19,2,FALSE))","v":0.1534855},{"$f":"IF(E204=1,\"0\",VLOOKUP(E204,coefficient2!$A$22:$B$25,2,FALSE))","v":"0"},{"$f":"IF(F204=1,\"0\",VLOOKUP(F204,coefficient2!$A$28:$B$31,2,FALSE))","v":9.5753900000000003E-2},0.69263129999999995]
[12414,1,2,4,1,4,12,{"$f":"IF(B205=1,\"0\",VLOOKUP(B205,coefficient2!$A$4:$B$7,2,FALSE))","v":"0"},{"$f":"IF(C205=1,\"0\",VLOOKUP(C205,coefficient2!$A$10:$B$13,2,FALSE))","v":5.8129300000000002E-2},{"$f":"IF(D205=1,\"0\",VLOOKUP(D205,coefficient2!$A$16:$B$19,2,FALSE))","v":0.1534855},{"$f":"IF(E205=1,\"0\",VLOOKUP(E205,coefficient2!$A$22:$B$25,2,FALSE))","v":"0"},{"$f":"IF(F205=1,\"0\",VLOOKUP(F205,coefficient2!$A$28:$B$31,2,FALSE))","v":0.23270360000000001},0.5556816]
[12415,1,2,4,1,5,13,{"$f":"IF(B206=1,\"0\",VLOOKUP(B206,coefficient2!$A$4:$B$7,2,FALSE))","v":"0"},{"$f":"IF(C206=1,\"0\",VLOOKUP(C206,coefficient2!$A$10:$B$13,2,FALSE))","v":5.8129300000000002E-2},{"$f":"IF(D206=1,\"0\",VLOOKUP(D206,coefficient2!$A$16:$B$19,2,FALSE))","v":0.1534855},{"$f":"IF(E206=1,\"0\",VLOOKUP(E206,coefficient2!$A$22:$B$25,2,FALSE))","v":"0"},{"$f":"IF(F206=1,\"0\",VLOOKUP(F206,coefficient2!$A$28:$B$31,2,FALSE))","v":0.29534929999999998},0.49303590000000003]
[12421,1,2,4,2,1,10,{"$f":"IF(B207=1,\"0\",VLOOKUP(B207,coefficient2!$A$4:$B$7,2,FALSE))","v":"0"},{"$f":"IF(C207=1,\"0\",VLOOKUP(C207,coefficient2!$A$10:$B$13,2,FALSE))","v":5.8129300000000002E-2},{"$f":"IF(D207=1,\"0\",VLOOKUP(D207,coefficient2!$A$16:$B$19,2,FALSE))","v":0.1534855},{"$f":"IF(E207=1,\"0\",VLOOKUP(E207,coefficient2!$A$22:$B$25,2,FALSE))","v":5.63998E-2},{"$f":"IF(F207=1,\"0\",VLOOKUP(F207,coefficient2!$A$28:$B$31,2,FALSE))","v":"0"},0.73198540000000001]
[12422,1,2,4,2,2,11,{"$f":"IF(B208=1,\"0\",VLOOKUP(B208,coefficient2!$A$4:$B$7,2,FALSE))","v":"0"},{"$f":"IF(C208=1,\"0\",VLOOKUP(C208,coefficient2!$A$10:$B$13,2,FALSE))","v":5.8129300000000002E-2},{"$f":"IF(D208=1,\"0\",VLOOKUP(D208,coefficient2!$A$16:$B$19,2,FALSE))","v":0.1534855},{"$f":"IF(E208=1,\"0\",VLOOKUP(E208,coefficient2!$A$22:$B$25,2,FALSE))","v":5.63998E-2},{"$f":"IF(F208=1,\"0\",VLOOKUP(F208,coefficient2!$A$28:$B$31,2,FALSE))","v":5.8085699999999997E-2},0.67389969999999999]
[12423,1,2,4,2,3,12,{"$f":"IF(B209=1,\"0\",VLOOKUP(B209,coefficient2!$A$4:$B$7,2,FALSE))","v":"0"},{"$f":"IF(C209=1,\"0\",VLOOKUP(C209,coefficient2!$A$10:$B$13,2,FALSE))","v":5.8129300000000002E-2},{"$f":"IF(D209=1,\"0\",VLOOKUP(D209,coefficient2!$A$16:$B$19,2,FALSE))","v":0.1534855},{"$f":"IF(E209=1,\"0\",VLOOKUP(E209,coefficient2!$A$22:$B$25,2,FALSE))","v":5.63998E-2},{"$f":"IF(F209=1,\"0\",VLOOKUP(F209,coefficient2!$A$28:$B$31,2,FALSE))","v":9.5753900000000003E-2},0.63623150000000006]
[12424,1,2,4,2,4,13,{"$f":"IF(B210=1,\"0\",VLOOKUP(B210,coefficient2!$A$4:$B$7,2,FALSE))","v":"0"},{"$f":"IF(C210=1,\"0\",VLOOKUP(C210,coefficient2!$A$10:$B$13,2,FALSE))","v":5.8129300000000002E-2},{"$f":"IF(D210=1,\"0\",VLOOKUP(D210,coefficient2!$A$16:$B$19,2,FALSE))","v":0.1534855},{"$f":"IF(E210=1,\"0\",VLOOKUP(E210,coefficient2!$A$22:$B$25,2,FALSE))","v":5.63998E-2},{"$f":"IF(F210=1,\"0\",VLOOKUP(F210,coefficient2!$A$28:$B$31,2,FALSE))","v":0.23270360000000001},0.4992818]
[12425,1,2,4,2,5,14,{"$f":"IF(B211=1,\"0\",VLOOKUP(B211,coefficient2!$A$4:$B$7,2,FALSE))","v":"0"},{"$f":"IF(C211=1,\"0\",VLOOKUP(C211,coefficient2!$A$10:$B$13,2,FALSE))","v":5.8129300000000002E-2},{"$f":"IF(D211=1,\"0\",VLOOKUP(D211,coefficient2!$A$16:$B$19,2,FALSE))","v":0.1534855},{"$f":"IF(E211=1,\"0\",VLOOKUP(E211,coefficient2!$A$22:$B$25,2,FALSE))","v":5.63998E-2},{"$f":"IF(F211=1,\"0\",VLOOKUP(F211,coefficient2!$A$28:$B$31,2,FALSE))","v":0.29534929999999998},0.43663610000000003]
[12431,1,2,4,3,1,11,{"$f":"IF(B212=1,\"0\",VLOOKUP(B212,coefficient2!$A$4:$B$7,2,FALSE))","v":"0"},{"$f":"IF(C212=1,\"0\",VLOOKUP(C212,coefficient2!$A$10:$B$13,2,FALSE))","v":5.8129300000000002E-2},{"$f":"IF(D212=1,\"0\",VLOOKUP(D212,coefficient2!$A$16:$B$19,2,FALSE))","v":0.1534855},{"$f":"IF(E212=1,\"0\",VLOOKUP(E212,coefficient2!$A$22:$B$25,2,FALSE))","v":6.6492200000000001E-2},{"$f":"IF(F212=1,\"0\",VLOOKUP(F212,coefficient2!$A$28:$B$31,2,FALSE))","v":"0"},0.72189300000000001]
[12432,1,2,4,3,2,12,{"$f":"IF(B213=1,\"0\",VLOOKUP(B213,coefficient2!$A$4:$B$7,2,FALSE))","v":"0"},{"$f":"IF(C213=1,\"0\",VLOOKUP(C213,coefficient2!$A$10:$B$13,2,FALSE))","v":5.8129300000000002E-2},{"$f":"IF(D213=1,\"0\",VLOOKUP(D213,coefficient2!$A$16:$B$19,2,FALSE))","v":0.1534855},{"$f":"IF(E213=1,\"0\",VLOOKUP(E213,coefficient2!$A$22:$B$25,2,FALSE))","v":6.6492200000000001E-2},{"$f":"IF(F213=1,\"0\",VLOOKUP(F213,coefficient2!$A$28:$B$31,2,FALSE))","v":5.8085699999999997E-2},0.66380729999999999]
[12433,1,2,4,3,3,13,{"$f":"IF(B214=1,\"0\",VLOOKUP(B214,coefficient2!$A$4:$B$7,2,FALSE))","v":"0"},{"$f":"IF(C214=1,\"0\",VLOOKUP(C214,coefficient2!$A$10:$B$13,2,FALSE))","v":5.8129300000000002E-2},{"$f":"IF(D214=1,\"0\",VLOOKUP(D214,coefficient2!$A$16:$B$19,2,FALSE))","v":0.1534855},{"$f":"IF(E214=1,\"0\",VLOOKUP(E214,coefficient2!$A$22:$B$25,2,FALSE))","v":6.6492200000000001E-2},{"$f":"IF(F214=1,\"0\",VLOOKUP(F214,coefficient2!$A$28:$B$31,2,FALSE))","v":9.5753900000000003E-2},0.62613910000000006]
[12434,1,2,4,3,4,14,{"$f":"IF(B215=1,\"0\",VLOOKUP(B215,coefficient2!$A$4:$B$7,2,FALSE))","v":"0"},{"$f":"IF(C215=1,\"0\",VLOOKUP(C215,coefficient2!$A$10:$B$13,2,FALSE))","v":5.8129300000000002E-2},{"$f":"IF(D215=1,\"0\",VLOOKUP(D215,coefficient2!$A$16:$B$19,2,FALSE))","v":0.1534855},{"$f":"IF(E215=1,\"0\",VLOOKUP(E215,coefficient2!$A$22:$B$25,2,FALSE))","v":6.6492200000000001E-2},{"$f":"IF(F215=1,\"0\",VLOOKUP(F215,coefficient2!$A$28:$B$31,2,FALSE))","v":0.23270360000000001},0.4891894]
[12435,1,2,4,3,5,15,{"$f":"IF(B216=1,\"0\",VLOOKUP(B216,coefficient2!$A$4:$B$7,2,FALSE))","v":"0"},{"$f":"IF(C216=1,\"0\",VLOOKUP(C216,coefficient2!$A$10:$B$13,2,FALSE))","v":5.8129300000000002E-2},{"$f":"IF(D216=1,\"0\",VLOOKUP(D216,coefficient2!$A$16:$B$19,2,FALSE))","v":0.1534855},{"$f":"IF(E216=1,\"0\",VLOOKUP(E216,coefficient2!$A$22:$B$25,2,FALSE))","v":6.6492200000000001E-2},{"$f":"IF(F216=1,\"0\",VLOOKUP(F216,coefficient2!$A$28:$B$31,2,FALSE))","v":0.29534929999999998},0.42654370000000003]
[12441,1,2,4,4,1,12,{"$f":"IF(B217=1,\"0\",VLOOKUP(B217,coefficient2!$A$4:$B$7,2,FALSE))","v":"0"},{"$f":"IF(C217=1,\"0\",VLOOKUP(C217,coefficient2!$A$10:$B$13,2,FALSE))","v":5.8129300000000002E-2},{"$f":"IF(D217=1,\"0\",VLOOKUP(D217,coefficient2!$A$16:$B$19,2,FALSE))","v":0.1534855},{"$f":"IF(E217=1,\"0\",VLOOKUP(E217,coefficient2!$A$22:$B$25,2,FALSE))","v":0.2068864},{"$f":"IF(F217=1,\"0\",VLOOKUP(F217,coefficient2!$A$28:$B$31,2,FALSE))","v":"0"},0.58149879999999998]
[12442,1,2,4,4,2,13,{"$f":"IF(B218=1,\"0\",VLOOKUP(B218,coefficient2!$A$4:$B$7,2,FALSE))","v":"0"},{"$f":"IF(C218=1,\"0\",VLOOKUP(C218,coefficient2!$A$10:$B$13,2,FALSE))","v":5.8129300000000002E-2},{"$f":"IF(D218=1,\"0\",VLOOKUP(D218,coefficient2!$A$16:$B$19,2,FALSE))","v":0.1534855},{"$f":"IF(E218=1,\"0\",VLOOKUP(E218,coefficient2!$A$22:$B$25,2,FALSE))","v":0.2068864},{"$f":"IF(F218=1,\"0\",VLOOKUP(F218,coefficient2!$A$28:$B$31,2,FALSE))","v":5.8085699999999997E-2},0.52341309999999996]
[12443,1,2,4,4,3,14,{"$f":"IF(B219=1,\"0\",VLOOKUP(B219,coefficient2!$A$4:$B$7,2,FALSE))","v":"0"},{"$f":"IF(C219=1,\"0\",VLOOKUP(C219,coefficient2!$A$10:$B$13,2,FALSE))","v":5.8129300000000002E-2},{"$f":"IF(D219=1,\"0\",VLOOKUP(D219,coefficient2!$A$16:$B$19,2,FALSE))","v":0.1534855},{"$f":"IF(E219=1,\"0\",VLOOKUP(E219,coefficient2!$A$22:$B$25,2,FALSE))","v":0.2068864},{"$f":"IF(F219=1,\"0\",VLOOKUP(F219,coefficient2!$A$28:$B$31,2,FALSE))","v":9.5753900000000003E-2},0.48574489999999998]
[12444,1,2,4,4,4,15,{"$f":"IF(B220=1,\"0\",VLOOKUP(B220,coefficient2!$A$4:$B$7,2,FALSE))","v":"0"},{"$f":"IF(C220=1,\"0\",VLOOKUP(C220,coefficient2!$A$10:$B$13,2,FALSE))","v":5.8129300000000002E-2},{"$f":"IF(D220=1,\"0\",VLOOKUP(D220,coefficient2!$A$16:$B$19,2,FALSE))","v":0.1534855},{"$f":"IF(E220=1,\"0\",VLOOKUP(E220,coefficient2!$A$22:$B$25,2,FALSE))","v":0.2068864},{"$f":"IF(F220=1,\"0\",VLOOKUP(F220,coefficient2!$A$28:$B$31,2,FALSE))","v":0.23270360000000001},0.34879519999999997]
[12445,1,2,4,4,5,16,{"$f":"IF(B221=1,\"0\",VLOOKUP(B221,coefficient2!$A$4:$B$7,2,FALSE))","v":"0"},{"$f":"IF(C221=1,\"0\",VLOOKUP(C221,coefficient2!$A$10:$B$13,2,FALSE))","v":5.8129300000000002E-2},{"$f":"IF(D221=1,\"0\",VLOOKUP(D221,coefficient2!$A$16:$B$19,2,FALSE))","v":0.1534855},{"$f":"IF(E221=1,\"0\",VLOOKUP(E221,coefficient2!$A$22:$B$25,2,FALSE))","v":0.2068864},{"$f":"IF(F221=1,\"0\",VLOOKUP(F221,coefficient2!$A$28:$B$31,2,FALSE))","v":0.29534929999999998},0.2861495]
[12451,1,2,4,5,1,13,{"$f":"IF(B222=1,\"0\",VLOOKUP(B222,coefficient2!$A$4:$B$7,2,FALSE))","v":"0"},{"$f":"IF(C222=1,\"0\",VLOOKUP(C222,coefficient2!$A$10:$B$13,2,FALSE))","v":5.8129300000000002E-2},{"$f":"IF(D222=1,\"0\",VLOOKUP(D222,coefficient2!$A$16:$B$19,2,FALSE))","v":0.1534855},{"$f":"IF(E222=1,\"0\",VLOOKUP(E222,coefficient2!$A$22:$B$25,2,FALSE))","v":0.25643310000000002},{"$f":"IF(F222=1,\"0\",VLOOKUP(F222,coefficient2!$A$28:$B$31,2,FALSE))","v":"0"},0.53195210000000004]
[12452,1,2,4,5,2,14,{"$f":"IF(B223=1,\"0\",VLOOKUP(B223,coefficient2!$A$4:$B$7,2,FALSE))","v":"0"},{"$f":"IF(C223=1,\"0\",VLOOKUP(C223,coefficient2!$A$10:$B$13,2,FALSE))","v":5.8129300000000002E-2},{"$f":"IF(D223=1,\"0\",VLOOKUP(D223,coefficient2!$A$16:$B$19,2,FALSE))","v":0.1534855},{"$f":"IF(E223=1,\"0\",VLOOKUP(E223,coefficient2!$A$22:$B$25,2,FALSE))","v":0.25643310000000002},{"$f":"IF(F223=1,\"0\",VLOOKUP(F223,coefficient2!$A$28:$B$31,2,FALSE))","v":5.8085699999999997E-2},0.47386640000000002]
[12453,1,2,4,5,3,15,{"$f":"IF(B224=1,\"0\",VLOOKUP(B224,coefficient2!$A$4:$B$7,2,FALSE))","v":"0"},{"$f":"IF(C224=1,\"0\",VLOOKUP(C224,coefficient2!$A$10:$B$13,2,FALSE))","v":5.8129300000000002E-2},{"$f":"IF(D224=1,\"0\",VLOOKUP(D224,coefficient2!$A$16:$B$19,2,FALSE))","v":0.1534855},{"$f":"IF(E224=1,\"0\",VLOOKUP(E224,coefficient2!$A$22:$B$25,2,FALSE))","v":0.25643310000000002},{"$f":"IF(F224=1,\"0\",VLOOKUP(F224,coefficient2!$A$28:$B$31,2,FALSE))","v":9.5753900000000003E-2},0.43619820000000004]
[12454,1,2,4,5,4,16,{"$f":"IF(B225=1,\"0\",VLOOKUP(B225,coefficient2!$A$4:$B$7,2,FALSE))","v":"0"},{"$f":"IF(C225=1,\"0\",VLOOKUP(C225,coefficient2!$A$10:$B$13,2,FALSE))","v":5.8129300000000002E-2},{"$f":"IF(D225=1,\"0\",VLOOKUP(D225,coefficient2!$A$16:$B$19,2,FALSE))","v":0.1534855},{"$f":"IF(E225=1,\"0\",VLOOKUP(E225,coefficient2!$A$22:$B$25,2,FALSE))","v":0.25643310000000002},{"$f":"IF(F225=1,\"0\",VLOOKUP(F225,coefficient2!$A$28:$B$31,2,FALSE))","v":0.23270360000000001},0.29924850000000003]
[12455,1,2,4,5,5,17,{"$f":"IF(B226=1,\"0\",VLOOKUP(B226,coefficient2!$A$4:$B$7,2,FALSE))","v":"0"},{"$f":"IF(C226=1,\"0\",VLOOKUP(C226,coefficient2!$A$10:$B$13,2,FALSE))","v":5.8129300000000002E-2},{"$f":"IF(D226=1,\"0\",VLOOKUP(D226,coefficient2!$A$16:$B$19,2,FALSE))","v":0.1534855},{"$f":"IF(E226=1,\"0\",VLOOKUP(E226,coefficient2!$A$22:$B$25,2,FALSE))","v":0.25643310000000002},{"$f":"IF(F226=1,\"0\",VLOOKUP(F226,coefficient2!$A$28:$B$31,2,FALSE))","v":0.29534929999999998},0.23660280000000006]
[12511,1,2,5,1,1,10,{"$f":"IF(B227=1,\"0\",VLOOKUP(B227,coefficient2!$A$4:$B$7,2,FALSE))","v":"0"},{"$f":"IF(C227=1,\"0\",VLOOKUP(C227,coefficient2!$A$10:$B$13,2,FALSE))","v":5.8129300000000002E-2},{"$f":"IF(D227=1,\"0\",VLOOKUP(D227,coefficient2!$A$16:$B$19,2,FALSE))","v":0.248331},{"$f":"IF(E227=1,\"0\",VLOOKUP(E227,coefficient2!$A$22:$B$25,2,FALSE))","v":"0"},{"$f":"IF(F227=1,\"0\",VLOOKUP(F227,coefficient2!$A$28:$B$31,2,FALSE))","v":"0"},0.69353969999999998]
[12512,1,2,5,1,2,11,{"$f":"IF(B228=1,\"0\",VLOOKUP(B228,coefficient2!$A$4:$B$7,2,FALSE))","v":"0"},{"$f":"IF(C228=1,\"0\",VLOOKUP(C228,coefficient2!$A$10:$B$13,2,FALSE))","v":5.8129300000000002E-2},{"$f":"IF(D228=1,\"0\",VLOOKUP(D228,coefficient2!$A$16:$B$19,2,FALSE))","v":0.248331},{"$f":"IF(E228=1,\"0\",VLOOKUP(E228,coefficient2!$A$22:$B$25,2,FALSE))","v":"0"},{"$f":"IF(F228=1,\"0\",VLOOKUP(F228,coefficient2!$A$28:$B$31,2,FALSE))","v":5.8085699999999997E-2},0.63545399999999996]
[12513,1,2,5,1,3,12,{"$f":"IF(B229=1,\"0\",VLOOKUP(B229,coefficient2!$A$4:$B$7,2,FALSE))","v":"0"},{"$f":"IF(C229=1,\"0\",VLOOKUP(C229,coefficient2!$A$10:$B$13,2,FALSE))","v":5.8129300000000002E-2},{"$f":"IF(D229=1,\"0\",VLOOKUP(D229,coefficient2!$A$16:$B$19,2,FALSE))","v":0.248331},{"$f":"IF(E229=1,\"0\",VLOOKUP(E229,coefficient2!$A$22:$B$25,2,FALSE))","v":"0"},{"$f":"IF(F229=1,\"0\",VLOOKUP(F229,coefficient2!$A$28:$B$31,2,FALSE))","v":9.5753900000000003E-2},0.59778580000000003]
[12514,1,2,5,1,4,13,{"$f":"IF(B230=1,\"0\",VLOOKUP(B230,coefficient2!$A$4:$B$7,2,FALSE))","v":"0"},{"$f":"IF(C230=1,\"0\",VLOOKUP(C230,coefficient2!$A$10:$B$13,2,FALSE))","v":5.8129300000000002E-2},{"$f":"IF(D230=1,\"0\",VLOOKUP(D230,coefficient2!$A$16:$B$19,2,FALSE))","v":0.248331},{"$f":"IF(E230=1,\"0\",VLOOKUP(E230,coefficient2!$A$22:$B$25,2,FALSE))","v":"0"},{"$f":"IF(F230=1,\"0\",VLOOKUP(F230,coefficient2!$A$28:$B$31,2,FALSE))","v":0.23270360000000001},0.46083609999999997]
[12515,1,2,5,1,5,14,{"$f":"IF(B231=1,\"0\",VLOOKUP(B231,coefficient2!$A$4:$B$7,2,FALSE))","v":"0"},{"$f":"IF(C231=1,\"0\",VLOOKUP(C231,coefficient2!$A$10:$B$13,2,FALSE))","v":5.8129300000000002E-2},{"$f":"IF(D231=1,\"0\",VLOOKUP(D231,coefficient2!$A$16:$B$19,2,FALSE))","v":0.248331},{"$f":"IF(E231=1,\"0\",VLOOKUP(E231,coefficient2!$A$22:$B$25,2,FALSE))","v":"0"},{"$f":"IF(F231=1,\"0\",VLOOKUP(F231,coefficient2!$A$28:$B$31,2,FALSE))","v":0.29534929999999998},0.3981904]
[12521,1,2,5,2,1,11,{"$f":"IF(B232=1,\"0\",VLOOKUP(B232,coefficient2!$A$4:$B$7,2,FALSE))","v":"0"},{"$f":"IF(C232=1,\"0\",VLOOKUP(C232,coefficient2!$A$10:$B$13,2,FALSE))","v":5.8129300000000002E-2},{"$f":"IF(D232=1,\"0\",VLOOKUP(D232,coefficient2!$A$16:$B$19,2,FALSE))","v":0.248331},{"$f":"IF(E232=1,\"0\",VLOOKUP(E232,coefficient2!$A$22:$B$25,2,FALSE))","v":5.63998E-2},{"$f":"IF(F232=1,\"0\",VLOOKUP(F232,coefficient2!$A$28:$B$31,2,FALSE))","v":"0"},0.63713989999999998]
[12522,1,2,5,2,2,12,{"$f":"IF(B233=1,\"0\",VLOOKUP(B233,coefficient2!$A$4:$B$7,2,FALSE))","v":"0"},{"$f":"IF(C233=1,\"0\",VLOOKUP(C233,coefficient2!$A$10:$B$13,2,FALSE))","v":5.8129300000000002E-2},{"$f":"IF(D233=1,\"0\",VLOOKUP(D233,coefficient2!$A$16:$B$19,2,FALSE))","v":0.248331},{"$f":"IF(E233=1,\"0\",VLOOKUP(E233,coefficient2!$A$22:$B$25,2,FALSE))","v":5.63998E-2},{"$f":"IF(F233=1,\"0\",VLOOKUP(F233,coefficient2!$A$28:$B$31,2,FALSE))","v":5.8085699999999997E-2},0.57905419999999996]
[12523,1,2,5,2,3,13,{"$f":"IF(B234=1,\"0\",VLOOKUP(B234,coefficient2!$A$4:$B$7,2,FALSE))","v":"0"},{"$f":"IF(C234=1,\"0\",VLOOKUP(C234,coefficient2!$A$10:$B$13,2,FALSE))","v":5.8129300000000002E-2},{"$f":"IF(D234=1,\"0\",VLOOKUP(D234,coefficient2!$A$16:$B$19,2,FALSE))","v":0.248331},{"$f":"IF(E234=1,\"0\",VLOOKUP(E234,coefficient2!$A$22:$B$25,2,FALSE))","v":5.63998E-2},{"$f":"IF(F234=1,\"0\",VLOOKUP(F234,coefficient2!$A$28:$B$31,2,FALSE))","v":9.5753900000000003E-2},0.54138599999999992]
[12524,1,2,5,2,4,14,{"$f":"IF(B235=1,\"0\",VLOOKUP(B235,coefficient2!$A$4:$B$7,2,FALSE))","v":"0"},{"$f":"IF(C235=1,\"0\",VLOOKUP(C235,coefficient2!$A$10:$B$13,2,FALSE))","v":5.8129300000000002E-2},{"$f":"IF(D235=1,\"0\",VLOOKUP(D235,coefficient2!$A$16:$B$19,2,FALSE))","v":0.248331},{"$f":"IF(E235=1,\"0\",VLOOKUP(E235,coefficient2!$A$22:$B$25,2,FALSE))","v":5.63998E-2},{"$f":"IF(F235=1,\"0\",VLOOKUP(F235,coefficient2!$A$28:$B$31,2,FALSE))","v":0.23270360000000001},0.40443629999999997]
[12525,1,2,5,2,5,15,{"$f":"IF(B236=1,\"0\",VLOOKUP(B236,coefficient2!$A$4:$B$7,2,FALSE))","v":"0"},{"$f":"IF(C236=1,\"0\",VLOOKUP(C236,coefficient2!$A$10:$B$13,2,FALSE))","v":5.8129300000000002E-2},{"$f":"IF(D236=1,\"0\",VLOOKUP(D236,coefficient2!$A$16:$B$19,2,FALSE))","v":0.248331},{"$f":"IF(E236=1,\"0\",VLOOKUP(E236,coefficient2!$A$22:$B$25,2,FALSE))","v":5.63998E-2},{"$f":"IF(F236=1,\"0\",VLOOKUP(F236,coefficient2!$A$28:$B$31,2,FALSE))","v":0.29534929999999998},0.3417906]
[12531,1,2,5,3,1,12,{"$f":"IF(B237=1,\"0\",VLOOKUP(B237,coefficient2!$A$4:$B$7,2,FALSE))","v":"0"},{"$f":"IF(C237=1,\"0\",VLOOKUP(C237,coefficient2!$A$10:$B$13,2,FALSE))","v":5.8129300000000002E-2},{"$f":"IF(D237=1,\"0\",VLOOKUP(D237,coefficient2!$A$16:$B$19,2,FALSE))","v":0.248331},{"$f":"IF(E237=1,\"0\",VLOOKUP(E237,coefficient2!$A$22:$B$25,2,FALSE))","v":6.6492200000000001E-2},{"$f":"IF(F237=1,\"0\",VLOOKUP(F237,coefficient2!$A$28:$B$31,2,FALSE))","v":"0"},0.62704749999999998]
[12532,1,2,5,3,2,13,{"$f":"IF(B238=1,\"0\",VLOOKUP(B238,coefficient2!$A$4:$B$7,2,FALSE))","v":"0"},{"$f":"IF(C238=1,\"0\",VLOOKUP(C238,coefficient2!$A$10:$B$13,2,FALSE))","v":5.8129300000000002E-2},{"$f":"IF(D238=1,\"0\",VLOOKUP(D238,coefficient2!$A$16:$B$19,2,FALSE))","v":0.248331},{"$f":"IF(E238=1,\"0\",VLOOKUP(E238,coefficient2!$A$22:$B$25,2,FALSE))","v":6.6492200000000001E-2},{"$f":"IF(F238=1,\"0\",VLOOKUP(F238,coefficient2!$A$28:$B$31,2,FALSE))","v":5.8085699999999997E-2},0.56896179999999996]
[12533,1,2,5,3,3,14,{"$f":"IF(B239=1,\"0\",VLOOKUP(B239,coefficient2!$A$4:$B$7,2,FALSE))","v":"0"},{"$f":"IF(C239=1,\"0\",VLOOKUP(C239,coefficient2!$A$10:$B$13,2,FALSE))","v":5.8129300000000002E-2},{"$f":"IF(D239=1,\"0\",VLOOKUP(D239,coefficient2!$A$16:$B$19,2,FALSE))","v":0.248331},{"$f":"IF(E239=1,\"0\",VLOOKUP(E239,coefficient2!$A$22:$B$25,2,FALSE))","v":6.6492200000000001E-2},{"$f":"IF(F239=1,\"0\",VLOOKUP(F239,coefficient2!$A$28:$B$31,2,FALSE))","v":9.5753900000000003E-2},0.53129359999999992]
[12534,1,2,5,3,4,15,{"$f":"IF(B240=1,\"0\",VLOOKUP(B240,coefficient2!$A$4:$B$7,2,FALSE))","v":"0"},{"$f":"IF(C240=1,\"0\",VLOOKUP(C240,coefficient2!$A$10:$B$13,2,FALSE))","v":5.8129300000000002E-2},{"$f":"IF(D240=1,\"0\",VLOOKUP(D240,coefficient2!$A$16:$B$19,2,FALSE))","v":0.248331},{"$f":"IF(E240=1,\"0\",VLOOKUP(E240,coefficient2!$A$22:$B$25,2,FALSE))","v":6.6492200000000001E-2},{"$f":"IF(F240=1,\"0\",VLOOKUP(F240,coefficient2!$A$28:$B$31,2,FALSE))","v":0.23270360000000001},0.39434389999999997]
[12535,1,2,5,3,5,16,{"$f":"IF(B241=1,\"0\",VLOOKUP(B241,coefficient2!$A$4:$B$7,2,FALSE))","v":"0"},{"$f":"IF(C241=1,\"0\",VLOOKUP(C241,coefficient2!$A$10:$B$13,2,FALSE))","v":5.8129300000000002E-2},{"$f":"IF(D241=1,\"0\",VLOOKUP(D241,coefficient2!$A$16:$B$19,2,FALSE))","v":0.248331},{"$f":"IF(E241=1,\"0\",VLOOKUP(E241,coefficient2!$A$22:$B$25,2,FALSE))","v":6.6492200000000001E-2},{"$f":"IF(F241=1,\"0\",VLOOKUP(F241,coefficient2!$A$28:$B$31,2,FALSE))","v":0.29534929999999998},0.3316982]
[12541,1,2,5,4,1,13,{"$f":"IF(B242=1,\"0\",VLOOKUP(B242,coefficient2!$A$4:$B$7,2,FALSE))","v":"0"},{"$f":"IF(C242=1,\"0\",VLOOKUP(C242,coefficient2!$A$10:$B$13,2,FALSE))","v":5.8129300000000002E-2},{"$f":"IF(D242=1,\"0\",VLOOKUP(D242,coefficient2!$A$16:$B$19,2,FALSE))","v":0.248331},{"$f":"IF(E242=1,\"0\",VLOOKUP(E242,coefficient2!$A$22:$B$25,2,FALSE))","v":0.2068864},{"$f":"IF(F242=1,\"0\",VLOOKUP(F242,coefficient2!$A$28:$B$31,2,FALSE))","v":"0"},0.48665329999999996]
[12542,1,2,5,4,2,14,{"$f":"IF(B243=1,\"0\",VLOOKUP(B243,coefficient2!$A$4:$B$7,2,FALSE))","v":"0"},{"$f":"IF(C243=1,\"0\",VLOOKUP(C243,coefficient2!$A$10:$B$13,2,FALSE))","v":5.8129300000000002E-2},{"$f":"IF(D243=1,\"0\",VLOOKUP(D243,coefficient2!$A$16:$B$19,2,FALSE))","v":0.248331},{"$f":"IF(E243=1,\"0\",VLOOKUP(E243,coefficient2!$A$22:$B$25,2,FALSE))","v":0.2068864},{"$f":"IF(F243=1,\"0\",VLOOKUP(F243,coefficient2!$A$28:$B$31,2,FALSE))","v":5.8085699999999997E-2},0.42856759999999994]
[12543,1,2,5,4,3,15,{"$f":"IF(B244=1,\"0\",VLOOKUP(B244,coefficient2!$A$4:$B$7,2,FALSE))","v":"0"},{"$f":"IF(C244=1,\"0\",VLOOKUP(C244,coefficient2!$A$10:$B$13,2,FALSE))","v":5.8129300000000002E-2},{"$f":"IF(D244=1,\"0\",VLOOKUP(D244,coefficient2!$A$16:$B$19,2,FALSE))","v":0.248331},{"$f":"IF(E244=1,\"0\",VLOOKUP(E244,coefficient2!$A$22:$B$25,2,FALSE))","v":0.2068864},{"$f":"IF(F244=1,\"0\",VLOOKUP(F244,coefficient2!$A$28:$B$31,2,FALSE))","v":9.5753900000000003E-2},0.39089939999999995]
[12544,1,2,5,4,4,16,{"$f":"IF(B245=1,\"0\",VLOOKUP(B245,coefficient2!$A$4:$B$7,2,FALSE))","v":"0"},{"$f":"IF(C245=1,\"0\",VLOOKUP(C245,coefficient2!$A$10:$B$13,2,FALSE))","v":5.8129300000000002E-2},{"$f":"IF(D245=1,\"0\",VLOOKUP(D245,coefficient2!$A$16:$B$19,2,FALSE))","v":0.248331},{"$f":"IF(E245=1,\"0\",VLOOKUP(E245,coefficient2!$A$22:$B$25,2,FALSE))","v":0.2068864},{"$f":"IF(F245=1,\"0\",VLOOKUP(F245,coefficient2!$A$28:$B$31,2,FALSE))","v":0.23270360000000001},0.25394969999999994]
[12545,1,2,5,4,5,17,{"$f":"IF(B246=1,\"0\",VLOOKUP(B246,coefficient2!$A$4:$B$7,2,FALSE))","v":"0"},{"$f":"IF(C246=1,\"0\",VLOOKUP(C246,coefficient2!$A$10:$B$13,2,FALSE))","v":5.8129300000000002E-2},{"$f":"IF(D246=1,\"0\",VLOOKUP(D246,coefficient2!$A$16:$B$19,2,FALSE))","v":0.248331},{"$f":"IF(E246=1,\"0\",VLOOKUP(E246,coefficient2!$A$22:$B$25,2,FALSE))","v":0.2068864},{"$f":"IF(F246=1,\"0\",VLOOKUP(F246,coefficient2!$A$28:$B$31,2,FALSE))","v":0.29534929999999998},0.19130399999999997]
[12551,1,2,5,5,1,14,{"$f":"IF(B247=1,\"0\",VLOOKUP(B247,coefficient2!$A$4:$B$7,2,FALSE))","v":"0"},{"$f":"IF(C247=1,\"0\",VLOOKUP(C247,coefficient2!$A$10:$B$13,2,FALSE))","v":5.8129300000000002E-2},{"$f":"IF(D247=1,\"0\",VLOOKUP(D247,coefficient2!$A$16:$B$19,2,FALSE))","v":0.248331},{"$f":"IF(E247=1,\"0\",VLOOKUP(E247,coefficient2!$A$22:$B$25,2,FALSE))","v":0.25643310000000002},{"$f":"IF(F247=1,\"0\",VLOOKUP(F247,coefficient2!$A$28:$B$31,2,FALSE))","v":"0"},0.43710659999999996]
[12552,1,2,5,5,2,15,{"$f":"IF(B248=1,\"0\",VLOOKUP(B248,coefficient2!$A$4:$B$7,2,FALSE))","v":"0"},{"$f":"IF(C248=1,\"0\",VLOOKUP(C248,coefficient2!$A$10:$B$13,2,FALSE))","v":5.8129300000000002E-2},{"$f":"IF(D248=1,\"0\",VLOOKUP(D248,coefficient2!$A$16:$B$19,2,FALSE))","v":0.248331},{"$f":"IF(E248=1,\"0\",VLOOKUP(E248,coefficient2!$A$22:$B$25,2,FALSE))","v":0.25643310000000002},{"$f":"IF(F248=1,\"0\",VLOOKUP(F248,coefficient2!$A$28:$B$31,2,FALSE))","v":5.8085699999999997E-2},0.37902089999999994]
[12553,1,2,5,5,3,16,{"$f":"IF(B249=1,\"0\",VLOOKUP(B249,coefficient2!$A$4:$B$7,2,FALSE))","v":"0"},{"$f":"IF(C249=1,\"0\",VLOOKUP(C249,coefficient2!$A$10:$B$13,2,FALSE))","v":5.8129300000000002E-2},{"$f":"IF(D249=1,\"0\",VLOOKUP(D249,coefficient2!$A$16:$B$19,2,FALSE))","v":0.248331},{"$f":"IF(E249=1,\"0\",VLOOKUP(E249,coefficient2!$A$22:$B$25,2,FALSE))","v":0.25643310000000002},{"$f":"IF(F249=1,\"0\",VLOOKUP(F249,coefficient2!$A$28:$B$31,2,FALSE))","v":9.5753900000000003E-2},0.34135269999999995]
[12554,1,2,5,5,4,17,{"$f":"IF(B250=1,\"0\",VLOOKUP(B250,coefficient2!$A$4:$B$7,2,FALSE))","v":"0"},{"$f":"IF(C250=1,\"0\",VLOOKUP(C250,coefficient2!$A$10:$B$13,2,FALSE))","v":5.8129300000000002E-2},{"$f":"IF(D250=1,\"0\",VLOOKUP(D250,coefficient2!$A$16:$B$19,2,FALSE))","v":0.248331},{"$f":"IF(E250=1,\"0\",VLOOKUP(E250,coefficient2!$A$22:$B$25,2,FALSE))","v":0.25643310000000002},{"$f":"IF(F250=1,\"0\",VLOOKUP(F250,coefficient2!$A$28:$B$31,2,FALSE))","v":0.23270360000000001},0.20440299999999995]
[12555,1,2,5,5,5,18,{"$f":"IF(B251=1,\"0\",VLOOKUP(B251,coefficient2!$A$4:$B$7,2,FALSE))","v":"0"},{"$f":"IF(C251=1,\"0\",VLOOKUP(C251,coefficient2!$A$10:$B$13,2,FALSE))","v":5.8129300000000002E-2},{"$f":"IF(D251=1,\"0\",VLOOKUP(D251,coefficient2!$A$16:$B$19,2,FALSE))","v":0.248331},{"$f":"IF(E251=1,\"0\",VLOOKUP(E251,coefficient2!$A$22:$B$25,2,FALSE))","v":0.25643310000000002},{"$f":"IF(F251=1,\"0\",VLOOKUP(F251,coefficient2!$A$28:$B$31,2,FALSE))","v":0.29534929999999998},0.14175729999999997]
[13111,1,3,1,1,1,7,{"$f":"IF(B252=1,\"0\",VLOOKUP(B252,coefficient2!$A$4:$B$7,2,FALSE))","v":"0"},{"$f":"IF(C252=1,\"0\",VLOOKUP(C252,coefficient2!$A$10:$B$13,2,FALSE))","v":7.0631200000000005E-2},{"$f":"IF(D252=1,\"0\",VLOOKUP(D252,coefficient2!$A$16:$B$19,2,FALSE))","v":"0"},{"$f":"IF(E252=1,\"0\",VLOOKUP(E252,coefficient2!$A$22:$B$25,2,FALSE))","v":"0"},{"$f":"IF(F252=1,\"0\",VLOOKUP(F252,coefficient2!$A$28:$B$31,2,FALSE))","v":"0"},0.92936879999999999]
[13112,1,3,1,1,2,8,{"$f":"IF(B253=1,\"0\",VLOOKUP(B253,coefficient2!$A$4:$B$7,2,FALSE))","v":"0"},{"$f":"IF(C253=1,\"0\",VLOOKUP(C253,coefficient2!$A$10:$B$13,2,FALSE))","v":7.0631200000000005E-2},{"$f":"IF(D253=1,\"0\",VLOOKUP(D253,coefficient2!$A$16:$B$19,2,FALSE))","v":"0"},{"$f":"IF(E253=1,\"0\",VLOOKUP(E253,coefficient2!$A$22:$B$25,2,FALSE))","v":"0"},{"$f":"IF(F253=1,\"0\",VLOOKUP(F253,coefficient2!$A$28:$B$31,2,FALSE))","v":5.8085699999999997E-2},0.87128309999999998]
[13113,1,3,1,1,3,9,{"$f":"IF(B254=1,\"0\",VLOOKUP(B254,coefficient2!$A$4:$B$7,2,FALSE))","v":"0"},{"$f":"IF(C254=1,\"0\",VLOOKUP(C254,coefficient2!$A$10:$B$13,2,FALSE))","v":7.0631200000000005E-2},{"$f":"IF(D254=1,\"0\",VLOOKUP(D254,coefficient2!$A$16:$B$19,2,FALSE))","v":"0"},{"$f":"IF(E254=1,\"0\",VLOOKUP(E254,coefficient2!$A$22:$B$25,2,FALSE))","v":"0"},{"$f":"IF(F254=1,\"0\",VLOOKUP(F254,coefficient2!$A$28:$B$31,2,FALSE))","v":9.5753900000000003E-2},0.83361489999999994]
[13114,1,3,1,1,4,10,{"$f":"IF(B255=1,\"0\",VLOOKUP(B255,coefficient2!$A$4:$B$7,2,FALSE))","v":"0"},{"$f":"IF(C255=1,\"0\",VLOOKUP(C255,coefficient2!$A$10:$B$13,2,FALSE))","v":7.0631200000000005E-2},{"$f":"IF(D255=1,\"0\",VLOOKUP(D255,coefficient2!$A$16:$B$19,2,FALSE))","v":"0"},{"$f":"IF(E255=1,\"0\",VLOOKUP(E255,coefficient2!$A$22:$B$25,2,FALSE))","v":"0"},{"$f":"IF(F255=1,\"0\",VLOOKUP(F255,coefficient2!$A$28:$B$31,2,FALSE))","v":0.23270360000000001},0.69666519999999998]
[13115,1,3,1,1,5,11,{"$f":"IF(B256=1,\"0\",VLOOKUP(B256,coefficient2!$A$4:$B$7,2,FALSE))","v":"0"},{"$f":"IF(C256=1,\"0\",VLOOKUP(C256,coefficient2!$A$10:$B$13,2,FALSE))","v":7.0631200000000005E-2},{"$f":"IF(D256=1,\"0\",VLOOKUP(D256,coefficient2!$A$16:$B$19,2,FALSE))","v":"0"},{"$f":"IF(E256=1,\"0\",VLOOKUP(E256,coefficient2!$A$22:$B$25,2,FALSE))","v":"0"},{"$f":"IF(F256=1,\"0\",VLOOKUP(F256,coefficient2!$A$28:$B$31,2,FALSE))","v":0.29534929999999998},0.63401949999999996]
[13121,1,3,1,2,1,8,{"$f":"IF(B257=1,\"0\",VLOOKUP(B257,coefficient2!$A$4:$B$7,2,FALSE))","v":"0"},{"$f":"IF(C257=1,\"0\",VLOOKUP(C257,coefficient2!$A$10:$B$13,2,FALSE))","v":7.0631200000000005E-2},{"$f":"IF(D257=1,\"0\",VLOOKUP(D257,coefficient2!$A$16:$B$19,2,FALSE))","v":"0"},{"$f":"IF(E257=1,\"0\",VLOOKUP(E257,coefficient2!$A$22:$B$25,2,FALSE))","v":5.63998E-2},{"$f":"IF(F257=1,\"0\",VLOOKUP(F257,coefficient2!$A$28:$B$31,2,FALSE))","v":"0"},0.87296899999999999]
[13122,1,3,1,2,2,9,{"$f":"IF(B258=1,\"0\",VLOOKUP(B258,coefficient2!$A$4:$B$7,2,FALSE))","v":"0"},{"$f":"IF(C258=1,\"0\",VLOOKUP(C258,coefficient2!$A$10:$B$13,2,FALSE))","v":7.0631200000000005E-2},{"$f":"IF(D258=1,\"0\",VLOOKUP(D258,coefficient2!$A$16:$B$19,2,FALSE))","v":"0"},{"$f":"IF(E258=1,\"0\",VLOOKUP(E258,coefficient2!$A$22:$B$25,2,FALSE))","v":5.63998E-2},{"$f":"IF(F258=1,\"0\",VLOOKUP(F258,coefficient2!$A$28:$B$31,2,FALSE))","v":5.8085699999999997E-2},{"$f":"1-H258-I258-J258-K258-L258","v":0.81488329999999998}]
[13123,{"$f":"INT(LEFT(A259,1))","v":1},{"$f":"INT(MID(A259,2,1))","v":3},{"$f":"INT(MID(A259,3,1))","v":1},{"$f":"INT(MID(A259,4,1))","v":2},{"$f":"INT(RIGHT(A259,1))","v":3},{"$f":"SUM(B259:F259)","v":10},{"$f":"IF(B259=1,\"0\",VLOOKUP(B259,coefficient2!$A$4:$B$7,2,FALSE))","v":"0"},{"$f":"IF(C259=1,\"0\",VLOOKUP(C259,coefficient2!$A$10:$B$13,2,FALSE))","v":7.0631200000000005E-2},{"$f":"IF(D259=1,\"0\",VLOOKUP(D259,coefficient2!$A$16:$B$19,2,FALSE))","v":"0"},{"$f":"IF(E259=1,\"0\",VLOOKUP(E259,coefficient2!$A$22:$B$25,2,FALSE))","v":5.63998E-2},{"$f":"IF(F259=1,\"0\",VLOOKUP(F259,coefficient2!$A$28:$B$31,2,FALSE))","v":9.5753900000000003E-2},0.77721510000000005]
[13124,1,3,1,2,4,11,{"$f":"IF(B260=1,\"0\",VLOOKUP(B260,coefficient2!$A$4:$B$7,2,FALSE))","v":"0"},{"$f":"IF(C260=1,\"0\",VLOOKUP(C260,coefficient2!$A$10:$B$13,2,FALSE))","v":7.0631200000000005E-2},{"$f":"IF(D260=1,\"0\",VLOOKUP(D260,coefficient2!$A$16:$B$19,2,FALSE))","v":"0"},{"$f":"IF(E260=1,\"0\",VLOOKUP(E260,coefficient2!$A$22:$B$25,2,FALSE))","v":5.63998E-2},{"$f":"IF(F260=1,\"0\",VLOOKUP(F260,coefficient2!$A$28:$B$31,2,FALSE))","v":0.23270360000000001},0.64026539999999998]
[13125,1,3,1,2,5,12,{"$f":"IF(B261=1,\"0\",VLOOKUP(B261,coefficient2!$A$4:$B$7,2,FALSE))","v":"0"},{"$f":"IF(C261=1,\"0\",VLOOKUP(C261,coefficient2!$A$10:$B$13,2,FALSE))","v":7.0631200000000005E-2},{"$f":"IF(D261=1,\"0\",VLOOKUP(D261,coefficient2!$A$16:$B$19,2,FALSE))","v":"0"},{"$f":"IF(E261=1,\"0\",VLOOKUP(E261,coefficient2!$A$22:$B$25,2,FALSE))","v":5.63998E-2},{"$f":"IF(F261=1,\"0\",VLOOKUP(F261,coefficient2!$A$28:$B$31,2,FALSE))","v":0.29534929999999998},0.57761970000000007]
[13131,1,3,1,3,1,9,{"$f":"IF(B262=1,\"0\",VLOOKUP(B262,coefficient2!$A$4:$B$7,2,FALSE))","v":"0"},{"$f":"IF(C262=1,\"0\",VLOOKUP(C262,coefficient2!$A$10:$B$13,2,FALSE))","v":7.0631200000000005E-2},{"$f":"IF(D262=1,\"0\",VLOOKUP(D262,coefficient2!$A$16:$B$19,2,FALSE))","v":"0"},{"$f":"IF(E262=1,\"0\",VLOOKUP(E262,coefficient2!$A$22:$B$25,2,FALSE))","v":6.6492200000000001E-2},{"$f":"IF(F262=1,\"0\",VLOOKUP(F262,coefficient2!$A$28:$B$31,2,FALSE))","v":"0"},0.86287659999999999]
[13132,1,3,1,3,2,10,{"$f":"IF(B263=1,\"0\",VLOOKUP(B263,coefficient2!$A$4:$B$7,2,FALSE))","v":"0"},{"$f":"IF(C263=1,\"0\",VLOOKUP(C263,coefficient2!$A$10:$B$13,2,FALSE))","v":7.0631200000000005E-2},{"$f":"IF(D263=1,\"0\",VLOOKUP(D263,coefficient2!$A$16:$B$19,2,FALSE))","v":"0"},{"$f":"IF(E263=1,\"0\",VLOOKUP(E263,coefficient2!$A$22:$B$25,2,FALSE))","v":6.6492200000000001E-2},{"$f":"IF(F263=1,\"0\",VLOOKUP(F263,coefficient2!$A$28:$B$31,2,FALSE))","v":5.8085699999999997E-2},0.80479089999999998]
[13133,1,3,1,3,3,11,{"$f":"IF(B264=1,\"0\",VLOOKUP(B264,coefficient2!$A$4:$B$7,2,FALSE))","v":"0"},{"$f":"IF(C264=1,\"0\",VLOOKUP(C264,coefficient2!$A$10:$B$13,2,FALSE))","v":7.0631200000000005E-2},{"$f":"IF(D264=1,\"0\",VLOOKUP(D264,coefficient2!$A$16:$B$19,2,FALSE))","v":"0"},{"$f":"IF(E264=1,\"0\",VLOOKUP(E264,coefficient2!$A$22:$B$25,2,FALSE))","v":6.6492200000000001E-2},{"$f":"IF(F264=1,\"0\",VLOOKUP(F264,coefficient2!$A$28:$B$31,2,FALSE))","v":9.5753900000000003E-2},0.76712270000000005]
[13134,1,3,1,3,4,12,{"$f":"IF(B265=1,\"0\",VLOOKUP(B265,coefficient2!$A$4:$B$7,2,FALSE))","v":"0"},{"$f":"IF(C265=1,\"0\",VLOOKUP(C265,coefficient2!$A$10:$B$13,2,FALSE))","v":7.0631200000000005E-2},{"$f":"IF(D265=1,\"0\",VLOOKUP(D265,coefficient2!$A$16:$B$19,2,FALSE))","v":"0"},{"$f":"IF(E265=1,\"0\",VLOOKUP(E265,coefficient2!$A$22:$B$25,2,FALSE))","v":6.6492200000000001E-2},{"$f":"IF(F265=1,\"0\",VLOOKUP(F265,coefficient2!$A$28:$B$31,2,FALSE))","v":0.23270360000000001},0.63017299999999998]
[13135,1,3,1,3,5,13,{"$f":"IF(B266=1,\"0\",VLOOKUP(B266,coefficient2!$A$4:$B$7,2,FALSE))","v":"0"},{"$f":"IF(C266=1,\"0\",VLOOKUP(C266,coefficient2!$A$10:$B$13,2,FALSE))","v":7.0631200000000005E-2},{"$f":"IF(D266=1,\"0\",VLOOKUP(D266,coefficient2!$A$16:$B$19,2,FALSE))","v":"0"},{"$f":"IF(E266=1,\"0\",VLOOKUP(E266,coefficient2!$A$22:$B$25,2,FALSE))","v":6.6492200000000001E-2},{"$f":"IF(F266=1,\"0\",VLOOKUP(F266,coefficient2!$A$28:$B$31,2,FALSE))","v":0.29534929999999998},0.56752730000000007]
[13141,1,3,1,4,1,10,{"$f":"IF(B267=1,\"0\",VLOOKUP(B267,coefficient2!$A$4:$B$7,2,FALSE))","v":"0"},{"$f":"IF(C267=1,\"0\",VLOOKUP(C267,coefficient2!$A$10:$B$13,2,FALSE))","v":7.0631200000000005E-2},{"$f":"IF(D267=1,\"0\",VLOOKUP(D267,coefficient2!$A$16:$B$19,2,FALSE))","v":"0"},{"$f":"IF(E267=1,\"0\",VLOOKUP(E267,coefficient2!$A$22:$B$25,2,FALSE))","v":0.2068864},{"$f":"IF(F267=1,\"0\",VLOOKUP(F267,coefficient2!$A$28:$B$31,2,FALSE))","v":"0"},0.72248239999999997]
[13142,1,3,1,4,2,11,{"$f":"IF(B268=1,\"0\",VLOOKUP(B268,coefficient2!$A$4:$B$7,2,FALSE))","v":"0"},{"$f":"IF(C268=1,\"0\",VLOOKUP(C268,coefficient2!$A$10:$B$13,2,FALSE))","v":7.0631200000000005E-2},{"$f":"IF(D268=1,\"0\",VLOOKUP(D268,coefficient2!$A$16:$B$19,2,FALSE))","v":"0"},{"$f":"IF(E268=1,\"0\",VLOOKUP(E268,coefficient2!$A$22:$B$25,2,FALSE))","v":0.2068864},{"$f":"IF(F268=1,\"0\",VLOOKUP(F268,coefficient2!$A$28:$B$31,2,FALSE))","v":5.8085699999999997E-2},0.66439669999999995]
[13143,1,3,1,4,3,12,{"$f":"IF(B269=1,\"0\",VLOOKUP(B269,coefficient2!$A$4:$B$7,2,FALSE))","v":"0"},{"$f":"IF(C269=1,\"0\",VLOOKUP(C269,coefficient2!$A$10:$B$13,2,FALSE))","v":7.0631200000000005E-2},{"$f":"IF(D269=1,\"0\",VLOOKUP(D269,coefficient2!$A$16:$B$19,2,FALSE))","v":"0"},{"$f":"IF(E269=1,\"0\",VLOOKUP(E269,coefficient2!$A$22:$B$25,2,FALSE))","v":0.2068864},{"$f":"IF(F269=1,\"0\",VLOOKUP(F269,coefficient2!$A$28:$B$31,2,FALSE))","v":9.5753900000000003E-2},0.62672850000000002]
[13144,1,3,1,4,4,13,{"$f":"IF(B270=1,\"0\",VLOOKUP(B270,coefficient2!$A$4:$B$7,2,FALSE))","v":"0"},{"$f":"IF(C270=1,\"0\",VLOOKUP(C270,coefficient2!$A$10:$B$13,2,FALSE))","v":7.0631200000000005E-2},{"$f":"IF(D270=1,\"0\",VLOOKUP(D270,coefficient2!$A$16:$B$19,2,FALSE))","v":"0"},{"$f":"IF(E270=1,\"0\",VLOOKUP(E270,coefficient2!$A$22:$B$25,2,FALSE))","v":0.2068864},{"$f":"IF(F270=1,\"0\",VLOOKUP(F270,coefficient2!$A$28:$B$31,2,FALSE))","v":0.23270360000000001},0.48977879999999996]
[13145,1,3,1,4,5,14,{"$f":"IF(B271=1,\"0\",VLOOKUP(B271,coefficient2!$A$4:$B$7,2,FALSE))","v":"0"},{"$f":"IF(C271=1,\"0\",VLOOKUP(C271,coefficient2!$A$10:$B$13,2,FALSE))","v":7.0631200000000005E-2},{"$f":"IF(D271=1,\"0\",VLOOKUP(D271,coefficient2!$A$16:$B$19,2,FALSE))","v":"0"},{"$f":"IF(E271=1,\"0\",VLOOKUP(E271,coefficient2!$A$22:$B$25,2,FALSE))","v":0.2068864},{"$f":"IF(F271=1,\"0\",VLOOKUP(F271,coefficient2!$A$28:$B$31,2,FALSE))","v":0.29534929999999998},0.42713309999999999]
[13151,1,3,1,5,1,11,{"$f":"IF(B272=1,\"0\",VLOOKUP(B272,coefficient2!$A$4:$B$7,2,FALSE))","v":"0"},{"$f":"IF(C272=1,\"0\",VLOOKUP(C272,coefficient2!$A$10:$B$13,2,FALSE))","v":7.0631200000000005E-2},{"$f":"IF(D272=1,\"0\",VLOOKUP(D272,coefficient2!$A$16:$B$19,2,FALSE))","v":"0"},{"$f":"IF(E272=1,\"0\",VLOOKUP(E272,coefficient2!$A$22:$B$25,2,FALSE))","v":0.25643310000000002},{"$f":"IF(F272=1,\"0\",VLOOKUP(F272,coefficient2!$A$28:$B$31,2,FALSE))","v":"0"},0.67293570000000003]
[13152,1,3,1,5,2,12,{"$f":"IF(B273=1,\"0\",VLOOKUP(B273,coefficient2!$A$4:$B$7,2,FALSE))","v":"0"},{"$f":"IF(C273=1,\"0\",VLOOKUP(C273,coefficient2!$A$10:$B$13,2,FALSE))","v":7.0631200000000005E-2},{"$f":"IF(D273=1,\"0\",VLOOKUP(D273,coefficient2!$A$16:$B$19,2,FALSE))","v":"0"},{"$f":"IF(E273=1,\"0\",VLOOKUP(E273,coefficient2!$A$22:$B$25,2,FALSE))","v":0.25643310000000002},{"$f":"IF(F273=1,\"0\",VLOOKUP(F273,coefficient2!$A$28:$B$31,2,FALSE))","v":5.8085699999999997E-2},0.61485000000000001]
[13153,1,3,1,5,3,13,{"$f":"IF(B274=1,\"0\",VLOOKUP(B274,coefficient2!$A$4:$B$7,2,FALSE))","v":"0"},{"$f":"IF(C274=1,\"0\",VLOOKUP(C274,coefficient2!$A$10:$B$13,2,FALSE))","v":7.0631200000000005E-2},{"$f":"IF(D274=1,\"0\",VLOOKUP(D274,coefficient2!$A$16:$B$19,2,FALSE))","v":"0"},{"$f":"IF(E274=1,\"0\",VLOOKUP(E274,coefficient2!$A$22:$B$25,2,FALSE))","v":0.25643310000000002},{"$f":"IF(F274=1,\"0\",VLOOKUP(F274,coefficient2!$A$28:$B$31,2,FALSE))","v":9.5753900000000003E-2},0.57718179999999997]
[13154,1,3,1,5,4,14,{"$f":"IF(B275=1,\"0\",VLOOKUP(B275,coefficient2!$A$4:$B$7,2,FALSE))","v":"0"},{"$f":"IF(C275=1,\"0\",VLOOKUP(C275,coefficient2!$A$10:$B$13,2,FALSE))","v":7.0631200000000005E-2},{"$f":"IF(D275=1,\"0\",VLOOKUP(D275,coefficient2!$A$16:$B$19,2,FALSE))","v":"0"},{"$f":"IF(E275=1,\"0\",VLOOKUP(E275,coefficient2!$A$22:$B$25,2,FALSE))","v":0.25643310000000002},{"$f":"IF(F275=1,\"0\",VLOOKUP(F275,coefficient2!$A$28:$B$31,2,FALSE))","v":0.23270360000000001},0.44023210000000002]
[13155,1,3,1,5,5,15,{"$f":"IF(B276=1,\"0\",VLOOKUP(B276,coefficient2!$A$4:$B$7,2,FALSE))","v":"0"},{"$f":"IF(C276=1,\"0\",VLOOKUP(C276,coefficient2!$A$10:$B$13,2,FALSE))","v":7.0631200000000005E-2},{"$f":"IF(D276=1,\"0\",VLOOKUP(D276,coefficient2!$A$16:$B$19,2,FALSE))","v":"0"},{"$f":"IF(E276=1,\"0\",VLOOKUP(E276,coefficient2!$A$22:$B$25,2,FALSE))","v":0.25643310000000002},{"$f":"IF(F276=1,\"0\",VLOOKUP(F276,coefficient2!$A$28:$B$31,2,FALSE))","v":0.29534929999999998},0.37758640000000004]
[13211,1,3,2,1,1,8,{"$f":"IF(B277=1,\"0\",VLOOKUP(B277,coefficient2!$A$4:$B$7,2,FALSE))","v":"0"},{"$f":"IF(C277=1,\"0\",VLOOKUP(C277,coefficient2!$A$10:$B$13,2,FALSE))","v":7.0631200000000005E-2},{"$f":"IF(D277=1,\"0\",VLOOKUP(D277,coefficient2!$A$16:$B$19,2,FALSE))","v":5.8254399999999998E-2},{"$f":"IF(E277=1,\"0\",VLOOKUP(E277,coefficient2!$A$22:$B$25,2,FALSE))","v":"0"},{"$f":"IF(F277=1,\"0\",VLOOKUP(F277,coefficient2!$A$28:$B$31,2,FALSE))","v":"0"},0.87111439999999996]
[13212,1,3,2,1,2,9,{"$f":"IF(B278=1,\"0\",VLOOKUP(B278,coefficient2!$A$4:$B$7,2,FALSE))","v":"0"},{"$f":"IF(C278=1,\"0\",VLOOKUP(C278,coefficient2!$A$10:$B$13,2,FALSE))","v":7.0631200000000005E-2},{"$f":"IF(D278=1,\"0\",VLOOKUP(D278,coefficient2!$A$16:$B$19,2,FALSE))","v":5.8254399999999998E-2},{"$f":"IF(E278=1,\"0\",VLOOKUP(E278,coefficient2!$A$22:$B$25,2,FALSE))","v":"0"},{"$f":"IF(F278=1,\"0\",VLOOKUP(F278,coefficient2!$A$28:$B$31,2,FALSE))","v":5.8085699999999997E-2},0.81302869999999994]
[13213,1,3,2,1,3,10,{"$f":"IF(B279=1,\"0\",VLOOKUP(B279,coefficient2!$A$4:$B$7,2,FALSE))","v":"0"},{"$f":"IF(C279=1,\"0\",VLOOKUP(C279,coefficient2!$A$10:$B$13,2,FALSE))","v":7.0631200000000005E-2},{"$f":"IF(D279=1,\"0\",VLOOKUP(D279,coefficient2!$A$16:$B$19,2,FALSE))","v":5.8254399999999998E-2},{"$f":"IF(E279=1,\"0\",VLOOKUP(E279,coefficient2!$A$22:$B$25,2,FALSE))","v":"0"},{"$f":"IF(F279=1,\"0\",VLOOKUP(F279,coefficient2!$A$28:$B$31,2,FALSE))","v":9.5753900000000003E-2},0.7753604999999999]
[13214,1,3,2,1,4,11,{"$f":"IF(B280=1,\"0\",VLOOKUP(B280,coefficient2!$A$4:$B$7,2,FALSE))","v":"0"},{"$f":"IF(C280=1,\"0\",VLOOKUP(C280,coefficient2!$A$10:$B$13,2,FALSE))","v":7.0631200000000005E-2},{"$f":"IF(D280=1,\"0\",VLOOKUP(D280,coefficient2!$A$16:$B$19,2,FALSE))","v":5.8254399999999998E-2},{"$f":"IF(E280=1,\"0\",VLOOKUP(E280,coefficient2!$A$22:$B$25,2,FALSE))","v":"0"},{"$f":"IF(F280=1,\"0\",VLOOKUP(F280,coefficient2!$A$28:$B$31,2,FALSE))","v":0.23270360000000001},0.63841079999999994]
[13215,1,3,2,1,5,12,{"$f":"IF(B281=1,\"0\",VLOOKUP(B281,coefficient2!$A$4:$B$7,2,FALSE))","v":"0"},{"$f":"IF(C281=1,\"0\",VLOOKUP(C281,coefficient2!$A$10:$B$13,2,FALSE))","v":7.0631200000000005E-2},{"$f":"IF(D281=1,\"0\",VLOOKUP(D281,coefficient2!$A$16:$B$19,2,FALSE))","v":5.8254399999999998E-2},{"$f":"IF(E281=1,\"0\",VLOOKUP(E281,coefficient2!$A$22:$B$25,2,FALSE))","v":"0"},{"$f":"IF(F281=1,\"0\",VLOOKUP(F281,coefficient2!$A$28:$B$31,2,FALSE))","v":0.29534929999999998},0.57576509999999992]
[13221,1,3,2,2,1,9,{"$f":"IF(B282=1,\"0\",VLOOKUP(B282,coefficient2!$A$4:$B$7,2,FALSE))","v":"0"},{"$f":"IF(C282=1,\"0\",VLOOKUP(C282,coefficient2!$A$10:$B$13,2,FALSE))","v":7.0631200000000005E-2},{"$f":"IF(D282=1,\"0\",VLOOKUP(D282,coefficient2!$A$16:$B$19,2,FALSE))","v":5.8254399999999998E-2},{"$f":"IF(E282=1,\"0\",VLOOKUP(E282,coefficient2!$A$22:$B$25,2,FALSE))","v":5.63998E-2},{"$f":"IF(F282=1,\"0\",VLOOKUP(F282,coefficient2!$A$28:$B$31,2,FALSE))","v":"0"},0.81471459999999996]
[13222,1,3,2,2,2,10,{"$f":"IF(B283=1,\"0\",VLOOKUP(B283,coefficient2!$A$4:$B$7,2,FALSE))","v":"0"},{"$f":"IF(C283=1,\"0\",VLOOKUP(C283,coefficient2!$A$10:$B$13,2,FALSE))","v":7.0631200000000005E-2},{"$f":"IF(D283=1,\"0\",VLOOKUP(D283,coefficient2!$A$16:$B$19,2,FALSE))","v":5.8254399999999998E-2},{"$f":"IF(E283=1,\"0\",VLOOKUP(E283,coefficient2!$A$22:$B$25,2,FALSE))","v":5.63998E-2},{"$f":"IF(F283=1,\"0\",VLOOKUP(F283,coefficient2!$A$28:$B$31,2,FALSE))","v":5.8085699999999997E-2},0.75662889999999994]
[13223,1,3,2,2,3,11,{"$f":"IF(B284=1,\"0\",VLOOKUP(B284,coefficient2!$A$4:$B$7,2,FALSE))","v":"0"},{"$f":"IF(C284=1,\"0\",VLOOKUP(C284,coefficient2!$A$10:$B$13,2,FALSE))","v":7.0631200000000005E-2},{"$f":"IF(D284=1,\"0\",VLOOKUP(D284,coefficient2!$A$16:$B$19,2,FALSE))","v":5.8254399999999998E-2},{"$f":"IF(E284=1,\"0\",VLOOKUP(E284,coefficient2!$A$22:$B$25,2,FALSE))","v":5.63998E-2},{"$f":"IF(F284=1,\"0\",VLOOKUP(F284,coefficient2!$A$28:$B$31,2,FALSE))","v":9.5753900000000003E-2},0.71896070000000001]
[13224,1,3,2,2,4,12,{"$f":"IF(B285=1,\"0\",VLOOKUP(B285,coefficient2!$A$4:$B$7,2,FALSE))","v":"0"},{"$f":"IF(C285=1,\"0\",VLOOKUP(C285,coefficient2!$A$10:$B$13,2,FALSE))","v":7.0631200000000005E-2},{"$f":"IF(D285=1,\"0\",VLOOKUP(D285,coefficient2!$A$16:$B$19,2,FALSE))","v":5.8254399999999998E-2},{"$f":"IF(E285=1,\"0\",VLOOKUP(E285,coefficient2!$A$22:$B$25,2,FALSE))","v":5.63998E-2},{"$f":"IF(F285=1,\"0\",VLOOKUP(F285,coefficient2!$A$28:$B$31,2,FALSE))","v":0.23270360000000001},0.58201099999999995]
[13225,1,3,2,2,5,13,{"$f":"IF(B286=1,\"0\",VLOOKUP(B286,coefficient2!$A$4:$B$7,2,FALSE))","v":"0"},{"$f":"IF(C286=1,\"0\",VLOOKUP(C286,coefficient2!$A$10:$B$13,2,FALSE))","v":7.0631200000000005E-2},{"$f":"IF(D286=1,\"0\",VLOOKUP(D286,coefficient2!$A$16:$B$19,2,FALSE))","v":5.8254399999999998E-2},{"$f":"IF(E286=1,\"0\",VLOOKUP(E286,coefficient2!$A$22:$B$25,2,FALSE))","v":5.63998E-2},{"$f":"IF(F286=1,\"0\",VLOOKUP(F286,coefficient2!$A$28:$B$31,2,FALSE))","v":0.29534929999999998},0.51936530000000003]
[13231,1,3,2,3,1,10,{"$f":"IF(B287=1,\"0\",VLOOKUP(B287,coefficient2!$A$4:$B$7,2,FALSE))","v":"0"},{"$f":"IF(C287=1,\"0\",VLOOKUP(C287,coefficient2!$A$10:$B$13,2,FALSE))","v":7.0631200000000005E-2},{"$f":"IF(D287=1,\"0\",VLOOKUP(D287,coefficient2!$A$16:$B$19,2,FALSE))","v":5.8254399999999998E-2},{"$f":"IF(E287=1,\"0\",VLOOKUP(E287,coefficient2!$A$22:$B$25,2,FALSE))","v":6.6492200000000001E-2},{"$f":"IF(F287=1,\"0\",VLOOKUP(F287,coefficient2!$A$28:$B$31,2,FALSE))","v":"0"},0.80462219999999995]
[13232,1,3,2,3,2,11,{"$f":"IF(B288=1,\"0\",VLOOKUP(B288,coefficient2!$A$4:$B$7,2,FALSE))","v":"0"},{"$f":"IF(C288=1,\"0\",VLOOKUP(C288,coefficient2!$A$10:$B$13,2,FALSE))","v":7.0631200000000005E-2},{"$f":"IF(D288=1,\"0\",VLOOKUP(D288,coefficient2!$A$16:$B$19,2,FALSE))","v":5.8254399999999998E-2},{"$f":"IF(E288=1,\"0\",VLOOKUP(E288,coefficient2!$A$22:$B$25,2,FALSE))","v":6.6492200000000001E-2},{"$f":"IF(F288=1,\"0\",VLOOKUP(F288,coefficient2!$A$28:$B$31,2,FALSE))","v":5.8085699999999997E-2},0.74653649999999994]
[13233,1,3,2,3,3,12,{"$f":"IF(B289=1,\"0\",VLOOKUP(B289,coefficient2!$A$4:$B$7,2,FALSE))","v":"0"},{"$f":"IF(C289=1,\"0\",VLOOKUP(C289,coefficient2!$A$10:$B$13,2,FALSE))","v":7.0631200000000005E-2},{"$f":"IF(D289=1,\"0\",VLOOKUP(D289,coefficient2!$A$16:$B$19,2,FALSE))","v":5.8254399999999998E-2},{"$f":"IF(E289=1,\"0\",VLOOKUP(E289,coefficient2!$A$22:$B$25,2,FALSE))","v":6.6492200000000001E-2},{"$f":"IF(F289=1,\"0\",VLOOKUP(F289,coefficient2!$A$28:$B$31,2,FALSE))","v":9.5753900000000003E-2},0.70886830000000001]
[13234,1,3,2,3,4,13,{"$f":"IF(B290=1,\"0\",VLOOKUP(B290,coefficient2!$A$4:$B$7,2,FALSE))","v":"0"},{"$f":"IF(C290=1,\"0\",VLOOKUP(C290,coefficient2!$A$10:$B$13,2,FALSE))","v":7.0631200000000005E-2},{"$f":"IF(D290=1,\"0\",VLOOKUP(D290,coefficient2!$A$16:$B$19,2,FALSE))","v":5.8254399999999998E-2},{"$f":"IF(E290=1,\"0\",VLOOKUP(E290,coefficient2!$A$22:$B$25,2,FALSE))","v":6.6492200000000001E-2},{"$f":"IF(F290=1,\"0\",VLOOKUP(F290,coefficient2!$A$28:$B$31,2,FALSE))","v":0.23270360000000001},0.57191859999999994]
[13235,1,3,2,3,5,14,{"$f":"IF(B291=1,\"0\",VLOOKUP(B291,coefficient2!$A$4:$B$7,2,FALSE))","v":"0"},{"$f":"IF(C291=1,\"0\",VLOOKUP(C291,coefficient2!$A$10:$B$13,2,FALSE))","v":7.0631200000000005E-2},{"$f":"IF(D291=1,\"0\",VLOOKUP(D291,coefficient2!$A$16:$B$19,2,FALSE))","v":5.8254399999999998E-2},{"$f":"IF(E291=1,\"0\",VLOOKUP(E291,coefficient2!$A$22:$B$25,2,FALSE))","v":6.6492200000000001E-2},{"$f":"IF(F291=1,\"0\",VLOOKUP(F291,coefficient2!$A$28:$B$31,2,FALSE))","v":0.29534929999999998},0.50927290000000003]
[13241,1,3,2,4,1,11,{"$f":"IF(B292=1,\"0\",VLOOKUP(B292,coefficient2!$A$4:$B$7,2,FALSE))","v":"0"},{"$f":"IF(C292=1,\"0\",VLOOKUP(C292,coefficient2!$A$10:$B$13,2,FALSE))","v":7.0631200000000005E-2},{"$f":"IF(D292=1,\"0\",VLOOKUP(D292,coefficient2!$A$16:$B$19,2,FALSE))","v":5.8254399999999998E-2},{"$f":"IF(E292=1,\"0\",VLOOKUP(E292,coefficient2!$A$22:$B$25,2,FALSE))","v":0.2068864},{"$f":"IF(F292=1,\"0\",VLOOKUP(F292,coefficient2!$A$28:$B$31,2,FALSE))","v":"0"},0.66422799999999993]
[13242,1,3,2,4,2,12,{"$f":"IF(B293=1,\"0\",VLOOKUP(B293,coefficient2!$A$4:$B$7,2,FALSE))","v":"0"},{"$f":"IF(C293=1,\"0\",VLOOKUP(C293,coefficient2!$A$10:$B$13,2,FALSE))","v":7.0631200000000005E-2},{"$f":"IF(D293=1,\"0\",VLOOKUP(D293,coefficient2!$A$16:$B$19,2,FALSE))","v":5.8254399999999998E-2},{"$f":"IF(E293=1,\"0\",VLOOKUP(E293,coefficient2!$A$22:$B$25,2,FALSE))","v":0.2068864},{"$f":"IF(F293=1,\"0\",VLOOKUP(F293,coefficient2!$A$28:$B$31,2,FALSE))","v":5.8085699999999997E-2},0.60614229999999991]
[13243,1,3,2,4,3,13,{"$f":"IF(B294=1,\"0\",VLOOKUP(B294,coefficient2!$A$4:$B$7,2,FALSE))","v":"0"},{"$f":"IF(C294=1,\"0\",VLOOKUP(C294,coefficient2!$A$10:$B$13,2,FALSE))","v":7.0631200000000005E-2},{"$f":"IF(D294=1,\"0\",VLOOKUP(D294,coefficient2!$A$16:$B$19,2,FALSE))","v":5.8254399999999998E-2},{"$f":"IF(E294=1,\"0\",VLOOKUP(E294,coefficient2!$A$22:$B$25,2,FALSE))","v":0.2068864},{"$f":"IF(F294=1,\"0\",VLOOKUP(F294,coefficient2!$A$28:$B$31,2,FALSE))","v":9.5753900000000003E-2},0.56847409999999998]
[13244,1,3,2,4,4,14,{"$f":"IF(B295=1,\"0\",VLOOKUP(B295,coefficient2!$A$4:$B$7,2,FALSE))","v":"0"},{"$f":"IF(C295=1,\"0\",VLOOKUP(C295,coefficient2!$A$10:$B$13,2,FALSE))","v":7.0631200000000005E-2},{"$f":"IF(D295=1,\"0\",VLOOKUP(D295,coefficient2!$A$16:$B$19,2,FALSE))","v":5.8254399999999998E-2},{"$f":"IF(E295=1,\"0\",VLOOKUP(E295,coefficient2!$A$22:$B$25,2,FALSE))","v":0.2068864},{"$f":"IF(F295=1,\"0\",VLOOKUP(F295,coefficient2!$A$28:$B$31,2,FALSE))","v":0.23270360000000001},0.43152439999999992]
[13245,1,3,2,4,5,15,{"$f":"IF(B296=1,\"0\",VLOOKUP(B296,coefficient2!$A$4:$B$7,2,FALSE))","v":"0"},{"$f":"IF(C296=1,\"0\",VLOOKUP(C296,coefficient2!$A$10:$B$13,2,FALSE))","v":7.0631200000000005E-2},{"$f":"IF(D296=1,\"0\",VLOOKUP(D296,coefficient2!$A$16:$B$19,2,FALSE))","v":5.8254399999999998E-2},{"$f":"IF(E296=1,\"0\",VLOOKUP(E296,coefficient2!$A$22:$B$25,2,FALSE))","v":0.2068864},{"$f":"IF(F296=1,\"0\",VLOOKUP(F296,coefficient2!$A$28:$B$31,2,FALSE))","v":0.29534929999999998},0.36887869999999995]
[13251,1,3,2,5,1,12,{"$f":"IF(B297=1,\"0\",VLOOKUP(B297,coefficient2!$A$4:$B$7,2,FALSE))","v":"0"},{"$f":"IF(C297=1,\"0\",VLOOKUP(C297,coefficient2!$A$10:$B$13,2,FALSE))","v":7.0631200000000005E-2},{"$f":"IF(D297=1,\"0\",VLOOKUP(D297,coefficient2!$A$16:$B$19,2,FALSE))","v":5.8254399999999998E-2},{"$f":"IF(E297=1,\"0\",VLOOKUP(E297,coefficient2!$A$22:$B$25,2,FALSE))","v":0.25643310000000002},{"$f":"IF(F297=1,\"0\",VLOOKUP(F297,coefficient2!$A$28:$B$31,2,FALSE))","v":"0"},0.61468129999999999]
[13252,1,3,2,5,2,13,{"$f":"IF(B298=1,\"0\",VLOOKUP(B298,coefficient2!$A$4:$B$7,2,FALSE))","v":"0"},{"$f":"IF(C298=1,\"0\",VLOOKUP(C298,coefficient2!$A$10:$B$13,2,FALSE))","v":7.0631200000000005E-2},{"$f":"IF(D298=1,\"0\",VLOOKUP(D298,coefficient2!$A$16:$B$19,2,FALSE))","v":5.8254399999999998E-2},{"$f":"IF(E298=1,\"0\",VLOOKUP(E298,coefficient2!$A$22:$B$25,2,FALSE))","v":0.25643310000000002},{"$f":"IF(F298=1,\"0\",VLOOKUP(F298,coefficient2!$A$28:$B$31,2,FALSE))","v":5.8085699999999997E-2},0.55659559999999997]
[13253,1,3,2,5,3,14,{"$f":"IF(B299=1,\"0\",VLOOKUP(B299,coefficient2!$A$4:$B$7,2,FALSE))","v":"0"},{"$f":"IF(C299=1,\"0\",VLOOKUP(C299,coefficient2!$A$10:$B$13,2,FALSE))","v":7.0631200000000005E-2},{"$f":"IF(D299=1,\"0\",VLOOKUP(D299,coefficient2!$A$16:$B$19,2,FALSE))","v":5.8254399999999998E-2},{"$f":"IF(E299=1,\"0\",VLOOKUP(E299,coefficient2!$A$22:$B$25,2,FALSE))","v":0.25643310000000002},{"$f":"IF(F299=1,\"0\",VLOOKUP(F299,coefficient2!$A$28:$B$31,2,FALSE))","v":9.5753900000000003E-2},0.51892739999999993]
[13254,1,3,2,5,4,15,{"$f":"IF(B300=1,\"0\",VLOOKUP(B300,coefficient2!$A$4:$B$7,2,FALSE))","v":"0"},{"$f":"IF(C300=1,\"0\",VLOOKUP(C300,coefficient2!$A$10:$B$13,2,FALSE))","v":7.0631200000000005E-2},{"$f":"IF(D300=1,\"0\",VLOOKUP(D300,coefficient2!$A$16:$B$19,2,FALSE))","v":5.8254399999999998E-2},{"$f":"IF(E300=1,\"0\",VLOOKUP(E300,coefficient2!$A$22:$B$25,2,FALSE))","v":0.25643310000000002},{"$f":"IF(F300=1,\"0\",VLOOKUP(F300,coefficient2!$A$28:$B$31,2,FALSE))","v":0.23270360000000001},0.38197769999999998]
[13255,1,3,2,5,5,16,{"$f":"IF(B301=1,\"0\",VLOOKUP(B301,coefficient2!$A$4:$B$7,2,FALSE))","v":"0"},{"$f":"IF(C301=1,\"0\",VLOOKUP(C301,coefficient2!$A$10:$B$13,2,FALSE))","v":7.0631200000000005E-2},{"$f":"IF(D301=1,\"0\",VLOOKUP(D301,coefficient2!$A$16:$B$19,2,FALSE))","v":5.8254399999999998E-2},{"$f":"IF(E301=1,\"0\",VLOOKUP(E301,coefficient2!$A$22:$B$25,2,FALSE))","v":0.25643310000000002},{"$f":"IF(F301=1,\"0\",VLOOKUP(F301,coefficient2!$A$28:$B$31,2,FALSE))","v":0.29534929999999998},0.319332]
[13311,1,3,3,1,1,9,{"$f":"IF(B302=1,\"0\",VLOOKUP(B302,coefficient2!$A$4:$B$7,2,FALSE))","v":"0"},{"$f":"IF(C302=1,\"0\",VLOOKUP(C302,coefficient2!$A$10:$B$13,2,FALSE))","v":7.0631200000000005E-2},{"$f":"IF(D302=1,\"0\",VLOOKUP(D302,coefficient2!$A$16:$B$19,2,FALSE))","v":7.1197399999999994E-2},{"$f":"IF(E302=1,\"0\",VLOOKUP(E302,coefficient2!$A$22:$B$25,2,FALSE))","v":"0"},{"$f":"IF(F302=1,\"0\",VLOOKUP(F302,coefficient2!$A$28:$B$31,2,FALSE))","v":"0"},0.85817140000000003]
[13312,1,3,3,1,2,10,{"$f":"IF(B303=1,\"0\",VLOOKUP(B303,coefficient2!$A$4:$B$7,2,FALSE))","v":"0"},{"$f":"IF(C303=1,\"0\",VLOOKUP(C303,coefficient2!$A$10:$B$13,2,FALSE))","v":7.0631200000000005E-2},{"$f":"IF(D303=1,\"0\",VLOOKUP(D303,coefficient2!$A$16:$B$19,2,FALSE))","v":7.1197399999999994E-2},{"$f":"IF(E303=1,\"0\",VLOOKUP(E303,coefficient2!$A$22:$B$25,2,FALSE))","v":"0"},{"$f":"IF(F303=1,\"0\",VLOOKUP(F303,coefficient2!$A$28:$B$31,2,FALSE))","v":5.8085699999999997E-2},0.80008570000000001]
[13313,1,3,3,1,3,11,{"$f":"IF(B304=1,\"0\",VLOOKUP(B304,coefficient2!$A$4:$B$7,2,FALSE))","v":"0"},{"$f":"IF(C304=1,\"0\",VLOOKUP(C304,coefficient2!$A$10:$B$13,2,FALSE))","v":7.0631200000000005E-2},{"$f":"IF(D304=1,\"0\",VLOOKUP(D304,coefficient2!$A$16:$B$19,2,FALSE))","v":7.1197399999999994E-2},{"$f":"IF(E304=1,\"0\",VLOOKUP(E304,coefficient2!$A$22:$B$25,2,FALSE))","v":"0"},{"$f":"IF(F304=1,\"0\",VLOOKUP(F304,coefficient2!$A$28:$B$31,2,FALSE))","v":9.5753900000000003E-2},0.76241749999999997]
[13314,1,3,3,1,4,12,{"$f":"IF(B305=1,\"0\",VLOOKUP(B305,coefficient2!$A$4:$B$7,2,FALSE))","v":"0"},{"$f":"IF(C305=1,\"0\",VLOOKUP(C305,coefficient2!$A$10:$B$13,2,FALSE))","v":7.0631200000000005E-2},{"$f":"IF(D305=1,\"0\",VLOOKUP(D305,coefficient2!$A$16:$B$19,2,FALSE))","v":7.1197399999999994E-2},{"$f":"IF(E305=1,\"0\",VLOOKUP(E305,coefficient2!$A$22:$B$25,2,FALSE))","v":"0"},{"$f":"IF(F305=1,\"0\",VLOOKUP(F305,coefficient2!$A$28:$B$31,2,FALSE))","v":0.23270360000000001},0.62546780000000002]
[13315,1,3,3,1,5,13,{"$f":"IF(B306=1,\"0\",VLOOKUP(B306,coefficient2!$A$4:$B$7,2,FALSE))","v":"0"},{"$f":"IF(C306=1,\"0\",VLOOKUP(C306,coefficient2!$A$10:$B$13,2,FALSE))","v":7.0631200000000005E-2},{"$f":"IF(D306=1,\"0\",VLOOKUP(D306,coefficient2!$A$16:$B$19,2,FALSE))","v":7.1197399999999994E-2},{"$f":"IF(E306=1,\"0\",VLOOKUP(E306,coefficient2!$A$22:$B$25,2,FALSE))","v":"0"},{"$f":"IF(F306=1,\"0\",VLOOKUP(F306,coefficient2!$A$28:$B$31,2,FALSE))","v":0.29534929999999998},0.56282209999999999]
[13321,1,3,3,2,1,10,{"$f":"IF(B307=1,\"0\",VLOOKUP(B307,coefficient2!$A$4:$B$7,2,FALSE))","v":"0"},{"$f":"IF(C307=1,\"0\",VLOOKUP(C307,coefficient2!$A$10:$B$13,2,FALSE))","v":7.0631200000000005E-2},{"$f":"IF(D307=1,\"0\",VLOOKUP(D307,coefficient2!$A$16:$B$19,2,FALSE))","v":7.1197399999999994E-2},{"$f":"IF(E307=1,\"0\",VLOOKUP(E307,coefficient2!$A$22:$B$25,2,FALSE))","v":5.63998E-2},{"$f":"IF(F307=1,\"0\",VLOOKUP(F307,coefficient2!$A$28:$B$31,2,FALSE))","v":"0"},0.80177160000000003]
[13322,1,3,3,2,2,11,{"$f":"IF(B308=1,\"0\",VLOOKUP(B308,coefficient2!$A$4:$B$7,2,FALSE))","v":"0"},{"$f":"IF(C308=1,\"0\",VLOOKUP(C308,coefficient2!$A$10:$B$13,2,FALSE))","v":7.0631200000000005E-2},{"$f":"IF(D308=1,\"0\",VLOOKUP(D308,coefficient2!$A$16:$B$19,2,FALSE))","v":7.1197399999999994E-2},{"$f":"IF(E308=1,\"0\",VLOOKUP(E308,coefficient2!$A$22:$B$25,2,FALSE))","v":5.63998E-2},{"$f":"IF(F308=1,\"0\",VLOOKUP(F308,coefficient2!$A$28:$B$31,2,FALSE))","v":5.8085699999999997E-2},0.74368590000000001]
[13323,1,3,3,2,3,12,{"$f":"IF(B309=1,\"0\",VLOOKUP(B309,coefficient2!$A$4:$B$7,2,FALSE))","v":"0"},{"$f":"IF(C309=1,\"0\",VLOOKUP(C309,coefficient2!$A$10:$B$13,2,FALSE))","v":7.0631200000000005E-2},{"$f":"IF(D309=1,\"0\",VLOOKUP(D309,coefficient2!$A$16:$B$19,2,FALSE))","v":7.1197399999999994E-2},{"$f":"IF(E309=1,\"0\",VLOOKUP(E309,coefficient2!$A$22:$B$25,2,FALSE))","v":5.63998E-2},{"$f":"IF(F309=1,\"0\",VLOOKUP(F309,coefficient2!$A$28:$B$31,2,FALSE))","v":9.5753900000000003E-2},0.70601770000000008]
[13324,1,3,3,2,4,13,{"$f":"IF(B310=1,\"0\",VLOOKUP(B310,coefficient2!$A$4:$B$7,2,FALSE))","v":"0"},{"$f":"IF(C310=1,\"0\",VLOOKUP(C310,coefficient2!$A$10:$B$13,2,FALSE))","v":7.0631200000000005E-2},{"$f":"IF(D310=1,\"0\",VLOOKUP(D310,coefficient2!$A$16:$B$19,2,FALSE))","v":7.1197399999999994E-2},{"$f":"IF(E310=1,\"0\",VLOOKUP(E310,coefficient2!$A$22:$B$25,2,FALSE))","v":5.63998E-2},{"$f":"IF(F310=1,\"0\",VLOOKUP(F310,coefficient2!$A$28:$B$31,2,FALSE))","v":0.23270360000000001},0.56906800000000002]
[13325,1,3,3,2,5,14,{"$f":"IF(B311=1,\"0\",VLOOKUP(B311,coefficient2!$A$4:$B$7,2,FALSE))","v":"0"},{"$f":"IF(C311=1,\"0\",VLOOKUP(C311,coefficient2!$A$10:$B$13,2,FALSE))","v":7.0631200000000005E-2},{"$f":"IF(D311=1,\"0\",VLOOKUP(D311,coefficient2!$A$16:$B$19,2,FALSE))","v":7.1197399999999994E-2},{"$f":"IF(E311=1,\"0\",VLOOKUP(E311,coefficient2!$A$22:$B$25,2,FALSE))","v":5.63998E-2},{"$f":"IF(F311=1,\"0\",VLOOKUP(F311,coefficient2!$A$28:$B$31,2,FALSE))","v":0.29534929999999998},0.5064223000000001]
[13331,1,3,3,3,1,11,{"$f":"IF(B312=1,\"0\",VLOOKUP(B312,coefficient2!$A$4:$B$7,2,FALSE))","v":"0"},{"$f":"IF(C312=1,\"0\",VLOOKUP(C312,coefficient2!$A$10:$B$13,2,FALSE))","v":7.0631200000000005E-2},{"$f":"IF(D312=1,\"0\",VLOOKUP(D312,coefficient2!$A$16:$B$19,2,FALSE))","v":7.1197399999999994E-2},{"$f":"IF(E312=1,\"0\",VLOOKUP(E312,coefficient2!$A$22:$B$25,2,FALSE))","v":6.6492200000000001E-2},{"$f":"IF(F312=1,\"0\",VLOOKUP(F312,coefficient2!$A$28:$B$31,2,FALSE))","v":"0"},0.79167920000000003]
[13332,1,3,3,3,2,12,{"$f":"IF(B313=1,\"0\",VLOOKUP(B313,coefficient2!$A$4:$B$7,2,FALSE))","v":"0"},{"$f":"IF(C313=1,\"0\",VLOOKUP(C313,coefficient2!$A$10:$B$13,2,FALSE))","v":7.0631200000000005E-2},{"$f":"IF(D313=1,\"0\",VLOOKUP(D313,coefficient2!$A$16:$B$19,2,FALSE))","v":7.1197399999999994E-2},{"$f":"IF(E313=1,\"0\",VLOOKUP(E313,coefficient2!$A$22:$B$25,2,FALSE))","v":6.6492200000000001E-2},{"$f":"IF(F313=1,\"0\",VLOOKUP(F313,coefficient2!$A$28:$B$31,2,FALSE))","v":5.8085699999999997E-2},0.73359350000000001]
[13333,1,3,3,3,3,13,{"$f":"IF(B314=1,\"0\",VLOOKUP(B314,coefficient2!$A$4:$B$7,2,FALSE))","v":"0"},{"$f":"IF(C314=1,\"0\",VLOOKUP(C314,coefficient2!$A$10:$B$13,2,FALSE))","v":7.0631200000000005E-2},{"$f":"IF(D314=1,\"0\",VLOOKUP(D314,coefficient2!$A$16:$B$19,2,FALSE))","v":7.1197399999999994E-2},{"$f":"IF(E314=1,\"0\",VLOOKUP(E314,coefficient2!$A$22:$B$25,2,FALSE))","v":6.6492200000000001E-2},{"$f":"IF(F314=1,\"0\",VLOOKUP(F314,coefficient2!$A$28:$B$31,2,FALSE))","v":9.5753900000000003E-2},0.69592530000000008]
[13334,1,3,3,3,4,14,{"$f":"IF(B315=1,\"0\",VLOOKUP(B315,coefficient2!$A$4:$B$7,2,FALSE))","v":"0"},{"$f":"IF(C315=1,\"0\",VLOOKUP(C315,coefficient2!$A$10:$B$13,2,FALSE))","v":7.0631200000000005E-2},{"$f":"IF(D315=1,\"0\",VLOOKUP(D315,coefficient2!$A$16:$B$19,2,FALSE))","v":7.1197399999999994E-2},{"$f":"IF(E315=1,\"0\",VLOOKUP(E315,coefficient2!$A$22:$B$25,2,FALSE))","v":6.6492200000000001E-2},{"$f":"IF(F315=1,\"0\",VLOOKUP(F315,coefficient2!$A$28:$B$31,2,FALSE))","v":0.23270360000000001},0.55897560000000002]
[13335,1,3,3,3,5,15,{"$f":"IF(B316=1,\"0\",VLOOKUP(B316,coefficient2!$A$4:$B$7,2,FALSE))","v":"0"},{"$f":"IF(C316=1,\"0\",VLOOKUP(C316,coefficient2!$A$10:$B$13,2,FALSE))","v":7.0631200000000005E-2},{"$f":"IF(D316=1,\"0\",VLOOKUP(D316,coefficient2!$A$16:$B$19,2,FALSE))","v":7.1197399999999994E-2},{"$f":"IF(E316=1,\"0\",VLOOKUP(E316,coefficient2!$A$22:$B$25,2,FALSE))","v":6.6492200000000001E-2},{"$f":"IF(F316=1,\"0\",VLOOKUP(F316,coefficient2!$A$28:$B$31,2,FALSE))","v":0.29534929999999998},0.49632990000000005]
[13341,1,3,3,4,1,12,{"$f":"IF(B317=1,\"0\",VLOOKUP(B317,coefficient2!$A$4:$B$7,2,FALSE))","v":"0"},{"$f":"IF(C317=1,\"0\",VLOOKUP(C317,coefficient2!$A$10:$B$13,2,FALSE))","v":7.0631200000000005E-2},{"$f":"IF(D317=1,\"0\",VLOOKUP(D317,coefficient2!$A$16:$B$19,2,FALSE))","v":7.1197399999999994E-2},{"$f":"IF(E317=1,\"0\",VLOOKUP(E317,coefficient2!$A$22:$B$25,2,FALSE))","v":0.2068864},{"$f":"IF(F317=1,\"0\",VLOOKUP(F317,coefficient2!$A$28:$B$31,2,FALSE))","v":"0"},0.651285]
[13342,1,3,3,4,2,13,{"$f":"IF(B318=1,\"0\",VLOOKUP(B318,coefficient2!$A$4:$B$7,2,FALSE))","v":"0"},{"$f":"IF(C318=1,\"0\",VLOOKUP(C318,coefficient2!$A$10:$B$13,2,FALSE))","v":7.0631200000000005E-2},{"$f":"IF(D318=1,\"0\",VLOOKUP(D318,coefficient2!$A$16:$B$19,2,FALSE))","v":7.1197399999999994E-2},{"$f":"IF(E318=1,\"0\",VLOOKUP(E318,coefficient2!$A$22:$B$25,2,FALSE))","v":0.2068864},{"$f":"IF(F318=1,\"0\",VLOOKUP(F318,coefficient2!$A$28:$B$31,2,FALSE))","v":5.8085699999999997E-2},0.59319929999999998]
[13343,1,3,3,4,3,14,{"$f":"IF(B319=1,\"0\",VLOOKUP(B319,coefficient2!$A$4:$B$7,2,FALSE))","v":"0"},{"$f":"IF(C319=1,\"0\",VLOOKUP(C319,coefficient2!$A$10:$B$13,2,FALSE))","v":7.0631200000000005E-2},{"$f":"IF(D319=1,\"0\",VLOOKUP(D319,coefficient2!$A$16:$B$19,2,FALSE))","v":7.1197399999999994E-2},{"$f":"IF(E319=1,\"0\",VLOOKUP(E319,coefficient2!$A$22:$B$25,2,FALSE))","v":0.2068864},{"$f":"IF(F319=1,\"0\",VLOOKUP(F319,coefficient2!$A$28:$B$31,2,FALSE))","v":9.5753900000000003E-2},0.55553110000000006]
[13344,1,3,3,4,4,15,{"$f":"IF(B320=1,\"0\",VLOOKUP(B320,coefficient2!$A$4:$B$7,2,FALSE))","v":"0"},{"$f":"IF(C320=1,\"0\",VLOOKUP(C320,coefficient2!$A$10:$B$13,2,FALSE))","v":7.0631200000000005E-2},{"$f":"IF(D320=1,\"0\",VLOOKUP(D320,coefficient2!$A$16:$B$19,2,FALSE))","v":7.1197399999999994E-2},{"$f":"IF(E320=1,\"0\",VLOOKUP(E320,coefficient2!$A$22:$B$25,2,FALSE))","v":0.2068864},{"$f":"IF(F320=1,\"0\",VLOOKUP(F320,coefficient2!$A$28:$B$31,2,FALSE))","v":0.23270360000000001},0.41858139999999999]
[13345,1,3,3,4,5,16,{"$f":"IF(B321=1,\"0\",VLOOKUP(B321,coefficient2!$A$4:$B$7,2,FALSE))","v":"0"},{"$f":"IF(C321=1,\"0\",VLOOKUP(C321,coefficient2!$A$10:$B$13,2,FALSE))","v":7.0631200000000005E-2},{"$f":"IF(D321=1,\"0\",VLOOKUP(D321,coefficient2!$A$16:$B$19,2,FALSE))","v":7.1197399999999994E-2},{"$f":"IF(E321=1,\"0\",VLOOKUP(E321,coefficient2!$A$22:$B$25,2,FALSE))","v":0.2068864},{"$f":"IF(F321=1,\"0\",VLOOKUP(F321,coefficient2!$A$28:$B$31,2,FALSE))","v":0.29534929999999998},0.35593570000000002]
[13351,1,3,3,5,1,13,{"$f":"IF(B322=1,\"0\",VLOOKUP(B322,coefficient2!$A$4:$B$7,2,FALSE))","v":"0"},{"$f":"IF(C322=1,\"0\",VLOOKUP(C322,coefficient2!$A$10:$B$13,2,FALSE))","v":7.0631200000000005E-2},{"$f":"IF(D322=1,\"0\",VLOOKUP(D322,coefficient2!$A$16:$B$19,2,FALSE))","v":7.1197399999999994E-2},{"$f":"IF(E322=1,\"0\",VLOOKUP(E322,coefficient2!$A$22:$B$25,2,FALSE))","v":0.25643310000000002},{"$f":"IF(F322=1,\"0\",VLOOKUP(F322,coefficient2!$A$28:$B$31,2,FALSE))","v":"0"},{"$f":"1-H322-I322-J322-K322-L322","v":0.60173830000000006}]
[13352,{"$f":"INT(LEFT(A323,1))","v":1},{"$f":"INT(MID(A323,2,1))","v":3},{"$f":"INT(MID(A323,3,1))","v":3},{"$f":"INT(MID(A323,4,1))","v":5},{"$f":"INT(RIGHT(A323,1))","v":2},{"$f":"SUM(B323:F323)","v":14},{"$f":"IF(B323=1,\"0\",VLOOKUP(B323,coefficient2!$A$4:$B$7,2,FALSE))","v":"0"},{"$f":"IF(C323=1,\"0\",VLOOKUP(C323,coefficient2!$A$10:$B$13,2,FALSE))","v":7.0631200000000005E-2},{"$f":"IF(D323=1,\"0\",VLOOKUP(D323,coefficient2!$A$16:$B$19,2,FALSE))","v":7.1197399999999994E-2},{"$f":"IF(E323=1,\"0\",VLOOKUP(E323,coefficient2!$A$22:$B$25,2,FALSE))","v":0.25643310000000002},{"$f":"IF(F323=1,\"0\",VLOOKUP(F323,coefficient2!$A$28:$B$31,2,FALSE))","v":5.8085699999999997E-2},0.54365260000000004]
[13353,1,3,3,5,3,15,{"$f":"IF(B324=1,\"0\",VLOOKUP(B324,coefficient2!$A$4:$B$7,2,FALSE))","v":"0"},{"$f":"IF(C324=1,\"0\",VLOOKUP(C324,coefficient2!$A$10:$B$13,2,FALSE))","v":7.0631200000000005E-2},{"$f":"IF(D324=1,\"0\",VLOOKUP(D324,coefficient2!$A$16:$B$19,2,FALSE))","v":7.1197399999999994E-2},{"$f":"IF(E324=1,\"0\",VLOOKUP(E324,coefficient2!$A$22:$B$25,2,FALSE))","v":0.25643310000000002},{"$f":"IF(F324=1,\"0\",VLOOKUP(F324,coefficient2!$A$28:$B$31,2,FALSE))","v":9.5753900000000003E-2},0.5059844]
[13354,1,3,3,5,4,16,{"$f":"IF(B325=1,\"0\",VLOOKUP(B325,coefficient2!$A$4:$B$7,2,FALSE))","v":"0"},{"$f":"IF(C325=1,\"0\",VLOOKUP(C325,coefficient2!$A$10:$B$13,2,FALSE))","v":7.0631200000000005E-2},{"$f":"IF(D325=1,\"0\",VLOOKUP(D325,coefficient2!$A$16:$B$19,2,FALSE))","v":7.1197399999999994E-2},{"$f":"IF(E325=1,\"0\",VLOOKUP(E325,coefficient2!$A$22:$B$25,2,FALSE))","v":0.25643310000000002},{"$f":"IF(F325=1,\"0\",VLOOKUP(F325,coefficient2!$A$28:$B$31,2,FALSE))","v":0.23270360000000001},0.36903470000000005]
[13355,1,3,3,5,5,17,{"$f":"IF(B326=1,\"0\",VLOOKUP(B326,coefficient2!$A$4:$B$7,2,FALSE))","v":"0"},{"$f":"IF(C326=1,\"0\",VLOOKUP(C326,coefficient2!$A$10:$B$13,2,FALSE))","v":7.0631200000000005E-2},{"$f":"IF(D326=1,\"0\",VLOOKUP(D326,coefficient2!$A$16:$B$19,2,FALSE))","v":7.1197399999999994E-2},{"$f":"IF(E326=1,\"0\",VLOOKUP(E326,coefficient2!$A$22:$B$25,2,FALSE))","v":0.25643310000000002},{"$f":"IF(F326=1,\"0\",VLOOKUP(F326,coefficient2!$A$28:$B$31,2,FALSE))","v":0.29534929999999998},0.30638900000000008]
[13411,1,3,4,1,1,10,{"$f":"IF(B327=1,\"0\",VLOOKUP(B327,coefficient2!$A$4:$B$7,2,FALSE))","v":"0"},{"$f":"IF(C327=1,\"0\",VLOOKUP(C327,coefficient2!$A$10:$B$13,2,FALSE))","v":7.0631200000000005E-2},{"$f":"IF(D327=1,\"0\",VLOOKUP(D327,coefficient2!$A$16:$B$19,2,FALSE))","v":0.1534855},{"$f":"IF(E327=1,\"0\",VLOOKUP(E327,coefficient2!$A$22:$B$25,2,FALSE))","v":"0"},{"$f":"IF(F327=1,\"0\",VLOOKUP(F327,coefficient2!$A$28:$B$31,2,FALSE))","v":"0"},0.77588330000000005]
[13412,1,3,4,1,2,11,{"$f":"IF(B328=1,\"0\",VLOOKUP(B328,coefficient2!$A$4:$B$7,2,FALSE))","v":"0"},{"$f":"IF(C328=1,\"0\",VLOOKUP(C328,coefficient2!$A$10:$B$13,2,FALSE))","v":7.0631200000000005E-2},{"$f":"IF(D328=1,\"0\",VLOOKUP(D328,coefficient2!$A$16:$B$19,2,FALSE))","v":0.1534855},{"$f":"IF(E328=1,\"0\",VLOOKUP(E328,coefficient2!$A$22:$B$25,2,FALSE))","v":"0"},{"$f":"IF(F328=1,\"0\",VLOOKUP(F328,coefficient2!$A$28:$B$31,2,FALSE))","v":5.8085699999999997E-2},0.71779760000000004]
[13413,1,3,4,1,3,12,{"$f":"IF(B329=1,\"0\",VLOOKUP(B329,coefficient2!$A$4:$B$7,2,FALSE))","v":"0"},{"$f":"IF(C329=1,\"0\",VLOOKUP(C329,coefficient2!$A$10:$B$13,2,FALSE))","v":7.0631200000000005E-2},{"$f":"IF(D329=1,\"0\",VLOOKUP(D329,coefficient2!$A$16:$B$19,2,FALSE))","v":0.1534855},{"$f":"IF(E329=1,\"0\",VLOOKUP(E329,coefficient2!$A$22:$B$25,2,FALSE))","v":"0"},{"$f":"IF(F329=1,\"0\",VLOOKUP(F329,coefficient2!$A$28:$B$31,2,FALSE))","v":9.5753900000000003E-2},0.6801294]
[13414,1,3,4,1,4,13,{"$f":"IF(B330=1,\"0\",VLOOKUP(B330,coefficient2!$A$4:$B$7,2,FALSE))","v":"0"},{"$f":"IF(C330=1,\"0\",VLOOKUP(C330,coefficient2!$A$10:$B$13,2,FALSE))","v":7.0631200000000005E-2},{"$f":"IF(D330=1,\"0\",VLOOKUP(D330,coefficient2!$A$16:$B$19,2,FALSE))","v":0.1534855},{"$f":"IF(E330=1,\"0\",VLOOKUP(E330,coefficient2!$A$22:$B$25,2,FALSE))","v":"0"},{"$f":"IF(F330=1,\"0\",VLOOKUP(F330,coefficient2!$A$28:$B$31,2,FALSE))","v":0.23270360000000001},0.54317970000000004]
[13415,1,3,4,1,5,14,{"$f":"IF(B331=1,\"0\",VLOOKUP(B331,coefficient2!$A$4:$B$7,2,FALSE))","v":"0"},{"$f":"IF(C331=1,\"0\",VLOOKUP(C331,coefficient2!$A$10:$B$13,2,FALSE))","v":7.0631200000000005E-2},{"$f":"IF(D331=1,\"0\",VLOOKUP(D331,coefficient2!$A$16:$B$19,2,FALSE))","v":0.1534855},{"$f":"IF(E331=1,\"0\",VLOOKUP(E331,coefficient2!$A$22:$B$25,2,FALSE))","v":"0"},{"$f":"IF(F331=1,\"0\",VLOOKUP(F331,coefficient2!$A$28:$B$31,2,FALSE))","v":0.29534929999999998},0.48053400000000007]
[13421,1,3,4,2,1,11,{"$f":"IF(B332=1,\"0\",VLOOKUP(B332,coefficient2!$A$4:$B$7,2,FALSE))","v":"0"},{"$f":"IF(C332=1,\"0\",VLOOKUP(C332,coefficient2!$A$10:$B$13,2,FALSE))","v":7.0631200000000005E-2},{"$f":"IF(D332=1,\"0\",VLOOKUP(D332,coefficient2!$A$16:$B$19,2,FALSE))","v":0.1534855},{"$f":"IF(E332=1,\"0\",VLOOKUP(E332,coefficient2!$A$22:$B$25,2,FALSE))","v":5.63998E-2},{"$f":"IF(F332=1,\"0\",VLOOKUP(F332,coefficient2!$A$28:$B$31,2,FALSE))","v":"0"},0.71948350000000005]
[13422,1,3,4,2,2,12,{"$f":"IF(B333=1,\"0\",VLOOKUP(B333,coefficient2!$A$4:$B$7,2,FALSE))","v":"0"},{"$f":"IF(C333=1,\"0\",VLOOKUP(C333,coefficient2!$A$10:$B$13,2,FALSE))","v":7.0631200000000005E-2},{"$f":"IF(D333=1,\"0\",VLOOKUP(D333,coefficient2!$A$16:$B$19,2,FALSE))","v":0.1534855},{"$f":"IF(E333=1,\"0\",VLOOKUP(E333,coefficient2!$A$22:$B$25,2,FALSE))","v":5.63998E-2},{"$f":"IF(F333=1,\"0\",VLOOKUP(F333,coefficient2!$A$28:$B$31,2,FALSE))","v":5.8085699999999997E-2},0.66139780000000004]
[13423,1,3,4,2,3,13,{"$f":"IF(B334=1,\"0\",VLOOKUP(B334,coefficient2!$A$4:$B$7,2,FALSE))","v":"0"},{"$f":"IF(C334=1,\"0\",VLOOKUP(C334,coefficient2!$A$10:$B$13,2,FALSE))","v":7.0631200000000005E-2},{"$f":"IF(D334=1,\"0\",VLOOKUP(D334,coefficient2!$A$16:$B$19,2,FALSE))","v":0.1534855},{"$f":"IF(E334=1,\"0\",VLOOKUP(E334,coefficient2!$A$22:$B$25,2,FALSE))","v":5.63998E-2},{"$f":"IF(F334=1,\"0\",VLOOKUP(F334,coefficient2!$A$28:$B$31,2,FALSE))","v":9.5753900000000003E-2},0.62372960000000011]
[13424,1,3,4,2,4,14,{"$f":"IF(B335=1,\"0\",VLOOKUP(B335,coefficient2!$A$4:$B$7,2,FALSE))","v":"0"},{"$f":"IF(C335=1,\"0\",VLOOKUP(C335,coefficient2!$A$10:$B$13,2,FALSE))","v":7.0631200000000005E-2},{"$f":"IF(D335=1,\"0\",VLOOKUP(D335,coefficient2!$A$16:$B$19,2,FALSE))","v":0.1534855},{"$f":"IF(E335=1,\"0\",VLOOKUP(E335,coefficient2!$A$22:$B$25,2,FALSE))","v":5.63998E-2},{"$f":"IF(F335=1,\"0\",VLOOKUP(F335,coefficient2!$A$28:$B$31,2,FALSE))","v":0.23270360000000001},0.48677990000000004]
[13425,1,3,4,2,5,15,{"$f":"IF(B336=1,\"0\",VLOOKUP(B336,coefficient2!$A$4:$B$7,2,FALSE))","v":"0"},{"$f":"IF(C336=1,\"0\",VLOOKUP(C336,coefficient2!$A$10:$B$13,2,FALSE))","v":7.0631200000000005E-2},{"$f":"IF(D336=1,\"0\",VLOOKUP(D336,coefficient2!$A$16:$B$19,2,FALSE))","v":0.1534855},{"$f":"IF(E336=1,\"0\",VLOOKUP(E336,coefficient2!$A$22:$B$25,2,FALSE))","v":5.63998E-2},{"$f":"IF(F336=1,\"0\",VLOOKUP(F336,coefficient2!$A$28:$B$31,2,FALSE))","v":0.29534929999999998},0.42413420000000007]
[13431,1,3,4,3,1,12,{"$f":"IF(B337=1,\"0\",VLOOKUP(B337,coefficient2!$A$4:$B$7,2,FALSE))","v":"0"},{"$f":"IF(C337=1,\"0\",VLOOKUP(C337,coefficient2!$A$10:$B$13,2,FALSE))","v":7.0631200000000005E-2},{"$f":"IF(D337=1,\"0\",VLOOKUP(D337,coefficient2!$A$16:$B$19,2,FALSE))","v":0.1534855},{"$f":"IF(E337=1,\"0\",VLOOKUP(E337,coefficient2!$A$22:$B$25,2,FALSE))","v":6.6492200000000001E-2},{"$f":"IF(F337=1,\"0\",VLOOKUP(F337,coefficient2!$A$28:$B$31,2,FALSE))","v":"0"},0.70939110000000005]
[13432,1,3,4,3,2,13,{"$f":"IF(B338=1,\"0\",VLOOKUP(B338,coefficient2!$A$4:$B$7,2,FALSE))","v":"0"},{"$f":"IF(C338=1,\"0\",VLOOKUP(C338,coefficient2!$A$10:$B$13,2,FALSE))","v":7.0631200000000005E-2},{"$f":"IF(D338=1,\"0\",VLOOKUP(D338,coefficient2!$A$16:$B$19,2,FALSE))","v":0.1534855},{"$f":"IF(E338=1,\"0\",VLOOKUP(E338,coefficient2!$A$22:$B$25,2,FALSE))","v":6.6492200000000001E-2},{"$f":"IF(F338=1,\"0\",VLOOKUP(F338,coefficient2!$A$28:$B$31,2,FALSE))","v":5.8085699999999997E-2},0.65130540000000003]
[13433,1,3,4,3,3,14,{"$f":"IF(B339=1,\"0\",VLOOKUP(B339,coefficient2!$A$4:$B$7,2,FALSE))","v":"0"},{"$f":"IF(C339=1,\"0\",VLOOKUP(C339,coefficient2!$A$10:$B$13,2,FALSE))","v":7.0631200000000005E-2},{"$f":"IF(D339=1,\"0\",VLOOKUP(D339,coefficient2!$A$16:$B$19,2,FALSE))","v":0.1534855},{"$f":"IF(E339=1,\"0\",VLOOKUP(E339,coefficient2!$A$22:$B$25,2,FALSE))","v":6.6492200000000001E-2},{"$f":"IF(F339=1,\"0\",VLOOKUP(F339,coefficient2!$A$28:$B$31,2,FALSE))","v":9.5753900000000003E-2},0.6136372000000001]
[13434,1,3,4,3,4,15,{"$f":"IF(B340=1,\"0\",VLOOKUP(B340,coefficient2!$A$4:$B$7,2,FALSE))","v":"0"},{"$f":"IF(C340=1,\"0\",VLOOKUP(C340,coefficient2!$A$10:$B$13,2,FALSE))","v":7.0631200000000005E-2},{"$f":"IF(D340=1,\"0\",VLOOKUP(D340,coefficient2!$A$16:$B$19,2,FALSE))","v":0.1534855},{"$f":"IF(E340=1,\"0\",VLOOKUP(E340,coefficient2!$A$22:$B$25,2,FALSE))","v":6.6492200000000001E-2},{"$f":"IF(F340=1,\"0\",VLOOKUP(F340,coefficient2!$A$28:$B$31,2,FALSE))","v":0.23270360000000001},0.47668750000000004]
[13435,1,3,4,3,5,16,{"$f":"IF(B341=1,\"0\",VLOOKUP(B341,coefficient2!$A$4:$B$7,2,FALSE))","v":"0"},{"$f":"IF(C341=1,\"0\",VLOOKUP(C341,coefficient2!$A$10:$B$13,2,FALSE))","v":7.0631200000000005E-2},{"$f":"IF(D341=1,\"0\",VLOOKUP(D341,coefficient2!$A$16:$B$19,2,FALSE))","v":0.1534855},{"$f":"IF(E341=1,\"0\",VLOOKUP(E341,coefficient2!$A$22:$B$25,2,FALSE))","v":6.6492200000000001E-2},{"$f":"IF(F341=1,\"0\",VLOOKUP(F341,coefficient2!$A$28:$B$31,2,FALSE))","v":0.29534929999999998},0.41404180000000007]
[13441,1,3,4,4,1,13,{"$f":"IF(B342=1,\"0\",VLOOKUP(B342,coefficient2!$A$4:$B$7,2,FALSE))","v":"0"},{"$f":"IF(C342=1,\"0\",VLOOKUP(C342,coefficient2!$A$10:$B$13,2,FALSE))","v":7.0631200000000005E-2},{"$f":"IF(D342=1,\"0\",VLOOKUP(D342,coefficient2!$A$16:$B$19,2,FALSE))","v":0.1534855},{"$f":"IF(E342=1,\"0\",VLOOKUP(E342,coefficient2!$A$22:$B$25,2,FALSE))","v":0.2068864},{"$f":"IF(F342=1,\"0\",VLOOKUP(F342,coefficient2!$A$28:$B$31,2,FALSE))","v":"0"},0.56899690000000003]
[13442,1,3,4,4,2,14,{"$f":"IF(B343=1,\"0\",VLOOKUP(B343,coefficient2!$A$4:$B$7,2,FALSE))","v":"0"},{"$f":"IF(C343=1,\"0\",VLOOKUP(C343,coefficient2!$A$10:$B$13,2,FALSE))","v":7.0631200000000005E-2},{"$f":"IF(D343=1,\"0\",VLOOKUP(D343,coefficient2!$A$16:$B$19,2,FALSE))","v":0.1534855},{"$f":"IF(E343=1,\"0\",VLOOKUP(E343,coefficient2!$A$22:$B$25,2,FALSE))","v":0.2068864},{"$f":"IF(F343=1,\"0\",VLOOKUP(F343,coefficient2!$A$28:$B$31,2,FALSE))","v":5.8085699999999997E-2},0.51091120000000001]
[13443,1,3,4,4,3,15,{"$f":"IF(B344=1,\"0\",VLOOKUP(B344,coefficient2!$A$4:$B$7,2,FALSE))","v":"0"},{"$f":"IF(C344=1,\"0\",VLOOKUP(C344,coefficient2!$A$10:$B$13,2,FALSE))","v":7.0631200000000005E-2},{"$f":"IF(D344=1,\"0\",VLOOKUP(D344,coefficient2!$A$16:$B$19,2,FALSE))","v":0.1534855},{"$f":"IF(E344=1,\"0\",VLOOKUP(E344,coefficient2!$A$22:$B$25,2,FALSE))","v":0.2068864},{"$f":"IF(F344=1,\"0\",VLOOKUP(F344,coefficient2!$A$28:$B$31,2,FALSE))","v":9.5753900000000003E-2},0.47324300000000002]
[13444,1,3,4,4,4,16,{"$f":"IF(B345=1,\"0\",VLOOKUP(B345,coefficient2!$A$4:$B$7,2,FALSE))","v":"0"},{"$f":"IF(C345=1,\"0\",VLOOKUP(C345,coefficient2!$A$10:$B$13,2,FALSE))","v":7.0631200000000005E-2},{"$f":"IF(D345=1,\"0\",VLOOKUP(D345,coefficient2!$A$16:$B$19,2,FALSE))","v":0.1534855},{"$f":"IF(E345=1,\"0\",VLOOKUP(E345,coefficient2!$A$22:$B$25,2,FALSE))","v":0.2068864},{"$f":"IF(F345=1,\"0\",VLOOKUP(F345,coefficient2!$A$28:$B$31,2,FALSE))","v":0.23270360000000001},0.33629330000000002]
[13445,1,3,4,4,5,17,{"$f":"IF(B346=1,\"0\",VLOOKUP(B346,coefficient2!$A$4:$B$7,2,FALSE))","v":"0"},{"$f":"IF(C346=1,\"0\",VLOOKUP(C346,coefficient2!$A$10:$B$13,2,FALSE))","v":7.0631200000000005E-2},{"$f":"IF(D346=1,\"0\",VLOOKUP(D346,coefficient2!$A$16:$B$19,2,FALSE))","v":0.1534855},{"$f":"IF(E346=1,\"0\",VLOOKUP(E346,coefficient2!$A$22:$B$25,2,FALSE))","v":0.2068864},{"$f":"IF(F346=1,\"0\",VLOOKUP(F346,coefficient2!$A$28:$B$31,2,FALSE))","v":0.29534929999999998},0.27364760000000005]
[13451,1,3,4,5,1,14,{"$f":"IF(B347=1,\"0\",VLOOKUP(B347,coefficient2!$A$4:$B$7,2,FALSE))","v":"0"},{"$f":"IF(C347=1,\"0\",VLOOKUP(C347,coefficient2!$A$10:$B$13,2,FALSE))","v":7.0631200000000005E-2},{"$f":"IF(D347=1,\"0\",VLOOKUP(D347,coefficient2!$A$16:$B$19,2,FALSE))","v":0.1534855},{"$f":"IF(E347=1,\"0\",VLOOKUP(E347,coefficient2!$A$22:$B$25,2,FALSE))","v":0.25643310000000002},{"$f":"IF(F347=1,\"0\",VLOOKUP(F347,coefficient2!$A$28:$B$31,2,FALSE))","v":"0"},0.51945020000000008]
[13452,1,3,4,5,2,15,{"$f":"IF(B348=1,\"0\",VLOOKUP(B348,coefficient2!$A$4:$B$7,2,FALSE))","v":"0"},{"$f":"IF(C348=1,\"0\",VLOOKUP(C348,coefficient2!$A$10:$B$13,2,FALSE))","v":7.0631200000000005E-2},{"$f":"IF(D348=1,\"0\",VLOOKUP(D348,coefficient2!$A$16:$B$19,2,FALSE))","v":0.1534855},{"$f":"IF(E348=1,\"0\",VLOOKUP(E348,coefficient2!$A$22:$B$25,2,FALSE))","v":0.25643310000000002},{"$f":"IF(F348=1,\"0\",VLOOKUP(F348,coefficient2!$A$28:$B$31,2,FALSE))","v":5.8085699999999997E-2},0.46136450000000007]
[13453,1,3,4,5,3,16,{"$f":"IF(B349=1,\"0\",VLOOKUP(B349,coefficient2!$A$4:$B$7,2,FALSE))","v":"0"},{"$f":"IF(C349=1,\"0\",VLOOKUP(C349,coefficient2!$A$10:$B$13,2,FALSE))","v":7.0631200000000005E-2},{"$f":"IF(D349=1,\"0\",VLOOKUP(D349,coefficient2!$A$16:$B$19,2,FALSE))","v":0.1534855},{"$f":"IF(E349=1,\"0\",VLOOKUP(E349,coefficient2!$A$22:$B$25,2,FALSE))","v":0.25643310000000002},{"$f":"IF(F349=1,\"0\",VLOOKUP(F349,coefficient2!$A$28:$B$31,2,FALSE))","v":9.5753900000000003E-2},0.42369630000000008]
[13454,1,3,4,5,4,17,{"$f":"IF(B350=1,\"0\",VLOOKUP(B350,coefficient2!$A$4:$B$7,2,FALSE))","v":"0"},{"$f":"IF(C350=1,\"0\",VLOOKUP(C350,coefficient2!$A$10:$B$13,2,FALSE))","v":7.0631200000000005E-2},{"$f":"IF(D350=1,\"0\",VLOOKUP(D350,coefficient2!$A$16:$B$19,2,FALSE))","v":0.1534855},{"$f":"IF(E350=1,\"0\",VLOOKUP(E350,coefficient2!$A$22:$B$25,2,FALSE))","v":0.25643310000000002},{"$f":"IF(F350=1,\"0\",VLOOKUP(F350,coefficient2!$A$28:$B$31,2,FALSE))","v":0.23270360000000001},0.28674660000000007]
[13455,1,3,4,5,5,18,{"$f":"IF(B351=1,\"0\",VLOOKUP(B351,coefficient2!$A$4:$B$7,2,FALSE))","v":"0"},{"$f":"IF(C351=1,\"0\",VLOOKUP(C351,coefficient2!$A$10:$B$13,2,FALSE))","v":7.0631200000000005E-2},{"$f":"IF(D351=1,\"0\",VLOOKUP(D351,coefficient2!$A$16:$B$19,2,FALSE))","v":0.1534855},{"$f":"IF(E351=1,\"0\",VLOOKUP(E351,coefficient2!$A$22:$B$25,2,FALSE))","v":0.25643310000000002},{"$f":"IF(F351=1,\"0\",VLOOKUP(F351,coefficient2!$A$28:$B$31,2,FALSE))","v":0.29534929999999998},0.2241009000000001]
[13511,1,3,5,1,1,11,{"$f":"IF(B352=1,\"0\",VLOOKUP(B352,coefficient2!$A$4:$B$7,2,FALSE))","v":"0"},{"$f":"IF(C352=1,\"0\",VLOOKUP(C352,coefficient2!$A$10:$B$13,2,FALSE))","v":7.0631200000000005E-2},{"$f":"IF(D352=1,\"0\",VLOOKUP(D352,coefficient2!$A$16:$B$19,2,FALSE))","v":0.248331},{"$f":"IF(E352=1,\"0\",VLOOKUP(E352,coefficient2!$A$22:$B$25,2,FALSE))","v":"0"},{"$f":"IF(F352=1,\"0\",VLOOKUP(F352,coefficient2!$A$28:$B$31,2,FALSE))","v":"0"},0.68103780000000003]
[13512,1,3,5,1,2,12,{"$f":"IF(B353=1,\"0\",VLOOKUP(B353,coefficient2!$A$4:$B$7,2,FALSE))","v":"0"},{"$f":"IF(C353=1,\"0\",VLOOKUP(C353,coefficient2!$A$10:$B$13,2,FALSE))","v":7.0631200000000005E-2},{"$f":"IF(D353=1,\"0\",VLOOKUP(D353,coefficient2!$A$16:$B$19,2,FALSE))","v":0.248331},{"$f":"IF(E353=1,\"0\",VLOOKUP(E353,coefficient2!$A$22:$B$25,2,FALSE))","v":"0"},{"$f":"IF(F353=1,\"0\",VLOOKUP(F353,coefficient2!$A$28:$B$31,2,FALSE))","v":5.8085699999999997E-2},0.62295210000000001]
[13513,1,3,5,1,3,13,{"$f":"IF(B354=1,\"0\",VLOOKUP(B354,coefficient2!$A$4:$B$7,2,FALSE))","v":"0"},{"$f":"IF(C354=1,\"0\",VLOOKUP(C354,coefficient2!$A$10:$B$13,2,FALSE))","v":7.0631200000000005E-2},{"$f":"IF(D354=1,\"0\",VLOOKUP(D354,coefficient2!$A$16:$B$19,2,FALSE))","v":0.248331},{"$f":"IF(E354=1,\"0\",VLOOKUP(E354,coefficient2!$A$22:$B$25,2,FALSE))","v":"0"},{"$f":"IF(F354=1,\"0\",VLOOKUP(F354,coefficient2!$A$28:$B$31,2,FALSE))","v":9.5753900000000003E-2},0.58528390000000008]
[13514,1,3,5,1,4,14,{"$f":"IF(B355=1,\"0\",VLOOKUP(B355,coefficient2!$A$4:$B$7,2,FALSE))","v":"0"},{"$f":"IF(C355=1,\"0\",VLOOKUP(C355,coefficient2!$A$10:$B$13,2,FALSE))","v":7.0631200000000005E-2},{"$f":"IF(D355=1,\"0\",VLOOKUP(D355,coefficient2!$A$16:$B$19,2,FALSE))","v":0.248331},{"$f":"IF(E355=1,\"0\",VLOOKUP(E355,coefficient2!$A$22:$B$25,2,FALSE))","v":"0"},{"$f":"IF(F355=1,\"0\",VLOOKUP(F355,coefficient2!$A$28:$B$31,2,FALSE))","v":0.23270360000000001},0.44833420000000002]
[13515,1,3,5,1,5,15,{"$f":"IF(B356=1,\"0\",VLOOKUP(B356,coefficient2!$A$4:$B$7,2,FALSE))","v":"0"},{"$f":"IF(C356=1,\"0\",VLOOKUP(C356,coefficient2!$A$10:$B$13,2,FALSE))","v":7.0631200000000005E-2},{"$f":"IF(D356=1,\"0\",VLOOKUP(D356,coefficient2!$A$16:$B$19,2,FALSE))","v":0.248331},{"$f":"IF(E356=1,\"0\",VLOOKUP(E356,coefficient2!$A$22:$B$25,2,FALSE))","v":"0"},{"$f":"IF(F356=1,\"0\",VLOOKUP(F356,coefficient2!$A$28:$B$31,2,FALSE))","v":0.29534929999999998},0.38568850000000005]
[13521,1,3,5,2,1,12,{"$f":"IF(B357=1,\"0\",VLOOKUP(B357,coefficient2!$A$4:$B$7,2,FALSE))","v":"0"},{"$f":"IF(C357=1,\"0\",VLOOKUP(C357,coefficient2!$A$10:$B$13,2,FALSE))","v":7.0631200000000005E-2},{"$f":"IF(D357=1,\"0\",VLOOKUP(D357,coefficient2!$A$16:$B$19,2,FALSE))","v":0.248331},{"$f":"IF(E357=1,\"0\",VLOOKUP(E357,coefficient2!$A$22:$B$25,2,FALSE))","v":5.63998E-2},{"$f":"IF(F357=1,\"0\",VLOOKUP(F357,coefficient2!$A$28:$B$31,2,FALSE))","v":"0"},0.62463800000000003]
[13522,1,3,5,2,2,13,{"$f":"IF(B358=1,\"0\",VLOOKUP(B358,coefficient2!$A$4:$B$7,2,FALSE))","v":"0"},{"$f":"IF(C358=1,\"0\",VLOOKUP(C358,coefficient2!$A$10:$B$13,2,FALSE))","v":7.0631200000000005E-2},{"$f":"IF(D358=1,\"0\",VLOOKUP(D358,coefficient2!$A$16:$B$19,2,FALSE))","v":0.248331},{"$f":"IF(E358=1,\"0\",VLOOKUP(E358,coefficient2!$A$22:$B$25,2,FALSE))","v":5.63998E-2},{"$f":"IF(F358=1,\"0\",VLOOKUP(F358,coefficient2!$A$28:$B$31,2,FALSE))","v":5.8085699999999997E-2},0.56655230000000001]
[13523,1,3,5,2,3,14,{"$f":"IF(B359=1,\"0\",VLOOKUP(B359,coefficient2!$A$4:$B$7,2,FALSE))","v":"0"},{"$f":"IF(C359=1,\"0\",VLOOKUP(C359,coefficient2!$A$10:$B$13,2,FALSE))","v":7.0631200000000005E-2},{"$f":"IF(D359=1,\"0\",VLOOKUP(D359,coefficient2!$A$16:$B$19,2,FALSE))","v":0.248331},{"$f":"IF(E359=1,\"0\",VLOOKUP(E359,coefficient2!$A$22:$B$25,2,FALSE))","v":5.63998E-2},{"$f":"IF(F359=1,\"0\",VLOOKUP(F359,coefficient2!$A$28:$B$31,2,FALSE))","v":9.5753900000000003E-2},0.52888409999999997]
[13524,1,3,5,2,4,15,{"$f":"IF(B360=1,\"0\",VLOOKUP(B360,coefficient2!$A$4:$B$7,2,FALSE))","v":"0"},{"$f":"IF(C360=1,\"0\",VLOOKUP(C360,coefficient2!$A$10:$B$13,2,FALSE))","v":7.0631200000000005E-2},{"$f":"IF(D360=1,\"0\",VLOOKUP(D360,coefficient2!$A$16:$B$19,2,FALSE))","v":0.248331},{"$f":"IF(E360=1,\"0\",VLOOKUP(E360,coefficient2!$A$22:$B$25,2,FALSE))","v":5.63998E-2},{"$f":"IF(F360=1,\"0\",VLOOKUP(F360,coefficient2!$A$28:$B$31,2,FALSE))","v":0.23270360000000001},0.39193440000000002]
[13525,1,3,5,2,5,16,{"$f":"IF(B361=1,\"0\",VLOOKUP(B361,coefficient2!$A$4:$B$7,2,FALSE))","v":"0"},{"$f":"IF(C361=1,\"0\",VLOOKUP(C361,coefficient2!$A$10:$B$13,2,FALSE))","v":7.0631200000000005E-2},{"$f":"IF(D361=1,\"0\",VLOOKUP(D361,coefficient2!$A$16:$B$19,2,FALSE))","v":0.248331},{"$f":"IF(E361=1,\"0\",VLOOKUP(E361,coefficient2!$A$22:$B$25,2,FALSE))","v":5.63998E-2},{"$f":"IF(F361=1,\"0\",VLOOKUP(F361,coefficient2!$A$28:$B$31,2,FALSE))","v":0.29534929999999998},0.32928870000000005]
[13531,1,3,5,3,1,13,{"$f":"IF(B362=1,\"0\",VLOOKUP(B362,coefficient2!$A$4:$B$7,2,FALSE))","v":"0"},{"$f":"IF(C362=1,\"0\",VLOOKUP(C362,coefficient2!$A$10:$B$13,2,FALSE))","v":7.0631200000000005E-2},{"$f":"IF(D362=1,\"0\",VLOOKUP(D362,coefficient2!$A$16:$B$19,2,FALSE))","v":0.248331},{"$f":"IF(E362=1,\"0\",VLOOKUP(E362,coefficient2!$A$22:$B$25,2,FALSE))","v":6.6492200000000001E-2},{"$f":"IF(F362=1,\"0\",VLOOKUP(F362,coefficient2!$A$28:$B$31,2,FALSE))","v":"0"},0.61454560000000003]
[13532,1,3,5,3,2,14,{"$f":"IF(B363=1,\"0\",VLOOKUP(B363,coefficient2!$A$4:$B$7,2,FALSE))","v":"0"},{"$f":"IF(C363=1,\"0\",VLOOKUP(C363,coefficient2!$A$10:$B$13,2,FALSE))","v":7.0631200000000005E-2},{"$f":"IF(D363=1,\"0\",VLOOKUP(D363,coefficient2!$A$16:$B$19,2,FALSE))","v":0.248331},{"$f":"IF(E363=1,\"0\",VLOOKUP(E363,coefficient2!$A$22:$B$25,2,FALSE))","v":6.6492200000000001E-2},{"$f":"IF(F363=1,\"0\",VLOOKUP(F363,coefficient2!$A$28:$B$31,2,FALSE))","v":5.8085699999999997E-2},0.55645990000000001]
[13533,1,3,5,3,3,15,{"$f":"IF(B364=1,\"0\",VLOOKUP(B364,coefficient2!$A$4:$B$7,2,FALSE))","v":"0"},{"$f":"IF(C364=1,\"0\",VLOOKUP(C364,coefficient2!$A$10:$B$13,2,FALSE))","v":7.0631200000000005E-2},{"$f":"IF(D364=1,\"0\",VLOOKUP(D364,coefficient2!$A$16:$B$19,2,FALSE))","v":0.248331},{"$f":"IF(E364=1,\"0\",VLOOKUP(E364,coefficient2!$A$22:$B$25,2,FALSE))","v":6.6492200000000001E-2},{"$f":"IF(F364=1,\"0\",VLOOKUP(F364,coefficient2!$A$28:$B$31,2,FALSE))","v":9.5753900000000003E-2},0.51879169999999997]
[13534,1,3,5,3,4,16,{"$f":"IF(B365=1,\"0\",VLOOKUP(B365,coefficient2!$A$4:$B$7,2,FALSE))","v":"0"},{"$f":"IF(C365=1,\"0\",VLOOKUP(C365,coefficient2!$A$10:$B$13,2,FALSE))","v":7.0631200000000005E-2},{"$f":"IF(D365=1,\"0\",VLOOKUP(D365,coefficient2!$A$16:$B$19,2,FALSE))","v":0.248331},{"$f":"IF(E365=1,\"0\",VLOOKUP(E365,coefficient2!$A$22:$B$25,2,FALSE))","v":6.6492200000000001E-2},{"$f":"IF(F365=1,\"0\",VLOOKUP(F365,coefficient2!$A$28:$B$31,2,FALSE))","v":0.23270360000000001},0.38184200000000001]
[13535,1,3,5,3,5,17,{"$f":"IF(B366=1,\"0\",VLOOKUP(B366,coefficient2!$A$4:$B$7,2,FALSE))","v":"0"},{"$f":"IF(C366=1,\"0\",VLOOKUP(C366,coefficient2!$A$10:$B$13,2,FALSE))","v":7.0631200000000005E-2},{"$f":"IF(D366=1,\"0\",VLOOKUP(D366,coefficient2!$A$16:$B$19,2,FALSE))","v":0.248331},{"$f":"IF(E366=1,\"0\",VLOOKUP(E366,coefficient2!$A$22:$B$25,2,FALSE))","v":6.6492200000000001E-2},{"$f":"IF(F366=1,\"0\",VLOOKUP(F366,coefficient2!$A$28:$B$31,2,FALSE))","v":0.29534929999999998},0.31919630000000004]
[13541,1,3,5,4,1,14,{"$f":"IF(B367=1,\"0\",VLOOKUP(B367,coefficient2!$A$4:$B$7,2,FALSE))","v":"0"},{"$f":"IF(C367=1,\"0\",VLOOKUP(C367,coefficient2!$A$10:$B$13,2,FALSE))","v":7.0631200000000005E-2},{"$f":"IF(D367=1,\"0\",VLOOKUP(D367,coefficient2!$A$16:$B$19,2,FALSE))","v":0.248331},{"$f":"IF(E367=1,\"0\",VLOOKUP(E367,coefficient2!$A$22:$B$25,2,FALSE))","v":0.2068864},{"$f":"IF(F367=1,\"0\",VLOOKUP(F367,coefficient2!$A$28:$B$31,2,FALSE))","v":"0"},0.4741514]
[13542,1,3,5,4,2,15,{"$f":"IF(B368=1,\"0\",VLOOKUP(B368,coefficient2!$A$4:$B$7,2,FALSE))","v":"0"},{"$f":"IF(C368=1,\"0\",VLOOKUP(C368,coefficient2!$A$10:$B$13,2,FALSE))","v":7.0631200000000005E-2},{"$f":"IF(D368=1,\"0\",VLOOKUP(D368,coefficient2!$A$16:$B$19,2,FALSE))","v":0.248331},{"$f":"IF(E368=1,\"0\",VLOOKUP(E368,coefficient2!$A$22:$B$25,2,FALSE))","v":0.2068864},{"$f":"IF(F368=1,\"0\",VLOOKUP(F368,coefficient2!$A$28:$B$31,2,FALSE))","v":5.8085699999999997E-2},0.41606569999999998]
[13543,1,3,5,4,3,16,{"$f":"IF(B369=1,\"0\",VLOOKUP(B369,coefficient2!$A$4:$B$7,2,FALSE))","v":"0"},{"$f":"IF(C369=1,\"0\",VLOOKUP(C369,coefficient2!$A$10:$B$13,2,FALSE))","v":7.0631200000000005E-2},{"$f":"IF(D369=1,\"0\",VLOOKUP(D369,coefficient2!$A$16:$B$19,2,FALSE))","v":0.248331},{"$f":"IF(E369=1,\"0\",VLOOKUP(E369,coefficient2!$A$22:$B$25,2,FALSE))","v":0.2068864},{"$f":"IF(F369=1,\"0\",VLOOKUP(F369,coefficient2!$A$28:$B$31,2,FALSE))","v":9.5753900000000003E-2},0.3783975]
[13544,1,3,5,4,4,17,{"$f":"IF(B370=1,\"0\",VLOOKUP(B370,coefficient2!$A$4:$B$7,2,FALSE))","v":"0"},{"$f":"IF(C370=1,\"0\",VLOOKUP(C370,coefficient2!$A$10:$B$13,2,FALSE))","v":7.0631200000000005E-2},{"$f":"IF(D370=1,\"0\",VLOOKUP(D370,coefficient2!$A$16:$B$19,2,FALSE))","v":0.248331},{"$f":"IF(E370=1,\"0\",VLOOKUP(E370,coefficient2!$A$22:$B$25,2,FALSE))","v":0.2068864},{"$f":"IF(F370=1,\"0\",VLOOKUP(F370,coefficient2!$A$28:$B$31,2,FALSE))","v":0.23270360000000001},0.24144779999999999]
[13545,1,3,5,4,5,18,{"$f":"IF(B371=1,\"0\",VLOOKUP(B371,coefficient2!$A$4:$B$7,2,FALSE))","v":"0"},{"$f":"IF(C371=1,\"0\",VLOOKUP(C371,coefficient2!$A$10:$B$13,2,FALSE))","v":7.0631200000000005E-2},{"$f":"IF(D371=1,\"0\",VLOOKUP(D371,coefficient2!$A$16:$B$19,2,FALSE))","v":0.248331},{"$f":"IF(E371=1,\"0\",VLOOKUP(E371,coefficient2!$A$22:$B$25,2,FALSE))","v":0.2068864},{"$f":"IF(F371=1,\"0\",VLOOKUP(F371,coefficient2!$A$28:$B$31,2,FALSE))","v":0.29534929999999998},0.17880210000000002]
[13551,1,3,5,5,1,15,{"$f":"IF(B372=1,\"0\",VLOOKUP(B372,coefficient2!$A$4:$B$7,2,FALSE))","v":"0"},{"$f":"IF(C372=1,\"0\",VLOOKUP(C372,coefficient2!$A$10:$B$13,2,FALSE))","v":7.0631200000000005E-2},{"$f":"IF(D372=1,\"0\",VLOOKUP(D372,coefficient2!$A$16:$B$19,2,FALSE))","v":0.248331},{"$f":"IF(E372=1,\"0\",VLOOKUP(E372,coefficient2!$A$22:$B$25,2,FALSE))","v":0.25643310000000002},{"$f":"IF(F372=1,\"0\",VLOOKUP(F372,coefficient2!$A$28:$B$31,2,FALSE))","v":"0"},0.4246047]
[13552,1,3,5,5,2,16,{"$f":"IF(B373=1,\"0\",VLOOKUP(B373,coefficient2!$A$4:$B$7,2,FALSE))","v":"0"},{"$f":"IF(C373=1,\"0\",VLOOKUP(C373,coefficient2!$A$10:$B$13,2,FALSE))","v":7.0631200000000005E-2},{"$f":"IF(D373=1,\"0\",VLOOKUP(D373,coefficient2!$A$16:$B$19,2,FALSE))","v":0.248331},{"$f":"IF(E373=1,\"0\",VLOOKUP(E373,coefficient2!$A$22:$B$25,2,FALSE))","v":0.25643310000000002},{"$f":"IF(F373=1,\"0\",VLOOKUP(F373,coefficient2!$A$28:$B$31,2,FALSE))","v":5.8085699999999997E-2},0.36651899999999998]
[13553,1,3,5,5,3,17,{"$f":"IF(B374=1,\"0\",VLOOKUP(B374,coefficient2!$A$4:$B$7,2,FALSE))","v":"0"},{"$f":"IF(C374=1,\"0\",VLOOKUP(C374,coefficient2!$A$10:$B$13,2,FALSE))","v":7.0631200000000005E-2},{"$f":"IF(D374=1,\"0\",VLOOKUP(D374,coefficient2!$A$16:$B$19,2,FALSE))","v":0.248331},{"$f":"IF(E374=1,\"0\",VLOOKUP(E374,coefficient2!$A$22:$B$25,2,FALSE))","v":0.25643310000000002},{"$f":"IF(F374=1,\"0\",VLOOKUP(F374,coefficient2!$A$28:$B$31,2,FALSE))","v":9.5753900000000003E-2},0.3288508]
[13554,1,3,5,5,4,18,{"$f":"IF(B375=1,\"0\",VLOOKUP(B375,coefficient2!$A$4:$B$7,2,FALSE))","v":"0"},{"$f":"IF(C375=1,\"0\",VLOOKUP(C375,coefficient2!$A$10:$B$13,2,FALSE))","v":7.0631200000000005E-2},{"$f":"IF(D375=1,\"0\",VLOOKUP(D375,coefficient2!$A$16:$B$19,2,FALSE))","v":0.248331},{"$f":"IF(E375=1,\"0\",VLOOKUP(E375,coefficient2!$A$22:$B$25,2,FALSE))","v":0.25643310000000002},{"$f":"IF(F375=1,\"0\",VLOOKUP(F375,coefficient2!$A$28:$B$31,2,FALSE))","v":0.23270360000000001},0.19190109999999999]
[13555,1,3,5,5,5,19,{"$f":"IF(B376=1,\"0\",VLOOKUP(B376,coefficient2!$A$4:$B$7,2,FALSE))","v":"0"},{"$f":"IF(C376=1,\"0\",VLOOKUP(C376,coefficient2!$A$10:$B$13,2,FALSE))","v":7.0631200000000005E-2},{"$f":"IF(D376=1,\"0\",VLOOKUP(D376,coefficient2!$A$16:$B$19,2,FALSE))","v":0.248331},{"$f":"IF(E376=1,\"0\",VLOOKUP(E376,coefficient2!$A$22:$B$25,2,FALSE))","v":0.25643310000000002},{"$f":"IF(F376=1,\"0\",VLOOKUP(F376,coefficient2!$A$28:$B$31,2,FALSE))","v":0.29534929999999998},0.12925540000000002]
[14111,1,4,1,1,1,8,{"$f":"IF(B377=1,\"0\",VLOOKUP(B377,coefficient2!$A$4:$B$7,2,FALSE))","v":"0"},{"$f":"IF(C377=1,\"0\",VLOOKUP(C377,coefficient2!$A$10:$B$13,2,FALSE))","v":0.19249050000000001},{"$f":"IF(D377=1,\"0\",VLOOKUP(D377,coefficient2!$A$16:$B$19,2,FALSE))","v":"0"},{"$f":"IF(E377=1,\"0\",VLOOKUP(E377,coefficient2!$A$22:$B$25,2,FALSE))","v":"0"},{"$f":"IF(F377=1,\"0\",VLOOKUP(F377,coefficient2!$A$28:$B$31,2,FALSE))","v":"0"},0.80750949999999999]
[14112,1,4,1,1,2,9,{"$f":"IF(B378=1,\"0\",VLOOKUP(B378,coefficient2!$A$4:$B$7,2,FALSE))","v":"0"},{"$f":"IF(C378=1,\"0\",VLOOKUP(C378,coefficient2!$A$10:$B$13,2,FALSE))","v":0.19249050000000001},{"$f":"IF(D378=1,\"0\",VLOOKUP(D378,coefficient2!$A$16:$B$19,2,FALSE))","v":"0"},{"$f":"IF(E378=1,\"0\",VLOOKUP(E378,coefficient2!$A$22:$B$25,2,FALSE))","v":"0"},{"$f":"IF(F378=1,\"0\",VLOOKUP(F378,coefficient2!$A$28:$B$31,2,FALSE))","v":5.8085699999999997E-2},0.74942379999999997]
[14113,1,4,1,1,3,10,{"$f":"IF(B379=1,\"0\",VLOOKUP(B379,coefficient2!$A$4:$B$7,2,FALSE))","v":"0"},{"$f":"IF(C379=1,\"0\",VLOOKUP(C379,coefficient2!$A$10:$B$13,2,FALSE))","v":0.19249050000000001},{"$f":"IF(D379=1,\"0\",VLOOKUP(D379,coefficient2!$A$16:$B$19,2,FALSE))","v":"0"},{"$f":"IF(E379=1,\"0\",VLOOKUP(E379,coefficient2!$A$22:$B$25,2,FALSE))","v":"0"},{"$f":"IF(F379=1,\"0\",VLOOKUP(F379,coefficient2!$A$28:$B$31,2,FALSE))","v":9.5753900000000003E-2},0.71175560000000004]
[14114,1,4,1,1,4,11,{"$f":"IF(B380=1,\"0\",VLOOKUP(B380,coefficient2!$A$4:$B$7,2,FALSE))","v":"0"},{"$f":"IF(C380=1,\"0\",VLOOKUP(C380,coefficient2!$A$10:$B$13,2,FALSE))","v":0.19249050000000001},{"$f":"IF(D380=1,\"0\",VLOOKUP(D380,coefficient2!$A$16:$B$19,2,FALSE))","v":"0"},{"$f":"IF(E380=1,\"0\",VLOOKUP(E380,coefficient2!$A$22:$B$25,2,FALSE))","v":"0"},{"$f":"IF(F380=1,\"0\",VLOOKUP(F380,coefficient2!$A$28:$B$31,2,FALSE))","v":0.23270360000000001},0.57480589999999998]
[14115,1,4,1,1,5,12,{"$f":"IF(B381=1,\"0\",VLOOKUP(B381,coefficient2!$A$4:$B$7,2,FALSE))","v":"0"},{"$f":"IF(C381=1,\"0\",VLOOKUP(C381,coefficient2!$A$10:$B$13,2,FALSE))","v":0.19249050000000001},{"$f":"IF(D381=1,\"0\",VLOOKUP(D381,coefficient2!$A$16:$B$19,2,FALSE))","v":"0"},{"$f":"IF(E381=1,\"0\",VLOOKUP(E381,coefficient2!$A$22:$B$25,2,FALSE))","v":"0"},{"$f":"IF(F381=1,\"0\",VLOOKUP(F381,coefficient2!$A$28:$B$31,2,FALSE))","v":0.29534929999999998},0.51216020000000007]
[14121,1,4,1,2,1,9,{"$f":"IF(B382=1,\"0\",VLOOKUP(B382,coefficient2!$A$4:$B$7,2,FALSE))","v":"0"},{"$f":"IF(C382=1,\"0\",VLOOKUP(C382,coefficient2!$A$10:$B$13,2,FALSE))","v":0.19249050000000001},{"$f":"IF(D382=1,\"0\",VLOOKUP(D382,coefficient2!$A$16:$B$19,2,FALSE))","v":"0"},{"$f":"IF(E382=1,\"0\",VLOOKUP(E382,coefficient2!$A$22:$B$25,2,FALSE))","v":5.63998E-2},{"$f":"IF(F382=1,\"0\",VLOOKUP(F382,coefficient2!$A$28:$B$31,2,FALSE))","v":"0"},0.75110969999999999]
[14122,1,4,1,2,2,10,{"$f":"IF(B383=1,\"0\",VLOOKUP(B383,coefficient2!$A$4:$B$7,2,FALSE))","v":"0"},{"$f":"IF(C383=1,\"0\",VLOOKUP(C383,coefficient2!$A$10:$B$13,2,FALSE))","v":0.19249050000000001},{"$f":"IF(D383=1,\"0\",VLOOKUP(D383,coefficient2!$A$16:$B$19,2,FALSE))","v":"0"},{"$f":"IF(E383=1,\"0\",VLOOKUP(E383,coefficient2!$A$22:$B$25,2,FALSE))","v":5.63998E-2},{"$f":"IF(F383=1,\"0\",VLOOKUP(F383,coefficient2!$A$28:$B$31,2,FALSE))","v":5.8085699999999997E-2},0.69302399999999997]
[14123,1,4,1,2,3,11,{"$f":"IF(B384=1,\"0\",VLOOKUP(B384,coefficient2!$A$4:$B$7,2,FALSE))","v":"0"},{"$f":"IF(C384=1,\"0\",VLOOKUP(C384,coefficient2!$A$10:$B$13,2,FALSE))","v":0.19249050000000001},{"$f":"IF(D384=1,\"0\",VLOOKUP(D384,coefficient2!$A$16:$B$19,2,FALSE))","v":"0"},{"$f":"IF(E384=1,\"0\",VLOOKUP(E384,coefficient2!$A$22:$B$25,2,FALSE))","v":5.63998E-2},{"$f":"IF(F384=1,\"0\",VLOOKUP(F384,coefficient2!$A$28:$B$31,2,FALSE))","v":9.5753900000000003E-2},0.65535579999999993]
[14124,1,4,1,2,4,12,{"$f":"IF(B385=1,\"0\",VLOOKUP(B385,coefficient2!$A$4:$B$7,2,FALSE))","v":"0"},{"$f":"IF(C385=1,\"0\",VLOOKUP(C385,coefficient2!$A$10:$B$13,2,FALSE))","v":0.19249050000000001},{"$f":"IF(D385=1,\"0\",VLOOKUP(D385,coefficient2!$A$16:$B$19,2,FALSE))","v":"0"},{"$f":"IF(E385=1,\"0\",VLOOKUP(E385,coefficient2!$A$22:$B$25,2,FALSE))","v":5.63998E-2},{"$f":"IF(F385=1,\"0\",VLOOKUP(F385,coefficient2!$A$28:$B$31,2,FALSE))","v":0.23270360000000001},0.51840609999999998]
[14125,1,4,1,2,5,13,{"$f":"IF(B386=1,\"0\",VLOOKUP(B386,coefficient2!$A$4:$B$7,2,FALSE))","v":"0"},{"$f":"IF(C386=1,\"0\",VLOOKUP(C386,coefficient2!$A$10:$B$13,2,FALSE))","v":0.19249050000000001},{"$f":"IF(D386=1,\"0\",VLOOKUP(D386,coefficient2!$A$16:$B$19,2,FALSE))","v":"0"},{"$f":"IF(E386=1,\"0\",VLOOKUP(E386,coefficient2!$A$22:$B$25,2,FALSE))","v":5.63998E-2},{"$f":"IF(F386=1,\"0\",VLOOKUP(F386,coefficient2!$A$28:$B$31,2,FALSE))","v":0.29534929999999998},{"$f":"1-H386-I386-J386-K386-L386","v":0.45576040000000001}]
[14131,{"$f":"INT(LEFT(A387,1))","v":1},{"$f":"INT(MID(A387,2,1))","v":4},{"$f":"INT(MID(A387,3,1))","v":1},{"$f":"INT(MID(A387,4,1))","v":3},{"$f":"INT(RIGHT(A387,1))","v":1},{"$f":"SUM(B387:F387)","v":10},{"$f":"IF(B387=1,\"0\",VLOOKUP(B387,coefficient2!$A$4:$B$7,2,FALSE))","v":"0"},{"$f":"IF(C387=1,\"0\",VLOOKUP(C387,coefficient2!$A$10:$B$13,2,FALSE))","v":0.19249050000000001},{"$f":"IF(D387=1,\"0\",VLOOKUP(D387,coefficient2!$A$16:$B$19,2,FALSE))","v":"0"},{"$f":"IF(E387=1,\"0\",VLOOKUP(E387,coefficient2!$A$22:$B$25,2,FALSE))","v":6.6492200000000001E-2},{"$f":"IF(F387=1,\"0\",VLOOKUP(F387,coefficient2!$A$28:$B$31,2,FALSE))","v":"0"},0.74101729999999999]
[14132,1,4,1,3,2,11,{"$f":"IF(B388=1,\"0\",VLOOKUP(B388,coefficient2!$A$4:$B$7,2,FALSE))","v":"0"},{"$f":"IF(C388=1,\"0\",VLOOKUP(C388,coefficient2!$A$10:$B$13,2,FALSE))","v":0.19249050000000001},{"$f":"IF(D388=1,\"0\",VLOOKUP(D388,coefficient2!$A$16:$B$19,2,FALSE))","v":"0"},{"$f":"IF(E388=1,\"0\",VLOOKUP(E388,coefficient2!$A$22:$B$25,2,FALSE))","v":6.6492200000000001E-2},{"$f":"IF(F388=1,\"0\",VLOOKUP(F388,coefficient2!$A$28:$B$31,2,FALSE))","v":5.8085699999999997E-2},0.68293159999999997]
[14133,1,4,1,3,3,12,{"$f":"IF(B389=1,\"0\",VLOOKUP(B389,coefficient2!$A$4:$B$7,2,FALSE))","v":"0"},{"$f":"IF(C389=1,\"0\",VLOOKUP(C389,coefficient2!$A$10:$B$13,2,FALSE))","v":0.19249050000000001},{"$f":"IF(D389=1,\"0\",VLOOKUP(D389,coefficient2!$A$16:$B$19,2,FALSE))","v":"0"},{"$f":"IF(E389=1,\"0\",VLOOKUP(E389,coefficient2!$A$22:$B$25,2,FALSE))","v":6.6492200000000001E-2},{"$f":"IF(F389=1,\"0\",VLOOKUP(F389,coefficient2!$A$28:$B$31,2,FALSE))","v":9.5753900000000003E-2},0.64526339999999993]
[14134,1,4,1,3,4,13,{"$f":"IF(B390=1,\"0\",VLOOKUP(B390,coefficient2!$A$4:$B$7,2,FALSE))","v":"0"},{"$f":"IF(C390=1,\"0\",VLOOKUP(C390,coefficient2!$A$10:$B$13,2,FALSE))","v":0.19249050000000001},{"$f":"IF(D390=1,\"0\",VLOOKUP(D390,coefficient2!$A$16:$B$19,2,FALSE))","v":"0"},{"$f":"IF(E390=1,\"0\",VLOOKUP(E390,coefficient2!$A$22:$B$25,2,FALSE))","v":6.6492200000000001E-2},{"$f":"IF(F390=1,\"0\",VLOOKUP(F390,coefficient2!$A$28:$B$31,2,FALSE))","v":0.23270360000000001},0.50831369999999998]
[14135,1,4,1,3,5,14,{"$f":"IF(B391=1,\"0\",VLOOKUP(B391,coefficient2!$A$4:$B$7,2,FALSE))","v":"0"},{"$f":"IF(C391=1,\"0\",VLOOKUP(C391,coefficient2!$A$10:$B$13,2,FALSE))","v":0.19249050000000001},{"$f":"IF(D391=1,\"0\",VLOOKUP(D391,coefficient2!$A$16:$B$19,2,FALSE))","v":"0"},{"$f":"IF(E391=1,\"0\",VLOOKUP(E391,coefficient2!$A$22:$B$25,2,FALSE))","v":6.6492200000000001E-2},{"$f":"IF(F391=1,\"0\",VLOOKUP(F391,coefficient2!$A$28:$B$31,2,FALSE))","v":0.29534929999999998},0.44566800000000001]
[14141,1,4,1,4,1,11,{"$f":"IF(B392=1,\"0\",VLOOKUP(B392,coefficient2!$A$4:$B$7,2,FALSE))","v":"0"},{"$f":"IF(C392=1,\"0\",VLOOKUP(C392,coefficient2!$A$10:$B$13,2,FALSE))","v":0.19249050000000001},{"$f":"IF(D392=1,\"0\",VLOOKUP(D392,coefficient2!$A$16:$B$19,2,FALSE))","v":"0"},{"$f":"IF(E392=1,\"0\",VLOOKUP(E392,coefficient2!$A$22:$B$25,2,FALSE))","v":0.2068864},{"$f":"IF(F392=1,\"0\",VLOOKUP(F392,coefficient2!$A$28:$B$31,2,FALSE))","v":"0"},0.60062309999999997]
[14142,1,4,1,4,2,12,{"$f":"IF(B393=1,\"0\",VLOOKUP(B393,coefficient2!$A$4:$B$7,2,FALSE))","v":"0"},{"$f":"IF(C393=1,\"0\",VLOOKUP(C393,coefficient2!$A$10:$B$13,2,FALSE))","v":0.19249050000000001},{"$f":"IF(D393=1,\"0\",VLOOKUP(D393,coefficient2!$A$16:$B$19,2,FALSE))","v":"0"},{"$f":"IF(E393=1,\"0\",VLOOKUP(E393,coefficient2!$A$22:$B$25,2,FALSE))","v":0.2068864},{"$f":"IF(F393=1,\"0\",VLOOKUP(F393,coefficient2!$A$28:$B$31,2,FALSE))","v":5.8085699999999997E-2},0.54253739999999995]
[14143,1,4,1,4,3,13,{"$f":"IF(B394=1,\"0\",VLOOKUP(B394,coefficient2!$A$4:$B$7,2,FALSE))","v":"0"},{"$f":"IF(C394=1,\"0\",VLOOKUP(C394,coefficient2!$A$10:$B$13,2,FALSE))","v":0.19249050000000001},{"$f":"IF(D394=1,\"0\",VLOOKUP(D394,coefficient2!$A$16:$B$19,2,FALSE))","v":"0"},{"$f":"IF(E394=1,\"0\",VLOOKUP(E394,coefficient2!$A$22:$B$25,2,FALSE))","v":0.2068864},{"$f":"IF(F394=1,\"0\",VLOOKUP(F394,coefficient2!$A$28:$B$31,2,FALSE))","v":9.5753900000000003E-2},0.50486919999999991]
[14144,1,4,1,4,4,14,{"$f":"IF(B395=1,\"0\",VLOOKUP(B395,coefficient2!$A$4:$B$7,2,FALSE))","v":"0"},{"$f":"IF(C395=1,\"0\",VLOOKUP(C395,coefficient2!$A$10:$B$13,2,FALSE))","v":0.19249050000000001},{"$f":"IF(D395=1,\"0\",VLOOKUP(D395,coefficient2!$A$16:$B$19,2,FALSE))","v":"0"},{"$f":"IF(E395=1,\"0\",VLOOKUP(E395,coefficient2!$A$22:$B$25,2,FALSE))","v":0.2068864},{"$f":"IF(F395=1,\"0\",VLOOKUP(F395,coefficient2!$A$28:$B$31,2,FALSE))","v":0.23270360000000001},0.36791949999999995]
[14145,1,4,1,4,5,15,{"$f":"IF(B396=1,\"0\",VLOOKUP(B396,coefficient2!$A$4:$B$7,2,FALSE))","v":"0"},{"$f":"IF(C396=1,\"0\",VLOOKUP(C396,coefficient2!$A$10:$B$13,2,FALSE))","v":0.19249050000000001},{"$f":"IF(D396=1,\"0\",VLOOKUP(D396,coefficient2!$A$16:$B$19,2,FALSE))","v":"0"},{"$f":"IF(E396=1,\"0\",VLOOKUP(E396,coefficient2!$A$22:$B$25,2,FALSE))","v":0.2068864},{"$f":"IF(F396=1,\"0\",VLOOKUP(F396,coefficient2!$A$28:$B$31,2,FALSE))","v":0.29534929999999998},0.30527379999999998]
[14151,1,4,1,5,1,12,{"$f":"IF(B397=1,\"0\",VLOOKUP(B397,coefficient2!$A$4:$B$7,2,FALSE))","v":"0"},{"$f":"IF(C397=1,\"0\",VLOOKUP(C397,coefficient2!$A$10:$B$13,2,FALSE))","v":0.19249050000000001},{"$f":"IF(D397=1,\"0\",VLOOKUP(D397,coefficient2!$A$16:$B$19,2,FALSE))","v":"0"},{"$f":"IF(E397=1,\"0\",VLOOKUP(E397,coefficient2!$A$22:$B$25,2,FALSE))","v":0.25643310000000002},{"$f":"IF(F397=1,\"0\",VLOOKUP(F397,coefficient2!$A$28:$B$31,2,FALSE))","v":"0"},0.55107639999999991]
[14152,1,4,1,5,2,13,{"$f":"IF(B398=1,\"0\",VLOOKUP(B398,coefficient2!$A$4:$B$7,2,FALSE))","v":"0"},{"$f":"IF(C398=1,\"0\",VLOOKUP(C398,coefficient2!$A$10:$B$13,2,FALSE))","v":0.19249050000000001},{"$f":"IF(D398=1,\"0\",VLOOKUP(D398,coefficient2!$A$16:$B$19,2,FALSE))","v":"0"},{"$f":"IF(E398=1,\"0\",VLOOKUP(E398,coefficient2!$A$22:$B$25,2,FALSE))","v":0.25643310000000002},{"$f":"IF(F398=1,\"0\",VLOOKUP(F398,coefficient2!$A$28:$B$31,2,FALSE))","v":5.8085699999999997E-2},0.49299069999999989]
[14153,1,4,1,5,3,14,{"$f":"IF(B399=1,\"0\",VLOOKUP(B399,coefficient2!$A$4:$B$7,2,FALSE))","v":"0"},{"$f":"IF(C399=1,\"0\",VLOOKUP(C399,coefficient2!$A$10:$B$13,2,FALSE))","v":0.19249050000000001},{"$f":"IF(D399=1,\"0\",VLOOKUP(D399,coefficient2!$A$16:$B$19,2,FALSE))","v":"0"},{"$f":"IF(E399=1,\"0\",VLOOKUP(E399,coefficient2!$A$22:$B$25,2,FALSE))","v":0.25643310000000002},{"$f":"IF(F399=1,\"0\",VLOOKUP(F399,coefficient2!$A$28:$B$31,2,FALSE))","v":9.5753900000000003E-2},0.45532249999999991]
[14154,1,4,1,5,4,15,{"$f":"IF(B400=1,\"0\",VLOOKUP(B400,coefficient2!$A$4:$B$7,2,FALSE))","v":"0"},{"$f":"IF(C400=1,\"0\",VLOOKUP(C400,coefficient2!$A$10:$B$13,2,FALSE))","v":0.19249050000000001},{"$f":"IF(D400=1,\"0\",VLOOKUP(D400,coefficient2!$A$16:$B$19,2,FALSE))","v":"0"},{"$f":"IF(E400=1,\"0\",VLOOKUP(E400,coefficient2!$A$22:$B$25,2,FALSE))","v":0.25643310000000002},{"$f":"IF(F400=1,\"0\",VLOOKUP(F400,coefficient2!$A$28:$B$31,2,FALSE))","v":0.23270360000000001},0.3183727999999999]
[14155,1,4,1,5,5,16,{"$f":"IF(B401=1,\"0\",VLOOKUP(B401,coefficient2!$A$4:$B$7,2,FALSE))","v":"0"},{"$f":"IF(C401=1,\"0\",VLOOKUP(C401,coefficient2!$A$10:$B$13,2,FALSE))","v":0.19249050000000001},{"$f":"IF(D401=1,\"0\",VLOOKUP(D401,coefficient2!$A$16:$B$19,2,FALSE))","v":"0"},{"$f":"IF(E401=1,\"0\",VLOOKUP(E401,coefficient2!$A$22:$B$25,2,FALSE))","v":0.25643310000000002},{"$f":"IF(F401=1,\"0\",VLOOKUP(F401,coefficient2!$A$28:$B$31,2,FALSE))","v":0.29534929999999998},0.25572709999999993]
[14211,1,4,2,1,1,9,{"$f":"IF(B402=1,\"0\",VLOOKUP(B402,coefficient2!$A$4:$B$7,2,FALSE))","v":"0"},{"$f":"IF(C402=1,\"0\",VLOOKUP(C402,coefficient2!$A$10:$B$13,2,FALSE))","v":0.19249050000000001},{"$f":"IF(D402=1,\"0\",VLOOKUP(D402,coefficient2!$A$16:$B$19,2,FALSE))","v":5.8254399999999998E-2},{"$f":"IF(E402=1,\"0\",VLOOKUP(E402,coefficient2!$A$22:$B$25,2,FALSE))","v":"0"},{"$f":"IF(F402=1,\"0\",VLOOKUP(F402,coefficient2!$A$28:$B$31,2,FALSE))","v":"0"},0.74925509999999995]
[14212,1,4,2,1,2,10,{"$f":"IF(B403=1,\"0\",VLOOKUP(B403,coefficient2!$A$4:$B$7,2,FALSE))","v":"0"},{"$f":"IF(C403=1,\"0\",VLOOKUP(C403,coefficient2!$A$10:$B$13,2,FALSE))","v":0.19249050000000001},{"$f":"IF(D403=1,\"0\",VLOOKUP(D403,coefficient2!$A$16:$B$19,2,FALSE))","v":5.8254399999999998E-2},{"$f":"IF(E403=1,\"0\",VLOOKUP(E403,coefficient2!$A$22:$B$25,2,FALSE))","v":"0"},{"$f":"IF(F403=1,\"0\",VLOOKUP(F403,coefficient2!$A$28:$B$31,2,FALSE))","v":5.8085699999999997E-2},0.69116939999999993]
[14213,1,4,2,1,3,11,{"$f":"IF(B404=1,\"0\",VLOOKUP(B404,coefficient2!$A$4:$B$7,2,FALSE))","v":"0"},{"$f":"IF(C404=1,\"0\",VLOOKUP(C404,coefficient2!$A$10:$B$13,2,FALSE))","v":0.19249050000000001},{"$f":"IF(D404=1,\"0\",VLOOKUP(D404,coefficient2!$A$16:$B$19,2,FALSE))","v":5.8254399999999998E-2},{"$f":"IF(E404=1,\"0\",VLOOKUP(E404,coefficient2!$A$22:$B$25,2,FALSE))","v":"0"},{"$f":"IF(F404=1,\"0\",VLOOKUP(F404,coefficient2!$A$28:$B$31,2,FALSE))","v":9.5753900000000003E-2},0.6535012]
[14214,1,4,2,1,4,12,{"$f":"IF(B405=1,\"0\",VLOOKUP(B405,coefficient2!$A$4:$B$7,2,FALSE))","v":"0"},{"$f":"IF(C405=1,\"0\",VLOOKUP(C405,coefficient2!$A$10:$B$13,2,FALSE))","v":0.19249050000000001},{"$f":"IF(D405=1,\"0\",VLOOKUP(D405,coefficient2!$A$16:$B$19,2,FALSE))","v":5.8254399999999998E-2},{"$f":"IF(E405=1,\"0\",VLOOKUP(E405,coefficient2!$A$22:$B$25,2,FALSE))","v":"0"},{"$f":"IF(F405=1,\"0\",VLOOKUP(F405,coefficient2!$A$28:$B$31,2,FALSE))","v":0.23270360000000001},0.51655149999999994]
[14215,1,4,2,1,5,13,{"$f":"IF(B406=1,\"0\",VLOOKUP(B406,coefficient2!$A$4:$B$7,2,FALSE))","v":"0"},{"$f":"IF(C406=1,\"0\",VLOOKUP(C406,coefficient2!$A$10:$B$13,2,FALSE))","v":0.19249050000000001},{"$f":"IF(D406=1,\"0\",VLOOKUP(D406,coefficient2!$A$16:$B$19,2,FALSE))","v":5.8254399999999998E-2},{"$f":"IF(E406=1,\"0\",VLOOKUP(E406,coefficient2!$A$22:$B$25,2,FALSE))","v":"0"},{"$f":"IF(F406=1,\"0\",VLOOKUP(F406,coefficient2!$A$28:$B$31,2,FALSE))","v":0.29534929999999998},0.45390579999999997]
[14221,1,4,2,2,1,10,{"$f":"IF(B407=1,\"0\",VLOOKUP(B407,coefficient2!$A$4:$B$7,2,FALSE))","v":"0"},{"$f":"IF(C407=1,\"0\",VLOOKUP(C407,coefficient2!$A$10:$B$13,2,FALSE))","v":0.19249050000000001},{"$f":"IF(D407=1,\"0\",VLOOKUP(D407,coefficient2!$A$16:$B$19,2,FALSE))","v":5.8254399999999998E-2},{"$f":"IF(E407=1,\"0\",VLOOKUP(E407,coefficient2!$A$22:$B$25,2,FALSE))","v":5.63998E-2},{"$f":"IF(F407=1,\"0\",VLOOKUP(F407,coefficient2!$A$28:$B$31,2,FALSE))","v":"0"},0.69285529999999995]
[14222,1,4,2,2,2,11,{"$f":"IF(B408=1,\"0\",VLOOKUP(B408,coefficient2!$A$4:$B$7,2,FALSE))","v":"0"},{"$f":"IF(C408=1,\"0\",VLOOKUP(C408,coefficient2!$A$10:$B$13,2,FALSE))","v":0.19249050000000001},{"$f":"IF(D408=1,\"0\",VLOOKUP(D408,coefficient2!$A$16:$B$19,2,FALSE))","v":5.8254399999999998E-2},{"$f":"IF(E408=1,\"0\",VLOOKUP(E408,coefficient2!$A$22:$B$25,2,FALSE))","v":5.63998E-2},{"$f":"IF(F408=1,\"0\",VLOOKUP(F408,coefficient2!$A$28:$B$31,2,FALSE))","v":5.8085699999999997E-2},0.63476959999999993]
[14223,1,4,2,2,3,12,{"$f":"IF(B409=1,\"0\",VLOOKUP(B409,coefficient2!$A$4:$B$7,2,FALSE))","v":"0"},{"$f":"IF(C409=1,\"0\",VLOOKUP(C409,coefficient2!$A$10:$B$13,2,FALSE))","v":0.19249050000000001},{"$f":"IF(D409=1,\"0\",VLOOKUP(D409,coefficient2!$A$16:$B$19,2,FALSE))","v":5.8254399999999998E-2},{"$f":"IF(E409=1,\"0\",VLOOKUP(E409,coefficient2!$A$22:$B$25,2,FALSE))","v":5.63998E-2},{"$f":"IF(F409=1,\"0\",VLOOKUP(F409,coefficient2!$A$28:$B$31,2,FALSE))","v":9.5753900000000003E-2},0.59710139999999989]
[14224,1,4,2,2,4,13,{"$f":"IF(B410=1,\"0\",VLOOKUP(B410,coefficient2!$A$4:$B$7,2,FALSE))","v":"0"},{"$f":"IF(C410=1,\"0\",VLOOKUP(C410,coefficient2!$A$10:$B$13,2,FALSE))","v":0.19249050000000001},{"$f":"IF(D410=1,\"0\",VLOOKUP(D410,coefficient2!$A$16:$B$19,2,FALSE))","v":5.8254399999999998E-2},{"$f":"IF(E410=1,\"0\",VLOOKUP(E410,coefficient2!$A$22:$B$25,2,FALSE))","v":5.63998E-2},{"$f":"IF(F410=1,\"0\",VLOOKUP(F410,coefficient2!$A$28:$B$31,2,FALSE))","v":0.23270360000000001},0.46015169999999994]
[14225,1,4,2,2,5,14,{"$f":"IF(B411=1,\"0\",VLOOKUP(B411,coefficient2!$A$4:$B$7,2,FALSE))","v":"0"},{"$f":"IF(C411=1,\"0\",VLOOKUP(C411,coefficient2!$A$10:$B$13,2,FALSE))","v":0.19249050000000001},{"$f":"IF(D411=1,\"0\",VLOOKUP(D411,coefficient2!$A$16:$B$19,2,FALSE))","v":5.8254399999999998E-2},{"$f":"IF(E411=1,\"0\",VLOOKUP(E411,coefficient2!$A$22:$B$25,2,FALSE))","v":5.63998E-2},{"$f":"IF(F411=1,\"0\",VLOOKUP(F411,coefficient2!$A$28:$B$31,2,FALSE))","v":0.29534929999999998},0.39750599999999997]
[14231,1,4,2,3,1,11,{"$f":"IF(B412=1,\"0\",VLOOKUP(B412,coefficient2!$A$4:$B$7,2,FALSE))","v":"0"},{"$f":"IF(C412=1,\"0\",VLOOKUP(C412,coefficient2!$A$10:$B$13,2,FALSE))","v":0.19249050000000001},{"$f":"IF(D412=1,\"0\",VLOOKUP(D412,coefficient2!$A$16:$B$19,2,FALSE))","v":5.8254399999999998E-2},{"$f":"IF(E412=1,\"0\",VLOOKUP(E412,coefficient2!$A$22:$B$25,2,FALSE))","v":6.6492200000000001E-2},{"$f":"IF(F412=1,\"0\",VLOOKUP(F412,coefficient2!$A$28:$B$31,2,FALSE))","v":"0"},0.68276289999999995]
[14232,1,4,2,3,2,12,{"$f":"IF(B413=1,\"0\",VLOOKUP(B413,coefficient2!$A$4:$B$7,2,FALSE))","v":"0"},{"$f":"IF(C413=1,\"0\",VLOOKUP(C413,coefficient2!$A$10:$B$13,2,FALSE))","v":0.19249050000000001},{"$f":"IF(D413=1,\"0\",VLOOKUP(D413,coefficient2!$A$16:$B$19,2,FALSE))","v":5.8254399999999998E-2},{"$f":"IF(E413=1,\"0\",VLOOKUP(E413,coefficient2!$A$22:$B$25,2,FALSE))","v":6.6492200000000001E-2},{"$f":"IF(F413=1,\"0\",VLOOKUP(F413,coefficient2!$A$28:$B$31,2,FALSE))","v":5.8085699999999997E-2},0.62467719999999993]
[14233,1,4,2,3,3,13,{"$f":"IF(B414=1,\"0\",VLOOKUP(B414,coefficient2!$A$4:$B$7,2,FALSE))","v":"0"},{"$f":"IF(C414=1,\"0\",VLOOKUP(C414,coefficient2!$A$10:$B$13,2,FALSE))","v":0.19249050000000001},{"$f":"IF(D414=1,\"0\",VLOOKUP(D414,coefficient2!$A$16:$B$19,2,FALSE))","v":5.8254399999999998E-2},{"$f":"IF(E414=1,\"0\",VLOOKUP(E414,coefficient2!$A$22:$B$25,2,FALSE))","v":6.6492200000000001E-2},{"$f":"IF(F414=1,\"0\",VLOOKUP(F414,coefficient2!$A$28:$B$31,2,FALSE))","v":9.5753900000000003E-2},0.58700899999999989]
[14234,1,4,2,3,4,14,{"$f":"IF(B415=1,\"0\",VLOOKUP(B415,coefficient2!$A$4:$B$7,2,FALSE))","v":"0"},{"$f":"IF(C415=1,\"0\",VLOOKUP(C415,coefficient2!$A$10:$B$13,2,FALSE))","v":0.19249050000000001},{"$f":"IF(D415=1,\"0\",VLOOKUP(D415,coefficient2!$A$16:$B$19,2,FALSE))","v":5.8254399999999998E-2},{"$f":"IF(E415=1,\"0\",VLOOKUP(E415,coefficient2!$A$22:$B$25,2,FALSE))","v":6.6492200000000001E-2},{"$f":"IF(F415=1,\"0\",VLOOKUP(F415,coefficient2!$A$28:$B$31,2,FALSE))","v":0.23270360000000001},0.45005929999999994]
[14235,1,4,2,3,5,15,{"$f":"IF(B416=1,\"0\",VLOOKUP(B416,coefficient2!$A$4:$B$7,2,FALSE))","v":"0"},{"$f":"IF(C416=1,\"0\",VLOOKUP(C416,coefficient2!$A$10:$B$13,2,FALSE))","v":0.19249050000000001},{"$f":"IF(D416=1,\"0\",VLOOKUP(D416,coefficient2!$A$16:$B$19,2,FALSE))","v":5.8254399999999998E-2},{"$f":"IF(E416=1,\"0\",VLOOKUP(E416,coefficient2!$A$22:$B$25,2,FALSE))","v":6.6492200000000001E-2},{"$f":"IF(F416=1,\"0\",VLOOKUP(F416,coefficient2!$A$28:$B$31,2,FALSE))","v":0.29534929999999998},0.38741359999999997]
[14241,1,4,2,4,1,12,{"$f":"IF(B417=1,\"0\",VLOOKUP(B417,coefficient2!$A$4:$B$7,2,FALSE))","v":"0"},{"$f":"IF(C417=1,\"0\",VLOOKUP(C417,coefficient2!$A$10:$B$13,2,FALSE))","v":0.19249050000000001},{"$f":"IF(D417=1,\"0\",VLOOKUP(D417,coefficient2!$A$16:$B$19,2,FALSE))","v":5.8254399999999998E-2},{"$f":"IF(E417=1,\"0\",VLOOKUP(E417,coefficient2!$A$22:$B$25,2,FALSE))","v":0.2068864},{"$f":"IF(F417=1,\"0\",VLOOKUP(F417,coefficient2!$A$28:$B$31,2,FALSE))","v":"0"},0.54236869999999993]
[14242,1,4,2,4,2,13,{"$f":"IF(B418=1,\"0\",VLOOKUP(B418,coefficient2!$A$4:$B$7,2,FALSE))","v":"0"},{"$f":"IF(C418=1,\"0\",VLOOKUP(C418,coefficient2!$A$10:$B$13,2,FALSE))","v":0.19249050000000001},{"$f":"IF(D418=1,\"0\",VLOOKUP(D418,coefficient2!$A$16:$B$19,2,FALSE))","v":5.8254399999999998E-2},{"$f":"IF(E418=1,\"0\",VLOOKUP(E418,coefficient2!$A$22:$B$25,2,FALSE))","v":0.2068864},{"$f":"IF(F418=1,\"0\",VLOOKUP(F418,coefficient2!$A$28:$B$31,2,FALSE))","v":5.8085699999999997E-2},0.48428299999999991]
[14243,1,4,2,4,3,14,{"$f":"IF(B419=1,\"0\",VLOOKUP(B419,coefficient2!$A$4:$B$7,2,FALSE))","v":"0"},{"$f":"IF(C419=1,\"0\",VLOOKUP(C419,coefficient2!$A$10:$B$13,2,FALSE))","v":0.19249050000000001},{"$f":"IF(D419=1,\"0\",VLOOKUP(D419,coefficient2!$A$16:$B$19,2,FALSE))","v":5.8254399999999998E-2},{"$f":"IF(E419=1,\"0\",VLOOKUP(E419,coefficient2!$A$22:$B$25,2,FALSE))","v":0.2068864},{"$f":"IF(F419=1,\"0\",VLOOKUP(F419,coefficient2!$A$28:$B$31,2,FALSE))","v":9.5753900000000003E-2},0.44661479999999992]
[14244,1,4,2,4,4,15,{"$f":"IF(B420=1,\"0\",VLOOKUP(B420,coefficient2!$A$4:$B$7,2,FALSE))","v":"0"},{"$f":"IF(C420=1,\"0\",VLOOKUP(C420,coefficient2!$A$10:$B$13,2,FALSE))","v":0.19249050000000001},{"$f":"IF(D420=1,\"0\",VLOOKUP(D420,coefficient2!$A$16:$B$19,2,FALSE))","v":5.8254399999999998E-2},{"$f":"IF(E420=1,\"0\",VLOOKUP(E420,coefficient2!$A$22:$B$25,2,FALSE))","v":0.2068864},{"$f":"IF(F420=1,\"0\",VLOOKUP(F420,coefficient2!$A$28:$B$31,2,FALSE))","v":0.23270360000000001},0.30966509999999992]
[14245,1,4,2,4,5,16,{"$f":"IF(B421=1,\"0\",VLOOKUP(B421,coefficient2!$A$4:$B$7,2,FALSE))","v":"0"},{"$f":"IF(C421=1,\"0\",VLOOKUP(C421,coefficient2!$A$10:$B$13,2,FALSE))","v":0.19249050000000001},{"$f":"IF(D421=1,\"0\",VLOOKUP(D421,coefficient2!$A$16:$B$19,2,FALSE))","v":5.8254399999999998E-2},{"$f":"IF(E421=1,\"0\",VLOOKUP(E421,coefficient2!$A$22:$B$25,2,FALSE))","v":0.2068864},{"$f":"IF(F421=1,\"0\",VLOOKUP(F421,coefficient2!$A$28:$B$31,2,FALSE))","v":0.29534929999999998},0.24701939999999994]
[14251,1,4,2,5,1,13,{"$f":"IF(B422=1,\"0\",VLOOKUP(B422,coefficient2!$A$4:$B$7,2,FALSE))","v":"0"},{"$f":"IF(C422=1,\"0\",VLOOKUP(C422,coefficient2!$A$10:$B$13,2,FALSE))","v":0.19249050000000001},{"$f":"IF(D422=1,\"0\",VLOOKUP(D422,coefficient2!$A$16:$B$19,2,FALSE))","v":5.8254399999999998E-2},{"$f":"IF(E422=1,\"0\",VLOOKUP(E422,coefficient2!$A$22:$B$25,2,FALSE))","v":0.25643310000000002},{"$f":"IF(F422=1,\"0\",VLOOKUP(F422,coefficient2!$A$28:$B$31,2,FALSE))","v":"0"},0.49282199999999993]
[14252,1,4,2,5,2,14,{"$f":"IF(B423=1,\"0\",VLOOKUP(B423,coefficient2!$A$4:$B$7,2,FALSE))","v":"0"},{"$f":"IF(C423=1,\"0\",VLOOKUP(C423,coefficient2!$A$10:$B$13,2,FALSE))","v":0.19249050000000001},{"$f":"IF(D423=1,\"0\",VLOOKUP(D423,coefficient2!$A$16:$B$19,2,FALSE))","v":5.8254399999999998E-2},{"$f":"IF(E423=1,\"0\",VLOOKUP(E423,coefficient2!$A$22:$B$25,2,FALSE))","v":0.25643310000000002},{"$f":"IF(F423=1,\"0\",VLOOKUP(F423,coefficient2!$A$28:$B$31,2,FALSE))","v":5.8085699999999997E-2},0.43473629999999991]
[14253,1,4,2,5,3,15,{"$f":"IF(B424=1,\"0\",VLOOKUP(B424,coefficient2!$A$4:$B$7,2,FALSE))","v":"0"},{"$f":"IF(C424=1,\"0\",VLOOKUP(C424,coefficient2!$A$10:$B$13,2,FALSE))","v":0.19249050000000001},{"$f":"IF(D424=1,\"0\",VLOOKUP(D424,coefficient2!$A$16:$B$19,2,FALSE))","v":5.8254399999999998E-2},{"$f":"IF(E424=1,\"0\",VLOOKUP(E424,coefficient2!$A$22:$B$25,2,FALSE))","v":0.25643310000000002},{"$f":"IF(F424=1,\"0\",VLOOKUP(F424,coefficient2!$A$28:$B$31,2,FALSE))","v":9.5753900000000003E-2},0.39706809999999992]
[14254,1,4,2,5,4,16,{"$f":"IF(B425=1,\"0\",VLOOKUP(B425,coefficient2!$A$4:$B$7,2,FALSE))","v":"0"},{"$f":"IF(C425=1,\"0\",VLOOKUP(C425,coefficient2!$A$10:$B$13,2,FALSE))","v":0.19249050000000001},{"$f":"IF(D425=1,\"0\",VLOOKUP(D425,coefficient2!$A$16:$B$19,2,FALSE))","v":5.8254399999999998E-2},{"$f":"IF(E425=1,\"0\",VLOOKUP(E425,coefficient2!$A$22:$B$25,2,FALSE))","v":0.25643310000000002},{"$f":"IF(F425=1,\"0\",VLOOKUP(F425,coefficient2!$A$28:$B$31,2,FALSE))","v":0.23270360000000001},0.26011839999999992]
[14255,1,4,2,5,5,17,{"$f":"IF(B426=1,\"0\",VLOOKUP(B426,coefficient2!$A$4:$B$7,2,FALSE))","v":"0"},{"$f":"IF(C426=1,\"0\",VLOOKUP(C426,coefficient2!$A$10:$B$13,2,FALSE))","v":0.19249050000000001},{"$f":"IF(D426=1,\"0\",VLOOKUP(D426,coefficient2!$A$16:$B$19,2,FALSE))","v":5.8254399999999998E-2},{"$f":"IF(E426=1,\"0\",VLOOKUP(E426,coefficient2!$A$22:$B$25,2,FALSE))","v":0.25643310000000002},{"$f":"IF(F426=1,\"0\",VLOOKUP(F426,coefficient2!$A$28:$B$31,2,FALSE))","v":0.29534929999999998},0.19747269999999995]
[14311,1,4,3,1,1,10,{"$f":"IF(B427=1,\"0\",VLOOKUP(B427,coefficient2!$A$4:$B$7,2,FALSE))","v":"0"},{"$f":"IF(C427=1,\"0\",VLOOKUP(C427,coefficient2!$A$10:$B$13,2,FALSE))","v":0.19249050000000001},{"$f":"IF(D427=1,\"0\",VLOOKUP(D427,coefficient2!$A$16:$B$19,2,FALSE))","v":7.1197399999999994E-2},{"$f":"IF(E427=1,\"0\",VLOOKUP(E427,coefficient2!$A$22:$B$25,2,FALSE))","v":"0"},{"$f":"IF(F427=1,\"0\",VLOOKUP(F427,coefficient2!$A$28:$B$31,2,FALSE))","v":"0"},0.73631210000000002]
[14312,1,4,3,1,2,11,{"$f":"IF(B428=1,\"0\",VLOOKUP(B428,coefficient2!$A$4:$B$7,2,FALSE))","v":"0"},{"$f":"IF(C428=1,\"0\",VLOOKUP(C428,coefficient2!$A$10:$B$13,2,FALSE))","v":0.19249050000000001},{"$f":"IF(D428=1,\"0\",VLOOKUP(D428,coefficient2!$A$16:$B$19,2,FALSE))","v":7.1197399999999994E-2},{"$f":"IF(E428=1,\"0\",VLOOKUP(E428,coefficient2!$A$22:$B$25,2,FALSE))","v":"0"},{"$f":"IF(F428=1,\"0\",VLOOKUP(F428,coefficient2!$A$28:$B$31,2,FALSE))","v":5.8085699999999997E-2},0.67822640000000001]
[14313,1,4,3,1,3,12,{"$f":"IF(B429=1,\"0\",VLOOKUP(B429,coefficient2!$A$4:$B$7,2,FALSE))","v":"0"},{"$f":"IF(C429=1,\"0\",VLOOKUP(C429,coefficient2!$A$10:$B$13,2,FALSE))","v":0.19249050000000001},{"$f":"IF(D429=1,\"0\",VLOOKUP(D429,coefficient2!$A$16:$B$19,2,FALSE))","v":7.1197399999999994E-2},{"$f":"IF(E429=1,\"0\",VLOOKUP(E429,coefficient2!$A$22:$B$25,2,FALSE))","v":"0"},{"$f":"IF(F429=1,\"0\",VLOOKUP(F429,coefficient2!$A$28:$B$31,2,FALSE))","v":9.5753900000000003E-2},0.64055820000000008]
[14314,1,4,3,1,4,13,{"$f":"IF(B430=1,\"0\",VLOOKUP(B430,coefficient2!$A$4:$B$7,2,FALSE))","v":"0"},{"$f":"IF(C430=1,\"0\",VLOOKUP(C430,coefficient2!$A$10:$B$13,2,FALSE))","v":0.19249050000000001},{"$f":"IF(D430=1,\"0\",VLOOKUP(D430,coefficient2!$A$16:$B$19,2,FALSE))","v":7.1197399999999994E-2},{"$f":"IF(E430=1,\"0\",VLOOKUP(E430,coefficient2!$A$22:$B$25,2,FALSE))","v":"0"},{"$f":"IF(F430=1,\"0\",VLOOKUP(F430,coefficient2!$A$28:$B$31,2,FALSE))","v":0.23270360000000001},0.50360850000000001]
[14315,1,4,3,1,5,14,{"$f":"IF(B431=1,\"0\",VLOOKUP(B431,coefficient2!$A$4:$B$7,2,FALSE))","v":"0"},{"$f":"IF(C431=1,\"0\",VLOOKUP(C431,coefficient2!$A$10:$B$13,2,FALSE))","v":0.19249050000000001},{"$f":"IF(D431=1,\"0\",VLOOKUP(D431,coefficient2!$A$16:$B$19,2,FALSE))","v":7.1197399999999994E-2},{"$f":"IF(E431=1,\"0\",VLOOKUP(E431,coefficient2!$A$22:$B$25,2,FALSE))","v":"0"},{"$f":"IF(F431=1,\"0\",VLOOKUP(F431,coefficient2!$A$28:$B$31,2,FALSE))","v":0.29534929999999998},0.44096280000000004]
[14321,1,4,3,2,1,11,{"$f":"IF(B432=1,\"0\",VLOOKUP(B432,coefficient2!$A$4:$B$7,2,FALSE))","v":"0"},{"$f":"IF(C432=1,\"0\",VLOOKUP(C432,coefficient2!$A$10:$B$13,2,FALSE))","v":0.19249050000000001},{"$f":"IF(D432=1,\"0\",VLOOKUP(D432,coefficient2!$A$16:$B$19,2,FALSE))","v":7.1197399999999994E-2},{"$f":"IF(E432=1,\"0\",VLOOKUP(E432,coefficient2!$A$22:$B$25,2,FALSE))","v":5.63998E-2},{"$f":"IF(F432=1,\"0\",VLOOKUP(F432,coefficient2!$A$28:$B$31,2,FALSE))","v":"0"},0.67991230000000002]
[14322,1,4,3,2,2,12,{"$f":"IF(B433=1,\"0\",VLOOKUP(B433,coefficient2!$A$4:$B$7,2,FALSE))","v":"0"},{"$f":"IF(C433=1,\"0\",VLOOKUP(C433,coefficient2!$A$10:$B$13,2,FALSE))","v":0.19249050000000001},{"$f":"IF(D433=1,\"0\",VLOOKUP(D433,coefficient2!$A$16:$B$19,2,FALSE))","v":7.1197399999999994E-2},{"$f":"IF(E433=1,\"0\",VLOOKUP(E433,coefficient2!$A$22:$B$25,2,FALSE))","v":5.63998E-2},{"$f":"IF(F433=1,\"0\",VLOOKUP(F433,coefficient2!$A$28:$B$31,2,FALSE))","v":5.8085699999999997E-2},0.62182660000000001]
[14323,1,4,3,2,3,13,{"$f":"IF(B434=1,\"0\",VLOOKUP(B434,coefficient2!$A$4:$B$7,2,FALSE))","v":"0"},{"$f":"IF(C434=1,\"0\",VLOOKUP(C434,coefficient2!$A$10:$B$13,2,FALSE))","v":0.19249050000000001},{"$f":"IF(D434=1,\"0\",VLOOKUP(D434,coefficient2!$A$16:$B$19,2,FALSE))","v":7.1197399999999994E-2},{"$f":"IF(E434=1,\"0\",VLOOKUP(E434,coefficient2!$A$22:$B$25,2,FALSE))","v":5.63998E-2},{"$f":"IF(F434=1,\"0\",VLOOKUP(F434,coefficient2!$A$28:$B$31,2,FALSE))","v":9.5753900000000003E-2},0.58415839999999997]
[14324,1,4,3,2,4,14,{"$f":"IF(B435=1,\"0\",VLOOKUP(B435,coefficient2!$A$4:$B$7,2,FALSE))","v":"0"},{"$f":"IF(C435=1,\"0\",VLOOKUP(C435,coefficient2!$A$10:$B$13,2,FALSE))","v":0.19249050000000001},{"$f":"IF(D435=1,\"0\",VLOOKUP(D435,coefficient2!$A$16:$B$19,2,FALSE))","v":7.1197399999999994E-2},{"$f":"IF(E435=1,\"0\",VLOOKUP(E435,coefficient2!$A$22:$B$25,2,FALSE))","v":5.63998E-2},{"$f":"IF(F435=1,\"0\",VLOOKUP(F435,coefficient2!$A$28:$B$31,2,FALSE))","v":0.23270360000000001},0.44720870000000001]
[14325,1,4,3,2,5,15,{"$f":"IF(B436=1,\"0\",VLOOKUP(B436,coefficient2!$A$4:$B$7,2,FALSE))","v":"0"},{"$f":"IF(C436=1,\"0\",VLOOKUP(C436,coefficient2!$A$10:$B$13,2,FALSE))","v":0.19249050000000001},{"$f":"IF(D436=1,\"0\",VLOOKUP(D436,coefficient2!$A$16:$B$19,2,FALSE))","v":7.1197399999999994E-2},{"$f":"IF(E436=1,\"0\",VLOOKUP(E436,coefficient2!$A$22:$B$25,2,FALSE))","v":5.63998E-2},{"$f":"IF(F436=1,\"0\",VLOOKUP(F436,coefficient2!$A$28:$B$31,2,FALSE))","v":0.29534929999999998},0.38456300000000004]
[14331,1,4,3,3,1,12,{"$f":"IF(B437=1,\"0\",VLOOKUP(B437,coefficient2!$A$4:$B$7,2,FALSE))","v":"0"},{"$f":"IF(C437=1,\"0\",VLOOKUP(C437,coefficient2!$A$10:$B$13,2,FALSE))","v":0.19249050000000001},{"$f":"IF(D437=1,\"0\",VLOOKUP(D437,coefficient2!$A$16:$B$19,2,FALSE))","v":7.1197399999999994E-2},{"$f":"IF(E437=1,\"0\",VLOOKUP(E437,coefficient2!$A$22:$B$25,2,FALSE))","v":6.6492200000000001E-2},{"$f":"IF(F437=1,\"0\",VLOOKUP(F437,coefficient2!$A$28:$B$31,2,FALSE))","v":"0"},0.66981990000000002]
[14332,1,4,3,3,2,13,{"$f":"IF(B438=1,\"0\",VLOOKUP(B438,coefficient2!$A$4:$B$7,2,FALSE))","v":"0"},{"$f":"IF(C438=1,\"0\",VLOOKUP(C438,coefficient2!$A$10:$B$13,2,FALSE))","v":0.19249050000000001},{"$f":"IF(D438=1,\"0\",VLOOKUP(D438,coefficient2!$A$16:$B$19,2,FALSE))","v":7.1197399999999994E-2},{"$f":"IF(E438=1,\"0\",VLOOKUP(E438,coefficient2!$A$22:$B$25,2,FALSE))","v":6.6492200000000001E-2},{"$f":"IF(F438=1,\"0\",VLOOKUP(F438,coefficient2!$A$28:$B$31,2,FALSE))","v":5.8085699999999997E-2},0.61173420000000001]
[14333,1,4,3,3,3,14,{"$f":"IF(B439=1,\"0\",VLOOKUP(B439,coefficient2!$A$4:$B$7,2,FALSE))","v":"0"},{"$f":"IF(C439=1,\"0\",VLOOKUP(C439,coefficient2!$A$10:$B$13,2,FALSE))","v":0.19249050000000001},{"$f":"IF(D439=1,\"0\",VLOOKUP(D439,coefficient2!$A$16:$B$19,2,FALSE))","v":7.1197399999999994E-2},{"$f":"IF(E439=1,\"0\",VLOOKUP(E439,coefficient2!$A$22:$B$25,2,FALSE))","v":6.6492200000000001E-2},{"$f":"IF(F439=1,\"0\",VLOOKUP(F439,coefficient2!$A$28:$B$31,2,FALSE))","v":9.5753900000000003E-2},0.57406599999999997]
[14334,1,4,3,3,4,15,{"$f":"IF(B440=1,\"0\",VLOOKUP(B440,coefficient2!$A$4:$B$7,2,FALSE))","v":"0"},{"$f":"IF(C440=1,\"0\",VLOOKUP(C440,coefficient2!$A$10:$B$13,2,FALSE))","v":0.19249050000000001},{"$f":"IF(D440=1,\"0\",VLOOKUP(D440,coefficient2!$A$16:$B$19,2,FALSE))","v":7.1197399999999994E-2},{"$f":"IF(E440=1,\"0\",VLOOKUP(E440,coefficient2!$A$22:$B$25,2,FALSE))","v":6.6492200000000001E-2},{"$f":"IF(F440=1,\"0\",VLOOKUP(F440,coefficient2!$A$28:$B$31,2,FALSE))","v":0.23270360000000001},0.43711630000000001]
[14335,1,4,3,3,5,16,{"$f":"IF(B441=1,\"0\",VLOOKUP(B441,coefficient2!$A$4:$B$7,2,FALSE))","v":"0"},{"$f":"IF(C441=1,\"0\",VLOOKUP(C441,coefficient2!$A$10:$B$13,2,FALSE))","v":0.19249050000000001},{"$f":"IF(D441=1,\"0\",VLOOKUP(D441,coefficient2!$A$16:$B$19,2,FALSE))","v":7.1197399999999994E-2},{"$f":"IF(E441=1,\"0\",VLOOKUP(E441,coefficient2!$A$22:$B$25,2,FALSE))","v":6.6492200000000001E-2},{"$f":"IF(F441=1,\"0\",VLOOKUP(F441,coefficient2!$A$28:$B$31,2,FALSE))","v":0.29534929999999998},0.37447060000000004]
[14341,1,4,3,4,1,13,{"$f":"IF(B442=1,\"0\",VLOOKUP(B442,coefficient2!$A$4:$B$7,2,FALSE))","v":"0"},{"$f":"IF(C442=1,\"0\",VLOOKUP(C442,coefficient2!$A$10:$B$13,2,FALSE))","v":0.19249050000000001},{"$f":"IF(D442=1,\"0\",VLOOKUP(D442,coefficient2!$A$16:$B$19,2,FALSE))","v":7.1197399999999994E-2},{"$f":"IF(E442=1,\"0\",VLOOKUP(E442,coefficient2!$A$22:$B$25,2,FALSE))","v":0.2068864},{"$f":"IF(F442=1,\"0\",VLOOKUP(F442,coefficient2!$A$28:$B$31,2,FALSE))","v":"0"},0.5294257]
[14342,1,4,3,4,2,14,{"$f":"IF(B443=1,\"0\",VLOOKUP(B443,coefficient2!$A$4:$B$7,2,FALSE))","v":"0"},{"$f":"IF(C443=1,\"0\",VLOOKUP(C443,coefficient2!$A$10:$B$13,2,FALSE))","v":0.19249050000000001},{"$f":"IF(D443=1,\"0\",VLOOKUP(D443,coefficient2!$A$16:$B$19,2,FALSE))","v":7.1197399999999994E-2},{"$f":"IF(E443=1,\"0\",VLOOKUP(E443,coefficient2!$A$22:$B$25,2,FALSE))","v":0.2068864},{"$f":"IF(F443=1,\"0\",VLOOKUP(F443,coefficient2!$A$28:$B$31,2,FALSE))","v":5.8085699999999997E-2},0.47133999999999998]
[14343,1,4,3,4,3,15,{"$f":"IF(B444=1,\"0\",VLOOKUP(B444,coefficient2!$A$4:$B$7,2,FALSE))","v":"0"},{"$f":"IF(C444=1,\"0\",VLOOKUP(C444,coefficient2!$A$10:$B$13,2,FALSE))","v":0.19249050000000001},{"$f":"IF(D444=1,\"0\",VLOOKUP(D444,coefficient2!$A$16:$B$19,2,FALSE))","v":7.1197399999999994E-2},{"$f":"IF(E444=1,\"0\",VLOOKUP(E444,coefficient2!$A$22:$B$25,2,FALSE))","v":0.2068864},{"$f":"IF(F444=1,\"0\",VLOOKUP(F444,coefficient2!$A$28:$B$31,2,FALSE))","v":9.5753900000000003E-2},0.4336718]
[14344,1,4,3,4,4,16,{"$f":"IF(B445=1,\"0\",VLOOKUP(B445,coefficient2!$A$4:$B$7,2,FALSE))","v":"0"},{"$f":"IF(C445=1,\"0\",VLOOKUP(C445,coefficient2!$A$10:$B$13,2,FALSE))","v":0.19249050000000001},{"$f":"IF(D445=1,\"0\",VLOOKUP(D445,coefficient2!$A$16:$B$19,2,FALSE))","v":7.1197399999999994E-2},{"$f":"IF(E445=1,\"0\",VLOOKUP(E445,coefficient2!$A$22:$B$25,2,FALSE))","v":0.2068864},{"$f":"IF(F445=1,\"0\",VLOOKUP(F445,coefficient2!$A$28:$B$31,2,FALSE))","v":0.23270360000000001},0.29672209999999999]
[14345,1,4,3,4,5,17,{"$f":"IF(B446=1,\"0\",VLOOKUP(B446,coefficient2!$A$4:$B$7,2,FALSE))","v":"0"},{"$f":"IF(C446=1,\"0\",VLOOKUP(C446,coefficient2!$A$10:$B$13,2,FALSE))","v":0.19249050000000001},{"$f":"IF(D446=1,\"0\",VLOOKUP(D446,coefficient2!$A$16:$B$19,2,FALSE))","v":7.1197399999999994E-2},{"$f":"IF(E446=1,\"0\",VLOOKUP(E446,coefficient2!$A$22:$B$25,2,FALSE))","v":0.2068864},{"$f":"IF(F446=1,\"0\",VLOOKUP(F446,coefficient2!$A$28:$B$31,2,FALSE))","v":0.29534929999999998},0.23407640000000002]
[14351,1,4,3,5,1,14,{"$f":"IF(B447=1,\"0\",VLOOKUP(B447,coefficient2!$A$4:$B$7,2,FALSE))","v":"0"},{"$f":"IF(C447=1,\"0\",VLOOKUP(C447,coefficient2!$A$10:$B$13,2,FALSE))","v":0.19249050000000001},{"$f":"IF(D447=1,\"0\",VLOOKUP(D447,coefficient2!$A$16:$B$19,2,FALSE))","v":7.1197399999999994E-2},{"$f":"IF(E447=1,\"0\",VLOOKUP(E447,coefficient2!$A$22:$B$25,2,FALSE))","v":0.25643310000000002},{"$f":"IF(F447=1,\"0\",VLOOKUP(F447,coefficient2!$A$28:$B$31,2,FALSE))","v":"0"},0.479879]
[14352,1,4,3,5,2,15,{"$f":"IF(B448=1,\"0\",VLOOKUP(B448,coefficient2!$A$4:$B$7,2,FALSE))","v":"0"},{"$f":"IF(C448=1,\"0\",VLOOKUP(C448,coefficient2!$A$10:$B$13,2,FALSE))","v":0.19249050000000001},{"$f":"IF(D448=1,\"0\",VLOOKUP(D448,coefficient2!$A$16:$B$19,2,FALSE))","v":7.1197399999999994E-2},{"$f":"IF(E448=1,\"0\",VLOOKUP(E448,coefficient2!$A$22:$B$25,2,FALSE))","v":0.25643310000000002},{"$f":"IF(F448=1,\"0\",VLOOKUP(F448,coefficient2!$A$28:$B$31,2,FALSE))","v":5.8085699999999997E-2},0.42179329999999998]
[14353,1,4,3,5,3,16,{"$f":"IF(B449=1,\"0\",VLOOKUP(B449,coefficient2!$A$4:$B$7,2,FALSE))","v":"0"},{"$f":"IF(C449=1,\"0\",VLOOKUP(C449,coefficient2!$A$10:$B$13,2,FALSE))","v":0.19249050000000001},{"$f":"IF(D449=1,\"0\",VLOOKUP(D449,coefficient2!$A$16:$B$19,2,FALSE))","v":7.1197399999999994E-2},{"$f":"IF(E449=1,\"0\",VLOOKUP(E449,coefficient2!$A$22:$B$25,2,FALSE))","v":0.25643310000000002},{"$f":"IF(F449=1,\"0\",VLOOKUP(F449,coefficient2!$A$28:$B$31,2,FALSE))","v":9.5753900000000003E-2},0.3841251]
[14354,1,4,3,5,4,17,{"$f":"IF(B450=1,\"0\",VLOOKUP(B450,coefficient2!$A$4:$B$7,2,FALSE))","v":"0"},{"$f":"IF(C450=1,\"0\",VLOOKUP(C450,coefficient2!$A$10:$B$13,2,FALSE))","v":0.19249050000000001},{"$f":"IF(D450=1,\"0\",VLOOKUP(D450,coefficient2!$A$16:$B$19,2,FALSE))","v":7.1197399999999994E-2},{"$f":"IF(E450=1,\"0\",VLOOKUP(E450,coefficient2!$A$22:$B$25,2,FALSE))","v":0.25643310000000002},{"$f":"IF(F450=1,\"0\",VLOOKUP(F450,coefficient2!$A$28:$B$31,2,FALSE))","v":0.23270360000000001},{"$f":"1-H450-I450-J450-K450-L450","v":0.24717539999999999}]
[14355,{"$f":"INT(LEFT(A451,1))","v":1},{"$f":"INT(MID(A451,2,1))","v":4},{"$f":"INT(MID(A451,3,1))","v":3},{"$f":"INT(MID(A451,4,1))","v":5},{"$f":"INT(RIGHT(A451,1))","v":5},{"$f":"SUM(B451:F451)","v":18},{"$f":"IF(B451=1,\"0\",VLOOKUP(B451,coefficient2!$A$4:$B$7,2,FALSE))","v":"0"},{"$f":"IF(C451=1,\"0\",VLOOKUP(C451,coefficient2!$A$10:$B$13,2,FALSE))","v":0.19249050000000001},{"$f":"IF(D451=1,\"0\",VLOOKUP(D451,coefficient2!$A$16:$B$19,2,FALSE))","v":7.1197399999999994E-2},{"$f":"IF(E451=1,\"0\",VLOOKUP(E451,coefficient2!$A$22:$B$25,2,FALSE))","v":0.25643310000000002},{"$f":"IF(F451=1,\"0\",VLOOKUP(F451,coefficient2!$A$28:$B$31,2,FALSE))","v":0.29534929999999998},0.18452970000000002]
[14411,1,4,4,1,1,11,{"$f":"IF(B452=1,\"0\",VLOOKUP(B452,coefficient2!$A$4:$B$7,2,FALSE))","v":"0"},{"$f":"IF(C452=1,\"0\",VLOOKUP(C452,coefficient2!$A$10:$B$13,2,FALSE))","v":0.19249050000000001},{"$f":"IF(D452=1,\"0\",VLOOKUP(D452,coefficient2!$A$16:$B$19,2,FALSE))","v":0.1534855},{"$f":"IF(E452=1,\"0\",VLOOKUP(E452,coefficient2!$A$22:$B$25,2,FALSE))","v":"0"},{"$f":"IF(F452=1,\"0\",VLOOKUP(F452,coefficient2!$A$28:$B$31,2,FALSE))","v":"0"},0.65402399999999994]
[14412,1,4,4,1,2,12,{"$f":"IF(B453=1,\"0\",VLOOKUP(B453,coefficient2!$A$4:$B$7,2,FALSE))","v":"0"},{"$f":"IF(C453=1,\"0\",VLOOKUP(C453,coefficient2!$A$10:$B$13,2,FALSE))","v":0.19249050000000001},{"$f":"IF(D453=1,\"0\",VLOOKUP(D453,coefficient2!$A$16:$B$19,2,FALSE))","v":0.1534855},{"$f":"IF(E453=1,\"0\",VLOOKUP(E453,coefficient2!$A$22:$B$25,2,FALSE))","v":"0"},{"$f":"IF(F453=1,\"0\",VLOOKUP(F453,coefficient2!$A$28:$B$31,2,FALSE))","v":5.8085699999999997E-2},0.59593829999999992]
[14413,1,4,4,1,3,13,{"$f":"IF(B454=1,\"0\",VLOOKUP(B454,coefficient2!$A$4:$B$7,2,FALSE))","v":"0"},{"$f":"IF(C454=1,\"0\",VLOOKUP(C454,coefficient2!$A$10:$B$13,2,FALSE))","v":0.19249050000000001},{"$f":"IF(D454=1,\"0\",VLOOKUP(D454,coefficient2!$A$16:$B$19,2,FALSE))","v":0.1534855},{"$f":"IF(E454=1,\"0\",VLOOKUP(E454,coefficient2!$A$22:$B$25,2,FALSE))","v":"0"},{"$f":"IF(F454=1,\"0\",VLOOKUP(F454,coefficient2!$A$28:$B$31,2,FALSE))","v":9.5753900000000003E-2},0.55827009999999988]
[14414,1,4,4,1,4,14,{"$f":"IF(B455=1,\"0\",VLOOKUP(B455,coefficient2!$A$4:$B$7,2,FALSE))","v":"0"},{"$f":"IF(C455=1,\"0\",VLOOKUP(C455,coefficient2!$A$10:$B$13,2,FALSE))","v":0.19249050000000001},{"$f":"IF(D455=1,\"0\",VLOOKUP(D455,coefficient2!$A$16:$B$19,2,FALSE))","v":0.1534855},{"$f":"IF(E455=1,\"0\",VLOOKUP(E455,coefficient2!$A$22:$B$25,2,FALSE))","v":"0"},{"$f":"IF(F455=1,\"0\",VLOOKUP(F455,coefficient2!$A$28:$B$31,2,FALSE))","v":0.23270360000000001},0.42132039999999993]
[14415,1,4,4,1,5,15,{"$f":"IF(B456=1,\"0\",VLOOKUP(B456,coefficient2!$A$4:$B$7,2,FALSE))","v":"0"},{"$f":"IF(C456=1,\"0\",VLOOKUP(C456,coefficient2!$A$10:$B$13,2,FALSE))","v":0.19249050000000001},{"$f":"IF(D456=1,\"0\",VLOOKUP(D456,coefficient2!$A$16:$B$19,2,FALSE))","v":0.1534855},{"$f":"IF(E456=1,\"0\",VLOOKUP(E456,coefficient2!$A$22:$B$25,2,FALSE))","v":"0"},{"$f":"IF(F456=1,\"0\",VLOOKUP(F456,coefficient2!$A$28:$B$31,2,FALSE))","v":0.29534929999999998},0.35867469999999996]
[14421,1,4,4,2,1,12,{"$f":"IF(B457=1,\"0\",VLOOKUP(B457,coefficient2!$A$4:$B$7,2,FALSE))","v":"0"},{"$f":"IF(C457=1,\"0\",VLOOKUP(C457,coefficient2!$A$10:$B$13,2,FALSE))","v":0.19249050000000001},{"$f":"IF(D457=1,\"0\",VLOOKUP(D457,coefficient2!$A$16:$B$19,2,FALSE))","v":0.1534855},{"$f":"IF(E457=1,\"0\",VLOOKUP(E457,coefficient2!$A$22:$B$25,2,FALSE))","v":5.63998E-2},{"$f":"IF(F457=1,\"0\",VLOOKUP(F457,coefficient2!$A$28:$B$31,2,FALSE))","v":"0"},0.59762419999999994]
[14422,1,4,4,2,2,13,{"$f":"IF(B458=1,\"0\",VLOOKUP(B458,coefficient2!$A$4:$B$7,2,FALSE))","v":"0"},{"$f":"IF(C458=1,\"0\",VLOOKUP(C458,coefficient2!$A$10:$B$13,2,FALSE))","v":0.19249050000000001},{"$f":"IF(D458=1,\"0\",VLOOKUP(D458,coefficient2!$A$16:$B$19,2,FALSE))","v":0.1534855},{"$f":"IF(E458=1,\"0\",VLOOKUP(E458,coefficient2!$A$22:$B$25,2,FALSE))","v":5.63998E-2},{"$f":"IF(F458=1,\"0\",VLOOKUP(F458,coefficient2!$A$28:$B$31,2,FALSE))","v":5.8085699999999997E-2},0.53953849999999992]
[14423,1,4,4,2,3,14,{"$f":"IF(B459=1,\"0\",VLOOKUP(B459,coefficient2!$A$4:$B$7,2,FALSE))","v":"0"},{"$f":"IF(C459=1,\"0\",VLOOKUP(C459,coefficient2!$A$10:$B$13,2,FALSE))","v":0.19249050000000001},{"$f":"IF(D459=1,\"0\",VLOOKUP(D459,coefficient2!$A$16:$B$19,2,FALSE))","v":0.1534855},{"$f":"IF(E459=1,\"0\",VLOOKUP(E459,coefficient2!$A$22:$B$25,2,FALSE))","v":5.63998E-2},{"$f":"IF(F459=1,\"0\",VLOOKUP(F459,coefficient2!$A$28:$B$31,2,FALSE))","v":9.5753900000000003E-2},0.50187029999999999]
[14424,1,4,4,2,4,15,{"$f":"IF(B460=1,\"0\",VLOOKUP(B460,coefficient2!$A$4:$B$7,2,FALSE))","v":"0"},{"$f":"IF(C460=1,\"0\",VLOOKUP(C460,coefficient2!$A$10:$B$13,2,FALSE))","v":0.19249050000000001},{"$f":"IF(D460=1,\"0\",VLOOKUP(D460,coefficient2!$A$16:$B$19,2,FALSE))","v":0.1534855},{"$f":"IF(E460=1,\"0\",VLOOKUP(E460,coefficient2!$A$22:$B$25,2,FALSE))","v":5.63998E-2},{"$f":"IF(F460=1,\"0\",VLOOKUP(F460,coefficient2!$A$28:$B$31,2,FALSE))","v":0.23270360000000001},0.36492059999999993]
[14425,1,4,4,2,5,16,{"$f":"IF(B461=1,\"0\",VLOOKUP(B461,coefficient2!$A$4:$B$7,2,FALSE))","v":"0"},{"$f":"IF(C461=1,\"0\",VLOOKUP(C461,coefficient2!$A$10:$B$13,2,FALSE))","v":0.19249050000000001},{"$f":"IF(D461=1,\"0\",VLOOKUP(D461,coefficient2!$A$16:$B$19,2,FALSE))","v":0.1534855},{"$f":"IF(E461=1,\"0\",VLOOKUP(E461,coefficient2!$A$22:$B$25,2,FALSE))","v":5.63998E-2},{"$f":"IF(F461=1,\"0\",VLOOKUP(F461,coefficient2!$A$28:$B$31,2,FALSE))","v":0.29534929999999998},0.30227489999999996]
[14431,1,4,4,3,1,13,{"$f":"IF(B462=1,\"0\",VLOOKUP(B462,coefficient2!$A$4:$B$7,2,FALSE))","v":"0"},{"$f":"IF(C462=1,\"0\",VLOOKUP(C462,coefficient2!$A$10:$B$13,2,FALSE))","v":0.19249050000000001},{"$f":"IF(D462=1,\"0\",VLOOKUP(D462,coefficient2!$A$16:$B$19,2,FALSE))","v":0.1534855},{"$f":"IF(E462=1,\"0\",VLOOKUP(E462,coefficient2!$A$22:$B$25,2,FALSE))","v":6.6492200000000001E-2},{"$f":"IF(F462=1,\"0\",VLOOKUP(F462,coefficient2!$A$28:$B$31,2,FALSE))","v":"0"},0.58753179999999994]
[14432,1,4,4,3,2,14,{"$f":"IF(B463=1,\"0\",VLOOKUP(B463,coefficient2!$A$4:$B$7,2,FALSE))","v":"0"},{"$f":"IF(C463=1,\"0\",VLOOKUP(C463,coefficient2!$A$10:$B$13,2,FALSE))","v":0.19249050000000001},{"$f":"IF(D463=1,\"0\",VLOOKUP(D463,coefficient2!$A$16:$B$19,2,FALSE))","v":0.1534855},{"$f":"IF(E463=1,\"0\",VLOOKUP(E463,coefficient2!$A$22:$B$25,2,FALSE))","v":6.6492200000000001E-2},{"$f":"IF(F463=1,\"0\",VLOOKUP(F463,coefficient2!$A$28:$B$31,2,FALSE))","v":5.8085699999999997E-2},0.52944609999999992]
[14433,1,4,4,3,3,15,{"$f":"IF(B464=1,\"0\",VLOOKUP(B464,coefficient2!$A$4:$B$7,2,FALSE))","v":"0"},{"$f":"IF(C464=1,\"0\",VLOOKUP(C464,coefficient2!$A$10:$B$13,2,FALSE))","v":0.19249050000000001},{"$f":"IF(D464=1,\"0\",VLOOKUP(D464,coefficient2!$A$16:$B$19,2,FALSE))","v":0.1534855},{"$f":"IF(E464=1,\"0\",VLOOKUP(E464,coefficient2!$A$22:$B$25,2,FALSE))","v":6.6492200000000001E-2},{"$f":"IF(F464=1,\"0\",VLOOKUP(F464,coefficient2!$A$28:$B$31,2,FALSE))","v":9.5753900000000003E-2},0.49177789999999993]
[14434,1,4,4,3,4,16,{"$f":"IF(B465=1,\"0\",VLOOKUP(B465,coefficient2!$A$4:$B$7,2,FALSE))","v":"0"},{"$f":"IF(C465=1,\"0\",VLOOKUP(C465,coefficient2!$A$10:$B$13,2,FALSE))","v":0.19249050000000001},{"$f":"IF(D465=1,\"0\",VLOOKUP(D465,coefficient2!$A$16:$B$19,2,FALSE))","v":0.1534855},{"$f":"IF(E465=1,\"0\",VLOOKUP(E465,coefficient2!$A$22:$B$25,2,FALSE))","v":6.6492200000000001E-2},{"$f":"IF(F465=1,\"0\",VLOOKUP(F465,coefficient2!$A$28:$B$31,2,FALSE))","v":0.23270360000000001},0.35482819999999993]
[14435,1,4,4,3,5,17,{"$f":"IF(B466=1,\"0\",VLOOKUP(B466,coefficient2!$A$4:$B$7,2,FALSE))","v":"0"},{"$f":"IF(C466=1,\"0\",VLOOKUP(C466,coefficient2!$A$10:$B$13,2,FALSE))","v":0.19249050000000001},{"$f":"IF(D466=1,\"0\",VLOOKUP(D466,coefficient2!$A$16:$B$19,2,FALSE))","v":0.1534855},{"$f":"IF(E466=1,\"0\",VLOOKUP(E466,coefficient2!$A$22:$B$25,2,FALSE))","v":6.6492200000000001E-2},{"$f":"IF(F466=1,\"0\",VLOOKUP(F466,coefficient2!$A$28:$B$31,2,FALSE))","v":0.29534929999999998},0.29218249999999996]
[14441,1,4,4,4,1,14,{"$f":"IF(B467=1,\"0\",VLOOKUP(B467,coefficient2!$A$4:$B$7,2,FALSE))","v":"0"},{"$f":"IF(C467=1,\"0\",VLOOKUP(C467,coefficient2!$A$10:$B$13,2,FALSE))","v":0.19249050000000001},{"$f":"IF(D467=1,\"0\",VLOOKUP(D467,coefficient2!$A$16:$B$19,2,FALSE))","v":0.1534855},{"$f":"IF(E467=1,\"0\",VLOOKUP(E467,coefficient2!$A$22:$B$25,2,FALSE))","v":0.2068864},{"$f":"IF(F467=1,\"0\",VLOOKUP(F467,coefficient2!$A$28:$B$31,2,FALSE))","v":"0"},0.44713759999999991]
[14442,1,4,4,4,2,15,{"$f":"IF(B468=1,\"0\",VLOOKUP(B468,coefficient2!$A$4:$B$7,2,FALSE))","v":"0"},{"$f":"IF(C468=1,\"0\",VLOOKUP(C468,coefficient2!$A$10:$B$13,2,FALSE))","v":0.19249050000000001},{"$f":"IF(D468=1,\"0\",VLOOKUP(D468,coefficient2!$A$16:$B$19,2,FALSE))","v":0.1534855},{"$f":"IF(E468=1,\"0\",VLOOKUP(E468,coefficient2!$A$22:$B$25,2,FALSE))","v":0.2068864},{"$f":"IF(F468=1,\"0\",VLOOKUP(F468,coefficient2!$A$28:$B$31,2,FALSE))","v":5.8085699999999997E-2},0.3890518999999999]
[14443,1,4,4,4,3,16,{"$f":"IF(B469=1,\"0\",VLOOKUP(B469,coefficient2!$A$4:$B$7,2,FALSE))","v":"0"},{"$f":"IF(C469=1,\"0\",VLOOKUP(C469,coefficient2!$A$10:$B$13,2,FALSE))","v":0.19249050000000001},{"$f":"IF(D469=1,\"0\",VLOOKUP(D469,coefficient2!$A$16:$B$19,2,FALSE))","v":0.1534855},{"$f":"IF(E469=1,\"0\",VLOOKUP(E469,coefficient2!$A$22:$B$25,2,FALSE))","v":0.2068864},{"$f":"IF(F469=1,\"0\",VLOOKUP(F469,coefficient2!$A$28:$B$31,2,FALSE))","v":9.5753900000000003E-2},0.35138369999999991]
[14444,1,4,4,4,4,17,{"$f":"IF(B470=1,\"0\",VLOOKUP(B470,coefficient2!$A$4:$B$7,2,FALSE))","v":"0"},{"$f":"IF(C470=1,\"0\",VLOOKUP(C470,coefficient2!$A$10:$B$13,2,FALSE))","v":0.19249050000000001},{"$f":"IF(D470=1,\"0\",VLOOKUP(D470,coefficient2!$A$16:$B$19,2,FALSE))","v":0.1534855},{"$f":"IF(E470=1,\"0\",VLOOKUP(E470,coefficient2!$A$22:$B$25,2,FALSE))","v":0.2068864},{"$f":"IF(F470=1,\"0\",VLOOKUP(F470,coefficient2!$A$28:$B$31,2,FALSE))","v":0.23270360000000001},0.2144339999999999]
[14445,1,4,4,4,5,18,{"$f":"IF(B471=1,\"0\",VLOOKUP(B471,coefficient2!$A$4:$B$7,2,FALSE))","v":"0"},{"$f":"IF(C471=1,\"0\",VLOOKUP(C471,coefficient2!$A$10:$B$13,2,FALSE))","v":0.19249050000000001},{"$f":"IF(D471=1,\"0\",VLOOKUP(D471,coefficient2!$A$16:$B$19,2,FALSE))","v":0.1534855},{"$f":"IF(E471=1,\"0\",VLOOKUP(E471,coefficient2!$A$22:$B$25,2,FALSE))","v":0.2068864},{"$f":"IF(F471=1,\"0\",VLOOKUP(F471,coefficient2!$A$28:$B$31,2,FALSE))","v":0.29534929999999998},0.15178829999999993]
[14451,1,4,4,5,1,15,{"$f":"IF(B472=1,\"0\",VLOOKUP(B472,coefficient2!$A$4:$B$7,2,FALSE))","v":"0"},{"$f":"IF(C472=1,\"0\",VLOOKUP(C472,coefficient2!$A$10:$B$13,2,FALSE))","v":0.19249050000000001},{"$f":"IF(D472=1,\"0\",VLOOKUP(D472,coefficient2!$A$16:$B$19,2,FALSE))","v":0.1534855},{"$f":"IF(E472=1,\"0\",VLOOKUP(E472,coefficient2!$A$22:$B$25,2,FALSE))","v":0.25643310000000002},{"$f":"IF(F472=1,\"0\",VLOOKUP(F472,coefficient2!$A$28:$B$31,2,FALSE))","v":"0"},0.39759089999999991]
[14452,1,4,4,5,2,16,{"$f":"IF(B473=1,\"0\",VLOOKUP(B473,coefficient2!$A$4:$B$7,2,FALSE))","v":"0"},{"$f":"IF(C473=1,\"0\",VLOOKUP(C473,coefficient2!$A$10:$B$13,2,FALSE))","v":0.19249050000000001},{"$f":"IF(D473=1,\"0\",VLOOKUP(D473,coefficient2!$A$16:$B$19,2,FALSE))","v":0.1534855},{"$f":"IF(E473=1,\"0\",VLOOKUP(E473,coefficient2!$A$22:$B$25,2,FALSE))","v":0.25643310000000002},{"$f":"IF(F473=1,\"0\",VLOOKUP(F473,coefficient2!$A$28:$B$31,2,FALSE))","v":5.8085699999999997E-2},0.3395051999999999]
[14453,1,4,4,5,3,17,{"$f":"IF(B474=1,\"0\",VLOOKUP(B474,coefficient2!$A$4:$B$7,2,FALSE))","v":"0"},{"$f":"IF(C474=1,\"0\",VLOOKUP(C474,coefficient2!$A$10:$B$13,2,FALSE))","v":0.19249050000000001},{"$f":"IF(D474=1,\"0\",VLOOKUP(D474,coefficient2!$A$16:$B$19,2,FALSE))","v":0.1534855},{"$f":"IF(E474=1,\"0\",VLOOKUP(E474,coefficient2!$A$22:$B$25,2,FALSE))","v":0.25643310000000002},{"$f":"IF(F474=1,\"0\",VLOOKUP(F474,coefficient2!$A$28:$B$31,2,FALSE))","v":9.5753900000000003E-2},0.30183699999999991]
[14454,1,4,4,5,4,18,{"$f":"IF(B475=1,\"0\",VLOOKUP(B475,coefficient2!$A$4:$B$7,2,FALSE))","v":"0"},{"$f":"IF(C475=1,\"0\",VLOOKUP(C475,coefficient2!$A$10:$B$13,2,FALSE))","v":0.19249050000000001},{"$f":"IF(D475=1,\"0\",VLOOKUP(D475,coefficient2!$A$16:$B$19,2,FALSE))","v":0.1534855},{"$f":"IF(E475=1,\"0\",VLOOKUP(E475,coefficient2!$A$22:$B$25,2,FALSE))","v":0.25643310000000002},{"$f":"IF(F475=1,\"0\",VLOOKUP(F475,coefficient2!$A$28:$B$31,2,FALSE))","v":0.23270360000000001},0.1648872999999999]
[14455,1,4,4,5,5,19,{"$f":"IF(B476=1,\"0\",VLOOKUP(B476,coefficient2!$A$4:$B$7,2,FALSE))","v":"0"},{"$f":"IF(C476=1,\"0\",VLOOKUP(C476,coefficient2!$A$10:$B$13,2,FALSE))","v":0.19249050000000001},{"$f":"IF(D476=1,\"0\",VLOOKUP(D476,coefficient2!$A$16:$B$19,2,FALSE))","v":0.1534855},{"$f":"IF(E476=1,\"0\",VLOOKUP(E476,coefficient2!$A$22:$B$25,2,FALSE))","v":0.25643310000000002},{"$f":"IF(F476=1,\"0\",VLOOKUP(F476,coefficient2!$A$28:$B$31,2,FALSE))","v":0.29534929999999998},0.10224159999999993]
[14511,1,4,5,1,1,12,{"$f":"IF(B477=1,\"0\",VLOOKUP(B477,coefficient2!$A$4:$B$7,2,FALSE))","v":"0"},{"$f":"IF(C477=1,\"0\",VLOOKUP(C477,coefficient2!$A$10:$B$13,2,FALSE))","v":0.19249050000000001},{"$f":"IF(D477=1,\"0\",VLOOKUP(D477,coefficient2!$A$16:$B$19,2,FALSE))","v":0.248331},{"$f":"IF(E477=1,\"0\",VLOOKUP(E477,coefficient2!$A$22:$B$25,2,FALSE))","v":"0"},{"$f":"IF(F477=1,\"0\",VLOOKUP(F477,coefficient2!$A$28:$B$31,2,FALSE))","v":"0"},0.55917850000000002]
[14512,1,4,5,1,2,13,{"$f":"IF(B478=1,\"0\",VLOOKUP(B478,coefficient2!$A$4:$B$7,2,FALSE))","v":"0"},{"$f":"IF(C478=1,\"0\",VLOOKUP(C478,coefficient2!$A$10:$B$13,2,FALSE))","v":0.19249050000000001},{"$f":"IF(D478=1,\"0\",VLOOKUP(D478,coefficient2!$A$16:$B$19,2,FALSE))","v":0.248331},{"$f":"IF(E478=1,\"0\",VLOOKUP(E478,coefficient2!$A$22:$B$25,2,FALSE))","v":"0"},{"$f":"IF(F478=1,\"0\",VLOOKUP(F478,coefficient2!$A$28:$B$31,2,FALSE))","v":5.8085699999999997E-2},0.5010928]
[14513,1,4,5,1,3,14,{"$f":"IF(B479=1,\"0\",VLOOKUP(B479,coefficient2!$A$4:$B$7,2,FALSE))","v":"0"},{"$f":"IF(C479=1,\"0\",VLOOKUP(C479,coefficient2!$A$10:$B$13,2,FALSE))","v":0.19249050000000001},{"$f":"IF(D479=1,\"0\",VLOOKUP(D479,coefficient2!$A$16:$B$19,2,FALSE))","v":0.248331},{"$f":"IF(E479=1,\"0\",VLOOKUP(E479,coefficient2!$A$22:$B$25,2,FALSE))","v":"0"},{"$f":"IF(F479=1,\"0\",VLOOKUP(F479,coefficient2!$A$28:$B$31,2,FALSE))","v":9.5753900000000003E-2},0.46342460000000002]
[14514,1,4,5,1,4,15,{"$f":"IF(B480=1,\"0\",VLOOKUP(B480,coefficient2!$A$4:$B$7,2,FALSE))","v":"0"},{"$f":"IF(C480=1,\"0\",VLOOKUP(C480,coefficient2!$A$10:$B$13,2,FALSE))","v":0.19249050000000001},{"$f":"IF(D480=1,\"0\",VLOOKUP(D480,coefficient2!$A$16:$B$19,2,FALSE))","v":0.248331},{"$f":"IF(E480=1,\"0\",VLOOKUP(E480,coefficient2!$A$22:$B$25,2,FALSE))","v":"0"},{"$f":"IF(F480=1,\"0\",VLOOKUP(F480,coefficient2!$A$28:$B$31,2,FALSE))","v":0.23270360000000001},0.32647490000000001]
[14515,1,4,5,1,5,16,{"$f":"IF(B481=1,\"0\",VLOOKUP(B481,coefficient2!$A$4:$B$7,2,FALSE))","v":"0"},{"$f":"IF(C481=1,\"0\",VLOOKUP(C481,coefficient2!$A$10:$B$13,2,FALSE))","v":0.19249050000000001},{"$f":"IF(D481=1,\"0\",VLOOKUP(D481,coefficient2!$A$16:$B$19,2,FALSE))","v":0.248331},{"$f":"IF(E481=1,\"0\",VLOOKUP(E481,coefficient2!$A$22:$B$25,2,FALSE))","v":"0"},{"$f":"IF(F481=1,\"0\",VLOOKUP(F481,coefficient2!$A$28:$B$31,2,FALSE))","v":0.29534929999999998},0.26382920000000004]
[14521,1,4,5,2,1,13,{"$f":"IF(B482=1,\"0\",VLOOKUP(B482,coefficient2!$A$4:$B$7,2,FALSE))","v":"0"},{"$f":"IF(C482=1,\"0\",VLOOKUP(C482,coefficient2!$A$10:$B$13,2,FALSE))","v":0.19249050000000001},{"$f":"IF(D482=1,\"0\",VLOOKUP(D482,coefficient2!$A$16:$B$19,2,FALSE))","v":0.248331},{"$f":"IF(E482=1,\"0\",VLOOKUP(E482,coefficient2!$A$22:$B$25,2,FALSE))","v":5.63998E-2},{"$f":"IF(F482=1,\"0\",VLOOKUP(F482,coefficient2!$A$28:$B$31,2,FALSE))","v":"0"},0.50277870000000002]
[14522,1,4,5,2,2,14,{"$f":"IF(B483=1,\"0\",VLOOKUP(B483,coefficient2!$A$4:$B$7,2,FALSE))","v":"0"},{"$f":"IF(C483=1,\"0\",VLOOKUP(C483,coefficient2!$A$10:$B$13,2,FALSE))","v":0.19249050000000001},{"$f":"IF(D483=1,\"0\",VLOOKUP(D483,coefficient2!$A$16:$B$19,2,FALSE))","v":0.248331},{"$f":"IF(E483=1,\"0\",VLOOKUP(E483,coefficient2!$A$22:$B$25,2,FALSE))","v":5.63998E-2},{"$f":"IF(F483=1,\"0\",VLOOKUP(F483,coefficient2!$A$28:$B$31,2,FALSE))","v":5.8085699999999997E-2},0.444693]
[14523,1,4,5,2,3,15,{"$f":"IF(B484=1,\"0\",VLOOKUP(B484,coefficient2!$A$4:$B$7,2,FALSE))","v":"0"},{"$f":"IF(C484=1,\"0\",VLOOKUP(C484,coefficient2!$A$10:$B$13,2,FALSE))","v":0.19249050000000001},{"$f":"IF(D484=1,\"0\",VLOOKUP(D484,coefficient2!$A$16:$B$19,2,FALSE))","v":0.248331},{"$f":"IF(E484=1,\"0\",VLOOKUP(E484,coefficient2!$A$22:$B$25,2,FALSE))","v":5.63998E-2},{"$f":"IF(F484=1,\"0\",VLOOKUP(F484,coefficient2!$A$28:$B$31,2,FALSE))","v":9.5753900000000003E-2},0.40702480000000002]
[14524,1,4,5,2,4,16,{"$f":"IF(B485=1,\"0\",VLOOKUP(B485,coefficient2!$A$4:$B$7,2,FALSE))","v":"0"},{"$f":"IF(C485=1,\"0\",VLOOKUP(C485,coefficient2!$A$10:$B$13,2,FALSE))","v":0.19249050000000001},{"$f":"IF(D485=1,\"0\",VLOOKUP(D485,coefficient2!$A$16:$B$19,2,FALSE))","v":0.248331},{"$f":"IF(E485=1,\"0\",VLOOKUP(E485,coefficient2!$A$22:$B$25,2,FALSE))","v":5.63998E-2},{"$f":"IF(F485=1,\"0\",VLOOKUP(F485,coefficient2!$A$28:$B$31,2,FALSE))","v":0.23270360000000001},0.27007510000000001]
[14525,1,4,5,2,5,17,{"$f":"IF(B486=1,\"0\",VLOOKUP(B486,coefficient2!$A$4:$B$7,2,FALSE))","v":"0"},{"$f":"IF(C486=1,\"0\",VLOOKUP(C486,coefficient2!$A$10:$B$13,2,FALSE))","v":0.19249050000000001},{"$f":"IF(D486=1,\"0\",VLOOKUP(D486,coefficient2!$A$16:$B$19,2,FALSE))","v":0.248331},{"$f":"IF(E486=1,\"0\",VLOOKUP(E486,coefficient2!$A$22:$B$25,2,FALSE))","v":5.63998E-2},{"$f":"IF(F486=1,\"0\",VLOOKUP(F486,coefficient2!$A$28:$B$31,2,FALSE))","v":0.29534929999999998},0.20742940000000004]
[14531,1,4,5,3,1,14,{"$f":"IF(B487=1,\"0\",VLOOKUP(B487,coefficient2!$A$4:$B$7,2,FALSE))","v":"0"},{"$f":"IF(C487=1,\"0\",VLOOKUP(C487,coefficient2!$A$10:$B$13,2,FALSE))","v":0.19249050000000001},{"$f":"IF(D487=1,\"0\",VLOOKUP(D487,coefficient2!$A$16:$B$19,2,FALSE))","v":0.248331},{"$f":"IF(E487=1,\"0\",VLOOKUP(E487,coefficient2!$A$22:$B$25,2,FALSE))","v":6.6492200000000001E-2},{"$f":"IF(F487=1,\"0\",VLOOKUP(F487,coefficient2!$A$28:$B$31,2,FALSE))","v":"0"},0.49268630000000002]
[14532,1,4,5,3,2,15,{"$f":"IF(B488=1,\"0\",VLOOKUP(B488,coefficient2!$A$4:$B$7,2,FALSE))","v":"0"},{"$f":"IF(C488=1,\"0\",VLOOKUP(C488,coefficient2!$A$10:$B$13,2,FALSE))","v":0.19249050000000001},{"$f":"IF(D488=1,\"0\",VLOOKUP(D488,coefficient2!$A$16:$B$19,2,FALSE))","v":0.248331},{"$f":"IF(E488=1,\"0\",VLOOKUP(E488,coefficient2!$A$22:$B$25,2,FALSE))","v":6.6492200000000001E-2},{"$f":"IF(F488=1,\"0\",VLOOKUP(F488,coefficient2!$A$28:$B$31,2,FALSE))","v":5.8085699999999997E-2},0.4346006]
[14533,1,4,5,3,3,16,{"$f":"IF(B489=1,\"0\",VLOOKUP(B489,coefficient2!$A$4:$B$7,2,FALSE))","v":"0"},{"$f":"IF(C489=1,\"0\",VLOOKUP(C489,coefficient2!$A$10:$B$13,2,FALSE))","v":0.19249050000000001},{"$f":"IF(D489=1,\"0\",VLOOKUP(D489,coefficient2!$A$16:$B$19,2,FALSE))","v":0.248331},{"$f":"IF(E489=1,\"0\",VLOOKUP(E489,coefficient2!$A$22:$B$25,2,FALSE))","v":6.6492200000000001E-2},{"$f":"IF(F489=1,\"0\",VLOOKUP(F489,coefficient2!$A$28:$B$31,2,FALSE))","v":9.5753900000000003E-2},0.39693240000000002]
[14534,1,4,5,3,4,17,{"$f":"IF(B490=1,\"0\",VLOOKUP(B490,coefficient2!$A$4:$B$7,2,FALSE))","v":"0"},{"$f":"IF(C490=1,\"0\",VLOOKUP(C490,coefficient2!$A$10:$B$13,2,FALSE))","v":0.19249050000000001},{"$f":"IF(D490=1,\"0\",VLOOKUP(D490,coefficient2!$A$16:$B$19,2,FALSE))","v":0.248331},{"$f":"IF(E490=1,\"0\",VLOOKUP(E490,coefficient2!$A$22:$B$25,2,FALSE))","v":6.6492200000000001E-2},{"$f":"IF(F490=1,\"0\",VLOOKUP(F490,coefficient2!$A$28:$B$31,2,FALSE))","v":0.23270360000000001},0.25998270000000001]
[14535,1,4,5,3,5,18,{"$f":"IF(B491=1,\"0\",VLOOKUP(B491,coefficient2!$A$4:$B$7,2,FALSE))","v":"0"},{"$f":"IF(C491=1,\"0\",VLOOKUP(C491,coefficient2!$A$10:$B$13,2,FALSE))","v":0.19249050000000001},{"$f":"IF(D491=1,\"0\",VLOOKUP(D491,coefficient2!$A$16:$B$19,2,FALSE))","v":0.248331},{"$f":"IF(E491=1,\"0\",VLOOKUP(E491,coefficient2!$A$22:$B$25,2,FALSE))","v":6.6492200000000001E-2},{"$f":"IF(F491=1,\"0\",VLOOKUP(F491,coefficient2!$A$28:$B$31,2,FALSE))","v":0.29534929999999998},0.19733700000000004]
[14541,1,4,5,4,1,15,{"$f":"IF(B492=1,\"0\",VLOOKUP(B492,coefficient2!$A$4:$B$7,2,FALSE))","v":"0"},{"$f":"IF(C492=1,\"0\",VLOOKUP(C492,coefficient2!$A$10:$B$13,2,FALSE))","v":0.19249050000000001},{"$f":"IF(D492=1,\"0\",VLOOKUP(D492,coefficient2!$A$16:$B$19,2,FALSE))","v":0.248331},{"$f":"IF(E492=1,\"0\",VLOOKUP(E492,coefficient2!$A$22:$B$25,2,FALSE))","v":0.2068864},{"$f":"IF(F492=1,\"0\",VLOOKUP(F492,coefficient2!$A$28:$B$31,2,FALSE))","v":"0"},0.3522921]
[14542,1,4,5,4,2,16,{"$f":"IF(B493=1,\"0\",VLOOKUP(B493,coefficient2!$A$4:$B$7,2,FALSE))","v":"0"},{"$f":"IF(C493=1,\"0\",VLOOKUP(C493,coefficient2!$A$10:$B$13,2,FALSE))","v":0.19249050000000001},{"$f":"IF(D493=1,\"0\",VLOOKUP(D493,coefficient2!$A$16:$B$19,2,FALSE))","v":0.248331},{"$f":"IF(E493=1,\"0\",VLOOKUP(E493,coefficient2!$A$22:$B$25,2,FALSE))","v":0.2068864},{"$f":"IF(F493=1,\"0\",VLOOKUP(F493,coefficient2!$A$28:$B$31,2,FALSE))","v":5.8085699999999997E-2},0.29420639999999998]
[14543,1,4,5,4,3,17,{"$f":"IF(B494=1,\"0\",VLOOKUP(B494,coefficient2!$A$4:$B$7,2,FALSE))","v":"0"},{"$f":"IF(C494=1,\"0\",VLOOKUP(C494,coefficient2!$A$10:$B$13,2,FALSE))","v":0.19249050000000001},{"$f":"IF(D494=1,\"0\",VLOOKUP(D494,coefficient2!$A$16:$B$19,2,FALSE))","v":0.248331},{"$f":"IF(E494=1,\"0\",VLOOKUP(E494,coefficient2!$A$22:$B$25,2,FALSE))","v":0.2068864},{"$f":"IF(F494=1,\"0\",VLOOKUP(F494,coefficient2!$A$28:$B$31,2,FALSE))","v":9.5753900000000003E-2},0.25653819999999999]
[14544,1,4,5,4,4,18,{"$f":"IF(B495=1,\"0\",VLOOKUP(B495,coefficient2!$A$4:$B$7,2,FALSE))","v":"0"},{"$f":"IF(C495=1,\"0\",VLOOKUP(C495,coefficient2!$A$10:$B$13,2,FALSE))","v":0.19249050000000001},{"$f":"IF(D495=1,\"0\",VLOOKUP(D495,coefficient2!$A$16:$B$19,2,FALSE))","v":0.248331},{"$f":"IF(E495=1,\"0\",VLOOKUP(E495,coefficient2!$A$22:$B$25,2,FALSE))","v":0.2068864},{"$f":"IF(F495=1,\"0\",VLOOKUP(F495,coefficient2!$A$28:$B$31,2,FALSE))","v":0.23270360000000001},0.11958849999999999]
[14545,1,4,5,4,5,19,{"$f":"IF(B496=1,\"0\",VLOOKUP(B496,coefficient2!$A$4:$B$7,2,FALSE))","v":"0"},{"$f":"IF(C496=1,\"0\",VLOOKUP(C496,coefficient2!$A$10:$B$13,2,FALSE))","v":0.19249050000000001},{"$f":"IF(D496=1,\"0\",VLOOKUP(D496,coefficient2!$A$16:$B$19,2,FALSE))","v":0.248331},{"$f":"IF(E496=1,\"0\",VLOOKUP(E496,coefficient2!$A$22:$B$25,2,FALSE))","v":0.2068864},{"$f":"IF(F496=1,\"0\",VLOOKUP(F496,coefficient2!$A$28:$B$31,2,FALSE))","v":0.29534929999999998},5.6942800000000016E-2]
[14551,1,4,5,5,1,16,{"$f":"IF(B497=1,\"0\",VLOOKUP(B497,coefficient2!$A$4:$B$7,2,FALSE))","v":"0"},{"$f":"IF(C497=1,\"0\",VLOOKUP(C497,coefficient2!$A$10:$B$13,2,FALSE))","v":0.19249050000000001},{"$f":"IF(D497=1,\"0\",VLOOKUP(D497,coefficient2!$A$16:$B$19,2,FALSE))","v":0.248331},{"$f":"IF(E497=1,\"0\",VLOOKUP(E497,coefficient2!$A$22:$B$25,2,FALSE))","v":0.25643310000000002},{"$f":"IF(F497=1,\"0\",VLOOKUP(F497,coefficient2!$A$28:$B$31,2,FALSE))","v":"0"},0.3027454]
[14552,1,4,5,5,2,17,{"$f":"IF(B498=1,\"0\",VLOOKUP(B498,coefficient2!$A$4:$B$7,2,FALSE))","v":"0"},{"$f":"IF(C498=1,\"0\",VLOOKUP(C498,coefficient2!$A$10:$B$13,2,FALSE))","v":0.19249050000000001},{"$f":"IF(D498=1,\"0\",VLOOKUP(D498,coefficient2!$A$16:$B$19,2,FALSE))","v":0.248331},{"$f":"IF(E498=1,\"0\",VLOOKUP(E498,coefficient2!$A$22:$B$25,2,FALSE))","v":0.25643310000000002},{"$f":"IF(F498=1,\"0\",VLOOKUP(F498,coefficient2!$A$28:$B$31,2,FALSE))","v":5.8085699999999997E-2},0.24465970000000001]
[14553,1,4,5,5,3,18,{"$f":"IF(B499=1,\"0\",VLOOKUP(B499,coefficient2!$A$4:$B$7,2,FALSE))","v":"0"},{"$f":"IF(C499=1,\"0\",VLOOKUP(C499,coefficient2!$A$10:$B$13,2,FALSE))","v":0.19249050000000001},{"$f":"IF(D499=1,\"0\",VLOOKUP(D499,coefficient2!$A$16:$B$19,2,FALSE))","v":0.248331},{"$f":"IF(E499=1,\"0\",VLOOKUP(E499,coefficient2!$A$22:$B$25,2,FALSE))","v":0.25643310000000002},{"$f":"IF(F499=1,\"0\",VLOOKUP(F499,coefficient2!$A$28:$B$31,2,FALSE))","v":9.5753900000000003E-2},0.20699149999999999]
[14554,1,4,5,5,4,19,{"$f":"IF(B500=1,\"0\",VLOOKUP(B500,coefficient2!$A$4:$B$7,2,FALSE))","v":"0"},{"$f":"IF(C500=1,\"0\",VLOOKUP(C500,coefficient2!$A$10:$B$13,2,FALSE))","v":0.19249050000000001},{"$f":"IF(D500=1,\"0\",VLOOKUP(D500,coefficient2!$A$16:$B$19,2,FALSE))","v":0.248331},{"$f":"IF(E500=1,\"0\",VLOOKUP(E500,coefficient2!$A$22:$B$25,2,FALSE))","v":0.25643310000000002},{"$f":"IF(F500=1,\"0\",VLOOKUP(F500,coefficient2!$A$28:$B$31,2,FALSE))","v":0.23270360000000001},7.0041799999999987E-2]
[14555,1,4,5,5,5,20,{"$f":"IF(B501=1,\"0\",VLOOKUP(B501,coefficient2!$A$4:$B$7,2,FALSE))","v":"0"},{"$f":"IF(C501=1,\"0\",VLOOKUP(C501,coefficient2!$A$10:$B$13,2,FALSE))","v":0.19249050000000001},{"$f":"IF(D501=1,\"0\",VLOOKUP(D501,coefficient2!$A$16:$B$19,2,FALSE))","v":0.248331},{"$f":"IF(E501=1,\"0\",VLOOKUP(E501,coefficient2!$A$22:$B$25,2,FALSE))","v":0.25643310000000002},{"$f":"IF(F501=1,\"0\",VLOOKUP(F501,coefficient2!$A$28:$B$31,2,FALSE))","v":0.29534929999999998},7.3961000000000165E-3]
[15111,1,5,1,1,1,9,{"$f":"IF(B502=1,\"0\",VLOOKUP(B502,coefficient2!$A$4:$B$7,2,FALSE))","v":"0"},{"$f":"IF(C502=1,\"0\",VLOOKUP(C502,coefficient2!$A$10:$B$13,2,FALSE))","v":0.2498763},{"$f":"IF(D502=1,\"0\",VLOOKUP(D502,coefficient2!$A$16:$B$19,2,FALSE))","v":"0"},{"$f":"IF(E502=1,\"0\",VLOOKUP(E502,coefficient2!$A$22:$B$25,2,FALSE))","v":"0"},{"$f":"IF(F502=1,\"0\",VLOOKUP(F502,coefficient2!$A$28:$B$31,2,FALSE))","v":"0"},0.75012370000000006]
[15112,1,5,1,1,2,10,{"$f":"IF(B503=1,\"0\",VLOOKUP(B503,coefficient2!$A$4:$B$7,2,FALSE))","v":"0"},{"$f":"IF(C503=1,\"0\",VLOOKUP(C503,coefficient2!$A$10:$B$13,2,FALSE))","v":0.2498763},{"$f":"IF(D503=1,\"0\",VLOOKUP(D503,coefficient2!$A$16:$B$19,2,FALSE))","v":"0"},{"$f":"IF(E503=1,\"0\",VLOOKUP(E503,coefficient2!$A$22:$B$25,2,FALSE))","v":"0"},{"$f":"IF(F503=1,\"0\",VLOOKUP(F503,coefficient2!$A$28:$B$31,2,FALSE))","v":5.8085699999999997E-2},0.69203800000000004]
[15113,1,5,1,1,3,11,{"$f":"IF(B504=1,\"0\",VLOOKUP(B504,coefficient2!$A$4:$B$7,2,FALSE))","v":"0"},{"$f":"IF(C504=1,\"0\",VLOOKUP(C504,coefficient2!$A$10:$B$13,2,FALSE))","v":0.2498763},{"$f":"IF(D504=1,\"0\",VLOOKUP(D504,coefficient2!$A$16:$B$19,2,FALSE))","v":"0"},{"$f":"IF(E504=1,\"0\",VLOOKUP(E504,coefficient2!$A$22:$B$25,2,FALSE))","v":"0"},{"$f":"IF(F504=1,\"0\",VLOOKUP(F504,coefficient2!$A$28:$B$31,2,FALSE))","v":9.5753900000000003E-2},0.6543698]
[15114,1,5,1,1,4,12,{"$f":"IF(B505=1,\"0\",VLOOKUP(B505,coefficient2!$A$4:$B$7,2,FALSE))","v":"0"},{"$f":"IF(C505=1,\"0\",VLOOKUP(C505,coefficient2!$A$10:$B$13,2,FALSE))","v":0.2498763},{"$f":"IF(D505=1,\"0\",VLOOKUP(D505,coefficient2!$A$16:$B$19,2,FALSE))","v":"0"},{"$f":"IF(E505=1,\"0\",VLOOKUP(E505,coefficient2!$A$22:$B$25,2,FALSE))","v":"0"},{"$f":"IF(F505=1,\"0\",VLOOKUP(F505,coefficient2!$A$28:$B$31,2,FALSE))","v":0.23270360000000001},0.51742010000000005]
[15115,1,5,1,1,5,13,{"$f":"IF(B506=1,\"0\",VLOOKUP(B506,coefficient2!$A$4:$B$7,2,FALSE))","v":"0"},{"$f":"IF(C506=1,\"0\",VLOOKUP(C506,coefficient2!$A$10:$B$13,2,FALSE))","v":0.2498763},{"$f":"IF(D506=1,\"0\",VLOOKUP(D506,coefficient2!$A$16:$B$19,2,FALSE))","v":"0"},{"$f":"IF(E506=1,\"0\",VLOOKUP(E506,coefficient2!$A$22:$B$25,2,FALSE))","v":"0"},{"$f":"IF(F506=1,\"0\",VLOOKUP(F506,coefficient2!$A$28:$B$31,2,FALSE))","v":0.29534929999999998},0.45477440000000008]
[15121,1,5,1,2,1,10,{"$f":"IF(B507=1,\"0\",VLOOKUP(B507,coefficient2!$A$4:$B$7,2,FALSE))","v":"0"},{"$f":"IF(C507=1,\"0\",VLOOKUP(C507,coefficient2!$A$10:$B$13,2,FALSE))","v":0.2498763},{"$f":"IF(D507=1,\"0\",VLOOKUP(D507,coefficient2!$A$16:$B$19,2,FALSE))","v":"0"},{"$f":"IF(E507=1,\"0\",VLOOKUP(E507,coefficient2!$A$22:$B$25,2,FALSE))","v":5.63998E-2},{"$f":"IF(F507=1,\"0\",VLOOKUP(F507,coefficient2!$A$28:$B$31,2,FALSE))","v":"0"},0.69372390000000006]
[15122,1,5,1,2,2,11,{"$f":"IF(B508=1,\"0\",VLOOKUP(B508,coefficient2!$A$4:$B$7,2,FALSE))","v":"0"},{"$f":"IF(C508=1,\"0\",VLOOKUP(C508,coefficient2!$A$10:$B$13,2,FALSE))","v":0.2498763},{"$f":"IF(D508=1,\"0\",VLOOKUP(D508,coefficient2!$A$16:$B$19,2,FALSE))","v":"0"},{"$f":"IF(E508=1,\"0\",VLOOKUP(E508,coefficient2!$A$22:$B$25,2,FALSE))","v":5.63998E-2},{"$f":"IF(F508=1,\"0\",VLOOKUP(F508,coefficient2!$A$28:$B$31,2,FALSE))","v":5.8085699999999997E-2},0.63563820000000004]
[15123,1,5,1,2,3,12,{"$f":"IF(B509=1,\"0\",VLOOKUP(B509,coefficient2!$A$4:$B$7,2,FALSE))","v":"0"},{"$f":"IF(C509=1,\"0\",VLOOKUP(C509,coefficient2!$A$10:$B$13,2,FALSE))","v":0.2498763},{"$f":"IF(D509=1,\"0\",VLOOKUP(D509,coefficient2!$A$16:$B$19,2,FALSE))","v":"0"},{"$f":"IF(E509=1,\"0\",VLOOKUP(E509,coefficient2!$A$22:$B$25,2,FALSE))","v":5.63998E-2},{"$f":"IF(F509=1,\"0\",VLOOKUP(F509,coefficient2!$A$28:$B$31,2,FALSE))","v":9.5753900000000003E-2},0.59797000000000011]
[15124,1,5,1,2,4,13,{"$f":"IF(B510=1,\"0\",VLOOKUP(B510,coefficient2!$A$4:$B$7,2,FALSE))","v":"0"},{"$f":"IF(C510=1,\"0\",VLOOKUP(C510,coefficient2!$A$10:$B$13,2,FALSE))","v":0.2498763},{"$f":"IF(D510=1,\"0\",VLOOKUP(D510,coefficient2!$A$16:$B$19,2,FALSE))","v":"0"},{"$f":"IF(E510=1,\"0\",VLOOKUP(E510,coefficient2!$A$22:$B$25,2,FALSE))","v":5.63998E-2},{"$f":"IF(F510=1,\"0\",VLOOKUP(F510,coefficient2!$A$28:$B$31,2,FALSE))","v":0.23270360000000001},0.46102030000000005]
[15125,1,5,1,2,5,14,{"$f":"IF(B511=1,\"0\",VLOOKUP(B511,coefficient2!$A$4:$B$7,2,FALSE))","v":"0"},{"$f":"IF(C511=1,\"0\",VLOOKUP(C511,coefficient2!$A$10:$B$13,2,FALSE))","v":0.2498763},{"$f":"IF(D511=1,\"0\",VLOOKUP(D511,coefficient2!$A$16:$B$19,2,FALSE))","v":"0"},{"$f":"IF(E511=1,\"0\",VLOOKUP(E511,coefficient2!$A$22:$B$25,2,FALSE))","v":5.63998E-2},{"$f":"IF(F511=1,\"0\",VLOOKUP(F511,coefficient2!$A$28:$B$31,2,FALSE))","v":0.29534929999999998},0.39837460000000008]
[15131,1,5,1,3,1,11,{"$f":"IF(B512=1,\"0\",VLOOKUP(B512,coefficient2!$A$4:$B$7,2,FALSE))","v":"0"},{"$f":"IF(C512=1,\"0\",VLOOKUP(C512,coefficient2!$A$10:$B$13,2,FALSE))","v":0.2498763},{"$f":"IF(D512=1,\"0\",VLOOKUP(D512,coefficient2!$A$16:$B$19,2,FALSE))","v":"0"},{"$f":"IF(E512=1,\"0\",VLOOKUP(E512,coefficient2!$A$22:$B$25,2,FALSE))","v":6.6492200000000001E-2},{"$f":"IF(F512=1,\"0\",VLOOKUP(F512,coefficient2!$A$28:$B$31,2,FALSE))","v":"0"},0.68363150000000006]
[15132,1,5,1,3,2,12,{"$f":"IF(B513=1,\"0\",VLOOKUP(B513,coefficient2!$A$4:$B$7,2,FALSE))","v":"0"},{"$f":"IF(C513=1,\"0\",VLOOKUP(C513,coefficient2!$A$10:$B$13,2,FALSE))","v":0.2498763},{"$f":"IF(D513=1,\"0\",VLOOKUP(D513,coefficient2!$A$16:$B$19,2,FALSE))","v":"0"},{"$f":"IF(E513=1,\"0\",VLOOKUP(E513,coefficient2!$A$22:$B$25,2,FALSE))","v":6.6492200000000001E-2},{"$f":"IF(F513=1,\"0\",VLOOKUP(F513,coefficient2!$A$28:$B$31,2,FALSE))","v":5.8085699999999997E-2},0.62554580000000004]
[15133,1,5,1,3,3,13,{"$f":"IF(B514=1,\"0\",VLOOKUP(B514,coefficient2!$A$4:$B$7,2,FALSE))","v":"0"},{"$f":"IF(C514=1,\"0\",VLOOKUP(C514,coefficient2!$A$10:$B$13,2,FALSE))","v":0.2498763},{"$f":"IF(D514=1,\"0\",VLOOKUP(D514,coefficient2!$A$16:$B$19,2,FALSE))","v":"0"},{"$f":"IF(E514=1,\"0\",VLOOKUP(E514,coefficient2!$A$22:$B$25,2,FALSE))","v":6.6492200000000001E-2},{"$f":"IF(F514=1,\"0\",VLOOKUP(F514,coefficient2!$A$28:$B$31,2,FALSE))","v":9.5753900000000003E-2},{"$f":"1-H514-I514-J514-K514-L514","v":0.58787760000000011}]
[15134,{"$f":"INT(LEFT(A515,1))","v":1},{"$f":"INT(MID(A515,2,1))","v":5},{"$f":"INT(MID(A515,3,1))","v":1},{"$f":"INT(MID(A515,4,1))","v":3},{"$f":"INT(RIGHT(A515,1))","v":4},{"$f":"SUM(B515:F515)","v":14},{"$f":"IF(B515=1,\"0\",VLOOKUP(B515,coefficient2!$A$4:$B$7,2,FALSE))","v":"0"},{"$f":"IF(C515=1,\"0\",VLOOKUP(C515,coefficient2!$A$10:$B$13,2,FALSE))","v":0.2498763},{"$f":"IF(D515=1,\"0\",VLOOKUP(D515,coefficient2!$A$16:$B$19,2,FALSE))","v":"0"},{"$f":"IF(E515=1,\"0\",VLOOKUP(E515,coefficient2!$A$22:$B$25,2,FALSE))","v":6.6492200000000001E-2},{"$f":"IF(F515=1,\"0\",VLOOKUP(F515,coefficient2!$A$28:$B$31,2,FALSE))","v":0.23270360000000001},0.45092790000000005]
[15135,1,5,1,3,5,15,{"$f":"IF(B516=1,\"0\",VLOOKUP(B516,coefficient2!$A$4:$B$7,2,FALSE))","v":"0"},{"$f":"IF(C516=1,\"0\",VLOOKUP(C516,coefficient2!$A$10:$B$13,2,FALSE))","v":0.2498763},{"$f":"IF(D516=1,\"0\",VLOOKUP(D516,coefficient2!$A$16:$B$19,2,FALSE))","v":"0"},{"$f":"IF(E516=1,\"0\",VLOOKUP(E516,coefficient2!$A$22:$B$25,2,FALSE))","v":6.6492200000000001E-2},{"$f":"IF(F516=1,\"0\",VLOOKUP(F516,coefficient2!$A$28:$B$31,2,FALSE))","v":0.29534929999999998},0.38828220000000008]
[15141,1,5,1,4,1,12,{"$f":"IF(B517=1,\"0\",VLOOKUP(B517,coefficient2!$A$4:$B$7,2,FALSE))","v":"0"},{"$f":"IF(C517=1,\"0\",VLOOKUP(C517,coefficient2!$A$10:$B$13,2,FALSE))","v":0.2498763},{"$f":"IF(D517=1,\"0\",VLOOKUP(D517,coefficient2!$A$16:$B$19,2,FALSE))","v":"0"},{"$f":"IF(E517=1,\"0\",VLOOKUP(E517,coefficient2!$A$22:$B$25,2,FALSE))","v":0.2068864},{"$f":"IF(F517=1,\"0\",VLOOKUP(F517,coefficient2!$A$28:$B$31,2,FALSE))","v":"0"},0.54323730000000003]
[15142,1,5,1,4,2,13,{"$f":"IF(B518=1,\"0\",VLOOKUP(B518,coefficient2!$A$4:$B$7,2,FALSE))","v":"0"},{"$f":"IF(C518=1,\"0\",VLOOKUP(C518,coefficient2!$A$10:$B$13,2,FALSE))","v":0.2498763},{"$f":"IF(D518=1,\"0\",VLOOKUP(D518,coefficient2!$A$16:$B$19,2,FALSE))","v":"0"},{"$f":"IF(E518=1,\"0\",VLOOKUP(E518,coefficient2!$A$22:$B$25,2,FALSE))","v":0.2068864},{"$f":"IF(F518=1,\"0\",VLOOKUP(F518,coefficient2!$A$28:$B$31,2,FALSE))","v":5.8085699999999997E-2},0.48515160000000002]
[15143,1,5,1,4,3,14,{"$f":"IF(B519=1,\"0\",VLOOKUP(B519,coefficient2!$A$4:$B$7,2,FALSE))","v":"0"},{"$f":"IF(C519=1,\"0\",VLOOKUP(C519,coefficient2!$A$10:$B$13,2,FALSE))","v":0.2498763},{"$f":"IF(D519=1,\"0\",VLOOKUP(D519,coefficient2!$A$16:$B$19,2,FALSE))","v":"0"},{"$f":"IF(E519=1,\"0\",VLOOKUP(E519,coefficient2!$A$22:$B$25,2,FALSE))","v":0.2068864},{"$f":"IF(F519=1,\"0\",VLOOKUP(F519,coefficient2!$A$28:$B$31,2,FALSE))","v":9.5753900000000003E-2},0.44748340000000003]
[15144,1,5,1,4,4,15,{"$f":"IF(B520=1,\"0\",VLOOKUP(B520,coefficient2!$A$4:$B$7,2,FALSE))","v":"0"},{"$f":"IF(C520=1,\"0\",VLOOKUP(C520,coefficient2!$A$10:$B$13,2,FALSE))","v":0.2498763},{"$f":"IF(D520=1,\"0\",VLOOKUP(D520,coefficient2!$A$16:$B$19,2,FALSE))","v":"0"},{"$f":"IF(E520=1,\"0\",VLOOKUP(E520,coefficient2!$A$22:$B$25,2,FALSE))","v":0.2068864},{"$f":"IF(F520=1,\"0\",VLOOKUP(F520,coefficient2!$A$28:$B$31,2,FALSE))","v":0.23270360000000001},0.31053370000000002]
[15145,1,5,1,4,5,16,{"$f":"IF(B521=1,\"0\",VLOOKUP(B521,coefficient2!$A$4:$B$7,2,FALSE))","v":"0"},{"$f":"IF(C521=1,\"0\",VLOOKUP(C521,coefficient2!$A$10:$B$13,2,FALSE))","v":0.2498763},{"$f":"IF(D521=1,\"0\",VLOOKUP(D521,coefficient2!$A$16:$B$19,2,FALSE))","v":"0"},{"$f":"IF(E521=1,\"0\",VLOOKUP(E521,coefficient2!$A$22:$B$25,2,FALSE))","v":0.2068864},{"$f":"IF(F521=1,\"0\",VLOOKUP(F521,coefficient2!$A$28:$B$31,2,FALSE))","v":0.29534929999999998},0.24788800000000005]
[15151,1,5,1,5,1,13,{"$f":"IF(B522=1,\"0\",VLOOKUP(B522,coefficient2!$A$4:$B$7,2,FALSE))","v":"0"},{"$f":"IF(C522=1,\"0\",VLOOKUP(C522,coefficient2!$A$10:$B$13,2,FALSE))","v":0.2498763},{"$f":"IF(D522=1,\"0\",VLOOKUP(D522,coefficient2!$A$16:$B$19,2,FALSE))","v":"0"},{"$f":"IF(E522=1,\"0\",VLOOKUP(E522,coefficient2!$A$22:$B$25,2,FALSE))","v":0.25643310000000002},{"$f":"IF(F522=1,\"0\",VLOOKUP(F522,coefficient2!$A$28:$B$31,2,FALSE))","v":"0"},0.49369060000000003]
[15152,1,5,1,5,2,14,{"$f":"IF(B523=1,\"0\",VLOOKUP(B523,coefficient2!$A$4:$B$7,2,FALSE))","v":"0"},{"$f":"IF(C523=1,\"0\",VLOOKUP(C523,coefficient2!$A$10:$B$13,2,FALSE))","v":0.2498763},{"$f":"IF(D523=1,\"0\",VLOOKUP(D523,coefficient2!$A$16:$B$19,2,FALSE))","v":"0"},{"$f":"IF(E523=1,\"0\",VLOOKUP(E523,coefficient2!$A$22:$B$25,2,FALSE))","v":0.25643310000000002},{"$f":"IF(F523=1,\"0\",VLOOKUP(F523,coefficient2!$A$28:$B$31,2,FALSE))","v":5.8085699999999997E-2},0.43560490000000002]
[15153,1,5,1,5,3,15,{"$f":"IF(B524=1,\"0\",VLOOKUP(B524,coefficient2!$A$4:$B$7,2,FALSE))","v":"0"},{"$f":"IF(C524=1,\"0\",VLOOKUP(C524,coefficient2!$A$10:$B$13,2,FALSE))","v":0.2498763},{"$f":"IF(D524=1,\"0\",VLOOKUP(D524,coefficient2!$A$16:$B$19,2,FALSE))","v":"0"},{"$f":"IF(E524=1,\"0\",VLOOKUP(E524,coefficient2!$A$22:$B$25,2,FALSE))","v":0.25643310000000002},{"$f":"IF(F524=1,\"0\",VLOOKUP(F524,coefficient2!$A$28:$B$31,2,FALSE))","v":9.5753900000000003E-2},0.39793670000000003]
[15154,1,5,1,5,4,16,{"$f":"IF(B525=1,\"0\",VLOOKUP(B525,coefficient2!$A$4:$B$7,2,FALSE))","v":"0"},{"$f":"IF(C525=1,\"0\",VLOOKUP(C525,coefficient2!$A$10:$B$13,2,FALSE))","v":0.2498763},{"$f":"IF(D525=1,\"0\",VLOOKUP(D525,coefficient2!$A$16:$B$19,2,FALSE))","v":"0"},{"$f":"IF(E525=1,\"0\",VLOOKUP(E525,coefficient2!$A$22:$B$25,2,FALSE))","v":0.25643310000000002},{"$f":"IF(F525=1,\"0\",VLOOKUP(F525,coefficient2!$A$28:$B$31,2,FALSE))","v":0.23270360000000001},0.26098700000000002]
[15155,1,5,1,5,5,17,{"$f":"IF(B526=1,\"0\",VLOOKUP(B526,coefficient2!$A$4:$B$7,2,FALSE))","v":"0"},{"$f":"IF(C526=1,\"0\",VLOOKUP(C526,coefficient2!$A$10:$B$13,2,FALSE))","v":0.2498763},{"$f":"IF(D526=1,\"0\",VLOOKUP(D526,coefficient2!$A$16:$B$19,2,FALSE))","v":"0"},{"$f":"IF(E526=1,\"0\",VLOOKUP(E526,coefficient2!$A$22:$B$25,2,FALSE))","v":0.25643310000000002},{"$f":"IF(F526=1,\"0\",VLOOKUP(F526,coefficient2!$A$28:$B$31,2,FALSE))","v":0.29534929999999998},0.19834130000000005]
[15211,1,5,2,1,1,10,{"$f":"IF(B527=1,\"0\",VLOOKUP(B527,coefficient2!$A$4:$B$7,2,FALSE))","v":"0"},{"$f":"IF(C527=1,\"0\",VLOOKUP(C527,coefficient2!$A$10:$B$13,2,FALSE))","v":0.2498763},{"$f":"IF(D527=1,\"0\",VLOOKUP(D527,coefficient2!$A$16:$B$19,2,FALSE))","v":5.8254399999999998E-2},{"$f":"IF(E527=1,\"0\",VLOOKUP(E527,coefficient2!$A$22:$B$25,2,FALSE))","v":"0"},{"$f":"IF(F527=1,\"0\",VLOOKUP(F527,coefficient2!$A$28:$B$31,2,FALSE))","v":"0"},0.69186930000000002]
[15212,1,5,2,1,2,11,{"$f":"IF(B528=1,\"0\",VLOOKUP(B528,coefficient2!$A$4:$B$7,2,FALSE))","v":"0"},{"$f":"IF(C528=1,\"0\",VLOOKUP(C528,coefficient2!$A$10:$B$13,2,FALSE))","v":0.2498763},{"$f":"IF(D528=1,\"0\",VLOOKUP(D528,coefficient2!$A$16:$B$19,2,FALSE))","v":5.8254399999999998E-2},{"$f":"IF(E528=1,\"0\",VLOOKUP(E528,coefficient2!$A$22:$B$25,2,FALSE))","v":"0"},{"$f":"IF(F528=1,\"0\",VLOOKUP(F528,coefficient2!$A$28:$B$31,2,FALSE))","v":5.8085699999999997E-2},0.6337836]
[15213,1,5,2,1,3,12,{"$f":"IF(B529=1,\"0\",VLOOKUP(B529,coefficient2!$A$4:$B$7,2,FALSE))","v":"0"},{"$f":"IF(C529=1,\"0\",VLOOKUP(C529,coefficient2!$A$10:$B$13,2,FALSE))","v":0.2498763},{"$f":"IF(D529=1,\"0\",VLOOKUP(D529,coefficient2!$A$16:$B$19,2,FALSE))","v":5.8254399999999998E-2},{"$f":"IF(E529=1,\"0\",VLOOKUP(E529,coefficient2!$A$22:$B$25,2,FALSE))","v":"0"},{"$f":"IF(F529=1,\"0\",VLOOKUP(F529,coefficient2!$A$28:$B$31,2,FALSE))","v":9.5753900000000003E-2},0.59611539999999996]
[15214,1,5,2,1,4,13,{"$f":"IF(B530=1,\"0\",VLOOKUP(B530,coefficient2!$A$4:$B$7,2,FALSE))","v":"0"},{"$f":"IF(C530=1,\"0\",VLOOKUP(C530,coefficient2!$A$10:$B$13,2,FALSE))","v":0.2498763},{"$f":"IF(D530=1,\"0\",VLOOKUP(D530,coefficient2!$A$16:$B$19,2,FALSE))","v":5.8254399999999998E-2},{"$f":"IF(E530=1,\"0\",VLOOKUP(E530,coefficient2!$A$22:$B$25,2,FALSE))","v":"0"},{"$f":"IF(F530=1,\"0\",VLOOKUP(F530,coefficient2!$A$28:$B$31,2,FALSE))","v":0.23270360000000001},0.45916570000000001]
[15215,1,5,2,1,5,14,{"$f":"IF(B531=1,\"0\",VLOOKUP(B531,coefficient2!$A$4:$B$7,2,FALSE))","v":"0"},{"$f":"IF(C531=1,\"0\",VLOOKUP(C531,coefficient2!$A$10:$B$13,2,FALSE))","v":0.2498763},{"$f":"IF(D531=1,\"0\",VLOOKUP(D531,coefficient2!$A$16:$B$19,2,FALSE))","v":5.8254399999999998E-2},{"$f":"IF(E531=1,\"0\",VLOOKUP(E531,coefficient2!$A$22:$B$25,2,FALSE))","v":"0"},{"$f":"IF(F531=1,\"0\",VLOOKUP(F531,coefficient2!$A$28:$B$31,2,FALSE))","v":0.29534929999999998},0.39652000000000004]
[15221,1,5,2,2,1,11,{"$f":"IF(B532=1,\"0\",VLOOKUP(B532,coefficient2!$A$4:$B$7,2,FALSE))","v":"0"},{"$f":"IF(C532=1,\"0\",VLOOKUP(C532,coefficient2!$A$10:$B$13,2,FALSE))","v":0.2498763},{"$f":"IF(D532=1,\"0\",VLOOKUP(D532,coefficient2!$A$16:$B$19,2,FALSE))","v":5.8254399999999998E-2},{"$f":"IF(E532=1,\"0\",VLOOKUP(E532,coefficient2!$A$22:$B$25,2,FALSE))","v":5.63998E-2},{"$f":"IF(F532=1,\"0\",VLOOKUP(F532,coefficient2!$A$28:$B$31,2,FALSE))","v":"0"},0.63546950000000002]
[15222,1,5,2,2,2,12,{"$f":"IF(B533=1,\"0\",VLOOKUP(B533,coefficient2!$A$4:$B$7,2,FALSE))","v":"0"},{"$f":"IF(C533=1,\"0\",VLOOKUP(C533,coefficient2!$A$10:$B$13,2,FALSE))","v":0.2498763},{"$f":"IF(D533=1,\"0\",VLOOKUP(D533,coefficient2!$A$16:$B$19,2,FALSE))","v":5.8254399999999998E-2},{"$f":"IF(E533=1,\"0\",VLOOKUP(E533,coefficient2!$A$22:$B$25,2,FALSE))","v":5.63998E-2},{"$f":"IF(F533=1,\"0\",VLOOKUP(F533,coefficient2!$A$28:$B$31,2,FALSE))","v":5.8085699999999997E-2},0.5773838]
[15223,1,5,2,2,3,13,{"$f":"IF(B534=1,\"0\",VLOOKUP(B534,coefficient2!$A$4:$B$7,2,FALSE))","v":"0"},{"$f":"IF(C534=1,\"0\",VLOOKUP(C534,coefficient2!$A$10:$B$13,2,FALSE))","v":0.2498763},{"$f":"IF(D534=1,\"0\",VLOOKUP(D534,coefficient2!$A$16:$B$19,2,FALSE))","v":5.8254399999999998E-2},{"$f":"IF(E534=1,\"0\",VLOOKUP(E534,coefficient2!$A$22:$B$25,2,FALSE))","v":5.63998E-2},{"$f":"IF(F534=1,\"0\",VLOOKUP(F534,coefficient2!$A$28:$B$31,2,FALSE))","v":9.5753900000000003E-2},0.53971560000000007]
[15224,1,5,2,2,4,14,{"$f":"IF(B535=1,\"0\",VLOOKUP(B535,coefficient2!$A$4:$B$7,2,FALSE))","v":"0"},{"$f":"IF(C535=1,\"0\",VLOOKUP(C535,coefficient2!$A$10:$B$13,2,FALSE))","v":0.2498763},{"$f":"IF(D535=1,\"0\",VLOOKUP(D535,coefficient2!$A$16:$B$19,2,FALSE))","v":5.8254399999999998E-2},{"$f":"IF(E535=1,\"0\",VLOOKUP(E535,coefficient2!$A$22:$B$25,2,FALSE))","v":5.63998E-2},{"$f":"IF(F535=1,\"0\",VLOOKUP(F535,coefficient2!$A$28:$B$31,2,FALSE))","v":0.23270360000000001},0.40276590000000001]
[15225,1,5,2,2,5,15,{"$f":"IF(B536=1,\"0\",VLOOKUP(B536,coefficient2!$A$4:$B$7,2,FALSE))","v":"0"},{"$f":"IF(C536=1,\"0\",VLOOKUP(C536,coefficient2!$A$10:$B$13,2,FALSE))","v":0.2498763},{"$f":"IF(D536=1,\"0\",VLOOKUP(D536,coefficient2!$A$16:$B$19,2,FALSE))","v":5.8254399999999998E-2},{"$f":"IF(E536=1,\"0\",VLOOKUP(E536,coefficient2!$A$22:$B$25,2,FALSE))","v":5.63998E-2},{"$f":"IF(F536=1,\"0\",VLOOKUP(F536,coefficient2!$A$28:$B$31,2,FALSE))","v":0.29534929999999998},0.34012020000000004]
[15231,1,5,2,3,1,12,{"$f":"IF(B537=1,\"0\",VLOOKUP(B537,coefficient2!$A$4:$B$7,2,FALSE))","v":"0"},{"$f":"IF(C537=1,\"0\",VLOOKUP(C537,coefficient2!$A$10:$B$13,2,FALSE))","v":0.2498763},{"$f":"IF(D537=1,\"0\",VLOOKUP(D537,coefficient2!$A$16:$B$19,2,FALSE))","v":5.8254399999999998E-2},{"$f":"IF(E537=1,\"0\",VLOOKUP(E537,coefficient2!$A$22:$B$25,2,FALSE))","v":6.6492200000000001E-2},{"$f":"IF(F537=1,\"0\",VLOOKUP(F537,coefficient2!$A$28:$B$31,2,FALSE))","v":"0"},0.62537710000000002]
[15232,1,5,2,3,2,13,{"$f":"IF(B538=1,\"0\",VLOOKUP(B538,coefficient2!$A$4:$B$7,2,FALSE))","v":"0"},{"$f":"IF(C538=1,\"0\",VLOOKUP(C538,coefficient2!$A$10:$B$13,2,FALSE))","v":0.2498763},{"$f":"IF(D538=1,\"0\",VLOOKUP(D538,coefficient2!$A$16:$B$19,2,FALSE))","v":5.8254399999999998E-2},{"$f":"IF(E538=1,\"0\",VLOOKUP(E538,coefficient2!$A$22:$B$25,2,FALSE))","v":6.6492200000000001E-2},{"$f":"IF(F538=1,\"0\",VLOOKUP(F538,coefficient2!$A$28:$B$31,2,FALSE))","v":5.8085699999999997E-2},0.5672914]
[15233,1,5,2,3,3,14,{"$f":"IF(B539=1,\"0\",VLOOKUP(B539,coefficient2!$A$4:$B$7,2,FALSE))","v":"0"},{"$f":"IF(C539=1,\"0\",VLOOKUP(C539,coefficient2!$A$10:$B$13,2,FALSE))","v":0.2498763},{"$f":"IF(D539=1,\"0\",VLOOKUP(D539,coefficient2!$A$16:$B$19,2,FALSE))","v":5.8254399999999998E-2},{"$f":"IF(E539=1,\"0\",VLOOKUP(E539,coefficient2!$A$22:$B$25,2,FALSE))","v":6.6492200000000001E-2},{"$f":"IF(F539=1,\"0\",VLOOKUP(F539,coefficient2!$A$28:$B$31,2,FALSE))","v":9.5753900000000003E-2},0.52962320000000007]
[15234,1,5,2,3,4,15,{"$f":"IF(B540=1,\"0\",VLOOKUP(B540,coefficient2!$A$4:$B$7,2,FALSE))","v":"0"},{"$f":"IF(C540=1,\"0\",VLOOKUP(C540,coefficient2!$A$10:$B$13,2,FALSE))","v":0.2498763},{"$f":"IF(D540=1,\"0\",VLOOKUP(D540,coefficient2!$A$16:$B$19,2,FALSE))","v":5.8254399999999998E-2},{"$f":"IF(E540=1,\"0\",VLOOKUP(E540,coefficient2!$A$22:$B$25,2,FALSE))","v":6.6492200000000001E-2},{"$f":"IF(F540=1,\"0\",VLOOKUP(F540,coefficient2!$A$28:$B$31,2,FALSE))","v":0.23270360000000001},0.39267350000000001]
[15235,1,5,2,3,5,16,{"$f":"IF(B541=1,\"0\",VLOOKUP(B541,coefficient2!$A$4:$B$7,2,FALSE))","v":"0"},{"$f":"IF(C541=1,\"0\",VLOOKUP(C541,coefficient2!$A$10:$B$13,2,FALSE))","v":0.2498763},{"$f":"IF(D541=1,\"0\",VLOOKUP(D541,coefficient2!$A$16:$B$19,2,FALSE))","v":5.8254399999999998E-2},{"$f":"IF(E541=1,\"0\",VLOOKUP(E541,coefficient2!$A$22:$B$25,2,FALSE))","v":6.6492200000000001E-2},{"$f":"IF(F541=1,\"0\",VLOOKUP(F541,coefficient2!$A$28:$B$31,2,FALSE))","v":0.29534929999999998},0.33002780000000004]
[15241,1,5,2,4,1,13,{"$f":"IF(B542=1,\"0\",VLOOKUP(B542,coefficient2!$A$4:$B$7,2,FALSE))","v":"0"},{"$f":"IF(C542=1,\"0\",VLOOKUP(C542,coefficient2!$A$10:$B$13,2,FALSE))","v":0.2498763},{"$f":"IF(D542=1,\"0\",VLOOKUP(D542,coefficient2!$A$16:$B$19,2,FALSE))","v":5.8254399999999998E-2},{"$f":"IF(E542=1,\"0\",VLOOKUP(E542,coefficient2!$A$22:$B$25,2,FALSE))","v":0.2068864},{"$f":"IF(F542=1,\"0\",VLOOKUP(F542,coefficient2!$A$28:$B$31,2,FALSE))","v":"0"},0.48498289999999999]
[15242,1,5,2,4,2,14,{"$f":"IF(B543=1,\"0\",VLOOKUP(B543,coefficient2!$A$4:$B$7,2,FALSE))","v":"0"},{"$f":"IF(C543=1,\"0\",VLOOKUP(C543,coefficient2!$A$10:$B$13,2,FALSE))","v":0.2498763},{"$f":"IF(D543=1,\"0\",VLOOKUP(D543,coefficient2!$A$16:$B$19,2,FALSE))","v":5.8254399999999998E-2},{"$f":"IF(E543=1,\"0\",VLOOKUP(E543,coefficient2!$A$22:$B$25,2,FALSE))","v":0.2068864},{"$f":"IF(F543=1,\"0\",VLOOKUP(F543,coefficient2!$A$28:$B$31,2,FALSE))","v":5.8085699999999997E-2},0.42689719999999998]
[15243,1,5,2,4,3,15,{"$f":"IF(B544=1,\"0\",VLOOKUP(B544,coefficient2!$A$4:$B$7,2,FALSE))","v":"0"},{"$f":"IF(C544=1,\"0\",VLOOKUP(C544,coefficient2!$A$10:$B$13,2,FALSE))","v":0.2498763},{"$f":"IF(D544=1,\"0\",VLOOKUP(D544,coefficient2!$A$16:$B$19,2,FALSE))","v":5.8254399999999998E-2},{"$f":"IF(E544=1,\"0\",VLOOKUP(E544,coefficient2!$A$22:$B$25,2,FALSE))","v":0.2068864},{"$f":"IF(F544=1,\"0\",VLOOKUP(F544,coefficient2!$A$28:$B$31,2,FALSE))","v":9.5753900000000003E-2},0.38922899999999999]
[15244,1,5,2,4,4,16,{"$f":"IF(B545=1,\"0\",VLOOKUP(B545,coefficient2!$A$4:$B$7,2,FALSE))","v":"0"},{"$f":"IF(C545=1,\"0\",VLOOKUP(C545,coefficient2!$A$10:$B$13,2,FALSE))","v":0.2498763},{"$f":"IF(D545=1,\"0\",VLOOKUP(D545,coefficient2!$A$16:$B$19,2,FALSE))","v":5.8254399999999998E-2},{"$f":"IF(E545=1,\"0\",VLOOKUP(E545,coefficient2!$A$22:$B$25,2,FALSE))","v":0.2068864},{"$f":"IF(F545=1,\"0\",VLOOKUP(F545,coefficient2!$A$28:$B$31,2,FALSE))","v":0.23270360000000001},0.25227929999999998]
[15245,1,5,2,4,5,17,{"$f":"IF(B546=1,\"0\",VLOOKUP(B546,coefficient2!$A$4:$B$7,2,FALSE))","v":"0"},{"$f":"IF(C546=1,\"0\",VLOOKUP(C546,coefficient2!$A$10:$B$13,2,FALSE))","v":0.2498763},{"$f":"IF(D546=1,\"0\",VLOOKUP(D546,coefficient2!$A$16:$B$19,2,FALSE))","v":5.8254399999999998E-2},{"$f":"IF(E546=1,\"0\",VLOOKUP(E546,coefficient2!$A$22:$B$25,2,FALSE))","v":0.2068864},{"$f":"IF(F546=1,\"0\",VLOOKUP(F546,coefficient2!$A$28:$B$31,2,FALSE))","v":0.29534929999999998},0.18963360000000001]
[15251,1,5,2,5,1,14,{"$f":"IF(B547=1,\"0\",VLOOKUP(B547,coefficient2!$A$4:$B$7,2,FALSE))","v":"0"},{"$f":"IF(C547=1,\"0\",VLOOKUP(C547,coefficient2!$A$10:$B$13,2,FALSE))","v":0.2498763},{"$f":"IF(D547=1,\"0\",VLOOKUP(D547,coefficient2!$A$16:$B$19,2,FALSE))","v":5.8254399999999998E-2},{"$f":"IF(E547=1,\"0\",VLOOKUP(E547,coefficient2!$A$22:$B$25,2,FALSE))","v":0.25643310000000002},{"$f":"IF(F547=1,\"0\",VLOOKUP(F547,coefficient2!$A$28:$B$31,2,FALSE))","v":"0"},0.4354362]
[15252,1,5,2,5,2,15,{"$f":"IF(B548=1,\"0\",VLOOKUP(B548,coefficient2!$A$4:$B$7,2,FALSE))","v":"0"},{"$f":"IF(C548=1,\"0\",VLOOKUP(C548,coefficient2!$A$10:$B$13,2,FALSE))","v":0.2498763},{"$f":"IF(D548=1,\"0\",VLOOKUP(D548,coefficient2!$A$16:$B$19,2,FALSE))","v":5.8254399999999998E-2},{"$f":"IF(E548=1,\"0\",VLOOKUP(E548,coefficient2!$A$22:$B$25,2,FALSE))","v":0.25643310000000002},{"$f":"IF(F548=1,\"0\",VLOOKUP(F548,coefficient2!$A$28:$B$31,2,FALSE))","v":5.8085699999999997E-2},0.37735049999999998]
[15253,1,5,2,5,3,16,{"$f":"IF(B549=1,\"0\",VLOOKUP(B549,coefficient2!$A$4:$B$7,2,FALSE))","v":"0"},{"$f":"IF(C549=1,\"0\",VLOOKUP(C549,coefficient2!$A$10:$B$13,2,FALSE))","v":0.2498763},{"$f":"IF(D549=1,\"0\",VLOOKUP(D549,coefficient2!$A$16:$B$19,2,FALSE))","v":5.8254399999999998E-2},{"$f":"IF(E549=1,\"0\",VLOOKUP(E549,coefficient2!$A$22:$B$25,2,FALSE))","v":0.25643310000000002},{"$f":"IF(F549=1,\"0\",VLOOKUP(F549,coefficient2!$A$28:$B$31,2,FALSE))","v":9.5753900000000003E-2},0.33968229999999999]
[15254,1,5,2,5,4,17,{"$f":"IF(B550=1,\"0\",VLOOKUP(B550,coefficient2!$A$4:$B$7,2,FALSE))","v":"0"},{"$f":"IF(C550=1,\"0\",VLOOKUP(C550,coefficient2!$A$10:$B$13,2,FALSE))","v":0.2498763},{"$f":"IF(D550=1,\"0\",VLOOKUP(D550,coefficient2!$A$16:$B$19,2,FALSE))","v":5.8254399999999998E-2},{"$f":"IF(E550=1,\"0\",VLOOKUP(E550,coefficient2!$A$22:$B$25,2,FALSE))","v":0.25643310000000002},{"$f":"IF(F550=1,\"0\",VLOOKUP(F550,coefficient2!$A$28:$B$31,2,FALSE))","v":0.23270360000000001},0.20273259999999999]
[15255,1,5,2,5,5,18,{"$f":"IF(B551=1,\"0\",VLOOKUP(B551,coefficient2!$A$4:$B$7,2,FALSE))","v":"0"},{"$f":"IF(C551=1,\"0\",VLOOKUP(C551,coefficient2!$A$10:$B$13,2,FALSE))","v":0.2498763},{"$f":"IF(D551=1,\"0\",VLOOKUP(D551,coefficient2!$A$16:$B$19,2,FALSE))","v":5.8254399999999998E-2},{"$f":"IF(E551=1,\"0\",VLOOKUP(E551,coefficient2!$A$22:$B$25,2,FALSE))","v":0.25643310000000002},{"$f":"IF(F551=1,\"0\",VLOOKUP(F551,coefficient2!$A$28:$B$31,2,FALSE))","v":0.29534929999999998},0.14008690000000001]
[15311,1,5,3,1,1,11,{"$f":"IF(B552=1,\"0\",VLOOKUP(B552,coefficient2!$A$4:$B$7,2,FALSE))","v":"0"},{"$f":"IF(C552=1,\"0\",VLOOKUP(C552,coefficient2!$A$10:$B$13,2,FALSE))","v":0.2498763},{"$f":"IF(D552=1,\"0\",VLOOKUP(D552,coefficient2!$A$16:$B$19,2,FALSE))","v":7.1197399999999994E-2},{"$f":"IF(E552=1,\"0\",VLOOKUP(E552,coefficient2!$A$22:$B$25,2,FALSE))","v":"0"},{"$f":"IF(F552=1,\"0\",VLOOKUP(F552,coefficient2!$A$28:$B$31,2,FALSE))","v":"0"},0.67892630000000009]
[15312,1,5,3,1,2,12,{"$f":"IF(B553=1,\"0\",VLOOKUP(B553,coefficient2!$A$4:$B$7,2,FALSE))","v":"0"},{"$f":"IF(C553=1,\"0\",VLOOKUP(C553,coefficient2!$A$10:$B$13,2,FALSE))","v":0.2498763},{"$f":"IF(D553=1,\"0\",VLOOKUP(D553,coefficient2!$A$16:$B$19,2,FALSE))","v":7.1197399999999994E-2},{"$f":"IF(E553=1,\"0\",VLOOKUP(E553,coefficient2!$A$22:$B$25,2,FALSE))","v":"0"},{"$f":"IF(F553=1,\"0\",VLOOKUP(F553,coefficient2!$A$28:$B$31,2,FALSE))","v":5.8085699999999997E-2},0.62084060000000008]
[15313,1,5,3,1,3,13,{"$f":"IF(B554=1,\"0\",VLOOKUP(B554,coefficient2!$A$4:$B$7,2,FALSE))","v":"0"},{"$f":"IF(C554=1,\"0\",VLOOKUP(C554,coefficient2!$A$10:$B$13,2,FALSE))","v":0.2498763},{"$f":"IF(D554=1,\"0\",VLOOKUP(D554,coefficient2!$A$16:$B$19,2,FALSE))","v":7.1197399999999994E-2},{"$f":"IF(E554=1,\"0\",VLOOKUP(E554,coefficient2!$A$22:$B$25,2,FALSE))","v":"0"},{"$f":"IF(F554=1,\"0\",VLOOKUP(F554,coefficient2!$A$28:$B$31,2,FALSE))","v":9.5753900000000003E-2},0.58317240000000004]
[15314,1,5,3,1,4,14,{"$f":"IF(B555=1,\"0\",VLOOKUP(B555,coefficient2!$A$4:$B$7,2,FALSE))","v":"0"},{"$f":"IF(C555=1,\"0\",VLOOKUP(C555,coefficient2!$A$10:$B$13,2,FALSE))","v":0.2498763},{"$f":"IF(D555=1,\"0\",VLOOKUP(D555,coefficient2!$A$16:$B$19,2,FALSE))","v":7.1197399999999994E-2},{"$f":"IF(E555=1,\"0\",VLOOKUP(E555,coefficient2!$A$22:$B$25,2,FALSE))","v":"0"},{"$f":"IF(F555=1,\"0\",VLOOKUP(F555,coefficient2!$A$28:$B$31,2,FALSE))","v":0.23270360000000001},0.44622270000000008]
[15315,1,5,3,1,5,15,{"$f":"IF(B556=1,\"0\",VLOOKUP(B556,coefficient2!$A$4:$B$7,2,FALSE))","v":"0"},{"$f":"IF(C556=1,\"0\",VLOOKUP(C556,coefficient2!$A$10:$B$13,2,FALSE))","v":0.2498763},{"$f":"IF(D556=1,\"0\",VLOOKUP(D556,coefficient2!$A$16:$B$19,2,FALSE))","v":7.1197399999999994E-2},{"$f":"IF(E556=1,\"0\",VLOOKUP(E556,coefficient2!$A$22:$B$25,2,FALSE))","v":"0"},{"$f":"IF(F556=1,\"0\",VLOOKUP(F556,coefficient2!$A$28:$B$31,2,FALSE))","v":0.29534929999999998},0.38357700000000011]
[15321,1,5,3,2,1,12,{"$f":"IF(B557=1,\"0\",VLOOKUP(B557,coefficient2!$A$4:$B$7,2,FALSE))","v":"0"},{"$f":"IF(C557=1,\"0\",VLOOKUP(C557,coefficient2!$A$10:$B$13,2,FALSE))","v":0.2498763},{"$f":"IF(D557=1,\"0\",VLOOKUP(D557,coefficient2!$A$16:$B$19,2,FALSE))","v":7.1197399999999994E-2},{"$f":"IF(E557=1,\"0\",VLOOKUP(E557,coefficient2!$A$22:$B$25,2,FALSE))","v":5.63998E-2},{"$f":"IF(F557=1,\"0\",VLOOKUP(F557,coefficient2!$A$28:$B$31,2,FALSE))","v":"0"},0.62252650000000009]
[15322,1,5,3,2,2,13,{"$f":"IF(B558=1,\"0\",VLOOKUP(B558,coefficient2!$A$4:$B$7,2,FALSE))","v":"0"},{"$f":"IF(C558=1,\"0\",VLOOKUP(C558,coefficient2!$A$10:$B$13,2,FALSE))","v":0.2498763},{"$f":"IF(D558=1,\"0\",VLOOKUP(D558,coefficient2!$A$16:$B$19,2,FALSE))","v":7.1197399999999994E-2},{"$f":"IF(E558=1,\"0\",VLOOKUP(E558,coefficient2!$A$22:$B$25,2,FALSE))","v":5.63998E-2},{"$f":"IF(F558=1,\"0\",VLOOKUP(F558,coefficient2!$A$28:$B$31,2,FALSE))","v":5.8085699999999997E-2},0.56444080000000008]
[15323,1,5,3,2,3,14,{"$f":"IF(B559=1,\"0\",VLOOKUP(B559,coefficient2!$A$4:$B$7,2,FALSE))","v":"0"},{"$f":"IF(C559=1,\"0\",VLOOKUP(C559,coefficient2!$A$10:$B$13,2,FALSE))","v":0.2498763},{"$f":"IF(D559=1,\"0\",VLOOKUP(D559,coefficient2!$A$16:$B$19,2,FALSE))","v":7.1197399999999994E-2},{"$f":"IF(E559=1,\"0\",VLOOKUP(E559,coefficient2!$A$22:$B$25,2,FALSE))","v":5.63998E-2},{"$f":"IF(F559=1,\"0\",VLOOKUP(F559,coefficient2!$A$28:$B$31,2,FALSE))","v":9.5753900000000003E-2},0.52677260000000015]
[15324,1,5,3,2,4,15,{"$f":"IF(B560=1,\"0\",VLOOKUP(B560,coefficient2!$A$4:$B$7,2,FALSE))","v":"0"},{"$f":"IF(C560=1,\"0\",VLOOKUP(C560,coefficient2!$A$10:$B$13,2,FALSE))","v":0.2498763},{"$f":"IF(D560=1,\"0\",VLOOKUP(D560,coefficient2!$A$16:$B$19,2,FALSE))","v":7.1197399999999994E-2},{"$f":"IF(E560=1,\"0\",VLOOKUP(E560,coefficient2!$A$22:$B$25,2,FALSE))","v":5.63998E-2},{"$f":"IF(F560=1,\"0\",VLOOKUP(F560,coefficient2!$A$28:$B$31,2,FALSE))","v":0.23270360000000001},0.38982290000000008]
[15325,1,5,3,2,5,16,{"$f":"IF(B561=1,\"0\",VLOOKUP(B561,coefficient2!$A$4:$B$7,2,FALSE))","v":"0"},{"$f":"IF(C561=1,\"0\",VLOOKUP(C561,coefficient2!$A$10:$B$13,2,FALSE))","v":0.2498763},{"$f":"IF(D561=1,\"0\",VLOOKUP(D561,coefficient2!$A$16:$B$19,2,FALSE))","v":7.1197399999999994E-2},{"$f":"IF(E561=1,\"0\",VLOOKUP(E561,coefficient2!$A$22:$B$25,2,FALSE))","v":5.63998E-2},{"$f":"IF(F561=1,\"0\",VLOOKUP(F561,coefficient2!$A$28:$B$31,2,FALSE))","v":0.29534929999999998},0.32717720000000011]
[15331,1,5,3,3,1,13,{"$f":"IF(B562=1,\"0\",VLOOKUP(B562,coefficient2!$A$4:$B$7,2,FALSE))","v":"0"},{"$f":"IF(C562=1,\"0\",VLOOKUP(C562,coefficient2!$A$10:$B$13,2,FALSE))","v":0.2498763},{"$f":"IF(D562=1,\"0\",VLOOKUP(D562,coefficient2!$A$16:$B$19,2,FALSE))","v":7.1197399999999994E-2},{"$f":"IF(E562=1,\"0\",VLOOKUP(E562,coefficient2!$A$22:$B$25,2,FALSE))","v":6.6492200000000001E-2},{"$f":"IF(F562=1,\"0\",VLOOKUP(F562,coefficient2!$A$28:$B$31,2,FALSE))","v":"0"},0.61243410000000009]
[15332,1,5,3,3,2,14,{"$f":"IF(B563=1,\"0\",VLOOKUP(B563,coefficient2!$A$4:$B$7,2,FALSE))","v":"0"},{"$f":"IF(C563=1,\"0\",VLOOKUP(C563,coefficient2!$A$10:$B$13,2,FALSE))","v":0.2498763},{"$f":"IF(D563=1,\"0\",VLOOKUP(D563,coefficient2!$A$16:$B$19,2,FALSE))","v":7.1197399999999994E-2},{"$f":"IF(E563=1,\"0\",VLOOKUP(E563,coefficient2!$A$22:$B$25,2,FALSE))","v":6.6492200000000001E-2},{"$f":"IF(F563=1,\"0\",VLOOKUP(F563,coefficient2!$A$28:$B$31,2,FALSE))","v":5.8085699999999997E-2},0.55434840000000007]
[15333,1,5,3,3,3,15,{"$f":"IF(B564=1,\"0\",VLOOKUP(B564,coefficient2!$A$4:$B$7,2,FALSE))","v":"0"},{"$f":"IF(C564=1,\"0\",VLOOKUP(C564,coefficient2!$A$10:$B$13,2,FALSE))","v":0.2498763},{"$f":"IF(D564=1,\"0\",VLOOKUP(D564,coefficient2!$A$16:$B$19,2,FALSE))","v":7.1197399999999994E-2},{"$f":"IF(E564=1,\"0\",VLOOKUP(E564,coefficient2!$A$22:$B$25,2,FALSE))","v":6.6492200000000001E-2},{"$f":"IF(F564=1,\"0\",VLOOKUP(F564,coefficient2!$A$28:$B$31,2,FALSE))","v":9.5753900000000003E-2},0.51668020000000014]
[15334,1,5,3,3,4,16,{"$f":"IF(B565=1,\"0\",VLOOKUP(B565,coefficient2!$A$4:$B$7,2,FALSE))","v":"0"},{"$f":"IF(C565=1,\"0\",VLOOKUP(C565,coefficient2!$A$10:$B$13,2,FALSE))","v":0.2498763},{"$f":"IF(D565=1,\"0\",VLOOKUP(D565,coefficient2!$A$16:$B$19,2,FALSE))","v":7.1197399999999994E-2},{"$f":"IF(E565=1,\"0\",VLOOKUP(E565,coefficient2!$A$22:$B$25,2,FALSE))","v":6.6492200000000001E-2},{"$f":"IF(F565=1,\"0\",VLOOKUP(F565,coefficient2!$A$28:$B$31,2,FALSE))","v":0.23270360000000001},0.37973050000000008]
[15335,1,5,3,3,5,17,{"$f":"IF(B566=1,\"0\",VLOOKUP(B566,coefficient2!$A$4:$B$7,2,FALSE))","v":"0"},{"$f":"IF(C566=1,\"0\",VLOOKUP(C566,coefficient2!$A$10:$B$13,2,FALSE))","v":0.2498763},{"$f":"IF(D566=1,\"0\",VLOOKUP(D566,coefficient2!$A$16:$B$19,2,FALSE))","v":7.1197399999999994E-2},{"$f":"IF(E566=1,\"0\",VLOOKUP(E566,coefficient2!$A$22:$B$25,2,FALSE))","v":6.6492200000000001E-2},{"$f":"IF(F566=1,\"0\",VLOOKUP(F566,coefficient2!$A$28:$B$31,2,FALSE))","v":0.29534929999999998},0.31708480000000011]
[15341,1,5,3,4,1,14,{"$f":"IF(B567=1,\"0\",VLOOKUP(B567,coefficient2!$A$4:$B$7,2,FALSE))","v":"0"},{"$f":"IF(C567=1,\"0\",VLOOKUP(C567,coefficient2!$A$10:$B$13,2,FALSE))","v":0.2498763},{"$f":"IF(D567=1,\"0\",VLOOKUP(D567,coefficient2!$A$16:$B$19,2,FALSE))","v":7.1197399999999994E-2},{"$f":"IF(E567=1,\"0\",VLOOKUP(E567,coefficient2!$A$22:$B$25,2,FALSE))","v":0.2068864},{"$f":"IF(F567=1,\"0\",VLOOKUP(F567,coefficient2!$A$28:$B$31,2,FALSE))","v":"0"},0.47203990000000007]
[15342,1,5,3,4,2,15,{"$f":"IF(B568=1,\"0\",VLOOKUP(B568,coefficient2!$A$4:$B$7,2,FALSE))","v":"0"},{"$f":"IF(C568=1,\"0\",VLOOKUP(C568,coefficient2!$A$10:$B$13,2,FALSE))","v":0.2498763},{"$f":"IF(D568=1,\"0\",VLOOKUP(D568,coefficient2!$A$16:$B$19,2,FALSE))","v":7.1197399999999994E-2},{"$f":"IF(E568=1,\"0\",VLOOKUP(E568,coefficient2!$A$22:$B$25,2,FALSE))","v":0.2068864},{"$f":"IF(F568=1,\"0\",VLOOKUP(F568,coefficient2!$A$28:$B$31,2,FALSE))","v":5.8085699999999997E-2},0.41395420000000005]
[15343,1,5,3,4,3,16,{"$f":"IF(B569=1,\"0\",VLOOKUP(B569,coefficient2!$A$4:$B$7,2,FALSE))","v":"0"},{"$f":"IF(C569=1,\"0\",VLOOKUP(C569,coefficient2!$A$10:$B$13,2,FALSE))","v":0.2498763},{"$f":"IF(D569=1,\"0\",VLOOKUP(D569,coefficient2!$A$16:$B$19,2,FALSE))","v":7.1197399999999994E-2},{"$f":"IF(E569=1,\"0\",VLOOKUP(E569,coefficient2!$A$22:$B$25,2,FALSE))","v":0.2068864},{"$f":"IF(F569=1,\"0\",VLOOKUP(F569,coefficient2!$A$28:$B$31,2,FALSE))","v":9.5753900000000003E-2},0.37628600000000006]
[15344,1,5,3,4,4,17,{"$f":"IF(B570=1,\"0\",VLOOKUP(B570,coefficient2!$A$4:$B$7,2,FALSE))","v":"0"},{"$f":"IF(C570=1,\"0\",VLOOKUP(C570,coefficient2!$A$10:$B$13,2,FALSE))","v":0.2498763},{"$f":"IF(D570=1,\"0\",VLOOKUP(D570,coefficient2!$A$16:$B$19,2,FALSE))","v":7.1197399999999994E-2},{"$f":"IF(E570=1,\"0\",VLOOKUP(E570,coefficient2!$A$22:$B$25,2,FALSE))","v":0.2068864},{"$f":"IF(F570=1,\"0\",VLOOKUP(F570,coefficient2!$A$28:$B$31,2,FALSE))","v":0.23270360000000001},0.23933630000000006]
[15345,1,5,3,4,5,18,{"$f":"IF(B571=1,\"0\",VLOOKUP(B571,coefficient2!$A$4:$B$7,2,FALSE))","v":"0"},{"$f":"IF(C571=1,\"0\",VLOOKUP(C571,coefficient2!$A$10:$B$13,2,FALSE))","v":0.2498763},{"$f":"IF(D571=1,\"0\",VLOOKUP(D571,coefficient2!$A$16:$B$19,2,FALSE))","v":7.1197399999999994E-2},{"$f":"IF(E571=1,\"0\",VLOOKUP(E571,coefficient2!$A$22:$B$25,2,FALSE))","v":0.2068864},{"$f":"IF(F571=1,\"0\",VLOOKUP(F571,coefficient2!$A$28:$B$31,2,FALSE))","v":0.29534929999999998},0.17669060000000009]
[15351,1,5,3,5,1,15,{"$f":"IF(B572=1,\"0\",VLOOKUP(B572,coefficient2!$A$4:$B$7,2,FALSE))","v":"0"},{"$f":"IF(C572=1,\"0\",VLOOKUP(C572,coefficient2!$A$10:$B$13,2,FALSE))","v":0.2498763},{"$f":"IF(D572=1,\"0\",VLOOKUP(D572,coefficient2!$A$16:$B$19,2,FALSE))","v":7.1197399999999994E-2},{"$f":"IF(E572=1,\"0\",VLOOKUP(E572,coefficient2!$A$22:$B$25,2,FALSE))","v":0.25643310000000002},{"$f":"IF(F572=1,\"0\",VLOOKUP(F572,coefficient2!$A$28:$B$31,2,FALSE))","v":"0"},0.42249320000000007]
[15352,1,5,3,5,2,16,{"$f":"IF(B573=1,\"0\",VLOOKUP(B573,coefficient2!$A$4:$B$7,2,FALSE))","v":"0"},{"$f":"IF(C573=1,\"0\",VLOOKUP(C573,coefficient2!$A$10:$B$13,2,FALSE))","v":0.2498763},{"$f":"IF(D573=1,\"0\",VLOOKUP(D573,coefficient2!$A$16:$B$19,2,FALSE))","v":7.1197399999999994E-2},{"$f":"IF(E573=1,\"0\",VLOOKUP(E573,coefficient2!$A$22:$B$25,2,FALSE))","v":0.25643310000000002},{"$f":"IF(F573=1,\"0\",VLOOKUP(F573,coefficient2!$A$28:$B$31,2,FALSE))","v":5.8085699999999997E-2},0.36440750000000005]
[15353,1,5,3,5,3,17,{"$f":"IF(B574=1,\"0\",VLOOKUP(B574,coefficient2!$A$4:$B$7,2,FALSE))","v":"0"},{"$f":"IF(C574=1,\"0\",VLOOKUP(C574,coefficient2!$A$10:$B$13,2,FALSE))","v":0.2498763},{"$f":"IF(D574=1,\"0\",VLOOKUP(D574,coefficient2!$A$16:$B$19,2,FALSE))","v":7.1197399999999994E-2},{"$f":"IF(E574=1,\"0\",VLOOKUP(E574,coefficient2!$A$22:$B$25,2,FALSE))","v":0.25643310000000002},{"$f":"IF(F574=1,\"0\",VLOOKUP(F574,coefficient2!$A$28:$B$31,2,FALSE))","v":9.5753900000000003E-2},0.32673930000000007]
[15354,1,5,3,5,4,18,{"$f":"IF(B575=1,\"0\",VLOOKUP(B575,coefficient2!$A$4:$B$7,2,FALSE))","v":"0"},{"$f":"IF(C575=1,\"0\",VLOOKUP(C575,coefficient2!$A$10:$B$13,2,FALSE))","v":0.2498763},{"$f":"IF(D575=1,\"0\",VLOOKUP(D575,coefficient2!$A$16:$B$19,2,FALSE))","v":7.1197399999999994E-2},{"$f":"IF(E575=1,\"0\",VLOOKUP(E575,coefficient2!$A$22:$B$25,2,FALSE))","v":0.25643310000000002},{"$f":"IF(F575=1,\"0\",VLOOKUP(F575,coefficient2!$A$28:$B$31,2,FALSE))","v":0.23270360000000001},0.18978960000000006]
[15355,1,5,3,5,5,19,{"$f":"IF(B576=1,\"0\",VLOOKUP(B576,coefficient2!$A$4:$B$7,2,FALSE))","v":"0"},{"$f":"IF(C576=1,\"0\",VLOOKUP(C576,coefficient2!$A$10:$B$13,2,FALSE))","v":0.2498763},{"$f":"IF(D576=1,\"0\",VLOOKUP(D576,coefficient2!$A$16:$B$19,2,FALSE))","v":7.1197399999999994E-2},{"$f":"IF(E576=1,\"0\",VLOOKUP(E576,coefficient2!$A$22:$B$25,2,FALSE))","v":0.25643310000000002},{"$f":"IF(F576=1,\"0\",VLOOKUP(F576,coefficient2!$A$28:$B$31,2,FALSE))","v":0.29534929999999998},0.12714390000000009]
[15411,1,5,4,1,1,12,{"$f":"IF(B577=1,\"0\",VLOOKUP(B577,coefficient2!$A$4:$B$7,2,FALSE))","v":"0"},{"$f":"IF(C577=1,\"0\",VLOOKUP(C577,coefficient2!$A$10:$B$13,2,FALSE))","v":0.2498763},{"$f":"IF(D577=1,\"0\",VLOOKUP(D577,coefficient2!$A$16:$B$19,2,FALSE))","v":0.1534855},{"$f":"IF(E577=1,\"0\",VLOOKUP(E577,coefficient2!$A$22:$B$25,2,FALSE))","v":"0"},{"$f":"IF(F577=1,\"0\",VLOOKUP(F577,coefficient2!$A$28:$B$31,2,FALSE))","v":"0"},0.59663820000000012]
[15412,1,5,4,1,2,13,{"$f":"IF(B578=1,\"0\",VLOOKUP(B578,coefficient2!$A$4:$B$7,2,FALSE))","v":"0"},{"$f":"IF(C578=1,\"0\",VLOOKUP(C578,coefficient2!$A$10:$B$13,2,FALSE))","v":0.2498763},{"$f":"IF(D578=1,\"0\",VLOOKUP(D578,coefficient2!$A$16:$B$19,2,FALSE))","v":0.1534855},{"$f":"IF(E578=1,\"0\",VLOOKUP(E578,coefficient2!$A$22:$B$25,2,FALSE))","v":"0"},{"$f":"IF(F578=1,\"0\",VLOOKUP(F578,coefficient2!$A$28:$B$31,2,FALSE))","v":5.8085699999999997E-2},{"$f":"1-H578-I578-J578-K578-L578","v":0.5385525000000001}]
[15413,{"$f":"INT(LEFT(A579,1))","v":1},{"$f":"INT(MID(A579,2,1))","v":5},{"$f":"INT(MID(A579,3,1))","v":4},{"$f":"INT(MID(A579,4,1))","v":1},{"$f":"INT(RIGHT(A579,1))","v":3},{"$f":"SUM(B579:F579)","v":14},{"$f":"IF(B579=1,\"0\",VLOOKUP(B579,coefficient2!$A$4:$B$7,2,FALSE))","v":"0"},{"$f":"IF(C579=1,\"0\",VLOOKUP(C579,coefficient2!$A$10:$B$13,2,FALSE))","v":0.2498763},{"$f":"IF(D579=1,\"0\",VLOOKUP(D579,coefficient2!$A$16:$B$19,2,FALSE))","v":0.1534855},{"$f":"IF(E579=1,\"0\",VLOOKUP(E579,coefficient2!$A$22:$B$25,2,FALSE))","v":"0"},{"$f":"IF(F579=1,\"0\",VLOOKUP(F579,coefficient2!$A$28:$B$31,2,FALSE))","v":9.5753900000000003E-2},0.50088430000000006]
[15414,1,5,4,1,4,15,{"$f":"IF(B580=1,\"0\",VLOOKUP(B580,coefficient2!$A$4:$B$7,2,FALSE))","v":"0"},{"$f":"IF(C580=1,\"0\",VLOOKUP(C580,coefficient2!$A$10:$B$13,2,FALSE))","v":0.2498763},{"$f":"IF(D580=1,\"0\",VLOOKUP(D580,coefficient2!$A$16:$B$19,2,FALSE))","v":0.1534855},{"$f":"IF(E580=1,\"0\",VLOOKUP(E580,coefficient2!$A$22:$B$25,2,FALSE))","v":"0"},{"$f":"IF(F580=1,\"0\",VLOOKUP(F580,coefficient2!$A$28:$B$31,2,FALSE))","v":0.23270360000000001},0.36393460000000011]
[15415,1,5,4,1,5,16,{"$f":"IF(B581=1,\"0\",VLOOKUP(B581,coefficient2!$A$4:$B$7,2,FALSE))","v":"0"},{"$f":"IF(C581=1,\"0\",VLOOKUP(C581,coefficient2!$A$10:$B$13,2,FALSE))","v":0.2498763},{"$f":"IF(D581=1,\"0\",VLOOKUP(D581,coefficient2!$A$16:$B$19,2,FALSE))","v":0.1534855},{"$f":"IF(E581=1,\"0\",VLOOKUP(E581,coefficient2!$A$22:$B$25,2,FALSE))","v":"0"},{"$f":"IF(F581=1,\"0\",VLOOKUP(F581,coefficient2!$A$28:$B$31,2,FALSE))","v":0.29534929999999998},0.30128890000000014]
[15421,1,5,4,2,1,13,{"$f":"IF(B582=1,\"0\",VLOOKUP(B582,coefficient2!$A$4:$B$7,2,FALSE))","v":"0"},{"$f":"IF(C582=1,\"0\",VLOOKUP(C582,coefficient2!$A$10:$B$13,2,FALSE))","v":0.2498763},{"$f":"IF(D582=1,\"0\",VLOOKUP(D582,coefficient2!$A$16:$B$19,2,FALSE))","v":0.1534855},{"$f":"IF(E582=1,\"0\",VLOOKUP(E582,coefficient2!$A$22:$B$25,2,FALSE))","v":5.63998E-2},{"$f":"IF(F582=1,\"0\",VLOOKUP(F582,coefficient2!$A$28:$B$31,2,FALSE))","v":"0"},0.54023840000000012]
[15422,1,5,4,2,2,14,{"$f":"IF(B583=1,\"0\",VLOOKUP(B583,coefficient2!$A$4:$B$7,2,FALSE))","v":"0"},{"$f":"IF(C583=1,\"0\",VLOOKUP(C583,coefficient2!$A$10:$B$13,2,FALSE))","v":0.2498763},{"$f":"IF(D583=1,\"0\",VLOOKUP(D583,coefficient2!$A$16:$B$19,2,FALSE))","v":0.1534855},{"$f":"IF(E583=1,\"0\",VLOOKUP(E583,coefficient2!$A$22:$B$25,2,FALSE))","v":5.63998E-2},{"$f":"IF(F583=1,\"0\",VLOOKUP(F583,coefficient2!$A$28:$B$31,2,FALSE))","v":5.8085699999999997E-2},0.4821527000000001]
[15423,1,5,4,2,3,15,{"$f":"IF(B584=1,\"0\",VLOOKUP(B584,coefficient2!$A$4:$B$7,2,FALSE))","v":"0"},{"$f":"IF(C584=1,\"0\",VLOOKUP(C584,coefficient2!$A$10:$B$13,2,FALSE))","v":0.2498763},{"$f":"IF(D584=1,\"0\",VLOOKUP(D584,coefficient2!$A$16:$B$19,2,FALSE))","v":0.1534855},{"$f":"IF(E584=1,\"0\",VLOOKUP(E584,coefficient2!$A$22:$B$25,2,FALSE))","v":5.63998E-2},{"$f":"IF(F584=1,\"0\",VLOOKUP(F584,coefficient2!$A$28:$B$31,2,FALSE))","v":9.5753900000000003E-2},0.44448450000000012]
[15424,1,5,4,2,4,16,{"$f":"IF(B585=1,\"0\",VLOOKUP(B585,coefficient2!$A$4:$B$7,2,FALSE))","v":"0"},{"$f":"IF(C585=1,\"0\",VLOOKUP(C585,coefficient2!$A$10:$B$13,2,FALSE))","v":0.2498763},{"$f":"IF(D585=1,\"0\",VLOOKUP(D585,coefficient2!$A$16:$B$19,2,FALSE))","v":0.1534855},{"$f":"IF(E585=1,\"0\",VLOOKUP(E585,coefficient2!$A$22:$B$25,2,FALSE))","v":5.63998E-2},{"$f":"IF(F585=1,\"0\",VLOOKUP(F585,coefficient2!$A$28:$B$31,2,FALSE))","v":0.23270360000000001},0.30753480000000011]
[15425,1,5,4,2,5,17,{"$f":"IF(B586=1,\"0\",VLOOKUP(B586,coefficient2!$A$4:$B$7,2,FALSE))","v":"0"},{"$f":"IF(C586=1,\"0\",VLOOKUP(C586,coefficient2!$A$10:$B$13,2,FALSE))","v":0.2498763},{"$f":"IF(D586=1,\"0\",VLOOKUP(D586,coefficient2!$A$16:$B$19,2,FALSE))","v":0.1534855},{"$f":"IF(E586=1,\"0\",VLOOKUP(E586,coefficient2!$A$22:$B$25,2,FALSE))","v":5.63998E-2},{"$f":"IF(F586=1,\"0\",VLOOKUP(F586,coefficient2!$A$28:$B$31,2,FALSE))","v":0.29534929999999998},0.24488910000000014]
[15431,1,5,4,3,1,14,{"$f":"IF(B587=1,\"0\",VLOOKUP(B587,coefficient2!$A$4:$B$7,2,FALSE))","v":"0"},{"$f":"IF(C587=1,\"0\",VLOOKUP(C587,coefficient2!$A$10:$B$13,2,FALSE))","v":0.2498763},{"$f":"IF(D587=1,\"0\",VLOOKUP(D587,coefficient2!$A$16:$B$19,2,FALSE))","v":0.1534855},{"$f":"IF(E587=1,\"0\",VLOOKUP(E587,coefficient2!$A$22:$B$25,2,FALSE))","v":6.6492200000000001E-2},{"$f":"IF(F587=1,\"0\",VLOOKUP(F587,coefficient2!$A$28:$B$31,2,FALSE))","v":"0"},0.53014600000000012]
[15432,1,5,4,3,2,15,{"$f":"IF(B588=1,\"0\",VLOOKUP(B588,coefficient2!$A$4:$B$7,2,FALSE))","v":"0"},{"$f":"IF(C588=1,\"0\",VLOOKUP(C588,coefficient2!$A$10:$B$13,2,FALSE))","v":0.2498763},{"$f":"IF(D588=1,\"0\",VLOOKUP(D588,coefficient2!$A$16:$B$19,2,FALSE))","v":0.1534855},{"$f":"IF(E588=1,\"0\",VLOOKUP(E588,coefficient2!$A$22:$B$25,2,FALSE))","v":6.6492200000000001E-2},{"$f":"IF(F588=1,\"0\",VLOOKUP(F588,coefficient2!$A$28:$B$31,2,FALSE))","v":5.8085699999999997E-2},0.4720603000000001]
[15433,1,5,4,3,3,16,{"$f":"IF(B589=1,\"0\",VLOOKUP(B589,coefficient2!$A$4:$B$7,2,FALSE))","v":"0"},{"$f":"IF(C589=1,\"0\",VLOOKUP(C589,coefficient2!$A$10:$B$13,2,FALSE))","v":0.2498763},{"$f":"IF(D589=1,\"0\",VLOOKUP(D589,coefficient2!$A$16:$B$19,2,FALSE))","v":0.1534855},{"$f":"IF(E589=1,\"0\",VLOOKUP(E589,coefficient2!$A$22:$B$25,2,FALSE))","v":6.6492200000000001E-2},{"$f":"IF(F589=1,\"0\",VLOOKUP(F589,coefficient2!$A$28:$B$31,2,FALSE))","v":9.5753900000000003E-2},0.43439210000000011]
[15434,1,5,4,3,4,17,{"$f":"IF(B590=1,\"0\",VLOOKUP(B590,coefficient2!$A$4:$B$7,2,FALSE))","v":"0"},{"$f":"IF(C590=1,\"0\",VLOOKUP(C590,coefficient2!$A$10:$B$13,2,FALSE))","v":0.2498763},{"$f":"IF(D590=1,\"0\",VLOOKUP(D590,coefficient2!$A$16:$B$19,2,FALSE))","v":0.1534855},{"$f":"IF(E590=1,\"0\",VLOOKUP(E590,coefficient2!$A$22:$B$25,2,FALSE))","v":6.6492200000000001E-2},{"$f":"IF(F590=1,\"0\",VLOOKUP(F590,coefficient2!$A$28:$B$31,2,FALSE))","v":0.23270360000000001},0.29744240000000011]
[15435,1,5,4,3,5,18,{"$f":"IF(B591=1,\"0\",VLOOKUP(B591,coefficient2!$A$4:$B$7,2,FALSE))","v":"0"},{"$f":"IF(C591=1,\"0\",VLOOKUP(C591,coefficient2!$A$10:$B$13,2,FALSE))","v":0.2498763},{"$f":"IF(D591=1,\"0\",VLOOKUP(D591,coefficient2!$A$16:$B$19,2,FALSE))","v":0.1534855},{"$f":"IF(E591=1,\"0\",VLOOKUP(E591,coefficient2!$A$22:$B$25,2,FALSE))","v":6.6492200000000001E-2},{"$f":"IF(F591=1,\"0\",VLOOKUP(F591,coefficient2!$A$28:$B$31,2,FALSE))","v":0.29534929999999998},0.23479670000000014]
[15441,1,5,4,4,1,15,{"$f":"IF(B592=1,\"0\",VLOOKUP(B592,coefficient2!$A$4:$B$7,2,FALSE))","v":"0"},{"$f":"IF(C592=1,\"0\",VLOOKUP(C592,coefficient2!$A$10:$B$13,2,FALSE))","v":0.2498763},{"$f":"IF(D592=1,\"0\",VLOOKUP(D592,coefficient2!$A$16:$B$19,2,FALSE))","v":0.1534855},{"$f":"IF(E592=1,\"0\",VLOOKUP(E592,coefficient2!$A$22:$B$25,2,FALSE))","v":0.2068864},{"$f":"IF(F592=1,\"0\",VLOOKUP(F592,coefficient2!$A$28:$B$31,2,FALSE))","v":"0"},0.38975180000000009]
[15442,1,5,4,4,2,16,{"$f":"IF(B593=1,\"0\",VLOOKUP(B593,coefficient2!$A$4:$B$7,2,FALSE))","v":"0"},{"$f":"IF(C593=1,\"0\",VLOOKUP(C593,coefficient2!$A$10:$B$13,2,FALSE))","v":0.2498763},{"$f":"IF(D593=1,\"0\",VLOOKUP(D593,coefficient2!$A$16:$B$19,2,FALSE))","v":0.1534855},{"$f":"IF(E593=1,\"0\",VLOOKUP(E593,coefficient2!$A$22:$B$25,2,FALSE))","v":0.2068864},{"$f":"IF(F593=1,\"0\",VLOOKUP(F593,coefficient2!$A$28:$B$31,2,FALSE))","v":5.8085699999999997E-2},0.33166610000000007]
[15443,1,5,4,4,3,17,{"$f":"IF(B594=1,\"0\",VLOOKUP(B594,coefficient2!$A$4:$B$7,2,FALSE))","v":"0"},{"$f":"IF(C594=1,\"0\",VLOOKUP(C594,coefficient2!$A$10:$B$13,2,FALSE))","v":0.2498763},{"$f":"IF(D594=1,\"0\",VLOOKUP(D594,coefficient2!$A$16:$B$19,2,FALSE))","v":0.1534855},{"$f":"IF(E594=1,\"0\",VLOOKUP(E594,coefficient2!$A$22:$B$25,2,FALSE))","v":0.2068864},{"$f":"IF(F594=1,\"0\",VLOOKUP(F594,coefficient2!$A$28:$B$31,2,FALSE))","v":9.5753900000000003E-2},0.29399790000000009]
[15444,1,5,4,4,4,18,{"$f":"IF(B595=1,\"0\",VLOOKUP(B595,coefficient2!$A$4:$B$7,2,FALSE))","v":"0"},{"$f":"IF(C595=1,\"0\",VLOOKUP(C595,coefficient2!$A$10:$B$13,2,FALSE))","v":0.2498763},{"$f":"IF(D595=1,\"0\",VLOOKUP(D595,coefficient2!$A$16:$B$19,2,FALSE))","v":0.1534855},{"$f":"IF(E595=1,\"0\",VLOOKUP(E595,coefficient2!$A$22:$B$25,2,FALSE))","v":0.2068864},{"$f":"IF(F595=1,\"0\",VLOOKUP(F595,coefficient2!$A$28:$B$31,2,FALSE))","v":0.23270360000000001},0.15704820000000008]
[15445,1,5,4,4,5,19,{"$f":"IF(B596=1,\"0\",VLOOKUP(B596,coefficient2!$A$4:$B$7,2,FALSE))","v":"0"},{"$f":"IF(C596=1,\"0\",VLOOKUP(C596,coefficient2!$A$10:$B$13,2,FALSE))","v":0.2498763},{"$f":"IF(D596=1,\"0\",VLOOKUP(D596,coefficient2!$A$16:$B$19,2,FALSE))","v":0.1534855},{"$f":"IF(E596=1,\"0\",VLOOKUP(E596,coefficient2!$A$22:$B$25,2,FALSE))","v":0.2068864},{"$f":"IF(F596=1,\"0\",VLOOKUP(F596,coefficient2!$A$28:$B$31,2,FALSE))","v":0.29534929999999998},9.4402500000000111E-2]
[15451,1,5,4,5,1,16,{"$f":"IF(B597=1,\"0\",VLOOKUP(B597,coefficient2!$A$4:$B$7,2,FALSE))","v":"0"},{"$f":"IF(C597=1,\"0\",VLOOKUP(C597,coefficient2!$A$10:$B$13,2,FALSE))","v":0.2498763},{"$f":"IF(D597=1,\"0\",VLOOKUP(D597,coefficient2!$A$16:$B$19,2,FALSE))","v":0.1534855},{"$f":"IF(E597=1,\"0\",VLOOKUP(E597,coefficient2!$A$22:$B$25,2,FALSE))","v":0.25643310000000002},{"$f":"IF(F597=1,\"0\",VLOOKUP(F597,coefficient2!$A$28:$B$31,2,FALSE))","v":"0"},0.34020510000000009]
[15452,1,5,4,5,2,17,{"$f":"IF(B598=1,\"0\",VLOOKUP(B598,coefficient2!$A$4:$B$7,2,FALSE))","v":"0"},{"$f":"IF(C598=1,\"0\",VLOOKUP(C598,coefficient2!$A$10:$B$13,2,FALSE))","v":0.2498763},{"$f":"IF(D598=1,\"0\",VLOOKUP(D598,coefficient2!$A$16:$B$19,2,FALSE))","v":0.1534855},{"$f":"IF(E598=1,\"0\",VLOOKUP(E598,coefficient2!$A$22:$B$25,2,FALSE))","v":0.25643310000000002},{"$f":"IF(F598=1,\"0\",VLOOKUP(F598,coefficient2!$A$28:$B$31,2,FALSE))","v":5.8085699999999997E-2},0.28211940000000008]
[15453,1,5,4,5,3,18,{"$f":"IF(B599=1,\"0\",VLOOKUP(B599,coefficient2!$A$4:$B$7,2,FALSE))","v":"0"},{"$f":"IF(C599=1,\"0\",VLOOKUP(C599,coefficient2!$A$10:$B$13,2,FALSE))","v":0.2498763},{"$f":"IF(D599=1,\"0\",VLOOKUP(D599,coefficient2!$A$16:$B$19,2,FALSE))","v":0.1534855},{"$f":"IF(E599=1,\"0\",VLOOKUP(E599,coefficient2!$A$22:$B$25,2,FALSE))","v":0.25643310000000002},{"$f":"IF(F599=1,\"0\",VLOOKUP(F599,coefficient2!$A$28:$B$31,2,FALSE))","v":9.5753900000000003E-2},0.24445120000000009]
[15454,1,5,4,5,4,19,{"$f":"IF(B600=1,\"0\",VLOOKUP(B600,coefficient2!$A$4:$B$7,2,FALSE))","v":"0"},{"$f":"IF(C600=1,\"0\",VLOOKUP(C600,coefficient2!$A$10:$B$13,2,FALSE))","v":0.2498763},{"$f":"IF(D600=1,\"0\",VLOOKUP(D600,coefficient2!$A$16:$B$19,2,FALSE))","v":0.1534855},{"$f":"IF(E600=1,\"0\",VLOOKUP(E600,coefficient2!$A$22:$B$25,2,FALSE))","v":0.25643310000000002},{"$f":"IF(F600=1,\"0\",VLOOKUP(F600,coefficient2!$A$28:$B$31,2,FALSE))","v":0.23270360000000001},0.10750150000000008]
[15455,1,5,4,5,5,20,{"$f":"IF(B601=1,\"0\",VLOOKUP(B601,coefficient2!$A$4:$B$7,2,FALSE))","v":"0"},{"$f":"IF(C601=1,\"0\",VLOOKUP(C601,coefficient2!$A$10:$B$13,2,FALSE))","v":0.2498763},{"$f":"IF(D601=1,\"0\",VLOOKUP(D601,coefficient2!$A$16:$B$19,2,FALSE))","v":0.1534855},{"$f":"IF(E601=1,\"0\",VLOOKUP(E601,coefficient2!$A$22:$B$25,2,FALSE))","v":0.25643310000000002},{"$f":"IF(F601=1,\"0\",VLOOKUP(F601,coefficient2!$A$28:$B$31,2,FALSE))","v":0.29534929999999998},4.4855800000000112E-2]
[15511,1,5,5,1,1,13,{"$f":"IF(B602=1,\"0\",VLOOKUP(B602,coefficient2!$A$4:$B$7,2,FALSE))","v":"0"},{"$f":"IF(C602=1,\"0\",VLOOKUP(C602,coefficient2!$A$10:$B$13,2,FALSE))","v":0.2498763},{"$f":"IF(D602=1,\"0\",VLOOKUP(D602,coefficient2!$A$16:$B$19,2,FALSE))","v":0.248331},{"$f":"IF(E602=1,\"0\",VLOOKUP(E602,coefficient2!$A$22:$B$25,2,FALSE))","v":"0"},{"$f":"IF(F602=1,\"0\",VLOOKUP(F602,coefficient2!$A$28:$B$31,2,FALSE))","v":"0"},0.50179270000000009]
[15512,1,5,5,1,2,14,{"$f":"IF(B603=1,\"0\",VLOOKUP(B603,coefficient2!$A$4:$B$7,2,FALSE))","v":"0"},{"$f":"IF(C603=1,\"0\",VLOOKUP(C603,coefficient2!$A$10:$B$13,2,FALSE))","v":0.2498763},{"$f":"IF(D603=1,\"0\",VLOOKUP(D603,coefficient2!$A$16:$B$19,2,FALSE))","v":0.248331},{"$f":"IF(E603=1,\"0\",VLOOKUP(E603,coefficient2!$A$22:$B$25,2,FALSE))","v":"0"},{"$f":"IF(F603=1,\"0\",VLOOKUP(F603,coefficient2!$A$28:$B$31,2,FALSE))","v":5.8085699999999997E-2},0.44370700000000007]
[15513,1,5,5,1,3,15,{"$f":"IF(B604=1,\"0\",VLOOKUP(B604,coefficient2!$A$4:$B$7,2,FALSE))","v":"0"},{"$f":"IF(C604=1,\"0\",VLOOKUP(C604,coefficient2!$A$10:$B$13,2,FALSE))","v":0.2498763},{"$f":"IF(D604=1,\"0\",VLOOKUP(D604,coefficient2!$A$16:$B$19,2,FALSE))","v":0.248331},{"$f":"IF(E604=1,\"0\",VLOOKUP(E604,coefficient2!$A$22:$B$25,2,FALSE))","v":"0"},{"$f":"IF(F604=1,\"0\",VLOOKUP(F604,coefficient2!$A$28:$B$31,2,FALSE))","v":9.5753900000000003E-2},0.40603880000000009]
[15514,1,5,5,1,4,16,{"$f":"IF(B605=1,\"0\",VLOOKUP(B605,coefficient2!$A$4:$B$7,2,FALSE))","v":"0"},{"$f":"IF(C605=1,\"0\",VLOOKUP(C605,coefficient2!$A$10:$B$13,2,FALSE))","v":0.2498763},{"$f":"IF(D605=1,\"0\",VLOOKUP(D605,coefficient2!$A$16:$B$19,2,FALSE))","v":0.248331},{"$f":"IF(E605=1,\"0\",VLOOKUP(E605,coefficient2!$A$22:$B$25,2,FALSE))","v":"0"},{"$f":"IF(F605=1,\"0\",VLOOKUP(F605,coefficient2!$A$28:$B$31,2,FALSE))","v":0.23270360000000001},0.26908910000000008]
[15515,1,5,5,1,5,17,{"$f":"IF(B606=1,\"0\",VLOOKUP(B606,coefficient2!$A$4:$B$7,2,FALSE))","v":"0"},{"$f":"IF(C606=1,\"0\",VLOOKUP(C606,coefficient2!$A$10:$B$13,2,FALSE))","v":0.2498763},{"$f":"IF(D606=1,\"0\",VLOOKUP(D606,coefficient2!$A$16:$B$19,2,FALSE))","v":0.248331},{"$f":"IF(E606=1,\"0\",VLOOKUP(E606,coefficient2!$A$22:$B$25,2,FALSE))","v":"0"},{"$f":"IF(F606=1,\"0\",VLOOKUP(F606,coefficient2!$A$28:$B$31,2,FALSE))","v":0.29534929999999998},0.20644340000000011]
[15521,1,5,5,2,1,14,{"$f":"IF(B607=1,\"0\",VLOOKUP(B607,coefficient2!$A$4:$B$7,2,FALSE))","v":"0"},{"$f":"IF(C607=1,\"0\",VLOOKUP(C607,coefficient2!$A$10:$B$13,2,FALSE))","v":0.2498763},{"$f":"IF(D607=1,\"0\",VLOOKUP(D607,coefficient2!$A$16:$B$19,2,FALSE))","v":0.248331},{"$f":"IF(E607=1,\"0\",VLOOKUP(E607,coefficient2!$A$22:$B$25,2,FALSE))","v":5.63998E-2},{"$f":"IF(F607=1,\"0\",VLOOKUP(F607,coefficient2!$A$28:$B$31,2,FALSE))","v":"0"},0.44539290000000009]
[15522,1,5,5,2,2,15,{"$f":"IF(B608=1,\"0\",VLOOKUP(B608,coefficient2!$A$4:$B$7,2,FALSE))","v":"0"},{"$f":"IF(C608=1,\"0\",VLOOKUP(C608,coefficient2!$A$10:$B$13,2,FALSE))","v":0.2498763},{"$f":"IF(D608=1,\"0\",VLOOKUP(D608,coefficient2!$A$16:$B$19,2,FALSE))","v":0.248331},{"$f":"IF(E608=1,\"0\",VLOOKUP(E608,coefficient2!$A$22:$B$25,2,FALSE))","v":5.63998E-2},{"$f":"IF(F608=1,\"0\",VLOOKUP(F608,coefficient2!$A$28:$B$31,2,FALSE))","v":5.8085699999999997E-2},0.38730720000000007]
[15523,1,5,5,2,3,16,{"$f":"IF(B609=1,\"0\",VLOOKUP(B609,coefficient2!$A$4:$B$7,2,FALSE))","v":"0"},{"$f":"IF(C609=1,\"0\",VLOOKUP(C609,coefficient2!$A$10:$B$13,2,FALSE))","v":0.2498763},{"$f":"IF(D609=1,\"0\",VLOOKUP(D609,coefficient2!$A$16:$B$19,2,FALSE))","v":0.248331},{"$f":"IF(E609=1,\"0\",VLOOKUP(E609,coefficient2!$A$22:$B$25,2,FALSE))","v":5.63998E-2},{"$f":"IF(F609=1,\"0\",VLOOKUP(F609,coefficient2!$A$28:$B$31,2,FALSE))","v":9.5753900000000003E-2},0.34963900000000009]
[15524,1,5,5,2,4,17,{"$f":"IF(B610=1,\"0\",VLOOKUP(B610,coefficient2!$A$4:$B$7,2,FALSE))","v":"0"},{"$f":"IF(C610=1,\"0\",VLOOKUP(C610,coefficient2!$A$10:$B$13,2,FALSE))","v":0.2498763},{"$f":"IF(D610=1,\"0\",VLOOKUP(D610,coefficient2!$A$16:$B$19,2,FALSE))","v":0.248331},{"$f":"IF(E610=1,\"0\",VLOOKUP(E610,coefficient2!$A$22:$B$25,2,FALSE))","v":5.63998E-2},{"$f":"IF(F610=1,\"0\",VLOOKUP(F610,coefficient2!$A$28:$B$31,2,FALSE))","v":0.23270360000000001},0.21268930000000008]
[15525,1,5,5,2,5,18,{"$f":"IF(B611=1,\"0\",VLOOKUP(B611,coefficient2!$A$4:$B$7,2,FALSE))","v":"0"},{"$f":"IF(C611=1,\"0\",VLOOKUP(C611,coefficient2!$A$10:$B$13,2,FALSE))","v":0.2498763},{"$f":"IF(D611=1,\"0\",VLOOKUP(D611,coefficient2!$A$16:$B$19,2,FALSE))","v":0.248331},{"$f":"IF(E611=1,\"0\",VLOOKUP(E611,coefficient2!$A$22:$B$25,2,FALSE))","v":5.63998E-2},{"$f":"IF(F611=1,\"0\",VLOOKUP(F611,coefficient2!$A$28:$B$31,2,FALSE))","v":0.29534929999999998},0.15004360000000011]
[15531,1,5,5,3,1,15,{"$f":"IF(B612=1,\"0\",VLOOKUP(B612,coefficient2!$A$4:$B$7,2,FALSE))","v":"0"},{"$f":"IF(C612=1,\"0\",VLOOKUP(C612,coefficient2!$A$10:$B$13,2,FALSE))","v":0.2498763},{"$f":"IF(D612=1,\"0\",VLOOKUP(D612,coefficient2!$A$16:$B$19,2,FALSE))","v":0.248331},{"$f":"IF(E612=1,\"0\",VLOOKUP(E612,coefficient2!$A$22:$B$25,2,FALSE))","v":6.6492200000000001E-2},{"$f":"IF(F612=1,\"0\",VLOOKUP(F612,coefficient2!$A$28:$B$31,2,FALSE))","v":"0"},0.43530050000000009]
[15532,1,5,5,3,2,16,{"$f":"IF(B613=1,\"0\",VLOOKUP(B613,coefficient2!$A$4:$B$7,2,FALSE))","v":"0"},{"$f":"IF(C613=1,\"0\",VLOOKUP(C613,coefficient2!$A$10:$B$13,2,FALSE))","v":0.2498763},{"$f":"IF(D613=1,\"0\",VLOOKUP(D613,coefficient2!$A$16:$B$19,2,FALSE))","v":0.248331},{"$f":"IF(E613=1,\"0\",VLOOKUP(E613,coefficient2!$A$22:$B$25,2,FALSE))","v":6.6492200000000001E-2},{"$f":"IF(F613=1,\"0\",VLOOKUP(F613,coefficient2!$A$28:$B$31,2,FALSE))","v":5.8085699999999997E-2},0.37721480000000007]
[15533,1,5,5,3,3,17,{"$f":"IF(B614=1,\"0\",VLOOKUP(B614,coefficient2!$A$4:$B$7,2,FALSE))","v":"0"},{"$f":"IF(C614=1,\"0\",VLOOKUP(C614,coefficient2!$A$10:$B$13,2,FALSE))","v":0.2498763},{"$f":"IF(D614=1,\"0\",VLOOKUP(D614,coefficient2!$A$16:$B$19,2,FALSE))","v":0.248331},{"$f":"IF(E614=1,\"0\",VLOOKUP(E614,coefficient2!$A$22:$B$25,2,FALSE))","v":6.6492200000000001E-2},{"$f":"IF(F614=1,\"0\",VLOOKUP(F614,coefficient2!$A$28:$B$31,2,FALSE))","v":9.5753900000000003E-2},0.33954660000000009]
[15534,1,5,5,3,4,18,{"$f":"IF(B615=1,\"0\",VLOOKUP(B615,coefficient2!$A$4:$B$7,2,FALSE))","v":"0"},{"$f":"IF(C615=1,\"0\",VLOOKUP(C615,coefficient2!$A$10:$B$13,2,FALSE))","v":0.2498763},{"$f":"IF(D615=1,\"0\",VLOOKUP(D615,coefficient2!$A$16:$B$19,2,FALSE))","v":0.248331},{"$f":"IF(E615=1,\"0\",VLOOKUP(E615,coefficient2!$A$22:$B$25,2,FALSE))","v":6.6492200000000001E-2},{"$f":"IF(F615=1,\"0\",VLOOKUP(F615,coefficient2!$A$28:$B$31,2,FALSE))","v":0.23270360000000001},0.20259690000000008]
[15535,1,5,5,3,5,19,{"$f":"IF(B616=1,\"0\",VLOOKUP(B616,coefficient2!$A$4:$B$7,2,FALSE))","v":"0"},{"$f":"IF(C616=1,\"0\",VLOOKUP(C616,coefficient2!$A$10:$B$13,2,FALSE))","v":0.2498763},{"$f":"IF(D616=1,\"0\",VLOOKUP(D616,coefficient2!$A$16:$B$19,2,FALSE))","v":0.248331},{"$f":"IF(E616=1,\"0\",VLOOKUP(E616,coefficient2!$A$22:$B$25,2,FALSE))","v":6.6492200000000001E-2},{"$f":"IF(F616=1,\"0\",VLOOKUP(F616,coefficient2!$A$28:$B$31,2,FALSE))","v":0.29534929999999998},0.13995120000000011]
[15541,1,5,5,4,1,16,{"$f":"IF(B617=1,\"0\",VLOOKUP(B617,coefficient2!$A$4:$B$7,2,FALSE))","v":"0"},{"$f":"IF(C617=1,\"0\",VLOOKUP(C617,coefficient2!$A$10:$B$13,2,FALSE))","v":0.2498763},{"$f":"IF(D617=1,\"0\",VLOOKUP(D617,coefficient2!$A$16:$B$19,2,FALSE))","v":0.248331},{"$f":"IF(E617=1,\"0\",VLOOKUP(E617,coefficient2!$A$22:$B$25,2,FALSE))","v":0.2068864},{"$f":"IF(F617=1,\"0\",VLOOKUP(F617,coefficient2!$A$28:$B$31,2,FALSE))","v":"0"},0.29490630000000007]
[15542,1,5,5,4,2,17,{"$f":"IF(B618=1,\"0\",VLOOKUP(B618,coefficient2!$A$4:$B$7,2,FALSE))","v":"0"},{"$f":"IF(C618=1,\"0\",VLOOKUP(C618,coefficient2!$A$10:$B$13,2,FALSE))","v":0.2498763},{"$f":"IF(D618=1,\"0\",VLOOKUP(D618,coefficient2!$A$16:$B$19,2,FALSE))","v":0.248331},{"$f":"IF(E618=1,\"0\",VLOOKUP(E618,coefficient2!$A$22:$B$25,2,FALSE))","v":0.2068864},{"$f":"IF(F618=1,\"0\",VLOOKUP(F618,coefficient2!$A$28:$B$31,2,FALSE))","v":5.8085699999999997E-2},0.23682060000000008]
[15543,1,5,5,4,3,18,{"$f":"IF(B619=1,\"0\",VLOOKUP(B619,coefficient2!$A$4:$B$7,2,FALSE))","v":"0"},{"$f":"IF(C619=1,\"0\",VLOOKUP(C619,coefficient2!$A$10:$B$13,2,FALSE))","v":0.2498763},{"$f":"IF(D619=1,\"0\",VLOOKUP(D619,coefficient2!$A$16:$B$19,2,FALSE))","v":0.248331},{"$f":"IF(E619=1,\"0\",VLOOKUP(E619,coefficient2!$A$22:$B$25,2,FALSE))","v":0.2068864},{"$f":"IF(F619=1,\"0\",VLOOKUP(F619,coefficient2!$A$28:$B$31,2,FALSE))","v":9.5753900000000003E-2},0.19915240000000006]
[15544,1,5,5,4,4,19,{"$f":"IF(B620=1,\"0\",VLOOKUP(B620,coefficient2!$A$4:$B$7,2,FALSE))","v":"0"},{"$f":"IF(C620=1,\"0\",VLOOKUP(C620,coefficient2!$A$10:$B$13,2,FALSE))","v":0.2498763},{"$f":"IF(D620=1,\"0\",VLOOKUP(D620,coefficient2!$A$16:$B$19,2,FALSE))","v":0.248331},{"$f":"IF(E620=1,\"0\",VLOOKUP(E620,coefficient2!$A$22:$B$25,2,FALSE))","v":0.2068864},{"$f":"IF(F620=1,\"0\",VLOOKUP(F620,coefficient2!$A$28:$B$31,2,FALSE))","v":0.23270360000000001},6.2202700000000055E-2]
[15545,1,5,5,4,5,20,{"$f":"IF(B621=1,\"0\",VLOOKUP(B621,coefficient2!$A$4:$B$7,2,FALSE))","v":"0"},{"$f":"IF(C621=1,\"0\",VLOOKUP(C621,coefficient2!$A$10:$B$13,2,FALSE))","v":0.2498763},{"$f":"IF(D621=1,\"0\",VLOOKUP(D621,coefficient2!$A$16:$B$19,2,FALSE))","v":0.248331},{"$f":"IF(E621=1,\"0\",VLOOKUP(E621,coefficient2!$A$22:$B$25,2,FALSE))","v":0.2068864},{"$f":"IF(F621=1,\"0\",VLOOKUP(F621,coefficient2!$A$28:$B$31,2,FALSE))","v":0.29534929999999998},-4.4299999999991568E-4]
[15551,1,5,5,5,1,17,{"$f":"IF(B622=1,\"0\",VLOOKUP(B622,coefficient2!$A$4:$B$7,2,FALSE))","v":"0"},{"$f":"IF(C622=1,\"0\",VLOOKUP(C622,coefficient2!$A$10:$B$13,2,FALSE))","v":0.2498763},{"$f":"IF(D622=1,\"0\",VLOOKUP(D622,coefficient2!$A$16:$B$19,2,FALSE))","v":0.248331},{"$f":"IF(E622=1,\"0\",VLOOKUP(E622,coefficient2!$A$22:$B$25,2,FALSE))","v":0.25643310000000002},{"$f":"IF(F622=1,\"0\",VLOOKUP(F622,coefficient2!$A$28:$B$31,2,FALSE))","v":"0"},0.24535960000000007]
[15552,1,5,5,5,2,18,{"$f":"IF(B623=1,\"0\",VLOOKUP(B623,coefficient2!$A$4:$B$7,2,FALSE))","v":"0"},{"$f":"IF(C623=1,\"0\",VLOOKUP(C623,coefficient2!$A$10:$B$13,2,FALSE))","v":0.2498763},{"$f":"IF(D623=1,\"0\",VLOOKUP(D623,coefficient2!$A$16:$B$19,2,FALSE))","v":0.248331},{"$f":"IF(E623=1,\"0\",VLOOKUP(E623,coefficient2!$A$22:$B$25,2,FALSE))","v":0.25643310000000002},{"$f":"IF(F623=1,\"0\",VLOOKUP(F623,coefficient2!$A$28:$B$31,2,FALSE))","v":5.8085699999999997E-2},0.18727390000000008]
[15553,1,5,5,5,3,19,{"$f":"IF(B624=1,\"0\",VLOOKUP(B624,coefficient2!$A$4:$B$7,2,FALSE))","v":"0"},{"$f":"IF(C624=1,\"0\",VLOOKUP(C624,coefficient2!$A$10:$B$13,2,FALSE))","v":0.2498763},{"$f":"IF(D624=1,\"0\",VLOOKUP(D624,coefficient2!$A$16:$B$19,2,FALSE))","v":0.248331},{"$f":"IF(E624=1,\"0\",VLOOKUP(E624,coefficient2!$A$22:$B$25,2,FALSE))","v":0.25643310000000002},{"$f":"IF(F624=1,\"0\",VLOOKUP(F624,coefficient2!$A$28:$B$31,2,FALSE))","v":9.5753900000000003E-2},0.14960570000000006]
[15554,1,5,5,5,4,20,{"$f":"IF(B625=1,\"0\",VLOOKUP(B625,coefficient2!$A$4:$B$7,2,FALSE))","v":"0"},{"$f":"IF(C625=1,\"0\",VLOOKUP(C625,coefficient2!$A$10:$B$13,2,FALSE))","v":0.2498763},{"$f":"IF(D625=1,\"0\",VLOOKUP(D625,coefficient2!$A$16:$B$19,2,FALSE))","v":0.248331},{"$f":"IF(E625=1,\"0\",VLOOKUP(E625,coefficient2!$A$22:$B$25,2,FALSE))","v":0.25643310000000002},{"$f":"IF(F625=1,\"0\",VLOOKUP(F625,coefficient2!$A$28:$B$31,2,FALSE))","v":0.23270360000000001},1.2656000000000056E-2]
[15555,1,5,5,5,5,21,{"$f":"IF(B626=1,\"0\",VLOOKUP(B626,coefficient2!$A$4:$B$7,2,FALSE))","v":"0"},{"$f":"IF(C626=1,\"0\",VLOOKUP(C626,coefficient2!$A$10:$B$13,2,FALSE))","v":0.2498763},{"$f":"IF(D626=1,\"0\",VLOOKUP(D626,coefficient2!$A$16:$B$19,2,FALSE))","v":0.248331},{"$f":"IF(E626=1,\"0\",VLOOKUP(E626,coefficient2!$A$22:$B$25,2,FALSE))","v":0.25643310000000002},{"$f":"IF(F626=1,\"0\",VLOOKUP(F626,coefficient2!$A$28:$B$31,2,FALSE))","v":0.29534929999999998},-4.9989699999999915E-2]
[21111,2,1,1,1,1,6,{"$f":"IF(B627=1,\"0\",VLOOKUP(B627,coefficient2!$A$4:$B$7,2,FALSE))","v":6.6127000000000005E-2},{"$f":"IF(C627=1,\"0\",VLOOKUP(C627,coefficient2!$A$10:$B$13,2,FALSE))","v":"0"},{"$f":"IF(D627=1,\"0\",VLOOKUP(D627,coefficient2!$A$16:$B$19,2,FALSE))","v":"0"},{"$f":"IF(E627=1,\"0\",VLOOKUP(E627,coefficient2!$A$22:$B$25,2,FALSE))","v":"0"},{"$f":"IF(F627=1,\"0\",VLOOKUP(F627,coefficient2!$A$28:$B$31,2,FALSE))","v":"0"},0.93387299999999995]
[21112,2,1,1,1,2,7,{"$f":"IF(B628=1,\"0\",VLOOKUP(B628,coefficient2!$A$4:$B$7,2,FALSE))","v":6.6127000000000005E-2},{"$f":"IF(C628=1,\"0\",VLOOKUP(C628,coefficient2!$A$10:$B$13,2,FALSE))","v":"0"},{"$f":"IF(D628=1,\"0\",VLOOKUP(D628,coefficient2!$A$16:$B$19,2,FALSE))","v":"0"},{"$f":"IF(E628=1,\"0\",VLOOKUP(E628,coefficient2!$A$22:$B$25,2,FALSE))","v":"0"},{"$f":"IF(F628=1,\"0\",VLOOKUP(F628,coefficient2!$A$28:$B$31,2,FALSE))","v":5.8085699999999997E-2},0.87578729999999994]
[21113,2,1,1,1,3,8,{"$f":"IF(B629=1,\"0\",VLOOKUP(B629,coefficient2!$A$4:$B$7,2,FALSE))","v":6.6127000000000005E-2},{"$f":"IF(C629=1,\"0\",VLOOKUP(C629,coefficient2!$A$10:$B$13,2,FALSE))","v":"0"},{"$f":"IF(D629=1,\"0\",VLOOKUP(D629,coefficient2!$A$16:$B$19,2,FALSE))","v":"0"},{"$f":"IF(E629=1,\"0\",VLOOKUP(E629,coefficient2!$A$22:$B$25,2,FALSE))","v":"0"},{"$f":"IF(F629=1,\"0\",VLOOKUP(F629,coefficient2!$A$28:$B$31,2,FALSE))","v":9.5753900000000003E-2},0.83811909999999989]
[21114,2,1,1,1,4,9,{"$f":"IF(B630=1,\"0\",VLOOKUP(B630,coefficient2!$A$4:$B$7,2,FALSE))","v":6.6127000000000005E-2},{"$f":"IF(C630=1,\"0\",VLOOKUP(C630,coefficient2!$A$10:$B$13,2,FALSE))","v":"0"},{"$f":"IF(D630=1,\"0\",VLOOKUP(D630,coefficient2!$A$16:$B$19,2,FALSE))","v":"0"},{"$f":"IF(E630=1,\"0\",VLOOKUP(E630,coefficient2!$A$22:$B$25,2,FALSE))","v":"0"},{"$f":"IF(F630=1,\"0\",VLOOKUP(F630,coefficient2!$A$28:$B$31,2,FALSE))","v":0.23270360000000001},0.70116939999999994]
[21115,2,1,1,1,5,10,{"$f":"IF(B631=1,\"0\",VLOOKUP(B631,coefficient2!$A$4:$B$7,2,FALSE))","v":6.6127000000000005E-2},{"$f":"IF(C631=1,\"0\",VLOOKUP(C631,coefficient2!$A$10:$B$13,2,FALSE))","v":"0"},{"$f":"IF(D631=1,\"0\",VLOOKUP(D631,coefficient2!$A$16:$B$19,2,FALSE))","v":"0"},{"$f":"IF(E631=1,\"0\",VLOOKUP(E631,coefficient2!$A$22:$B$25,2,FALSE))","v":"0"},{"$f":"IF(F631=1,\"0\",VLOOKUP(F631,coefficient2!$A$28:$B$31,2,FALSE))","v":0.29534929999999998},0.63852369999999992]
[21121,2,1,1,2,1,7,{"$f":"IF(B632=1,\"0\",VLOOKUP(B632,coefficient2!$A$4:$B$7,2,FALSE))","v":6.6127000000000005E-2},{"$f":"IF(C632=1,\"0\",VLOOKUP(C632,coefficient2!$A$10:$B$13,2,FALSE))","v":"0"},{"$f":"IF(D632=1,\"0\",VLOOKUP(D632,coefficient2!$A$16:$B$19,2,FALSE))","v":"0"},{"$f":"IF(E632=1,\"0\",VLOOKUP(E632,coefficient2!$A$22:$B$25,2,FALSE))","v":5.63998E-2},{"$f":"IF(F632=1,\"0\",VLOOKUP(F632,coefficient2!$A$28:$B$31,2,FALSE))","v":"0"},0.87747319999999995]
[21122,2,1,1,2,2,8,{"$f":"IF(B633=1,\"0\",VLOOKUP(B633,coefficient2!$A$4:$B$7,2,FALSE))","v":6.6127000000000005E-2},{"$f":"IF(C633=1,\"0\",VLOOKUP(C633,coefficient2!$A$10:$B$13,2,FALSE))","v":"0"},{"$f":"IF(D633=1,\"0\",VLOOKUP(D633,coefficient2!$A$16:$B$19,2,FALSE))","v":"0"},{"$f":"IF(E633=1,\"0\",VLOOKUP(E633,coefficient2!$A$22:$B$25,2,FALSE))","v":5.63998E-2},{"$f":"IF(F633=1,\"0\",VLOOKUP(F633,coefficient2!$A$28:$B$31,2,FALSE))","v":5.8085699999999997E-2},0.81938749999999994]
[21123,2,1,1,2,3,9,{"$f":"IF(B634=1,\"0\",VLOOKUP(B634,coefficient2!$A$4:$B$7,2,FALSE))","v":6.6127000000000005E-2},{"$f":"IF(C634=1,\"0\",VLOOKUP(C634,coefficient2!$A$10:$B$13,2,FALSE))","v":"0"},{"$f":"IF(D634=1,\"0\",VLOOKUP(D634,coefficient2!$A$16:$B$19,2,FALSE))","v":"0"},{"$f":"IF(E634=1,\"0\",VLOOKUP(E634,coefficient2!$A$22:$B$25,2,FALSE))","v":5.63998E-2},{"$f":"IF(F634=1,\"0\",VLOOKUP(F634,coefficient2!$A$28:$B$31,2,FALSE))","v":9.5753900000000003E-2},0.78171930000000001]
[21124,2,1,1,2,4,10,{"$f":"IF(B635=1,\"0\",VLOOKUP(B635,coefficient2!$A$4:$B$7,2,FALSE))","v":6.6127000000000005E-2},{"$f":"IF(C635=1,\"0\",VLOOKUP(C635,coefficient2!$A$10:$B$13,2,FALSE))","v":"0"},{"$f":"IF(D635=1,\"0\",VLOOKUP(D635,coefficient2!$A$16:$B$19,2,FALSE))","v":"0"},{"$f":"IF(E635=1,\"0\",VLOOKUP(E635,coefficient2!$A$22:$B$25,2,FALSE))","v":5.63998E-2},{"$f":"IF(F635=1,\"0\",VLOOKUP(F635,coefficient2!$A$28:$B$31,2,FALSE))","v":0.23270360000000001},0.64476959999999994]
[21125,2,1,1,2,5,11,{"$f":"IF(B636=1,\"0\",VLOOKUP(B636,coefficient2!$A$4:$B$7,2,FALSE))","v":6.6127000000000005E-2},{"$f":"IF(C636=1,\"0\",VLOOKUP(C636,coefficient2!$A$10:$B$13,2,FALSE))","v":"0"},{"$f":"IF(D636=1,\"0\",VLOOKUP(D636,coefficient2!$A$16:$B$19,2,FALSE))","v":"0"},{"$f":"IF(E636=1,\"0\",VLOOKUP(E636,coefficient2!$A$22:$B$25,2,FALSE))","v":5.63998E-2},{"$f":"IF(F636=1,\"0\",VLOOKUP(F636,coefficient2!$A$28:$B$31,2,FALSE))","v":0.29534929999999998},0.58212390000000003]
[21131,2,1,1,3,1,8,{"$f":"IF(B637=1,\"0\",VLOOKUP(B637,coefficient2!$A$4:$B$7,2,FALSE))","v":6.6127000000000005E-2},{"$f":"IF(C637=1,\"0\",VLOOKUP(C637,coefficient2!$A$10:$B$13,2,FALSE))","v":"0"},{"$f":"IF(D637=1,\"0\",VLOOKUP(D637,coefficient2!$A$16:$B$19,2,FALSE))","v":"0"},{"$f":"IF(E637=1,\"0\",VLOOKUP(E637,coefficient2!$A$22:$B$25,2,FALSE))","v":6.6492200000000001E-2},{"$f":"IF(F637=1,\"0\",VLOOKUP(F637,coefficient2!$A$28:$B$31,2,FALSE))","v":"0"},0.86738079999999995]
[21132,2,1,1,3,2,9,{"$f":"IF(B638=1,\"0\",VLOOKUP(B638,coefficient2!$A$4:$B$7,2,FALSE))","v":6.6127000000000005E-2},{"$f":"IF(C638=1,\"0\",VLOOKUP(C638,coefficient2!$A$10:$B$13,2,FALSE))","v":"0"},{"$f":"IF(D638=1,\"0\",VLOOKUP(D638,coefficient2!$A$16:$B$19,2,FALSE))","v":"0"},{"$f":"IF(E638=1,\"0\",VLOOKUP(E638,coefficient2!$A$22:$B$25,2,FALSE))","v":6.6492200000000001E-2},{"$f":"IF(F638=1,\"0\",VLOOKUP(F638,coefficient2!$A$28:$B$31,2,FALSE))","v":5.8085699999999997E-2},0.80929509999999993]
[21133,2,1,1,3,3,10,{"$f":"IF(B639=1,\"0\",VLOOKUP(B639,coefficient2!$A$4:$B$7,2,FALSE))","v":6.6127000000000005E-2},{"$f":"IF(C639=1,\"0\",VLOOKUP(C639,coefficient2!$A$10:$B$13,2,FALSE))","v":"0"},{"$f":"IF(D639=1,\"0\",VLOOKUP(D639,coefficient2!$A$16:$B$19,2,FALSE))","v":"0"},{"$f":"IF(E639=1,\"0\",VLOOKUP(E639,coefficient2!$A$22:$B$25,2,FALSE))","v":6.6492200000000001E-2},{"$f":"IF(F639=1,\"0\",VLOOKUP(F639,coefficient2!$A$28:$B$31,2,FALSE))","v":9.5753900000000003E-2},0.7716269]
[21134,2,1,1,3,4,11,{"$f":"IF(B640=1,\"0\",VLOOKUP(B640,coefficient2!$A$4:$B$7,2,FALSE))","v":6.6127000000000005E-2},{"$f":"IF(C640=1,\"0\",VLOOKUP(C640,coefficient2!$A$10:$B$13,2,FALSE))","v":"0"},{"$f":"IF(D640=1,\"0\",VLOOKUP(D640,coefficient2!$A$16:$B$19,2,FALSE))","v":"0"},{"$f":"IF(E640=1,\"0\",VLOOKUP(E640,coefficient2!$A$22:$B$25,2,FALSE))","v":6.6492200000000001E-2},{"$f":"IF(F640=1,\"0\",VLOOKUP(F640,coefficient2!$A$28:$B$31,2,FALSE))","v":0.23270360000000001},0.63467719999999994]
[21135,2,1,1,3,5,12,{"$f":"IF(B641=1,\"0\",VLOOKUP(B641,coefficient2!$A$4:$B$7,2,FALSE))","v":6.6127000000000005E-2},{"$f":"IF(C641=1,\"0\",VLOOKUP(C641,coefficient2!$A$10:$B$13,2,FALSE))","v":"0"},{"$f":"IF(D641=1,\"0\",VLOOKUP(D641,coefficient2!$A$16:$B$19,2,FALSE))","v":"0"},{"$f":"IF(E641=1,\"0\",VLOOKUP(E641,coefficient2!$A$22:$B$25,2,FALSE))","v":6.6492200000000001E-2},{"$f":"IF(F641=1,\"0\",VLOOKUP(F641,coefficient2!$A$28:$B$31,2,FALSE))","v":0.29534929999999998},0.57203150000000003]
[21141,2,1,1,4,1,9,{"$f":"IF(B642=1,\"0\",VLOOKUP(B642,coefficient2!$A$4:$B$7,2,FALSE))","v":6.6127000000000005E-2},{"$f":"IF(C642=1,\"0\",VLOOKUP(C642,coefficient2!$A$10:$B$13,2,FALSE))","v":"0"},{"$f":"IF(D642=1,\"0\",VLOOKUP(D642,coefficient2!$A$16:$B$19,2,FALSE))","v":"0"},{"$f":"IF(E642=1,\"0\",VLOOKUP(E642,coefficient2!$A$22:$B$25,2,FALSE))","v":0.2068864},{"$f":"IF(F642=1,\"0\",VLOOKUP(F642,coefficient2!$A$28:$B$31,2,FALSE))","v":"0"},{"$f":"1-H642-I642-J642-K642-L642","v":0.72698659999999993}]
[21142,{"$f":"INT(LEFT(A643,1))","v":2},{"$f":"INT(MID(A643,2,1))","v":1},{"$f":"INT(MID(A643,3,1))","v":1},{"$f":"INT(MID(A643,4,1))","v":4},{"$f":"INT(RIGHT(A643,1))","v":2},{"$f":"SUM(B643:F643)","v":10},{"$f":"IF(B643=1,\"0\",VLOOKUP(B643,coefficient2!$A$4:$B$7,2,FALSE))","v":6.6127000000000005E-2},{"$f":"IF(C643=1,\"0\",VLOOKUP(C643,coefficient2!$A$10:$B$13,2,FALSE))","v":"0"},{"$f":"IF(D643=1,\"0\",VLOOKUP(D643,coefficient2!$A$16:$B$19,2,FALSE))","v":"0"},{"$f":"IF(E643=1,\"0\",VLOOKUP(E643,coefficient2!$A$22:$B$25,2,FALSE))","v":0.2068864},{"$f":"IF(F643=1,\"0\",VLOOKUP(F643,coefficient2!$A$28:$B$31,2,FALSE))","v":5.8085699999999997E-2},0.66890089999999991]
[21143,2,1,1,4,3,11,{"$f":"IF(B644=1,\"0\",VLOOKUP(B644,coefficient2!$A$4:$B$7,2,FALSE))","v":6.6127000000000005E-2},{"$f":"IF(C644=1,\"0\",VLOOKUP(C644,coefficient2!$A$10:$B$13,2,FALSE))","v":"0"},{"$f":"IF(D644=1,\"0\",VLOOKUP(D644,coefficient2!$A$16:$B$19,2,FALSE))","v":"0"},{"$f":"IF(E644=1,\"0\",VLOOKUP(E644,coefficient2!$A$22:$B$25,2,FALSE))","v":0.2068864},{"$f":"IF(F644=1,\"0\",VLOOKUP(F644,coefficient2!$A$28:$B$31,2,FALSE))","v":9.5753900000000003E-2},0.63123269999999998]
[21144,2,1,1,4,4,12,{"$f":"IF(B645=1,\"0\",VLOOKUP(B645,coefficient2!$A$4:$B$7,2,FALSE))","v":6.6127000000000005E-2},{"$f":"IF(C645=1,\"0\",VLOOKUP(C645,coefficient2!$A$10:$B$13,2,FALSE))","v":"0"},{"$f":"IF(D645=1,\"0\",VLOOKUP(D645,coefficient2!$A$16:$B$19,2,FALSE))","v":"0"},{"$f":"IF(E645=1,\"0\",VLOOKUP(E645,coefficient2!$A$22:$B$25,2,FALSE))","v":0.2068864},{"$f":"IF(F645=1,\"0\",VLOOKUP(F645,coefficient2!$A$28:$B$31,2,FALSE))","v":0.23270360000000001},0.49428299999999992]
[21145,2,1,1,4,5,13,{"$f":"IF(B646=1,\"0\",VLOOKUP(B646,coefficient2!$A$4:$B$7,2,FALSE))","v":6.6127000000000005E-2},{"$f":"IF(C646=1,\"0\",VLOOKUP(C646,coefficient2!$A$10:$B$13,2,FALSE))","v":"0"},{"$f":"IF(D646=1,\"0\",VLOOKUP(D646,coefficient2!$A$16:$B$19,2,FALSE))","v":"0"},{"$f":"IF(E646=1,\"0\",VLOOKUP(E646,coefficient2!$A$22:$B$25,2,FALSE))","v":0.2068864},{"$f":"IF(F646=1,\"0\",VLOOKUP(F646,coefficient2!$A$28:$B$31,2,FALSE))","v":0.29534929999999998},0.43163729999999995]
[21151,2,1,1,5,1,10,{"$f":"IF(B647=1,\"0\",VLOOKUP(B647,coefficient2!$A$4:$B$7,2,FALSE))","v":6.6127000000000005E-2},{"$f":"IF(C647=1,\"0\",VLOOKUP(C647,coefficient2!$A$10:$B$13,2,FALSE))","v":"0"},{"$f":"IF(D647=1,\"0\",VLOOKUP(D647,coefficient2!$A$16:$B$19,2,FALSE))","v":"0"},{"$f":"IF(E647=1,\"0\",VLOOKUP(E647,coefficient2!$A$22:$B$25,2,FALSE))","v":0.25643310000000002},{"$f":"IF(F647=1,\"0\",VLOOKUP(F647,coefficient2!$A$28:$B$31,2,FALSE))","v":"0"},0.67743989999999998]
[21152,2,1,1,5,2,11,{"$f":"IF(B648=1,\"0\",VLOOKUP(B648,coefficient2!$A$4:$B$7,2,FALSE))","v":6.6127000000000005E-2},{"$f":"IF(C648=1,\"0\",VLOOKUP(C648,coefficient2!$A$10:$B$13,2,FALSE))","v":"0"},{"$f":"IF(D648=1,\"0\",VLOOKUP(D648,coefficient2!$A$16:$B$19,2,FALSE))","v":"0"},{"$f":"IF(E648=1,\"0\",VLOOKUP(E648,coefficient2!$A$22:$B$25,2,FALSE))","v":0.25643310000000002},{"$f":"IF(F648=1,\"0\",VLOOKUP(F648,coefficient2!$A$28:$B$31,2,FALSE))","v":5.8085699999999997E-2},0.61935419999999997]
[21153,2,1,1,5,3,12,{"$f":"IF(B649=1,\"0\",VLOOKUP(B649,coefficient2!$A$4:$B$7,2,FALSE))","v":6.6127000000000005E-2},{"$f":"IF(C649=1,\"0\",VLOOKUP(C649,coefficient2!$A$10:$B$13,2,FALSE))","v":"0"},{"$f":"IF(D649=1,\"0\",VLOOKUP(D649,coefficient2!$A$16:$B$19,2,FALSE))","v":"0"},{"$f":"IF(E649=1,\"0\",VLOOKUP(E649,coefficient2!$A$22:$B$25,2,FALSE))","v":0.25643310000000002},{"$f":"IF(F649=1,\"0\",VLOOKUP(F649,coefficient2!$A$28:$B$31,2,FALSE))","v":9.5753900000000003E-2},0.58168599999999993]
[21154,2,1,1,5,4,13,{"$f":"IF(B650=1,\"0\",VLOOKUP(B650,coefficient2!$A$4:$B$7,2,FALSE))","v":6.6127000000000005E-2},{"$f":"IF(C650=1,\"0\",VLOOKUP(C650,coefficient2!$A$10:$B$13,2,FALSE))","v":"0"},{"$f":"IF(D650=1,\"0\",VLOOKUP(D650,coefficient2!$A$16:$B$19,2,FALSE))","v":"0"},{"$f":"IF(E650=1,\"0\",VLOOKUP(E650,coefficient2!$A$22:$B$25,2,FALSE))","v":0.25643310000000002},{"$f":"IF(F650=1,\"0\",VLOOKUP(F650,coefficient2!$A$28:$B$31,2,FALSE))","v":0.23270360000000001},0.44473629999999997]
[21155,2,1,1,5,5,14,{"$f":"IF(B651=1,\"0\",VLOOKUP(B651,coefficient2!$A$4:$B$7,2,FALSE))","v":6.6127000000000005E-2},{"$f":"IF(C651=1,\"0\",VLOOKUP(C651,coefficient2!$A$10:$B$13,2,FALSE))","v":"0"},{"$f":"IF(D651=1,\"0\",VLOOKUP(D651,coefficient2!$A$16:$B$19,2,FALSE))","v":"0"},{"$f":"IF(E651=1,\"0\",VLOOKUP(E651,coefficient2!$A$22:$B$25,2,FALSE))","v":0.25643310000000002},{"$f":"IF(F651=1,\"0\",VLOOKUP(F651,coefficient2!$A$28:$B$31,2,FALSE))","v":0.29534929999999998},0.3820906]
[21211,2,1,2,1,1,7,{"$f":"IF(B652=1,\"0\",VLOOKUP(B652,coefficient2!$A$4:$B$7,2,FALSE))","v":6.6127000000000005E-2},{"$f":"IF(C652=1,\"0\",VLOOKUP(C652,coefficient2!$A$10:$B$13,2,FALSE))","v":"0"},{"$f":"IF(D652=1,\"0\",VLOOKUP(D652,coefficient2!$A$16:$B$19,2,FALSE))","v":5.8254399999999998E-2},{"$f":"IF(E652=1,\"0\",VLOOKUP(E652,coefficient2!$A$22:$B$25,2,FALSE))","v":"0"},{"$f":"IF(F652=1,\"0\",VLOOKUP(F652,coefficient2!$A$28:$B$31,2,FALSE))","v":"0"},0.87561859999999991]
[21212,2,1,2,1,2,8,{"$f":"IF(B653=1,\"0\",VLOOKUP(B653,coefficient2!$A$4:$B$7,2,FALSE))","v":6.6127000000000005E-2},{"$f":"IF(C653=1,\"0\",VLOOKUP(C653,coefficient2!$A$10:$B$13,2,FALSE))","v":"0"},{"$f":"IF(D653=1,\"0\",VLOOKUP(D653,coefficient2!$A$16:$B$19,2,FALSE))","v":5.8254399999999998E-2},{"$f":"IF(E653=1,\"0\",VLOOKUP(E653,coefficient2!$A$22:$B$25,2,FALSE))","v":"0"},{"$f":"IF(F653=1,\"0\",VLOOKUP(F653,coefficient2!$A$28:$B$31,2,FALSE))","v":5.8085699999999997E-2},0.8175328999999999]
[21213,2,1,2,1,3,9,{"$f":"IF(B654=1,\"0\",VLOOKUP(B654,coefficient2!$A$4:$B$7,2,FALSE))","v":6.6127000000000005E-2},{"$f":"IF(C654=1,\"0\",VLOOKUP(C654,coefficient2!$A$10:$B$13,2,FALSE))","v":"0"},{"$f":"IF(D654=1,\"0\",VLOOKUP(D654,coefficient2!$A$16:$B$19,2,FALSE))","v":5.8254399999999998E-2},{"$f":"IF(E654=1,\"0\",VLOOKUP(E654,coefficient2!$A$22:$B$25,2,FALSE))","v":"0"},{"$f":"IF(F654=1,\"0\",VLOOKUP(F654,coefficient2!$A$28:$B$31,2,FALSE))","v":9.5753900000000003E-2},0.77986469999999986]
[21214,2,1,2,1,4,10,{"$f":"IF(B655=1,\"0\",VLOOKUP(B655,coefficient2!$A$4:$B$7,2,FALSE))","v":6.6127000000000005E-2},{"$f":"IF(C655=1,\"0\",VLOOKUP(C655,coefficient2!$A$10:$B$13,2,FALSE))","v":"0"},{"$f":"IF(D655=1,\"0\",VLOOKUP(D655,coefficient2!$A$16:$B$19,2,FALSE))","v":5.8254399999999998E-2},{"$f":"IF(E655=1,\"0\",VLOOKUP(E655,coefficient2!$A$22:$B$25,2,FALSE))","v":"0"},{"$f":"IF(F655=1,\"0\",VLOOKUP(F655,coefficient2!$A$28:$B$31,2,FALSE))","v":0.23270360000000001},0.6429149999999999]
[21215,2,1,2,1,5,11,{"$f":"IF(B656=1,\"0\",VLOOKUP(B656,coefficient2!$A$4:$B$7,2,FALSE))","v":6.6127000000000005E-2},{"$f":"IF(C656=1,\"0\",VLOOKUP(C656,coefficient2!$A$10:$B$13,2,FALSE))","v":"0"},{"$f":"IF(D656=1,\"0\",VLOOKUP(D656,coefficient2!$A$16:$B$19,2,FALSE))","v":5.8254399999999998E-2},{"$f":"IF(E656=1,\"0\",VLOOKUP(E656,coefficient2!$A$22:$B$25,2,FALSE))","v":"0"},{"$f":"IF(F656=1,\"0\",VLOOKUP(F656,coefficient2!$A$28:$B$31,2,FALSE))","v":0.29534929999999998},0.58026929999999988]
[21221,2,1,2,2,1,8,{"$f":"IF(B657=1,\"0\",VLOOKUP(B657,coefficient2!$A$4:$B$7,2,FALSE))","v":6.6127000000000005E-2},{"$f":"IF(C657=1,\"0\",VLOOKUP(C657,coefficient2!$A$10:$B$13,2,FALSE))","v":"0"},{"$f":"IF(D657=1,\"0\",VLOOKUP(D657,coefficient2!$A$16:$B$19,2,FALSE))","v":5.8254399999999998E-2},{"$f":"IF(E657=1,\"0\",VLOOKUP(E657,coefficient2!$A$22:$B$25,2,FALSE))","v":5.63998E-2},{"$f":"IF(F657=1,\"0\",VLOOKUP(F657,coefficient2!$A$28:$B$31,2,FALSE))","v":"0"},0.81921879999999991]
[21222,2,1,2,2,2,9,{"$f":"IF(B658=1,\"0\",VLOOKUP(B658,coefficient2!$A$4:$B$7,2,FALSE))","v":6.6127000000000005E-2},{"$f":"IF(C658=1,\"0\",VLOOKUP(C658,coefficient2!$A$10:$B$13,2,FALSE))","v":"0"},{"$f":"IF(D658=1,\"0\",VLOOKUP(D658,coefficient2!$A$16:$B$19,2,FALSE))","v":5.8254399999999998E-2},{"$f":"IF(E658=1,\"0\",VLOOKUP(E658,coefficient2!$A$22:$B$25,2,FALSE))","v":5.63998E-2},{"$f":"IF(F658=1,\"0\",VLOOKUP(F658,coefficient2!$A$28:$B$31,2,FALSE))","v":5.8085699999999997E-2},0.7611330999999999]
[21223,2,1,2,2,3,10,{"$f":"IF(B659=1,\"0\",VLOOKUP(B659,coefficient2!$A$4:$B$7,2,FALSE))","v":6.6127000000000005E-2},{"$f":"IF(C659=1,\"0\",VLOOKUP(C659,coefficient2!$A$10:$B$13,2,FALSE))","v":"0"},{"$f":"IF(D659=1,\"0\",VLOOKUP(D659,coefficient2!$A$16:$B$19,2,FALSE))","v":5.8254399999999998E-2},{"$f":"IF(E659=1,\"0\",VLOOKUP(E659,coefficient2!$A$22:$B$25,2,FALSE))","v":5.63998E-2},{"$f":"IF(F659=1,\"0\",VLOOKUP(F659,coefficient2!$A$28:$B$31,2,FALSE))","v":9.5753900000000003E-2},0.72346489999999997]
[21224,2,1,2,2,4,11,{"$f":"IF(B660=1,\"0\",VLOOKUP(B660,coefficient2!$A$4:$B$7,2,FALSE))","v":6.6127000000000005E-2},{"$f":"IF(C660=1,\"0\",VLOOKUP(C660,coefficient2!$A$10:$B$13,2,FALSE))","v":"0"},{"$f":"IF(D660=1,\"0\",VLOOKUP(D660,coefficient2!$A$16:$B$19,2,FALSE))","v":5.8254399999999998E-2},{"$f":"IF(E660=1,\"0\",VLOOKUP(E660,coefficient2!$A$22:$B$25,2,FALSE))","v":5.63998E-2},{"$f":"IF(F660=1,\"0\",VLOOKUP(F660,coefficient2!$A$28:$B$31,2,FALSE))","v":0.23270360000000001},0.5865151999999999]
[21225,2,1,2,2,5,12,{"$f":"IF(B661=1,\"0\",VLOOKUP(B661,coefficient2!$A$4:$B$7,2,FALSE))","v":6.6127000000000005E-2},{"$f":"IF(C661=1,\"0\",VLOOKUP(C661,coefficient2!$A$10:$B$13,2,FALSE))","v":"0"},{"$f":"IF(D661=1,\"0\",VLOOKUP(D661,coefficient2!$A$16:$B$19,2,FALSE))","v":5.8254399999999998E-2},{"$f":"IF(E661=1,\"0\",VLOOKUP(E661,coefficient2!$A$22:$B$25,2,FALSE))","v":5.63998E-2},{"$f":"IF(F661=1,\"0\",VLOOKUP(F661,coefficient2!$A$28:$B$31,2,FALSE))","v":0.29534929999999998},0.52386949999999999]
[21231,2,1,2,3,1,9,{"$f":"IF(B662=1,\"0\",VLOOKUP(B662,coefficient2!$A$4:$B$7,2,FALSE))","v":6.6127000000000005E-2},{"$f":"IF(C662=1,\"0\",VLOOKUP(C662,coefficient2!$A$10:$B$13,2,FALSE))","v":"0"},{"$f":"IF(D662=1,\"0\",VLOOKUP(D662,coefficient2!$A$16:$B$19,2,FALSE))","v":5.8254399999999998E-2},{"$f":"IF(E662=1,\"0\",VLOOKUP(E662,coefficient2!$A$22:$B$25,2,FALSE))","v":6.6492200000000001E-2},{"$f":"IF(F662=1,\"0\",VLOOKUP(F662,coefficient2!$A$28:$B$31,2,FALSE))","v":"0"},0.80912639999999991]
[21232,2,1,2,3,2,10,{"$f":"IF(B663=1,\"0\",VLOOKUP(B663,coefficient2!$A$4:$B$7,2,FALSE))","v":6.6127000000000005E-2},{"$f":"IF(C663=1,\"0\",VLOOKUP(C663,coefficient2!$A$10:$B$13,2,FALSE))","v":"0"},{"$f":"IF(D663=1,\"0\",VLOOKUP(D663,coefficient2!$A$16:$B$19,2,FALSE))","v":5.8254399999999998E-2},{"$f":"IF(E663=1,\"0\",VLOOKUP(E663,coefficient2!$A$22:$B$25,2,FALSE))","v":6.6492200000000001E-2},{"$f":"IF(F663=1,\"0\",VLOOKUP(F663,coefficient2!$A$28:$B$31,2,FALSE))","v":5.8085699999999997E-2},0.75104069999999989]
[21233,2,1,2,3,3,11,{"$f":"IF(B664=1,\"0\",VLOOKUP(B664,coefficient2!$A$4:$B$7,2,FALSE))","v":6.6127000000000005E-2},{"$f":"IF(C664=1,\"0\",VLOOKUP(C664,coefficient2!$A$10:$B$13,2,FALSE))","v":"0"},{"$f":"IF(D664=1,\"0\",VLOOKUP(D664,coefficient2!$A$16:$B$19,2,FALSE))","v":5.8254399999999998E-2},{"$f":"IF(E664=1,\"0\",VLOOKUP(E664,coefficient2!$A$22:$B$25,2,FALSE))","v":6.6492200000000001E-2},{"$f":"IF(F664=1,\"0\",VLOOKUP(F664,coefficient2!$A$28:$B$31,2,FALSE))","v":9.5753900000000003E-2},0.71337249999999996]
[21234,2,1,2,3,4,12,{"$f":"IF(B665=1,\"0\",VLOOKUP(B665,coefficient2!$A$4:$B$7,2,FALSE))","v":6.6127000000000005E-2},{"$f":"IF(C665=1,\"0\",VLOOKUP(C665,coefficient2!$A$10:$B$13,2,FALSE))","v":"0"},{"$f":"IF(D665=1,\"0\",VLOOKUP(D665,coefficient2!$A$16:$B$19,2,FALSE))","v":5.8254399999999998E-2},{"$f":"IF(E665=1,\"0\",VLOOKUP(E665,coefficient2!$A$22:$B$25,2,FALSE))","v":6.6492200000000001E-2},{"$f":"IF(F665=1,\"0\",VLOOKUP(F665,coefficient2!$A$28:$B$31,2,FALSE))","v":0.23270360000000001},0.5764227999999999]
[21235,2,1,2,3,5,13,{"$f":"IF(B666=1,\"0\",VLOOKUP(B666,coefficient2!$A$4:$B$7,2,FALSE))","v":6.6127000000000005E-2},{"$f":"IF(C666=1,\"0\",VLOOKUP(C666,coefficient2!$A$10:$B$13,2,FALSE))","v":"0"},{"$f":"IF(D666=1,\"0\",VLOOKUP(D666,coefficient2!$A$16:$B$19,2,FALSE))","v":5.8254399999999998E-2},{"$f":"IF(E666=1,\"0\",VLOOKUP(E666,coefficient2!$A$22:$B$25,2,FALSE))","v":6.6492200000000001E-2},{"$f":"IF(F666=1,\"0\",VLOOKUP(F666,coefficient2!$A$28:$B$31,2,FALSE))","v":0.29534929999999998},0.51377709999999999]
[21241,2,1,2,4,1,10,{"$f":"IF(B667=1,\"0\",VLOOKUP(B667,coefficient2!$A$4:$B$7,2,FALSE))","v":6.6127000000000005E-2},{"$f":"IF(C667=1,\"0\",VLOOKUP(C667,coefficient2!$A$10:$B$13,2,FALSE))","v":"0"},{"$f":"IF(D667=1,\"0\",VLOOKUP(D667,coefficient2!$A$16:$B$19,2,FALSE))","v":5.8254399999999998E-2},{"$f":"IF(E667=1,\"0\",VLOOKUP(E667,coefficient2!$A$22:$B$25,2,FALSE))","v":0.2068864},{"$f":"IF(F667=1,\"0\",VLOOKUP(F667,coefficient2!$A$28:$B$31,2,FALSE))","v":"0"},0.66873219999999989]
[21242,2,1,2,4,2,11,{"$f":"IF(B668=1,\"0\",VLOOKUP(B668,coefficient2!$A$4:$B$7,2,FALSE))","v":6.6127000000000005E-2},{"$f":"IF(C668=1,\"0\",VLOOKUP(C668,coefficient2!$A$10:$B$13,2,FALSE))","v":"0"},{"$f":"IF(D668=1,\"0\",VLOOKUP(D668,coefficient2!$A$16:$B$19,2,FALSE))","v":5.8254399999999998E-2},{"$f":"IF(E668=1,\"0\",VLOOKUP(E668,coefficient2!$A$22:$B$25,2,FALSE))","v":0.2068864},{"$f":"IF(F668=1,\"0\",VLOOKUP(F668,coefficient2!$A$28:$B$31,2,FALSE))","v":5.8085699999999997E-2},0.61064649999999987]
[21243,2,1,2,4,3,12,{"$f":"IF(B669=1,\"0\",VLOOKUP(B669,coefficient2!$A$4:$B$7,2,FALSE))","v":6.6127000000000005E-2},{"$f":"IF(C669=1,\"0\",VLOOKUP(C669,coefficient2!$A$10:$B$13,2,FALSE))","v":"0"},{"$f":"IF(D669=1,\"0\",VLOOKUP(D669,coefficient2!$A$16:$B$19,2,FALSE))","v":5.8254399999999998E-2},{"$f":"IF(E669=1,\"0\",VLOOKUP(E669,coefficient2!$A$22:$B$25,2,FALSE))","v":0.2068864},{"$f":"IF(F669=1,\"0\",VLOOKUP(F669,coefficient2!$A$28:$B$31,2,FALSE))","v":9.5753900000000003E-2},0.57297829999999994]
[21244,2,1,2,4,4,13,{"$f":"IF(B670=1,\"0\",VLOOKUP(B670,coefficient2!$A$4:$B$7,2,FALSE))","v":6.6127000000000005E-2},{"$f":"IF(C670=1,\"0\",VLOOKUP(C670,coefficient2!$A$10:$B$13,2,FALSE))","v":"0"},{"$f":"IF(D670=1,\"0\",VLOOKUP(D670,coefficient2!$A$16:$B$19,2,FALSE))","v":5.8254399999999998E-2},{"$f":"IF(E670=1,\"0\",VLOOKUP(E670,coefficient2!$A$22:$B$25,2,FALSE))","v":0.2068864},{"$f":"IF(F670=1,\"0\",VLOOKUP(F670,coefficient2!$A$28:$B$31,2,FALSE))","v":0.23270360000000001},0.43602859999999988]
[21245,2,1,2,4,5,14,{"$f":"IF(B671=1,\"0\",VLOOKUP(B671,coefficient2!$A$4:$B$7,2,FALSE))","v":6.6127000000000005E-2},{"$f":"IF(C671=1,\"0\",VLOOKUP(C671,coefficient2!$A$10:$B$13,2,FALSE))","v":"0"},{"$f":"IF(D671=1,\"0\",VLOOKUP(D671,coefficient2!$A$16:$B$19,2,FALSE))","v":5.8254399999999998E-2},{"$f":"IF(E671=1,\"0\",VLOOKUP(E671,coefficient2!$A$22:$B$25,2,FALSE))","v":0.2068864},{"$f":"IF(F671=1,\"0\",VLOOKUP(F671,coefficient2!$A$28:$B$31,2,FALSE))","v":0.29534929999999998},0.37338289999999991]
[21251,2,1,2,5,1,11,{"$f":"IF(B672=1,\"0\",VLOOKUP(B672,coefficient2!$A$4:$B$7,2,FALSE))","v":6.6127000000000005E-2},{"$f":"IF(C672=1,\"0\",VLOOKUP(C672,coefficient2!$A$10:$B$13,2,FALSE))","v":"0"},{"$f":"IF(D672=1,\"0\",VLOOKUP(D672,coefficient2!$A$16:$B$19,2,FALSE))","v":5.8254399999999998E-2},{"$f":"IF(E672=1,\"0\",VLOOKUP(E672,coefficient2!$A$22:$B$25,2,FALSE))","v":0.25643310000000002},{"$f":"IF(F672=1,\"0\",VLOOKUP(F672,coefficient2!$A$28:$B$31,2,FALSE))","v":"0"},0.61918549999999994]
[21252,2,1,2,5,2,12,{"$f":"IF(B673=1,\"0\",VLOOKUP(B673,coefficient2!$A$4:$B$7,2,FALSE))","v":6.6127000000000005E-2},{"$f":"IF(C673=1,\"0\",VLOOKUP(C673,coefficient2!$A$10:$B$13,2,FALSE))","v":"0"},{"$f":"IF(D673=1,\"0\",VLOOKUP(D673,coefficient2!$A$16:$B$19,2,FALSE))","v":5.8254399999999998E-2},{"$f":"IF(E673=1,\"0\",VLOOKUP(E673,coefficient2!$A$22:$B$25,2,FALSE))","v":0.25643310000000002},{"$f":"IF(F673=1,\"0\",VLOOKUP(F673,coefficient2!$A$28:$B$31,2,FALSE))","v":5.8085699999999997E-2},0.56109979999999993]
[21253,2,1,2,5,3,13,{"$f":"IF(B674=1,\"0\",VLOOKUP(B674,coefficient2!$A$4:$B$7,2,FALSE))","v":6.6127000000000005E-2},{"$f":"IF(C674=1,\"0\",VLOOKUP(C674,coefficient2!$A$10:$B$13,2,FALSE))","v":"0"},{"$f":"IF(D674=1,\"0\",VLOOKUP(D674,coefficient2!$A$16:$B$19,2,FALSE))","v":5.8254399999999998E-2},{"$f":"IF(E674=1,\"0\",VLOOKUP(E674,coefficient2!$A$22:$B$25,2,FALSE))","v":0.25643310000000002},{"$f":"IF(F674=1,\"0\",VLOOKUP(F674,coefficient2!$A$28:$B$31,2,FALSE))","v":9.5753900000000003E-2},0.52343159999999989]
[21254,2,1,2,5,4,14,{"$f":"IF(B675=1,\"0\",VLOOKUP(B675,coefficient2!$A$4:$B$7,2,FALSE))","v":6.6127000000000005E-2},{"$f":"IF(C675=1,\"0\",VLOOKUP(C675,coefficient2!$A$10:$B$13,2,FALSE))","v":"0"},{"$f":"IF(D675=1,\"0\",VLOOKUP(D675,coefficient2!$A$16:$B$19,2,FALSE))","v":5.8254399999999998E-2},{"$f":"IF(E675=1,\"0\",VLOOKUP(E675,coefficient2!$A$22:$B$25,2,FALSE))","v":0.25643310000000002},{"$f":"IF(F675=1,\"0\",VLOOKUP(F675,coefficient2!$A$28:$B$31,2,FALSE))","v":0.23270360000000001},0.38648189999999993]
[21255,2,1,2,5,5,15,{"$f":"IF(B676=1,\"0\",VLOOKUP(B676,coefficient2!$A$4:$B$7,2,FALSE))","v":6.6127000000000005E-2},{"$f":"IF(C676=1,\"0\",VLOOKUP(C676,coefficient2!$A$10:$B$13,2,FALSE))","v":"0"},{"$f":"IF(D676=1,\"0\",VLOOKUP(D676,coefficient2!$A$16:$B$19,2,FALSE))","v":5.8254399999999998E-2},{"$f":"IF(E676=1,\"0\",VLOOKUP(E676,coefficient2!$A$22:$B$25,2,FALSE))","v":0.25643310000000002},{"$f":"IF(F676=1,\"0\",VLOOKUP(F676,coefficient2!$A$28:$B$31,2,FALSE))","v":0.29534929999999998},0.32383619999999996]
[21311,2,1,3,1,1,8,{"$f":"IF(B677=1,\"0\",VLOOKUP(B677,coefficient2!$A$4:$B$7,2,FALSE))","v":6.6127000000000005E-2},{"$f":"IF(C677=1,\"0\",VLOOKUP(C677,coefficient2!$A$10:$B$13,2,FALSE))","v":"0"},{"$f":"IF(D677=1,\"0\",VLOOKUP(D677,coefficient2!$A$16:$B$19,2,FALSE))","v":7.1197399999999994E-2},{"$f":"IF(E677=1,\"0\",VLOOKUP(E677,coefficient2!$A$22:$B$25,2,FALSE))","v":"0"},{"$f":"IF(F677=1,\"0\",VLOOKUP(F677,coefficient2!$A$28:$B$31,2,FALSE))","v":"0"},0.86267559999999999]
[21312,2,1,3,1,2,9,{"$f":"IF(B678=1,\"0\",VLOOKUP(B678,coefficient2!$A$4:$B$7,2,FALSE))","v":6.6127000000000005E-2},{"$f":"IF(C678=1,\"0\",VLOOKUP(C678,coefficient2!$A$10:$B$13,2,FALSE))","v":"0"},{"$f":"IF(D678=1,\"0\",VLOOKUP(D678,coefficient2!$A$16:$B$19,2,FALSE))","v":7.1197399999999994E-2},{"$f":"IF(E678=1,\"0\",VLOOKUP(E678,coefficient2!$A$22:$B$25,2,FALSE))","v":"0"},{"$f":"IF(F678=1,\"0\",VLOOKUP(F678,coefficient2!$A$28:$B$31,2,FALSE))","v":5.8085699999999997E-2},0.80458989999999997]
[21313,2,1,3,1,3,10,{"$f":"IF(B679=1,\"0\",VLOOKUP(B679,coefficient2!$A$4:$B$7,2,FALSE))","v":6.6127000000000005E-2},{"$f":"IF(C679=1,\"0\",VLOOKUP(C679,coefficient2!$A$10:$B$13,2,FALSE))","v":"0"},{"$f":"IF(D679=1,\"0\",VLOOKUP(D679,coefficient2!$A$16:$B$19,2,FALSE))","v":7.1197399999999994E-2},{"$f":"IF(E679=1,\"0\",VLOOKUP(E679,coefficient2!$A$22:$B$25,2,FALSE))","v":"0"},{"$f":"IF(F679=1,\"0\",VLOOKUP(F679,coefficient2!$A$28:$B$31,2,FALSE))","v":9.5753900000000003E-2},0.76692169999999993]
[21314,2,1,3,1,4,11,{"$f":"IF(B680=1,\"0\",VLOOKUP(B680,coefficient2!$A$4:$B$7,2,FALSE))","v":6.6127000000000005E-2},{"$f":"IF(C680=1,\"0\",VLOOKUP(C680,coefficient2!$A$10:$B$13,2,FALSE))","v":"0"},{"$f":"IF(D680=1,\"0\",VLOOKUP(D680,coefficient2!$A$16:$B$19,2,FALSE))","v":7.1197399999999994E-2},{"$f":"IF(E680=1,\"0\",VLOOKUP(E680,coefficient2!$A$22:$B$25,2,FALSE))","v":"0"},{"$f":"IF(F680=1,\"0\",VLOOKUP(F680,coefficient2!$A$28:$B$31,2,FALSE))","v":0.23270360000000001},0.62997199999999998]
[21315,2,1,3,1,5,12,{"$f":"IF(B681=1,\"0\",VLOOKUP(B681,coefficient2!$A$4:$B$7,2,FALSE))","v":6.6127000000000005E-2},{"$f":"IF(C681=1,\"0\",VLOOKUP(C681,coefficient2!$A$10:$B$13,2,FALSE))","v":"0"},{"$f":"IF(D681=1,\"0\",VLOOKUP(D681,coefficient2!$A$16:$B$19,2,FALSE))","v":7.1197399999999994E-2},{"$f":"IF(E681=1,\"0\",VLOOKUP(E681,coefficient2!$A$22:$B$25,2,FALSE))","v":"0"},{"$f":"IF(F681=1,\"0\",VLOOKUP(F681,coefficient2!$A$28:$B$31,2,FALSE))","v":0.29534929999999998},0.56732629999999995]
[21321,2,1,3,2,1,9,{"$f":"IF(B682=1,\"0\",VLOOKUP(B682,coefficient2!$A$4:$B$7,2,FALSE))","v":6.6127000000000005E-2},{"$f":"IF(C682=1,\"0\",VLOOKUP(C682,coefficient2!$A$10:$B$13,2,FALSE))","v":"0"},{"$f":"IF(D682=1,\"0\",VLOOKUP(D682,coefficient2!$A$16:$B$19,2,FALSE))","v":7.1197399999999994E-2},{"$f":"IF(E682=1,\"0\",VLOOKUP(E682,coefficient2!$A$22:$B$25,2,FALSE))","v":5.63998E-2},{"$f":"IF(F682=1,\"0\",VLOOKUP(F682,coefficient2!$A$28:$B$31,2,FALSE))","v":"0"},0.80627579999999999]
[21322,2,1,3,2,2,10,{"$f":"IF(B683=1,\"0\",VLOOKUP(B683,coefficient2!$A$4:$B$7,2,FALSE))","v":6.6127000000000005E-2},{"$f":"IF(C683=1,\"0\",VLOOKUP(C683,coefficient2!$A$10:$B$13,2,FALSE))","v":"0"},{"$f":"IF(D683=1,\"0\",VLOOKUP(D683,coefficient2!$A$16:$B$19,2,FALSE))","v":7.1197399999999994E-2},{"$f":"IF(E683=1,\"0\",VLOOKUP(E683,coefficient2!$A$22:$B$25,2,FALSE))","v":5.63998E-2},{"$f":"IF(F683=1,\"0\",VLOOKUP(F683,coefficient2!$A$28:$B$31,2,FALSE))","v":5.8085699999999997E-2},0.74819009999999997]
[21323,2,1,3,2,3,11,{"$f":"IF(B684=1,\"0\",VLOOKUP(B684,coefficient2!$A$4:$B$7,2,FALSE))","v":6.6127000000000005E-2},{"$f":"IF(C684=1,\"0\",VLOOKUP(C684,coefficient2!$A$10:$B$13,2,FALSE))","v":"0"},{"$f":"IF(D684=1,\"0\",VLOOKUP(D684,coefficient2!$A$16:$B$19,2,FALSE))","v":7.1197399999999994E-2},{"$f":"IF(E684=1,\"0\",VLOOKUP(E684,coefficient2!$A$22:$B$25,2,FALSE))","v":5.63998E-2},{"$f":"IF(F684=1,\"0\",VLOOKUP(F684,coefficient2!$A$28:$B$31,2,FALSE))","v":9.5753900000000003E-2},0.71052190000000004]
[21324,2,1,3,2,4,12,{"$f":"IF(B685=1,\"0\",VLOOKUP(B685,coefficient2!$A$4:$B$7,2,FALSE))","v":6.6127000000000005E-2},{"$f":"IF(C685=1,\"0\",VLOOKUP(C685,coefficient2!$A$10:$B$13,2,FALSE))","v":"0"},{"$f":"IF(D685=1,\"0\",VLOOKUP(D685,coefficient2!$A$16:$B$19,2,FALSE))","v":7.1197399999999994E-2},{"$f":"IF(E685=1,\"0\",VLOOKUP(E685,coefficient2!$A$22:$B$25,2,FALSE))","v":5.63998E-2},{"$f":"IF(F685=1,\"0\",VLOOKUP(F685,coefficient2!$A$28:$B$31,2,FALSE))","v":0.23270360000000001},0.57357219999999998]
[21325,2,1,3,2,5,13,{"$f":"IF(B686=1,\"0\",VLOOKUP(B686,coefficient2!$A$4:$B$7,2,FALSE))","v":6.6127000000000005E-2},{"$f":"IF(C686=1,\"0\",VLOOKUP(C686,coefficient2!$A$10:$B$13,2,FALSE))","v":"0"},{"$f":"IF(D686=1,\"0\",VLOOKUP(D686,coefficient2!$A$16:$B$19,2,FALSE))","v":7.1197399999999994E-2},{"$f":"IF(E686=1,\"0\",VLOOKUP(E686,coefficient2!$A$22:$B$25,2,FALSE))","v":5.63998E-2},{"$f":"IF(F686=1,\"0\",VLOOKUP(F686,coefficient2!$A$28:$B$31,2,FALSE))","v":0.29534929999999998},0.51092650000000006]
[21331,2,1,3,3,1,10,{"$f":"IF(B687=1,\"0\",VLOOKUP(B687,coefficient2!$A$4:$B$7,2,FALSE))","v":6.6127000000000005E-2},{"$f":"IF(C687=1,\"0\",VLOOKUP(C687,coefficient2!$A$10:$B$13,2,FALSE))","v":"0"},{"$f":"IF(D687=1,\"0\",VLOOKUP(D687,coefficient2!$A$16:$B$19,2,FALSE))","v":7.1197399999999994E-2},{"$f":"IF(E687=1,\"0\",VLOOKUP(E687,coefficient2!$A$22:$B$25,2,FALSE))","v":6.6492200000000001E-2},{"$f":"IF(F687=1,\"0\",VLOOKUP(F687,coefficient2!$A$28:$B$31,2,FALSE))","v":"0"},0.79618339999999999]
[21332,2,1,3,3,2,11,{"$f":"IF(B688=1,\"0\",VLOOKUP(B688,coefficient2!$A$4:$B$7,2,FALSE))","v":6.6127000000000005E-2},{"$f":"IF(C688=1,\"0\",VLOOKUP(C688,coefficient2!$A$10:$B$13,2,FALSE))","v":"0"},{"$f":"IF(D688=1,\"0\",VLOOKUP(D688,coefficient2!$A$16:$B$19,2,FALSE))","v":7.1197399999999994E-2},{"$f":"IF(E688=1,\"0\",VLOOKUP(E688,coefficient2!$A$22:$B$25,2,FALSE))","v":6.6492200000000001E-2},{"$f":"IF(F688=1,\"0\",VLOOKUP(F688,coefficient2!$A$28:$B$31,2,FALSE))","v":5.8085699999999997E-2},0.73809769999999997]
[21333,2,1,3,3,3,12,{"$f":"IF(B689=1,\"0\",VLOOKUP(B689,coefficient2!$A$4:$B$7,2,FALSE))","v":6.6127000000000005E-2},{"$f":"IF(C689=1,\"0\",VLOOKUP(C689,coefficient2!$A$10:$B$13,2,FALSE))","v":"0"},{"$f":"IF(D689=1,\"0\",VLOOKUP(D689,coefficient2!$A$16:$B$19,2,FALSE))","v":7.1197399999999994E-2},{"$f":"IF(E689=1,\"0\",VLOOKUP(E689,coefficient2!$A$22:$B$25,2,FALSE))","v":6.6492200000000001E-2},{"$f":"IF(F689=1,\"0\",VLOOKUP(F689,coefficient2!$A$28:$B$31,2,FALSE))","v":9.5753900000000003E-2},0.70042950000000004]
[21334,2,1,3,3,4,13,{"$f":"IF(B690=1,\"0\",VLOOKUP(B690,coefficient2!$A$4:$B$7,2,FALSE))","v":6.6127000000000005E-2},{"$f":"IF(C690=1,\"0\",VLOOKUP(C690,coefficient2!$A$10:$B$13,2,FALSE))","v":"0"},{"$f":"IF(D690=1,\"0\",VLOOKUP(D690,coefficient2!$A$16:$B$19,2,FALSE))","v":7.1197399999999994E-2},{"$f":"IF(E690=1,\"0\",VLOOKUP(E690,coefficient2!$A$22:$B$25,2,FALSE))","v":6.6492200000000001E-2},{"$f":"IF(F690=1,\"0\",VLOOKUP(F690,coefficient2!$A$28:$B$31,2,FALSE))","v":0.23270360000000001},0.56347979999999998]
[21335,2,1,3,3,5,14,{"$f":"IF(B691=1,\"0\",VLOOKUP(B691,coefficient2!$A$4:$B$7,2,FALSE))","v":6.6127000000000005E-2},{"$f":"IF(C691=1,\"0\",VLOOKUP(C691,coefficient2!$A$10:$B$13,2,FALSE))","v":"0"},{"$f":"IF(D691=1,\"0\",VLOOKUP(D691,coefficient2!$A$16:$B$19,2,FALSE))","v":7.1197399999999994E-2},{"$f":"IF(E691=1,\"0\",VLOOKUP(E691,coefficient2!$A$22:$B$25,2,FALSE))","v":6.6492200000000001E-2},{"$f":"IF(F691=1,\"0\",VLOOKUP(F691,coefficient2!$A$28:$B$31,2,FALSE))","v":0.29534929999999998},0.50083410000000006]
[21341,2,1,3,4,1,11,{"$f":"IF(B692=1,\"0\",VLOOKUP(B692,coefficient2!$A$4:$B$7,2,FALSE))","v":6.6127000000000005E-2},{"$f":"IF(C692=1,\"0\",VLOOKUP(C692,coefficient2!$A$10:$B$13,2,FALSE))","v":"0"},{"$f":"IF(D692=1,\"0\",VLOOKUP(D692,coefficient2!$A$16:$B$19,2,FALSE))","v":7.1197399999999994E-2},{"$f":"IF(E692=1,\"0\",VLOOKUP(E692,coefficient2!$A$22:$B$25,2,FALSE))","v":0.2068864},{"$f":"IF(F692=1,\"0\",VLOOKUP(F692,coefficient2!$A$28:$B$31,2,FALSE))","v":"0"},0.65578919999999996]
[21342,2,1,3,4,2,12,{"$f":"IF(B693=1,\"0\",VLOOKUP(B693,coefficient2!$A$4:$B$7,2,FALSE))","v":6.6127000000000005E-2},{"$f":"IF(C693=1,\"0\",VLOOKUP(C693,coefficient2!$A$10:$B$13,2,FALSE))","v":"0"},{"$f":"IF(D693=1,\"0\",VLOOKUP(D693,coefficient2!$A$16:$B$19,2,FALSE))","v":7.1197399999999994E-2},{"$f":"IF(E693=1,\"0\",VLOOKUP(E693,coefficient2!$A$22:$B$25,2,FALSE))","v":0.2068864},{"$f":"IF(F693=1,\"0\",VLOOKUP(F693,coefficient2!$A$28:$B$31,2,FALSE))","v":5.8085699999999997E-2},0.59770349999999994]
[21343,2,1,3,4,3,13,{"$f":"IF(B694=1,\"0\",VLOOKUP(B694,coefficient2!$A$4:$B$7,2,FALSE))","v":6.6127000000000005E-2},{"$f":"IF(C694=1,\"0\",VLOOKUP(C694,coefficient2!$A$10:$B$13,2,FALSE))","v":"0"},{"$f":"IF(D694=1,\"0\",VLOOKUP(D694,coefficient2!$A$16:$B$19,2,FALSE))","v":7.1197399999999994E-2},{"$f":"IF(E694=1,\"0\",VLOOKUP(E694,coefficient2!$A$22:$B$25,2,FALSE))","v":0.2068864},{"$f":"IF(F694=1,\"0\",VLOOKUP(F694,coefficient2!$A$28:$B$31,2,FALSE))","v":9.5753900000000003E-2},0.56003530000000001]
[21344,2,1,3,4,4,14,{"$f":"IF(B695=1,\"0\",VLOOKUP(B695,coefficient2!$A$4:$B$7,2,FALSE))","v":6.6127000000000005E-2},{"$f":"IF(C695=1,\"0\",VLOOKUP(C695,coefficient2!$A$10:$B$13,2,FALSE))","v":"0"},{"$f":"IF(D695=1,\"0\",VLOOKUP(D695,coefficient2!$A$16:$B$19,2,FALSE))","v":7.1197399999999994E-2},{"$f":"IF(E695=1,\"0\",VLOOKUP(E695,coefficient2!$A$22:$B$25,2,FALSE))","v":0.2068864},{"$f":"IF(F695=1,\"0\",VLOOKUP(F695,coefficient2!$A$28:$B$31,2,FALSE))","v":0.23270360000000001},0.42308559999999995]
[21345,2,1,3,4,5,15,{"$f":"IF(B696=1,\"0\",VLOOKUP(B696,coefficient2!$A$4:$B$7,2,FALSE))","v":6.6127000000000005E-2},{"$f":"IF(C696=1,\"0\",VLOOKUP(C696,coefficient2!$A$10:$B$13,2,FALSE))","v":"0"},{"$f":"IF(D696=1,\"0\",VLOOKUP(D696,coefficient2!$A$16:$B$19,2,FALSE))","v":7.1197399999999994E-2},{"$f":"IF(E696=1,\"0\",VLOOKUP(E696,coefficient2!$A$22:$B$25,2,FALSE))","v":0.2068864},{"$f":"IF(F696=1,\"0\",VLOOKUP(F696,coefficient2!$A$28:$B$31,2,FALSE))","v":0.29534929999999998},0.36043989999999998]
[21351,2,1,3,5,1,12,{"$f":"IF(B697=1,\"0\",VLOOKUP(B697,coefficient2!$A$4:$B$7,2,FALSE))","v":6.6127000000000005E-2},{"$f":"IF(C697=1,\"0\",VLOOKUP(C697,coefficient2!$A$10:$B$13,2,FALSE))","v":"0"},{"$f":"IF(D697=1,\"0\",VLOOKUP(D697,coefficient2!$A$16:$B$19,2,FALSE))","v":7.1197399999999994E-2},{"$f":"IF(E697=1,\"0\",VLOOKUP(E697,coefficient2!$A$22:$B$25,2,FALSE))","v":0.25643310000000002},{"$f":"IF(F697=1,\"0\",VLOOKUP(F697,coefficient2!$A$28:$B$31,2,FALSE))","v":"0"},0.60624250000000002]
[21352,2,1,3,5,2,13,{"$f":"IF(B698=1,\"0\",VLOOKUP(B698,coefficient2!$A$4:$B$7,2,FALSE))","v":6.6127000000000005E-2},{"$f":"IF(C698=1,\"0\",VLOOKUP(C698,coefficient2!$A$10:$B$13,2,FALSE))","v":"0"},{"$f":"IF(D698=1,\"0\",VLOOKUP(D698,coefficient2!$A$16:$B$19,2,FALSE))","v":7.1197399999999994E-2},{"$f":"IF(E698=1,\"0\",VLOOKUP(E698,coefficient2!$A$22:$B$25,2,FALSE))","v":0.25643310000000002},{"$f":"IF(F698=1,\"0\",VLOOKUP(F698,coefficient2!$A$28:$B$31,2,FALSE))","v":5.8085699999999997E-2},0.5481568]
[21353,2,1,3,5,3,14,{"$f":"IF(B699=1,\"0\",VLOOKUP(B699,coefficient2!$A$4:$B$7,2,FALSE))","v":6.6127000000000005E-2},{"$f":"IF(C699=1,\"0\",VLOOKUP(C699,coefficient2!$A$10:$B$13,2,FALSE))","v":"0"},{"$f":"IF(D699=1,\"0\",VLOOKUP(D699,coefficient2!$A$16:$B$19,2,FALSE))","v":7.1197399999999994E-2},{"$f":"IF(E699=1,\"0\",VLOOKUP(E699,coefficient2!$A$22:$B$25,2,FALSE))","v":0.25643310000000002},{"$f":"IF(F699=1,\"0\",VLOOKUP(F699,coefficient2!$A$28:$B$31,2,FALSE))","v":9.5753900000000003E-2},0.51048859999999996]
[21354,2,1,3,5,4,15,{"$f":"IF(B700=1,\"0\",VLOOKUP(B700,coefficient2!$A$4:$B$7,2,FALSE))","v":6.6127000000000005E-2},{"$f":"IF(C700=1,\"0\",VLOOKUP(C700,coefficient2!$A$10:$B$13,2,FALSE))","v":"0"},{"$f":"IF(D700=1,\"0\",VLOOKUP(D700,coefficient2!$A$16:$B$19,2,FALSE))","v":7.1197399999999994E-2},{"$f":"IF(E700=1,\"0\",VLOOKUP(E700,coefficient2!$A$22:$B$25,2,FALSE))","v":0.25643310000000002},{"$f":"IF(F700=1,\"0\",VLOOKUP(F700,coefficient2!$A$28:$B$31,2,FALSE))","v":0.23270360000000001},0.37353890000000001]
[21355,2,1,3,5,5,16,{"$f":"IF(B701=1,\"0\",VLOOKUP(B701,coefficient2!$A$4:$B$7,2,FALSE))","v":6.6127000000000005E-2},{"$f":"IF(C701=1,\"0\",VLOOKUP(C701,coefficient2!$A$10:$B$13,2,FALSE))","v":"0"},{"$f":"IF(D701=1,\"0\",VLOOKUP(D701,coefficient2!$A$16:$B$19,2,FALSE))","v":7.1197399999999994E-2},{"$f":"IF(E701=1,\"0\",VLOOKUP(E701,coefficient2!$A$22:$B$25,2,FALSE))","v":0.25643310000000002},{"$f":"IF(F701=1,\"0\",VLOOKUP(F701,coefficient2!$A$28:$B$31,2,FALSE))","v":0.29534929999999998},0.31089320000000004]
[21411,2,1,4,1,1,9,{"$f":"IF(B702=1,\"0\",VLOOKUP(B702,coefficient2!$A$4:$B$7,2,FALSE))","v":6.6127000000000005E-2},{"$f":"IF(C702=1,\"0\",VLOOKUP(C702,coefficient2!$A$10:$B$13,2,FALSE))","v":"0"},{"$f":"IF(D702=1,\"0\",VLOOKUP(D702,coefficient2!$A$16:$B$19,2,FALSE))","v":0.1534855},{"$f":"IF(E702=1,\"0\",VLOOKUP(E702,coefficient2!$A$22:$B$25,2,FALSE))","v":"0"},{"$f":"IF(F702=1,\"0\",VLOOKUP(F702,coefficient2!$A$28:$B$31,2,FALSE))","v":"0"},0.78038750000000001]
[21412,2,1,4,1,2,10,{"$f":"IF(B703=1,\"0\",VLOOKUP(B703,coefficient2!$A$4:$B$7,2,FALSE))","v":6.6127000000000005E-2},{"$f":"IF(C703=1,\"0\",VLOOKUP(C703,coefficient2!$A$10:$B$13,2,FALSE))","v":"0"},{"$f":"IF(D703=1,\"0\",VLOOKUP(D703,coefficient2!$A$16:$B$19,2,FALSE))","v":0.1534855},{"$f":"IF(E703=1,\"0\",VLOOKUP(E703,coefficient2!$A$22:$B$25,2,FALSE))","v":"0"},{"$f":"IF(F703=1,\"0\",VLOOKUP(F703,coefficient2!$A$28:$B$31,2,FALSE))","v":5.8085699999999997E-2},0.72230179999999999]
[21413,2,1,4,1,3,11,{"$f":"IF(B704=1,\"0\",VLOOKUP(B704,coefficient2!$A$4:$B$7,2,FALSE))","v":6.6127000000000005E-2},{"$f":"IF(C704=1,\"0\",VLOOKUP(C704,coefficient2!$A$10:$B$13,2,FALSE))","v":"0"},{"$f":"IF(D704=1,\"0\",VLOOKUP(D704,coefficient2!$A$16:$B$19,2,FALSE))","v":0.1534855},{"$f":"IF(E704=1,\"0\",VLOOKUP(E704,coefficient2!$A$22:$B$25,2,FALSE))","v":"0"},{"$f":"IF(F704=1,\"0\",VLOOKUP(F704,coefficient2!$A$28:$B$31,2,FALSE))","v":9.5753900000000003E-2},0.68463359999999995]
[21414,2,1,4,1,4,12,{"$f":"IF(B705=1,\"0\",VLOOKUP(B705,coefficient2!$A$4:$B$7,2,FALSE))","v":6.6127000000000005E-2},{"$f":"IF(C705=1,\"0\",VLOOKUP(C705,coefficient2!$A$10:$B$13,2,FALSE))","v":"0"},{"$f":"IF(D705=1,\"0\",VLOOKUP(D705,coefficient2!$A$16:$B$19,2,FALSE))","v":0.1534855},{"$f":"IF(E705=1,\"0\",VLOOKUP(E705,coefficient2!$A$22:$B$25,2,FALSE))","v":"0"},{"$f":"IF(F705=1,\"0\",VLOOKUP(F705,coefficient2!$A$28:$B$31,2,FALSE))","v":0.23270360000000001},0.5476839]
[21415,2,1,4,1,5,13,{"$f":"IF(B706=1,\"0\",VLOOKUP(B706,coefficient2!$A$4:$B$7,2,FALSE))","v":6.6127000000000005E-2},{"$f":"IF(C706=1,\"0\",VLOOKUP(C706,coefficient2!$A$10:$B$13,2,FALSE))","v":"0"},{"$f":"IF(D706=1,\"0\",VLOOKUP(D706,coefficient2!$A$16:$B$19,2,FALSE))","v":0.1534855},{"$f":"IF(E706=1,\"0\",VLOOKUP(E706,coefficient2!$A$22:$B$25,2,FALSE))","v":"0"},{"$f":"IF(F706=1,\"0\",VLOOKUP(F706,coefficient2!$A$28:$B$31,2,FALSE))","v":0.29534929999999998},{"$f":"1-H706-I706-J706-K706-L706","v":0.48503820000000003}]
[21421,{"$f":"INT(LEFT(A707,1))","v":2},{"$f":"INT(MID(A707,2,1))","v":1},{"$f":"INT(MID(A707,3,1))","v":4},{"$f":"INT(MID(A707,4,1))","v":2},{"$f":"INT(RIGHT(A707,1))","v":1},{"$f":"SUM(B707:F707)","v":10},{"$f":"IF(B707=1,\"0\",VLOOKUP(B707,coefficient2!$A$4:$B$7,2,FALSE))","v":6.6127000000000005E-2},{"$f":"IF(C707=1,\"0\",VLOOKUP(C707,coefficient2!$A$10:$B$13,2,FALSE))","v":"0"},{"$f":"IF(D707=1,\"0\",VLOOKUP(D707,coefficient2!$A$16:$B$19,2,FALSE))","v":0.1534855},{"$f":"IF(E707=1,\"0\",VLOOKUP(E707,coefficient2!$A$22:$B$25,2,FALSE))","v":5.63998E-2},{"$f":"IF(F707=1,\"0\",VLOOKUP(F707,coefficient2!$A$28:$B$31,2,FALSE))","v":"0"},0.72398770000000001]
[21422,2,1,4,2,2,11,{"$f":"IF(B708=1,\"0\",VLOOKUP(B708,coefficient2!$A$4:$B$7,2,FALSE))","v":6.6127000000000005E-2},{"$f":"IF(C708=1,\"0\",VLOOKUP(C708,coefficient2!$A$10:$B$13,2,FALSE))","v":"0"},{"$f":"IF(D708=1,\"0\",VLOOKUP(D708,coefficient2!$A$16:$B$19,2,FALSE))","v":0.1534855},{"$f":"IF(E708=1,\"0\",VLOOKUP(E708,coefficient2!$A$22:$B$25,2,FALSE))","v":5.63998E-2},{"$f":"IF(F708=1,\"0\",VLOOKUP(F708,coefficient2!$A$28:$B$31,2,FALSE))","v":5.8085699999999997E-2},0.66590199999999999]
[21423,2,1,4,2,3,12,{"$f":"IF(B709=1,\"0\",VLOOKUP(B709,coefficient2!$A$4:$B$7,2,FALSE))","v":6.6127000000000005E-2},{"$f":"IF(C709=1,\"0\",VLOOKUP(C709,coefficient2!$A$10:$B$13,2,FALSE))","v":"0"},{"$f":"IF(D709=1,\"0\",VLOOKUP(D709,coefficient2!$A$16:$B$19,2,FALSE))","v":0.1534855},{"$f":"IF(E709=1,\"0\",VLOOKUP(E709,coefficient2!$A$22:$B$25,2,FALSE))","v":5.63998E-2},{"$f":"IF(F709=1,\"0\",VLOOKUP(F709,coefficient2!$A$28:$B$31,2,FALSE))","v":9.5753900000000003E-2},0.62823380000000006]
[21424,2,1,4,2,4,13,{"$f":"IF(B710=1,\"0\",VLOOKUP(B710,coefficient2!$A$4:$B$7,2,FALSE))","v":6.6127000000000005E-2},{"$f":"IF(C710=1,\"0\",VLOOKUP(C710,coefficient2!$A$10:$B$13,2,FALSE))","v":"0"},{"$f":"IF(D710=1,\"0\",VLOOKUP(D710,coefficient2!$A$16:$B$19,2,FALSE))","v":0.1534855},{"$f":"IF(E710=1,\"0\",VLOOKUP(E710,coefficient2!$A$22:$B$25,2,FALSE))","v":5.63998E-2},{"$f":"IF(F710=1,\"0\",VLOOKUP(F710,coefficient2!$A$28:$B$31,2,FALSE))","v":0.23270360000000001},0.4912841]
[21425,2,1,4,2,5,14,{"$f":"IF(B711=1,\"0\",VLOOKUP(B711,coefficient2!$A$4:$B$7,2,FALSE))","v":6.6127000000000005E-2},{"$f":"IF(C711=1,\"0\",VLOOKUP(C711,coefficient2!$A$10:$B$13,2,FALSE))","v":"0"},{"$f":"IF(D711=1,\"0\",VLOOKUP(D711,coefficient2!$A$16:$B$19,2,FALSE))","v":0.1534855},{"$f":"IF(E711=1,\"0\",VLOOKUP(E711,coefficient2!$A$22:$B$25,2,FALSE))","v":5.63998E-2},{"$f":"IF(F711=1,\"0\",VLOOKUP(F711,coefficient2!$A$28:$B$31,2,FALSE))","v":0.29534929999999998},0.42863840000000003]
[21431,2,1,4,3,1,11,{"$f":"IF(B712=1,\"0\",VLOOKUP(B712,coefficient2!$A$4:$B$7,2,FALSE))","v":6.6127000000000005E-2},{"$f":"IF(C712=1,\"0\",VLOOKUP(C712,coefficient2!$A$10:$B$13,2,FALSE))","v":"0"},{"$f":"IF(D712=1,\"0\",VLOOKUP(D712,coefficient2!$A$16:$B$19,2,FALSE))","v":0.1534855},{"$f":"IF(E712=1,\"0\",VLOOKUP(E712,coefficient2!$A$22:$B$25,2,FALSE))","v":6.6492200000000001E-2},{"$f":"IF(F712=1,\"0\",VLOOKUP(F712,coefficient2!$A$28:$B$31,2,FALSE))","v":"0"},0.71389530000000001]
[21432,2,1,4,3,2,12,{"$f":"IF(B713=1,\"0\",VLOOKUP(B713,coefficient2!$A$4:$B$7,2,FALSE))","v":6.6127000000000005E-2},{"$f":"IF(C713=1,\"0\",VLOOKUP(C713,coefficient2!$A$10:$B$13,2,FALSE))","v":"0"},{"$f":"IF(D713=1,\"0\",VLOOKUP(D713,coefficient2!$A$16:$B$19,2,FALSE))","v":0.1534855},{"$f":"IF(E713=1,\"0\",VLOOKUP(E713,coefficient2!$A$22:$B$25,2,FALSE))","v":6.6492200000000001E-2},{"$f":"IF(F713=1,\"0\",VLOOKUP(F713,coefficient2!$A$28:$B$31,2,FALSE))","v":5.8085699999999997E-2},0.65580959999999999]
[21433,2,1,4,3,3,13,{"$f":"IF(B714=1,\"0\",VLOOKUP(B714,coefficient2!$A$4:$B$7,2,FALSE))","v":6.6127000000000005E-2},{"$f":"IF(C714=1,\"0\",VLOOKUP(C714,coefficient2!$A$10:$B$13,2,FALSE))","v":"0"},{"$f":"IF(D714=1,\"0\",VLOOKUP(D714,coefficient2!$A$16:$B$19,2,FALSE))","v":0.1534855},{"$f":"IF(E714=1,\"0\",VLOOKUP(E714,coefficient2!$A$22:$B$25,2,FALSE))","v":6.6492200000000001E-2},{"$f":"IF(F714=1,\"0\",VLOOKUP(F714,coefficient2!$A$28:$B$31,2,FALSE))","v":9.5753900000000003E-2},0.61814140000000006]
[21434,2,1,4,3,4,14,{"$f":"IF(B715=1,\"0\",VLOOKUP(B715,coefficient2!$A$4:$B$7,2,FALSE))","v":6.6127000000000005E-2},{"$f":"IF(C715=1,\"0\",VLOOKUP(C715,coefficient2!$A$10:$B$13,2,FALSE))","v":"0"},{"$f":"IF(D715=1,\"0\",VLOOKUP(D715,coefficient2!$A$16:$B$19,2,FALSE))","v":0.1534855},{"$f":"IF(E715=1,\"0\",VLOOKUP(E715,coefficient2!$A$22:$B$25,2,FALSE))","v":6.6492200000000001E-2},{"$f":"IF(F715=1,\"0\",VLOOKUP(F715,coefficient2!$A$28:$B$31,2,FALSE))","v":0.23270360000000001},0.4811917]
[21435,2,1,4,3,5,15,{"$f":"IF(B716=1,\"0\",VLOOKUP(B716,coefficient2!$A$4:$B$7,2,FALSE))","v":6.6127000000000005E-2},{"$f":"IF(C716=1,\"0\",VLOOKUP(C716,coefficient2!$A$10:$B$13,2,FALSE))","v":"0"},{"$f":"IF(D716=1,\"0\",VLOOKUP(D716,coefficient2!$A$16:$B$19,2,FALSE))","v":0.1534855},{"$f":"IF(E716=1,\"0\",VLOOKUP(E716,coefficient2!$A$22:$B$25,2,FALSE))","v":6.6492200000000001E-2},{"$f":"IF(F716=1,\"0\",VLOOKUP(F716,coefficient2!$A$28:$B$31,2,FALSE))","v":0.29534929999999998},0.41854600000000003]
[21441,2,1,4,4,1,12,{"$f":"IF(B717=1,\"0\",VLOOKUP(B717,coefficient2!$A$4:$B$7,2,FALSE))","v":6.6127000000000005E-2},{"$f":"IF(C717=1,\"0\",VLOOKUP(C717,coefficient2!$A$10:$B$13,2,FALSE))","v":"0"},{"$f":"IF(D717=1,\"0\",VLOOKUP(D717,coefficient2!$A$16:$B$19,2,FALSE))","v":0.1534855},{"$f":"IF(E717=1,\"0\",VLOOKUP(E717,coefficient2!$A$22:$B$25,2,FALSE))","v":0.2068864},{"$f":"IF(F717=1,\"0\",VLOOKUP(F717,coefficient2!$A$28:$B$31,2,FALSE))","v":"0"},0.57350109999999999]
[21442,2,1,4,4,2,13,{"$f":"IF(B718=1,\"0\",VLOOKUP(B718,coefficient2!$A$4:$B$7,2,FALSE))","v":6.6127000000000005E-2},{"$f":"IF(C718=1,\"0\",VLOOKUP(C718,coefficient2!$A$10:$B$13,2,FALSE))","v":"0"},{"$f":"IF(D718=1,\"0\",VLOOKUP(D718,coefficient2!$A$16:$B$19,2,FALSE))","v":0.1534855},{"$f":"IF(E718=1,\"0\",VLOOKUP(E718,coefficient2!$A$22:$B$25,2,FALSE))","v":0.2068864},{"$f":"IF(F718=1,\"0\",VLOOKUP(F718,coefficient2!$A$28:$B$31,2,FALSE))","v":5.8085699999999997E-2},0.51541539999999997]
[21443,2,1,4,4,3,14,{"$f":"IF(B719=1,\"0\",VLOOKUP(B719,coefficient2!$A$4:$B$7,2,FALSE))","v":6.6127000000000005E-2},{"$f":"IF(C719=1,\"0\",VLOOKUP(C719,coefficient2!$A$10:$B$13,2,FALSE))","v":"0"},{"$f":"IF(D719=1,\"0\",VLOOKUP(D719,coefficient2!$A$16:$B$19,2,FALSE))","v":0.1534855},{"$f":"IF(E719=1,\"0\",VLOOKUP(E719,coefficient2!$A$22:$B$25,2,FALSE))","v":0.2068864},{"$f":"IF(F719=1,\"0\",VLOOKUP(F719,coefficient2!$A$28:$B$31,2,FALSE))","v":9.5753900000000003E-2},0.47774719999999998]
[21444,2,1,4,4,4,15,{"$f":"IF(B720=1,\"0\",VLOOKUP(B720,coefficient2!$A$4:$B$7,2,FALSE))","v":6.6127000000000005E-2},{"$f":"IF(C720=1,\"0\",VLOOKUP(C720,coefficient2!$A$10:$B$13,2,FALSE))","v":"0"},{"$f":"IF(D720=1,\"0\",VLOOKUP(D720,coefficient2!$A$16:$B$19,2,FALSE))","v":0.1534855},{"$f":"IF(E720=1,\"0\",VLOOKUP(E720,coefficient2!$A$22:$B$25,2,FALSE))","v":0.2068864},{"$f":"IF(F720=1,\"0\",VLOOKUP(F720,coefficient2!$A$28:$B$31,2,FALSE))","v":0.23270360000000001},0.34079749999999998]
[21445,2,1,4,4,5,16,{"$f":"IF(B721=1,\"0\",VLOOKUP(B721,coefficient2!$A$4:$B$7,2,FALSE))","v":6.6127000000000005E-2},{"$f":"IF(C721=1,\"0\",VLOOKUP(C721,coefficient2!$A$10:$B$13,2,FALSE))","v":"0"},{"$f":"IF(D721=1,\"0\",VLOOKUP(D721,coefficient2!$A$16:$B$19,2,FALSE))","v":0.1534855},{"$f":"IF(E721=1,\"0\",VLOOKUP(E721,coefficient2!$A$22:$B$25,2,FALSE))","v":0.2068864},{"$f":"IF(F721=1,\"0\",VLOOKUP(F721,coefficient2!$A$28:$B$31,2,FALSE))","v":0.29534929999999998},0.2781518]
[21451,2,1,4,5,1,13,{"$f":"IF(B722=1,\"0\",VLOOKUP(B722,coefficient2!$A$4:$B$7,2,FALSE))","v":6.6127000000000005E-2},{"$f":"IF(C722=1,\"0\",VLOOKUP(C722,coefficient2!$A$10:$B$13,2,FALSE))","v":"0"},{"$f":"IF(D722=1,\"0\",VLOOKUP(D722,coefficient2!$A$16:$B$19,2,FALSE))","v":0.1534855},{"$f":"IF(E722=1,\"0\",VLOOKUP(E722,coefficient2!$A$22:$B$25,2,FALSE))","v":0.25643310000000002},{"$f":"IF(F722=1,\"0\",VLOOKUP(F722,coefficient2!$A$28:$B$31,2,FALSE))","v":"0"},0.52395440000000004]
[21452,2,1,4,5,2,14,{"$f":"IF(B723=1,\"0\",VLOOKUP(B723,coefficient2!$A$4:$B$7,2,FALSE))","v":6.6127000000000005E-2},{"$f":"IF(C723=1,\"0\",VLOOKUP(C723,coefficient2!$A$10:$B$13,2,FALSE))","v":"0"},{"$f":"IF(D723=1,\"0\",VLOOKUP(D723,coefficient2!$A$16:$B$19,2,FALSE))","v":0.1534855},{"$f":"IF(E723=1,\"0\",VLOOKUP(E723,coefficient2!$A$22:$B$25,2,FALSE))","v":0.25643310000000002},{"$f":"IF(F723=1,\"0\",VLOOKUP(F723,coefficient2!$A$28:$B$31,2,FALSE))","v":5.8085699999999997E-2},0.46586870000000002]
[21453,2,1,4,5,3,15,{"$f":"IF(B724=1,\"0\",VLOOKUP(B724,coefficient2!$A$4:$B$7,2,FALSE))","v":6.6127000000000005E-2},{"$f":"IF(C724=1,\"0\",VLOOKUP(C724,coefficient2!$A$10:$B$13,2,FALSE))","v":"0"},{"$f":"IF(D724=1,\"0\",VLOOKUP(D724,coefficient2!$A$16:$B$19,2,FALSE))","v":0.1534855},{"$f":"IF(E724=1,\"0\",VLOOKUP(E724,coefficient2!$A$22:$B$25,2,FALSE))","v":0.25643310000000002},{"$f":"IF(F724=1,\"0\",VLOOKUP(F724,coefficient2!$A$28:$B$31,2,FALSE))","v":9.5753900000000003E-2},0.42820050000000004]
[21454,2,1,4,5,4,16,{"$f":"IF(B725=1,\"0\",VLOOKUP(B725,coefficient2!$A$4:$B$7,2,FALSE))","v":6.6127000000000005E-2},{"$f":"IF(C725=1,\"0\",VLOOKUP(C725,coefficient2!$A$10:$B$13,2,FALSE))","v":"0"},{"$f":"IF(D725=1,\"0\",VLOOKUP(D725,coefficient2!$A$16:$B$19,2,FALSE))","v":0.1534855},{"$f":"IF(E725=1,\"0\",VLOOKUP(E725,coefficient2!$A$22:$B$25,2,FALSE))","v":0.25643310000000002},{"$f":"IF(F725=1,\"0\",VLOOKUP(F725,coefficient2!$A$28:$B$31,2,FALSE))","v":0.23270360000000001},0.29125080000000003]
[21455,2,1,4,5,5,17,{"$f":"IF(B726=1,\"0\",VLOOKUP(B726,coefficient2!$A$4:$B$7,2,FALSE))","v":6.6127000000000005E-2},{"$f":"IF(C726=1,\"0\",VLOOKUP(C726,coefficient2!$A$10:$B$13,2,FALSE))","v":"0"},{"$f":"IF(D726=1,\"0\",VLOOKUP(D726,coefficient2!$A$16:$B$19,2,FALSE))","v":0.1534855},{"$f":"IF(E726=1,\"0\",VLOOKUP(E726,coefficient2!$A$22:$B$25,2,FALSE))","v":0.25643310000000002},{"$f":"IF(F726=1,\"0\",VLOOKUP(F726,coefficient2!$A$28:$B$31,2,FALSE))","v":0.29534929999999998},0.22860510000000006]
[21511,2,1,5,1,1,10,{"$f":"IF(B727=1,\"0\",VLOOKUP(B727,coefficient2!$A$4:$B$7,2,FALSE))","v":6.6127000000000005E-2},{"$f":"IF(C727=1,\"0\",VLOOKUP(C727,coefficient2!$A$10:$B$13,2,FALSE))","v":"0"},{"$f":"IF(D727=1,\"0\",VLOOKUP(D727,coefficient2!$A$16:$B$19,2,FALSE))","v":0.248331},{"$f":"IF(E727=1,\"0\",VLOOKUP(E727,coefficient2!$A$22:$B$25,2,FALSE))","v":"0"},{"$f":"IF(F727=1,\"0\",VLOOKUP(F727,coefficient2!$A$28:$B$31,2,FALSE))","v":"0"},0.68554199999999998]
[21512,2,1,5,1,2,11,{"$f":"IF(B728=1,\"0\",VLOOKUP(B728,coefficient2!$A$4:$B$7,2,FALSE))","v":6.6127000000000005E-2},{"$f":"IF(C728=1,\"0\",VLOOKUP(C728,coefficient2!$A$10:$B$13,2,FALSE))","v":"0"},{"$f":"IF(D728=1,\"0\",VLOOKUP(D728,coefficient2!$A$16:$B$19,2,FALSE))","v":0.248331},{"$f":"IF(E728=1,\"0\",VLOOKUP(E728,coefficient2!$A$22:$B$25,2,FALSE))","v":"0"},{"$f":"IF(F728=1,\"0\",VLOOKUP(F728,coefficient2!$A$28:$B$31,2,FALSE))","v":5.8085699999999997E-2},0.62745629999999997]
[21513,2,1,5,1,3,12,{"$f":"IF(B729=1,\"0\",VLOOKUP(B729,coefficient2!$A$4:$B$7,2,FALSE))","v":6.6127000000000005E-2},{"$f":"IF(C729=1,\"0\",VLOOKUP(C729,coefficient2!$A$10:$B$13,2,FALSE))","v":"0"},{"$f":"IF(D729=1,\"0\",VLOOKUP(D729,coefficient2!$A$16:$B$19,2,FALSE))","v":0.248331},{"$f":"IF(E729=1,\"0\",VLOOKUP(E729,coefficient2!$A$22:$B$25,2,FALSE))","v":"0"},{"$f":"IF(F729=1,\"0\",VLOOKUP(F729,coefficient2!$A$28:$B$31,2,FALSE))","v":9.5753900000000003E-2},0.58978810000000004]
[21514,2,1,5,1,4,13,{"$f":"IF(B730=1,\"0\",VLOOKUP(B730,coefficient2!$A$4:$B$7,2,FALSE))","v":6.6127000000000005E-2},{"$f":"IF(C730=1,\"0\",VLOOKUP(C730,coefficient2!$A$10:$B$13,2,FALSE))","v":"0"},{"$f":"IF(D730=1,\"0\",VLOOKUP(D730,coefficient2!$A$16:$B$19,2,FALSE))","v":0.248331},{"$f":"IF(E730=1,\"0\",VLOOKUP(E730,coefficient2!$A$22:$B$25,2,FALSE))","v":"0"},{"$f":"IF(F730=1,\"0\",VLOOKUP(F730,coefficient2!$A$28:$B$31,2,FALSE))","v":0.23270360000000001},0.45283839999999997]
[21515,2,1,5,1,5,14,{"$f":"IF(B731=1,\"0\",VLOOKUP(B731,coefficient2!$A$4:$B$7,2,FALSE))","v":6.6127000000000005E-2},{"$f":"IF(C731=1,\"0\",VLOOKUP(C731,coefficient2!$A$10:$B$13,2,FALSE))","v":"0"},{"$f":"IF(D731=1,\"0\",VLOOKUP(D731,coefficient2!$A$16:$B$19,2,FALSE))","v":0.248331},{"$f":"IF(E731=1,\"0\",VLOOKUP(E731,coefficient2!$A$22:$B$25,2,FALSE))","v":"0"},{"$f":"IF(F731=1,\"0\",VLOOKUP(F731,coefficient2!$A$28:$B$31,2,FALSE))","v":0.29534929999999998},0.3901927]
[21521,2,1,5,2,1,11,{"$f":"IF(B732=1,\"0\",VLOOKUP(B732,coefficient2!$A$4:$B$7,2,FALSE))","v":6.6127000000000005E-2},{"$f":"IF(C732=1,\"0\",VLOOKUP(C732,coefficient2!$A$10:$B$13,2,FALSE))","v":"0"},{"$f":"IF(D732=1,\"0\",VLOOKUP(D732,coefficient2!$A$16:$B$19,2,FALSE))","v":0.248331},{"$f":"IF(E732=1,\"0\",VLOOKUP(E732,coefficient2!$A$22:$B$25,2,FALSE))","v":5.63998E-2},{"$f":"IF(F732=1,\"0\",VLOOKUP(F732,coefficient2!$A$28:$B$31,2,FALSE))","v":"0"},0.62914219999999998]
[21522,2,1,5,2,2,12,{"$f":"IF(B733=1,\"0\",VLOOKUP(B733,coefficient2!$A$4:$B$7,2,FALSE))","v":6.6127000000000005E-2},{"$f":"IF(C733=1,\"0\",VLOOKUP(C733,coefficient2!$A$10:$B$13,2,FALSE))","v":"0"},{"$f":"IF(D733=1,\"0\",VLOOKUP(D733,coefficient2!$A$16:$B$19,2,FALSE))","v":0.248331},{"$f":"IF(E733=1,\"0\",VLOOKUP(E733,coefficient2!$A$22:$B$25,2,FALSE))","v":5.63998E-2},{"$f":"IF(F733=1,\"0\",VLOOKUP(F733,coefficient2!$A$28:$B$31,2,FALSE))","v":5.8085699999999997E-2},0.57105649999999997]
[21523,2,1,5,2,3,13,{"$f":"IF(B734=1,\"0\",VLOOKUP(B734,coefficient2!$A$4:$B$7,2,FALSE))","v":6.6127000000000005E-2},{"$f":"IF(C734=1,\"0\",VLOOKUP(C734,coefficient2!$A$10:$B$13,2,FALSE))","v":"0"},{"$f":"IF(D734=1,\"0\",VLOOKUP(D734,coefficient2!$A$16:$B$19,2,FALSE))","v":0.248331},{"$f":"IF(E734=1,\"0\",VLOOKUP(E734,coefficient2!$A$22:$B$25,2,FALSE))","v":5.63998E-2},{"$f":"IF(F734=1,\"0\",VLOOKUP(F734,coefficient2!$A$28:$B$31,2,FALSE))","v":9.5753900000000003E-2},0.53338829999999993]
[21524,2,1,5,2,4,14,{"$f":"IF(B735=1,\"0\",VLOOKUP(B735,coefficient2!$A$4:$B$7,2,FALSE))","v":6.6127000000000005E-2},{"$f":"IF(C735=1,\"0\",VLOOKUP(C735,coefficient2!$A$10:$B$13,2,FALSE))","v":"0"},{"$f":"IF(D735=1,\"0\",VLOOKUP(D735,coefficient2!$A$16:$B$19,2,FALSE))","v":0.248331},{"$f":"IF(E735=1,\"0\",VLOOKUP(E735,coefficient2!$A$22:$B$25,2,FALSE))","v":5.63998E-2},{"$f":"IF(F735=1,\"0\",VLOOKUP(F735,coefficient2!$A$28:$B$31,2,FALSE))","v":0.23270360000000001},0.39643859999999997]
[21525,2,1,5,2,5,15,{"$f":"IF(B736=1,\"0\",VLOOKUP(B736,coefficient2!$A$4:$B$7,2,FALSE))","v":6.6127000000000005E-2},{"$f":"IF(C736=1,\"0\",VLOOKUP(C736,coefficient2!$A$10:$B$13,2,FALSE))","v":"0"},{"$f":"IF(D736=1,\"0\",VLOOKUP(D736,coefficient2!$A$16:$B$19,2,FALSE))","v":0.248331},{"$f":"IF(E736=1,\"0\",VLOOKUP(E736,coefficient2!$A$22:$B$25,2,FALSE))","v":5.63998E-2},{"$f":"IF(F736=1,\"0\",VLOOKUP(F736,coefficient2!$A$28:$B$31,2,FALSE))","v":0.29534929999999998},0.3337929]
[21531,2,1,5,3,1,12,{"$f":"IF(B737=1,\"0\",VLOOKUP(B737,coefficient2!$A$4:$B$7,2,FALSE))","v":6.6127000000000005E-2},{"$f":"IF(C737=1,\"0\",VLOOKUP(C737,coefficient2!$A$10:$B$13,2,FALSE))","v":"0"},{"$f":"IF(D737=1,\"0\",VLOOKUP(D737,coefficient2!$A$16:$B$19,2,FALSE))","v":0.248331},{"$f":"IF(E737=1,\"0\",VLOOKUP(E737,coefficient2!$A$22:$B$25,2,FALSE))","v":6.6492200000000001E-2},{"$f":"IF(F737=1,\"0\",VLOOKUP(F737,coefficient2!$A$28:$B$31,2,FALSE))","v":"0"},0.61904979999999998]
[21532,2,1,5,3,2,13,{"$f":"IF(B738=1,\"0\",VLOOKUP(B738,coefficient2!$A$4:$B$7,2,FALSE))","v":6.6127000000000005E-2},{"$f":"IF(C738=1,\"0\",VLOOKUP(C738,coefficient2!$A$10:$B$13,2,FALSE))","v":"0"},{"$f":"IF(D738=1,\"0\",VLOOKUP(D738,coefficient2!$A$16:$B$19,2,FALSE))","v":0.248331},{"$f":"IF(E738=1,\"0\",VLOOKUP(E738,coefficient2!$A$22:$B$25,2,FALSE))","v":6.6492200000000001E-2},{"$f":"IF(F738=1,\"0\",VLOOKUP(F738,coefficient2!$A$28:$B$31,2,FALSE))","v":5.8085699999999997E-2},0.56096409999999997]
[21533,2,1,5,3,3,14,{"$f":"IF(B739=1,\"0\",VLOOKUP(B739,coefficient2!$A$4:$B$7,2,FALSE))","v":6.6127000000000005E-2},{"$f":"IF(C739=1,\"0\",VLOOKUP(C739,coefficient2!$A$10:$B$13,2,FALSE))","v":"0"},{"$f":"IF(D739=1,\"0\",VLOOKUP(D739,coefficient2!$A$16:$B$19,2,FALSE))","v":0.248331},{"$f":"IF(E739=1,\"0\",VLOOKUP(E739,coefficient2!$A$22:$B$25,2,FALSE))","v":6.6492200000000001E-2},{"$f":"IF(F739=1,\"0\",VLOOKUP(F739,coefficient2!$A$28:$B$31,2,FALSE))","v":9.5753900000000003E-2},0.52329589999999993]
[21534,2,1,5,3,4,15,{"$f":"IF(B740=1,\"0\",VLOOKUP(B740,coefficient2!$A$4:$B$7,2,FALSE))","v":6.6127000000000005E-2},{"$f":"IF(C740=1,\"0\",VLOOKUP(C740,coefficient2!$A$10:$B$13,2,FALSE))","v":"0"},{"$f":"IF(D740=1,\"0\",VLOOKUP(D740,coefficient2!$A$16:$B$19,2,FALSE))","v":0.248331},{"$f":"IF(E740=1,\"0\",VLOOKUP(E740,coefficient2!$A$22:$B$25,2,FALSE))","v":6.6492200000000001E-2},{"$f":"IF(F740=1,\"0\",VLOOKUP(F740,coefficient2!$A$28:$B$31,2,FALSE))","v":0.23270360000000001},0.38634619999999997]
[21535,2,1,5,3,5,16,{"$f":"IF(B741=1,\"0\",VLOOKUP(B741,coefficient2!$A$4:$B$7,2,FALSE))","v":6.6127000000000005E-2},{"$f":"IF(C741=1,\"0\",VLOOKUP(C741,coefficient2!$A$10:$B$13,2,FALSE))","v":"0"},{"$f":"IF(D741=1,\"0\",VLOOKUP(D741,coefficient2!$A$16:$B$19,2,FALSE))","v":0.248331},{"$f":"IF(E741=1,\"0\",VLOOKUP(E741,coefficient2!$A$22:$B$25,2,FALSE))","v":6.6492200000000001E-2},{"$f":"IF(F741=1,\"0\",VLOOKUP(F741,coefficient2!$A$28:$B$31,2,FALSE))","v":0.29534929999999998},0.3237005]
[21541,2,1,5,4,1,13,{"$f":"IF(B742=1,\"0\",VLOOKUP(B742,coefficient2!$A$4:$B$7,2,FALSE))","v":6.6127000000000005E-2},{"$f":"IF(C742=1,\"0\",VLOOKUP(C742,coefficient2!$A$10:$B$13,2,FALSE))","v":"0"},{"$f":"IF(D742=1,\"0\",VLOOKUP(D742,coefficient2!$A$16:$B$19,2,FALSE))","v":0.248331},{"$f":"IF(E742=1,\"0\",VLOOKUP(E742,coefficient2!$A$22:$B$25,2,FALSE))","v":0.2068864},{"$f":"IF(F742=1,\"0\",VLOOKUP(F742,coefficient2!$A$28:$B$31,2,FALSE))","v":"0"},0.47865559999999996]
[21542,2,1,5,4,2,14,{"$f":"IF(B743=1,\"0\",VLOOKUP(B743,coefficient2!$A$4:$B$7,2,FALSE))","v":6.6127000000000005E-2},{"$f":"IF(C743=1,\"0\",VLOOKUP(C743,coefficient2!$A$10:$B$13,2,FALSE))","v":"0"},{"$f":"IF(D743=1,\"0\",VLOOKUP(D743,coefficient2!$A$16:$B$19,2,FALSE))","v":0.248331},{"$f":"IF(E743=1,\"0\",VLOOKUP(E743,coefficient2!$A$22:$B$25,2,FALSE))","v":0.2068864},{"$f":"IF(F743=1,\"0\",VLOOKUP(F743,coefficient2!$A$28:$B$31,2,FALSE))","v":5.8085699999999997E-2},0.42056989999999994]
[21543,2,1,5,4,3,15,{"$f":"IF(B744=1,\"0\",VLOOKUP(B744,coefficient2!$A$4:$B$7,2,FALSE))","v":6.6127000000000005E-2},{"$f":"IF(C744=1,\"0\",VLOOKUP(C744,coefficient2!$A$10:$B$13,2,FALSE))","v":"0"},{"$f":"IF(D744=1,\"0\",VLOOKUP(D744,coefficient2!$A$16:$B$19,2,FALSE))","v":0.248331},{"$f":"IF(E744=1,\"0\",VLOOKUP(E744,coefficient2!$A$22:$B$25,2,FALSE))","v":0.2068864},{"$f":"IF(F744=1,\"0\",VLOOKUP(F744,coefficient2!$A$28:$B$31,2,FALSE))","v":9.5753900000000003E-2},0.38290169999999996]
[21544,2,1,5,4,4,16,{"$f":"IF(B745=1,\"0\",VLOOKUP(B745,coefficient2!$A$4:$B$7,2,FALSE))","v":6.6127000000000005E-2},{"$f":"IF(C745=1,\"0\",VLOOKUP(C745,coefficient2!$A$10:$B$13,2,FALSE))","v":"0"},{"$f":"IF(D745=1,\"0\",VLOOKUP(D745,coefficient2!$A$16:$B$19,2,FALSE))","v":0.248331},{"$f":"IF(E745=1,\"0\",VLOOKUP(E745,coefficient2!$A$22:$B$25,2,FALSE))","v":0.2068864},{"$f":"IF(F745=1,\"0\",VLOOKUP(F745,coefficient2!$A$28:$B$31,2,FALSE))","v":0.23270360000000001},0.24595199999999995]
[21545,2,1,5,4,5,17,{"$f":"IF(B746=1,\"0\",VLOOKUP(B746,coefficient2!$A$4:$B$7,2,FALSE))","v":6.6127000000000005E-2},{"$f":"IF(C746=1,\"0\",VLOOKUP(C746,coefficient2!$A$10:$B$13,2,FALSE))","v":"0"},{"$f":"IF(D746=1,\"0\",VLOOKUP(D746,coefficient2!$A$16:$B$19,2,FALSE))","v":0.248331},{"$f":"IF(E746=1,\"0\",VLOOKUP(E746,coefficient2!$A$22:$B$25,2,FALSE))","v":0.2068864},{"$f":"IF(F746=1,\"0\",VLOOKUP(F746,coefficient2!$A$28:$B$31,2,FALSE))","v":0.29534929999999998},0.18330629999999998]
[21551,2,1,5,5,1,14,{"$f":"IF(B747=1,\"0\",VLOOKUP(B747,coefficient2!$A$4:$B$7,2,FALSE))","v":6.6127000000000005E-2},{"$f":"IF(C747=1,\"0\",VLOOKUP(C747,coefficient2!$A$10:$B$13,2,FALSE))","v":"0"},{"$f":"IF(D747=1,\"0\",VLOOKUP(D747,coefficient2!$A$16:$B$19,2,FALSE))","v":0.248331},{"$f":"IF(E747=1,\"0\",VLOOKUP(E747,coefficient2!$A$22:$B$25,2,FALSE))","v":0.25643310000000002},{"$f":"IF(F747=1,\"0\",VLOOKUP(F747,coefficient2!$A$28:$B$31,2,FALSE))","v":"0"},0.42910889999999996]
[21552,2,1,5,5,2,15,{"$f":"IF(B748=1,\"0\",VLOOKUP(B748,coefficient2!$A$4:$B$7,2,FALSE))","v":6.6127000000000005E-2},{"$f":"IF(C748=1,\"0\",VLOOKUP(C748,coefficient2!$A$10:$B$13,2,FALSE))","v":"0"},{"$f":"IF(D748=1,\"0\",VLOOKUP(D748,coefficient2!$A$16:$B$19,2,FALSE))","v":0.248331},{"$f":"IF(E748=1,\"0\",VLOOKUP(E748,coefficient2!$A$22:$B$25,2,FALSE))","v":0.25643310000000002},{"$f":"IF(F748=1,\"0\",VLOOKUP(F748,coefficient2!$A$28:$B$31,2,FALSE))","v":5.8085699999999997E-2},0.37102319999999994]
[21553,2,1,5,5,3,16,{"$f":"IF(B749=1,\"0\",VLOOKUP(B749,coefficient2!$A$4:$B$7,2,FALSE))","v":6.6127000000000005E-2},{"$f":"IF(C749=1,\"0\",VLOOKUP(C749,coefficient2!$A$10:$B$13,2,FALSE))","v":"0"},{"$f":"IF(D749=1,\"0\",VLOOKUP(D749,coefficient2!$A$16:$B$19,2,FALSE))","v":0.248331},{"$f":"IF(E749=1,\"0\",VLOOKUP(E749,coefficient2!$A$22:$B$25,2,FALSE))","v":0.25643310000000002},{"$f":"IF(F749=1,\"0\",VLOOKUP(F749,coefficient2!$A$28:$B$31,2,FALSE))","v":9.5753900000000003E-2},0.33335499999999996]
[21554,2,1,5,5,4,17,{"$f":"IF(B750=1,\"0\",VLOOKUP(B750,coefficient2!$A$4:$B$7,2,FALSE))","v":6.6127000000000005E-2},{"$f":"IF(C750=1,\"0\",VLOOKUP(C750,coefficient2!$A$10:$B$13,2,FALSE))","v":"0"},{"$f":"IF(D750=1,\"0\",VLOOKUP(D750,coefficient2!$A$16:$B$19,2,FALSE))","v":0.248331},{"$f":"IF(E750=1,\"0\",VLOOKUP(E750,coefficient2!$A$22:$B$25,2,FALSE))","v":0.25643310000000002},{"$f":"IF(F750=1,\"0\",VLOOKUP(F750,coefficient2!$A$28:$B$31,2,FALSE))","v":0.23270360000000001},0.19640529999999995]
[21555,2,1,5,5,5,18,{"$f":"IF(B751=1,\"0\",VLOOKUP(B751,coefficient2!$A$4:$B$7,2,FALSE))","v":6.6127000000000005E-2},{"$f":"IF(C751=1,\"0\",VLOOKUP(C751,coefficient2!$A$10:$B$13,2,FALSE))","v":"0"},{"$f":"IF(D751=1,\"0\",VLOOKUP(D751,coefficient2!$A$16:$B$19,2,FALSE))","v":0.248331},{"$f":"IF(E751=1,\"0\",VLOOKUP(E751,coefficient2!$A$22:$B$25,2,FALSE))","v":0.25643310000000002},{"$f":"IF(F751=1,\"0\",VLOOKUP(F751,coefficient2!$A$28:$B$31,2,FALSE))","v":0.29534929999999998},0.13375959999999998]
[22111,2,2,1,1,1,7,{"$f":"IF(B752=1,\"0\",VLOOKUP(B752,coefficient2!$A$4:$B$7,2,FALSE))","v":6.6127000000000005E-2},{"$f":"IF(C752=1,\"0\",VLOOKUP(C752,coefficient2!$A$10:$B$13,2,FALSE))","v":5.8129300000000002E-2},{"$f":"IF(D752=1,\"0\",VLOOKUP(D752,coefficient2!$A$16:$B$19,2,FALSE))","v":"0"},{"$f":"IF(E752=1,\"0\",VLOOKUP(E752,coefficient2!$A$22:$B$25,2,FALSE))","v":"0"},{"$f":"IF(F752=1,\"0\",VLOOKUP(F752,coefficient2!$A$28:$B$31,2,FALSE))","v":"0"},0.8757436999999999]
[22112,2,2,1,1,2,8,{"$f":"IF(B753=1,\"0\",VLOOKUP(B753,coefficient2!$A$4:$B$7,2,FALSE))","v":6.6127000000000005E-2},{"$f":"IF(C753=1,\"0\",VLOOKUP(C753,coefficient2!$A$10:$B$13,2,FALSE))","v":5.8129300000000002E-2},{"$f":"IF(D753=1,\"0\",VLOOKUP(D753,coefficient2!$A$16:$B$19,2,FALSE))","v":"0"},{"$f":"IF(E753=1,\"0\",VLOOKUP(E753,coefficient2!$A$22:$B$25,2,FALSE))","v":"0"},{"$f":"IF(F753=1,\"0\",VLOOKUP(F753,coefficient2!$A$28:$B$31,2,FALSE))","v":5.8085699999999997E-2},0.81765799999999988]
[22113,2,2,1,1,3,9,{"$f":"IF(B754=1,\"0\",VLOOKUP(B754,coefficient2!$A$4:$B$7,2,FALSE))","v":6.6127000000000005E-2},{"$f":"IF(C754=1,\"0\",VLOOKUP(C754,coefficient2!$A$10:$B$13,2,FALSE))","v":5.8129300000000002E-2},{"$f":"IF(D754=1,\"0\",VLOOKUP(D754,coefficient2!$A$16:$B$19,2,FALSE))","v":"0"},{"$f":"IF(E754=1,\"0\",VLOOKUP(E754,coefficient2!$A$22:$B$25,2,FALSE))","v":"0"},{"$f":"IF(F754=1,\"0\",VLOOKUP(F754,coefficient2!$A$28:$B$31,2,FALSE))","v":9.5753900000000003E-2},0.77998979999999984]
[22114,2,2,1,1,4,10,{"$f":"IF(B755=1,\"0\",VLOOKUP(B755,coefficient2!$A$4:$B$7,2,FALSE))","v":6.6127000000000005E-2},{"$f":"IF(C755=1,\"0\",VLOOKUP(C755,coefficient2!$A$10:$B$13,2,FALSE))","v":5.8129300000000002E-2},{"$f":"IF(D755=1,\"0\",VLOOKUP(D755,coefficient2!$A$16:$B$19,2,FALSE))","v":"0"},{"$f":"IF(E755=1,\"0\",VLOOKUP(E755,coefficient2!$A$22:$B$25,2,FALSE))","v":"0"},{"$f":"IF(F755=1,\"0\",VLOOKUP(F755,coefficient2!$A$28:$B$31,2,FALSE))","v":0.23270360000000001},0.64304009999999989]
[22115,2,2,1,1,5,11,{"$f":"IF(B756=1,\"0\",VLOOKUP(B756,coefficient2!$A$4:$B$7,2,FALSE))","v":6.6127000000000005E-2},{"$f":"IF(C756=1,\"0\",VLOOKUP(C756,coefficient2!$A$10:$B$13,2,FALSE))","v":5.8129300000000002E-2},{"$f":"IF(D756=1,\"0\",VLOOKUP(D756,coefficient2!$A$16:$B$19,2,FALSE))","v":"0"},{"$f":"IF(E756=1,\"0\",VLOOKUP(E756,coefficient2!$A$22:$B$25,2,FALSE))","v":"0"},{"$f":"IF(F756=1,\"0\",VLOOKUP(F756,coefficient2!$A$28:$B$31,2,FALSE))","v":0.29534929999999998},0.58039439999999987]
[22121,2,2,1,2,1,8,{"$f":"IF(B757=1,\"0\",VLOOKUP(B757,coefficient2!$A$4:$B$7,2,FALSE))","v":6.6127000000000005E-2},{"$f":"IF(C757=1,\"0\",VLOOKUP(C757,coefficient2!$A$10:$B$13,2,FALSE))","v":5.8129300000000002E-2},{"$f":"IF(D757=1,\"0\",VLOOKUP(D757,coefficient2!$A$16:$B$19,2,FALSE))","v":"0"},{"$f":"IF(E757=1,\"0\",VLOOKUP(E757,coefficient2!$A$22:$B$25,2,FALSE))","v":5.63998E-2},{"$f":"IF(F757=1,\"0\",VLOOKUP(F757,coefficient2!$A$28:$B$31,2,FALSE))","v":"0"},0.8193438999999999]
[22122,2,2,1,2,2,9,{"$f":"IF(B758=1,\"0\",VLOOKUP(B758,coefficient2!$A$4:$B$7,2,FALSE))","v":6.6127000000000005E-2},{"$f":"IF(C758=1,\"0\",VLOOKUP(C758,coefficient2!$A$10:$B$13,2,FALSE))","v":5.8129300000000002E-2},{"$f":"IF(D758=1,\"0\",VLOOKUP(D758,coefficient2!$A$16:$B$19,2,FALSE))","v":"0"},{"$f":"IF(E758=1,\"0\",VLOOKUP(E758,coefficient2!$A$22:$B$25,2,FALSE))","v":5.63998E-2},{"$f":"IF(F758=1,\"0\",VLOOKUP(F758,coefficient2!$A$28:$B$31,2,FALSE))","v":5.8085699999999997E-2},0.76125819999999988]
[22123,2,2,1,2,3,10,{"$f":"IF(B759=1,\"0\",VLOOKUP(B759,coefficient2!$A$4:$B$7,2,FALSE))","v":6.6127000000000005E-2},{"$f":"IF(C759=1,\"0\",VLOOKUP(C759,coefficient2!$A$10:$B$13,2,FALSE))","v":5.8129300000000002E-2},{"$f":"IF(D759=1,\"0\",VLOOKUP(D759,coefficient2!$A$16:$B$19,2,FALSE))","v":"0"},{"$f":"IF(E759=1,\"0\",VLOOKUP(E759,coefficient2!$A$22:$B$25,2,FALSE))","v":5.63998E-2},{"$f":"IF(F759=1,\"0\",VLOOKUP(F759,coefficient2!$A$28:$B$31,2,FALSE))","v":9.5753900000000003E-2},0.72358999999999996]
[22124,2,2,1,2,4,11,{"$f":"IF(B760=1,\"0\",VLOOKUP(B760,coefficient2!$A$4:$B$7,2,FALSE))","v":6.6127000000000005E-2},{"$f":"IF(C760=1,\"0\",VLOOKUP(C760,coefficient2!$A$10:$B$13,2,FALSE))","v":5.8129300000000002E-2},{"$f":"IF(D760=1,\"0\",VLOOKUP(D760,coefficient2!$A$16:$B$19,2,FALSE))","v":"0"},{"$f":"IF(E760=1,\"0\",VLOOKUP(E760,coefficient2!$A$22:$B$25,2,FALSE))","v":5.63998E-2},{"$f":"IF(F760=1,\"0\",VLOOKUP(F760,coefficient2!$A$28:$B$31,2,FALSE))","v":0.23270360000000001},0.58664029999999989]
[22125,2,2,1,2,5,12,{"$f":"IF(B761=1,\"0\",VLOOKUP(B761,coefficient2!$A$4:$B$7,2,FALSE))","v":6.6127000000000005E-2},{"$f":"IF(C761=1,\"0\",VLOOKUP(C761,coefficient2!$A$10:$B$13,2,FALSE))","v":5.8129300000000002E-2},{"$f":"IF(D761=1,\"0\",VLOOKUP(D761,coefficient2!$A$16:$B$19,2,FALSE))","v":"0"},{"$f":"IF(E761=1,\"0\",VLOOKUP(E761,coefficient2!$A$22:$B$25,2,FALSE))","v":5.63998E-2},{"$f":"IF(F761=1,\"0\",VLOOKUP(F761,coefficient2!$A$28:$B$31,2,FALSE))","v":0.29534929999999998},0.52399459999999998]
[22131,2,2,1,3,1,9,{"$f":"IF(B762=1,\"0\",VLOOKUP(B762,coefficient2!$A$4:$B$7,2,FALSE))","v":6.6127000000000005E-2},{"$f":"IF(C762=1,\"0\",VLOOKUP(C762,coefficient2!$A$10:$B$13,2,FALSE))","v":5.8129300000000002E-2},{"$f":"IF(D762=1,\"0\",VLOOKUP(D762,coefficient2!$A$16:$B$19,2,FALSE))","v":"0"},{"$f":"IF(E762=1,\"0\",VLOOKUP(E762,coefficient2!$A$22:$B$25,2,FALSE))","v":6.6492200000000001E-2},{"$f":"IF(F762=1,\"0\",VLOOKUP(F762,coefficient2!$A$28:$B$31,2,FALSE))","v":"0"},0.8092514999999999]
[22132,2,2,1,3,2,10,{"$f":"IF(B763=1,\"0\",VLOOKUP(B763,coefficient2!$A$4:$B$7,2,FALSE))","v":6.6127000000000005E-2},{"$f":"IF(C763=1,\"0\",VLOOKUP(C763,coefficient2!$A$10:$B$13,2,FALSE))","v":5.8129300000000002E-2},{"$f":"IF(D763=1,\"0\",VLOOKUP(D763,coefficient2!$A$16:$B$19,2,FALSE))","v":"0"},{"$f":"IF(E763=1,\"0\",VLOOKUP(E763,coefficient2!$A$22:$B$25,2,FALSE))","v":6.6492200000000001E-2},{"$f":"IF(F763=1,\"0\",VLOOKUP(F763,coefficient2!$A$28:$B$31,2,FALSE))","v":5.8085699999999997E-2},0.75116579999999988]
[22133,2,2,1,3,3,11,{"$f":"IF(B764=1,\"0\",VLOOKUP(B764,coefficient2!$A$4:$B$7,2,FALSE))","v":6.6127000000000005E-2},{"$f":"IF(C764=1,\"0\",VLOOKUP(C764,coefficient2!$A$10:$B$13,2,FALSE))","v":5.8129300000000002E-2},{"$f":"IF(D764=1,\"0\",VLOOKUP(D764,coefficient2!$A$16:$B$19,2,FALSE))","v":"0"},{"$f":"IF(E764=1,\"0\",VLOOKUP(E764,coefficient2!$A$22:$B$25,2,FALSE))","v":6.6492200000000001E-2},{"$f":"IF(F764=1,\"0\",VLOOKUP(F764,coefficient2!$A$28:$B$31,2,FALSE))","v":9.5753900000000003E-2},0.71349759999999995]
[22134,2,2,1,3,4,12,{"$f":"IF(B765=1,\"0\",VLOOKUP(B765,coefficient2!$A$4:$B$7,2,FALSE))","v":6.6127000000000005E-2},{"$f":"IF(C765=1,\"0\",VLOOKUP(C765,coefficient2!$A$10:$B$13,2,FALSE))","v":5.8129300000000002E-2},{"$f":"IF(D765=1,\"0\",VLOOKUP(D765,coefficient2!$A$16:$B$19,2,FALSE))","v":"0"},{"$f":"IF(E765=1,\"0\",VLOOKUP(E765,coefficient2!$A$22:$B$25,2,FALSE))","v":6.6492200000000001E-2},{"$f":"IF(F765=1,\"0\",VLOOKUP(F765,coefficient2!$A$28:$B$31,2,FALSE))","v":0.23270360000000001},0.57654789999999989]
[22135,2,2,1,3,5,13,{"$f":"IF(B766=1,\"0\",VLOOKUP(B766,coefficient2!$A$4:$B$7,2,FALSE))","v":6.6127000000000005E-2},{"$f":"IF(C766=1,\"0\",VLOOKUP(C766,coefficient2!$A$10:$B$13,2,FALSE))","v":5.8129300000000002E-2},{"$f":"IF(D766=1,\"0\",VLOOKUP(D766,coefficient2!$A$16:$B$19,2,FALSE))","v":"0"},{"$f":"IF(E766=1,\"0\",VLOOKUP(E766,coefficient2!$A$22:$B$25,2,FALSE))","v":6.6492200000000001E-2},{"$f":"IF(F766=1,\"0\",VLOOKUP(F766,coefficient2!$A$28:$B$31,2,FALSE))","v":0.29534929999999998},0.51390219999999998]
[22141,2,2,1,4,1,10,{"$f":"IF(B767=1,\"0\",VLOOKUP(B767,coefficient2!$A$4:$B$7,2,FALSE))","v":6.6127000000000005E-2},{"$f":"IF(C767=1,\"0\",VLOOKUP(C767,coefficient2!$A$10:$B$13,2,FALSE))","v":5.8129300000000002E-2},{"$f":"IF(D767=1,\"0\",VLOOKUP(D767,coefficient2!$A$16:$B$19,2,FALSE))","v":"0"},{"$f":"IF(E767=1,\"0\",VLOOKUP(E767,coefficient2!$A$22:$B$25,2,FALSE))","v":0.2068864},{"$f":"IF(F767=1,\"0\",VLOOKUP(F767,coefficient2!$A$28:$B$31,2,FALSE))","v":"0"},0.66885729999999988]
[22142,2,2,1,4,2,11,{"$f":"IF(B768=1,\"0\",VLOOKUP(B768,coefficient2!$A$4:$B$7,2,FALSE))","v":6.6127000000000005E-2},{"$f":"IF(C768=1,\"0\",VLOOKUP(C768,coefficient2!$A$10:$B$13,2,FALSE))","v":5.8129300000000002E-2},{"$f":"IF(D768=1,\"0\",VLOOKUP(D768,coefficient2!$A$16:$B$19,2,FALSE))","v":"0"},{"$f":"IF(E768=1,\"0\",VLOOKUP(E768,coefficient2!$A$22:$B$25,2,FALSE))","v":0.2068864},{"$f":"IF(F768=1,\"0\",VLOOKUP(F768,coefficient2!$A$28:$B$31,2,FALSE))","v":5.8085699999999997E-2},0.61077159999999986]
[22143,2,2,1,4,3,12,{"$f":"IF(B769=1,\"0\",VLOOKUP(B769,coefficient2!$A$4:$B$7,2,FALSE))","v":6.6127000000000005E-2},{"$f":"IF(C769=1,\"0\",VLOOKUP(C769,coefficient2!$A$10:$B$13,2,FALSE))","v":5.8129300000000002E-2},{"$f":"IF(D769=1,\"0\",VLOOKUP(D769,coefficient2!$A$16:$B$19,2,FALSE))","v":"0"},{"$f":"IF(E769=1,\"0\",VLOOKUP(E769,coefficient2!$A$22:$B$25,2,FALSE))","v":0.2068864},{"$f":"IF(F769=1,\"0\",VLOOKUP(F769,coefficient2!$A$28:$B$31,2,FALSE))","v":9.5753900000000003E-2},0.57310339999999993]
[22144,2,2,1,4,4,13,{"$f":"IF(B770=1,\"0\",VLOOKUP(B770,coefficient2!$A$4:$B$7,2,FALSE))","v":6.6127000000000005E-2},{"$f":"IF(C770=1,\"0\",VLOOKUP(C770,coefficient2!$A$10:$B$13,2,FALSE))","v":5.8129300000000002E-2},{"$f":"IF(D770=1,\"0\",VLOOKUP(D770,coefficient2!$A$16:$B$19,2,FALSE))","v":"0"},{"$f":"IF(E770=1,\"0\",VLOOKUP(E770,coefficient2!$A$22:$B$25,2,FALSE))","v":0.2068864},{"$f":"IF(F770=1,\"0\",VLOOKUP(F770,coefficient2!$A$28:$B$31,2,FALSE))","v":0.23270360000000001},{"$f":"1-H770-I770-J770-K770-L770","v":0.43615369999999987}]
[22145,{"$f":"INT(LEFT(A771,1))","v":2},{"$f":"INT(MID(A771,2,1))","v":2},{"$f":"INT(MID(A771,3,1))","v":1},{"$f":"INT(MID(A771,4,1))","v":4},{"$f":"INT(RIGHT(A771,1))","v":5},{"$f":"SUM(B771:F771)","v":14},{"$f":"IF(B771=1,\"0\",VLOOKUP(B771,coefficient2!$A$4:$B$7,2,FALSE))","v":6.6127000000000005E-2},{"$f":"IF(C771=1,\"0\",VLOOKUP(C771,coefficient2!$A$10:$B$13,2,FALSE))","v":5.8129300000000002E-2},{"$f":"IF(D771=1,\"0\",VLOOKUP(D771,coefficient2!$A$16:$B$19,2,FALSE))","v":"0"},{"$f":"IF(E771=1,\"0\",VLOOKUP(E771,coefficient2!$A$22:$B$25,2,FALSE))","v":0.2068864},{"$f":"IF(F771=1,\"0\",VLOOKUP(F771,coefficient2!$A$28:$B$31,2,FALSE))","v":0.29534929999999998},0.3735079999999999]
[22151,2,2,1,5,1,11,{"$f":"IF(B772=1,\"0\",VLOOKUP(B772,coefficient2!$A$4:$B$7,2,FALSE))","v":6.6127000000000005E-2},{"$f":"IF(C772=1,\"0\",VLOOKUP(C772,coefficient2!$A$10:$B$13,2,FALSE))","v":5.8129300000000002E-2},{"$f":"IF(D772=1,\"0\",VLOOKUP(D772,coefficient2!$A$16:$B$19,2,FALSE))","v":"0"},{"$f":"IF(E772=1,\"0\",VLOOKUP(E772,coefficient2!$A$22:$B$25,2,FALSE))","v":0.25643310000000002},{"$f":"IF(F772=1,\"0\",VLOOKUP(F772,coefficient2!$A$28:$B$31,2,FALSE))","v":"0"},0.61931059999999993]
[22152,2,2,1,5,2,12,{"$f":"IF(B773=1,\"0\",VLOOKUP(B773,coefficient2!$A$4:$B$7,2,FALSE))","v":6.6127000000000005E-2},{"$f":"IF(C773=1,\"0\",VLOOKUP(C773,coefficient2!$A$10:$B$13,2,FALSE))","v":5.8129300000000002E-2},{"$f":"IF(D773=1,\"0\",VLOOKUP(D773,coefficient2!$A$16:$B$19,2,FALSE))","v":"0"},{"$f":"IF(E773=1,\"0\",VLOOKUP(E773,coefficient2!$A$22:$B$25,2,FALSE))","v":0.25643310000000002},{"$f":"IF(F773=1,\"0\",VLOOKUP(F773,coefficient2!$A$28:$B$31,2,FALSE))","v":5.8085699999999997E-2},0.56122489999999992]
[22153,2,2,1,5,3,13,{"$f":"IF(B774=1,\"0\",VLOOKUP(B774,coefficient2!$A$4:$B$7,2,FALSE))","v":6.6127000000000005E-2},{"$f":"IF(C774=1,\"0\",VLOOKUP(C774,coefficient2!$A$10:$B$13,2,FALSE))","v":5.8129300000000002E-2},{"$f":"IF(D774=1,\"0\",VLOOKUP(D774,coefficient2!$A$16:$B$19,2,FALSE))","v":"0"},{"$f":"IF(E774=1,\"0\",VLOOKUP(E774,coefficient2!$A$22:$B$25,2,FALSE))","v":0.25643310000000002},{"$f":"IF(F774=1,\"0\",VLOOKUP(F774,coefficient2!$A$28:$B$31,2,FALSE))","v":9.5753900000000003E-2},0.52355669999999987]
[22154,2,2,1,5,4,14,{"$f":"IF(B775=1,\"0\",VLOOKUP(B775,coefficient2!$A$4:$B$7,2,FALSE))","v":6.6127000000000005E-2},{"$f":"IF(C775=1,\"0\",VLOOKUP(C775,coefficient2!$A$10:$B$13,2,FALSE))","v":5.8129300000000002E-2},{"$f":"IF(D775=1,\"0\",VLOOKUP(D775,coefficient2!$A$16:$B$19,2,FALSE))","v":"0"},{"$f":"IF(E775=1,\"0\",VLOOKUP(E775,coefficient2!$A$22:$B$25,2,FALSE))","v":0.25643310000000002},{"$f":"IF(F775=1,\"0\",VLOOKUP(F775,coefficient2!$A$28:$B$31,2,FALSE))","v":0.23270360000000001},0.38660699999999992]
[22155,2,2,1,5,5,15,{"$f":"IF(B776=1,\"0\",VLOOKUP(B776,coefficient2!$A$4:$B$7,2,FALSE))","v":6.6127000000000005E-2},{"$f":"IF(C776=1,\"0\",VLOOKUP(C776,coefficient2!$A$10:$B$13,2,FALSE))","v":5.8129300000000002E-2},{"$f":"IF(D776=1,\"0\",VLOOKUP(D776,coefficient2!$A$16:$B$19,2,FALSE))","v":"0"},{"$f":"IF(E776=1,\"0\",VLOOKUP(E776,coefficient2!$A$22:$B$25,2,FALSE))","v":0.25643310000000002},{"$f":"IF(F776=1,\"0\",VLOOKUP(F776,coefficient2!$A$28:$B$31,2,FALSE))","v":0.29534929999999998},0.32396129999999995]
[22211,2,2,2,1,1,8,{"$f":"IF(B777=1,\"0\",VLOOKUP(B777,coefficient2!$A$4:$B$7,2,FALSE))","v":6.6127000000000005E-2},{"$f":"IF(C777=1,\"0\",VLOOKUP(C777,coefficient2!$A$10:$B$13,2,FALSE))","v":5.8129300000000002E-2},{"$f":"IF(D777=1,\"0\",VLOOKUP(D777,coefficient2!$A$16:$B$19,2,FALSE))","v":5.8254399999999998E-2},{"$f":"IF(E777=1,\"0\",VLOOKUP(E777,coefficient2!$A$22:$B$25,2,FALSE))","v":"0"},{"$f":"IF(F777=1,\"0\",VLOOKUP(F777,coefficient2!$A$28:$B$31,2,FALSE))","v":"0"},0.81748929999999986]
[22212,2,2,2,1,2,9,{"$f":"IF(B778=1,\"0\",VLOOKUP(B778,coefficient2!$A$4:$B$7,2,FALSE))","v":6.6127000000000005E-2},{"$f":"IF(C778=1,\"0\",VLOOKUP(C778,coefficient2!$A$10:$B$13,2,FALSE))","v":5.8129300000000002E-2},{"$f":"IF(D778=1,\"0\",VLOOKUP(D778,coefficient2!$A$16:$B$19,2,FALSE))","v":5.8254399999999998E-2},{"$f":"IF(E778=1,\"0\",VLOOKUP(E778,coefficient2!$A$22:$B$25,2,FALSE))","v":"0"},{"$f":"IF(F778=1,\"0\",VLOOKUP(F778,coefficient2!$A$28:$B$31,2,FALSE))","v":5.8085699999999997E-2},0.75940359999999985]
[22213,2,2,2,1,3,10,{"$f":"IF(B779=1,\"0\",VLOOKUP(B779,coefficient2!$A$4:$B$7,2,FALSE))","v":6.6127000000000005E-2},{"$f":"IF(C779=1,\"0\",VLOOKUP(C779,coefficient2!$A$10:$B$13,2,FALSE))","v":5.8129300000000002E-2},{"$f":"IF(D779=1,\"0\",VLOOKUP(D779,coefficient2!$A$16:$B$19,2,FALSE))","v":5.8254399999999998E-2},{"$f":"IF(E779=1,\"0\",VLOOKUP(E779,coefficient2!$A$22:$B$25,2,FALSE))","v":"0"},{"$f":"IF(F779=1,\"0\",VLOOKUP(F779,coefficient2!$A$28:$B$31,2,FALSE))","v":9.5753900000000003E-2},0.7217353999999998]
[22214,2,2,2,1,4,11,{"$f":"IF(B780=1,\"0\",VLOOKUP(B780,coefficient2!$A$4:$B$7,2,FALSE))","v":6.6127000000000005E-2},{"$f":"IF(C780=1,\"0\",VLOOKUP(C780,coefficient2!$A$10:$B$13,2,FALSE))","v":5.8129300000000002E-2},{"$f":"IF(D780=1,\"0\",VLOOKUP(D780,coefficient2!$A$16:$B$19,2,FALSE))","v":5.8254399999999998E-2},{"$f":"IF(E780=1,\"0\",VLOOKUP(E780,coefficient2!$A$22:$B$25,2,FALSE))","v":"0"},{"$f":"IF(F780=1,\"0\",VLOOKUP(F780,coefficient2!$A$28:$B$31,2,FALSE))","v":0.23270360000000001},0.58478569999999985]
[22215,2,2,2,1,5,12,{"$f":"IF(B781=1,\"0\",VLOOKUP(B781,coefficient2!$A$4:$B$7,2,FALSE))","v":6.6127000000000005E-2},{"$f":"IF(C781=1,\"0\",VLOOKUP(C781,coefficient2!$A$10:$B$13,2,FALSE))","v":5.8129300000000002E-2},{"$f":"IF(D781=1,\"0\",VLOOKUP(D781,coefficient2!$A$16:$B$19,2,FALSE))","v":5.8254399999999998E-2},{"$f":"IF(E781=1,\"0\",VLOOKUP(E781,coefficient2!$A$22:$B$25,2,FALSE))","v":"0"},{"$f":"IF(F781=1,\"0\",VLOOKUP(F781,coefficient2!$A$28:$B$31,2,FALSE))","v":0.29534929999999998},0.52213999999999983]
[22221,2,2,2,2,1,9,{"$f":"IF(B782=1,\"0\",VLOOKUP(B782,coefficient2!$A$4:$B$7,2,FALSE))","v":6.6127000000000005E-2},{"$f":"IF(C782=1,\"0\",VLOOKUP(C782,coefficient2!$A$10:$B$13,2,FALSE))","v":5.8129300000000002E-2},{"$f":"IF(D782=1,\"0\",VLOOKUP(D782,coefficient2!$A$16:$B$19,2,FALSE))","v":5.8254399999999998E-2},{"$f":"IF(E782=1,\"0\",VLOOKUP(E782,coefficient2!$A$22:$B$25,2,FALSE))","v":5.63998E-2},{"$f":"IF(F782=1,\"0\",VLOOKUP(F782,coefficient2!$A$28:$B$31,2,FALSE))","v":"0"},0.76108949999999986]
[22222,2,2,2,2,2,10,{"$f":"IF(B783=1,\"0\",VLOOKUP(B783,coefficient2!$A$4:$B$7,2,FALSE))","v":6.6127000000000005E-2},{"$f":"IF(C783=1,\"0\",VLOOKUP(C783,coefficient2!$A$10:$B$13,2,FALSE))","v":5.8129300000000002E-2},{"$f":"IF(D783=1,\"0\",VLOOKUP(D783,coefficient2!$A$16:$B$19,2,FALSE))","v":5.8254399999999998E-2},{"$f":"IF(E783=1,\"0\",VLOOKUP(E783,coefficient2!$A$22:$B$25,2,FALSE))","v":5.63998E-2},{"$f":"IF(F783=1,\"0\",VLOOKUP(F783,coefficient2!$A$28:$B$31,2,FALSE))","v":5.8085699999999997E-2},0.70300379999999985]
[22223,2,2,2,2,3,11,{"$f":"IF(B784=1,\"0\",VLOOKUP(B784,coefficient2!$A$4:$B$7,2,FALSE))","v":6.6127000000000005E-2},{"$f":"IF(C784=1,\"0\",VLOOKUP(C784,coefficient2!$A$10:$B$13,2,FALSE))","v":5.8129300000000002E-2},{"$f":"IF(D784=1,\"0\",VLOOKUP(D784,coefficient2!$A$16:$B$19,2,FALSE))","v":5.8254399999999998E-2},{"$f":"IF(E784=1,\"0\",VLOOKUP(E784,coefficient2!$A$22:$B$25,2,FALSE))","v":5.63998E-2},{"$f":"IF(F784=1,\"0\",VLOOKUP(F784,coefficient2!$A$28:$B$31,2,FALSE))","v":9.5753900000000003E-2},0.66533559999999992]
[22224,2,2,2,2,4,12,{"$f":"IF(B785=1,\"0\",VLOOKUP(B785,coefficient2!$A$4:$B$7,2,FALSE))","v":6.6127000000000005E-2},{"$f":"IF(C785=1,\"0\",VLOOKUP(C785,coefficient2!$A$10:$B$13,2,FALSE))","v":5.8129300000000002E-2},{"$f":"IF(D785=1,\"0\",VLOOKUP(D785,coefficient2!$A$16:$B$19,2,FALSE))","v":5.8254399999999998E-2},{"$f":"IF(E785=1,\"0\",VLOOKUP(E785,coefficient2!$A$22:$B$25,2,FALSE))","v":5.63998E-2},{"$f":"IF(F785=1,\"0\",VLOOKUP(F785,coefficient2!$A$28:$B$31,2,FALSE))","v":0.23270360000000001},0.52838589999999985]
[22225,2,2,2,2,5,13,{"$f":"IF(B786=1,\"0\",VLOOKUP(B786,coefficient2!$A$4:$B$7,2,FALSE))","v":6.6127000000000005E-2},{"$f":"IF(C786=1,\"0\",VLOOKUP(C786,coefficient2!$A$10:$B$13,2,FALSE))","v":5.8129300000000002E-2},{"$f":"IF(D786=1,\"0\",VLOOKUP(D786,coefficient2!$A$16:$B$19,2,FALSE))","v":5.8254399999999998E-2},{"$f":"IF(E786=1,\"0\",VLOOKUP(E786,coefficient2!$A$22:$B$25,2,FALSE))","v":5.63998E-2},{"$f":"IF(F786=1,\"0\",VLOOKUP(F786,coefficient2!$A$28:$B$31,2,FALSE))","v":0.29534929999999998},0.46574019999999988]
[22231,2,2,2,3,1,10,{"$f":"IF(B787=1,\"0\",VLOOKUP(B787,coefficient2!$A$4:$B$7,2,FALSE))","v":6.6127000000000005E-2},{"$f":"IF(C787=1,\"0\",VLOOKUP(C787,coefficient2!$A$10:$B$13,2,FALSE))","v":5.8129300000000002E-2},{"$f":"IF(D787=1,\"0\",VLOOKUP(D787,coefficient2!$A$16:$B$19,2,FALSE))","v":5.8254399999999998E-2},{"$f":"IF(E787=1,\"0\",VLOOKUP(E787,coefficient2!$A$22:$B$25,2,FALSE))","v":6.6492200000000001E-2},{"$f":"IF(F787=1,\"0\",VLOOKUP(F787,coefficient2!$A$28:$B$31,2,FALSE))","v":"0"},0.75099709999999986]
[22232,2,2,2,3,2,11,{"$f":"IF(B788=1,\"0\",VLOOKUP(B788,coefficient2!$A$4:$B$7,2,FALSE))","v":6.6127000000000005E-2},{"$f":"IF(C788=1,\"0\",VLOOKUP(C788,coefficient2!$A$10:$B$13,2,FALSE))","v":5.8129300000000002E-2},{"$f":"IF(D788=1,\"0\",VLOOKUP(D788,coefficient2!$A$16:$B$19,2,FALSE))","v":5.8254399999999998E-2},{"$f":"IF(E788=1,\"0\",VLOOKUP(E788,coefficient2!$A$22:$B$25,2,FALSE))","v":6.6492200000000001E-2},{"$f":"IF(F788=1,\"0\",VLOOKUP(F788,coefficient2!$A$28:$B$31,2,FALSE))","v":5.8085699999999997E-2},0.69291139999999984]
[22233,2,2,2,3,3,12,{"$f":"IF(B789=1,\"0\",VLOOKUP(B789,coefficient2!$A$4:$B$7,2,FALSE))","v":6.6127000000000005E-2},{"$f":"IF(C789=1,\"0\",VLOOKUP(C789,coefficient2!$A$10:$B$13,2,FALSE))","v":5.8129300000000002E-2},{"$f":"IF(D789=1,\"0\",VLOOKUP(D789,coefficient2!$A$16:$B$19,2,FALSE))","v":5.8254399999999998E-2},{"$f":"IF(E789=1,\"0\",VLOOKUP(E789,coefficient2!$A$22:$B$25,2,FALSE))","v":6.6492200000000001E-2},{"$f":"IF(F789=1,\"0\",VLOOKUP(F789,coefficient2!$A$28:$B$31,2,FALSE))","v":9.5753900000000003E-2},0.65524319999999991]
[22234,2,2,2,3,4,13,{"$f":"IF(B790=1,\"0\",VLOOKUP(B790,coefficient2!$A$4:$B$7,2,FALSE))","v":6.6127000000000005E-2},{"$f":"IF(C790=1,\"0\",VLOOKUP(C790,coefficient2!$A$10:$B$13,2,FALSE))","v":5.8129300000000002E-2},{"$f":"IF(D790=1,\"0\",VLOOKUP(D790,coefficient2!$A$16:$B$19,2,FALSE))","v":5.8254399999999998E-2},{"$f":"IF(E790=1,\"0\",VLOOKUP(E790,coefficient2!$A$22:$B$25,2,FALSE))","v":6.6492200000000001E-2},{"$f":"IF(F790=1,\"0\",VLOOKUP(F790,coefficient2!$A$28:$B$31,2,FALSE))","v":0.23270360000000001},0.51829349999999985]
[22235,2,2,2,3,5,14,{"$f":"IF(B791=1,\"0\",VLOOKUP(B791,coefficient2!$A$4:$B$7,2,FALSE))","v":6.6127000000000005E-2},{"$f":"IF(C791=1,\"0\",VLOOKUP(C791,coefficient2!$A$10:$B$13,2,FALSE))","v":5.8129300000000002E-2},{"$f":"IF(D791=1,\"0\",VLOOKUP(D791,coefficient2!$A$16:$B$19,2,FALSE))","v":5.8254399999999998E-2},{"$f":"IF(E791=1,\"0\",VLOOKUP(E791,coefficient2!$A$22:$B$25,2,FALSE))","v":6.6492200000000001E-2},{"$f":"IF(F791=1,\"0\",VLOOKUP(F791,coefficient2!$A$28:$B$31,2,FALSE))","v":0.29534929999999998},0.45564779999999988]
[22241,2,2,2,4,1,11,{"$f":"IF(B792=1,\"0\",VLOOKUP(B792,coefficient2!$A$4:$B$7,2,FALSE))","v":6.6127000000000005E-2},{"$f":"IF(C792=1,\"0\",VLOOKUP(C792,coefficient2!$A$10:$B$13,2,FALSE))","v":5.8129300000000002E-2},{"$f":"IF(D792=1,\"0\",VLOOKUP(D792,coefficient2!$A$16:$B$19,2,FALSE))","v":5.8254399999999998E-2},{"$f":"IF(E792=1,\"0\",VLOOKUP(E792,coefficient2!$A$22:$B$25,2,FALSE))","v":0.2068864},{"$f":"IF(F792=1,\"0\",VLOOKUP(F792,coefficient2!$A$28:$B$31,2,FALSE))","v":"0"},0.61060289999999984]
[22242,2,2,2,4,2,12,{"$f":"IF(B793=1,\"0\",VLOOKUP(B793,coefficient2!$A$4:$B$7,2,FALSE))","v":6.6127000000000005E-2},{"$f":"IF(C793=1,\"0\",VLOOKUP(C793,coefficient2!$A$10:$B$13,2,FALSE))","v":5.8129300000000002E-2},{"$f":"IF(D793=1,\"0\",VLOOKUP(D793,coefficient2!$A$16:$B$19,2,FALSE))","v":5.8254399999999998E-2},{"$f":"IF(E793=1,\"0\",VLOOKUP(E793,coefficient2!$A$22:$B$25,2,FALSE))","v":0.2068864},{"$f":"IF(F793=1,\"0\",VLOOKUP(F793,coefficient2!$A$28:$B$31,2,FALSE))","v":5.8085699999999997E-2},0.55251719999999982]
[22243,2,2,2,4,3,13,{"$f":"IF(B794=1,\"0\",VLOOKUP(B794,coefficient2!$A$4:$B$7,2,FALSE))","v":6.6127000000000005E-2},{"$f":"IF(C794=1,\"0\",VLOOKUP(C794,coefficient2!$A$10:$B$13,2,FALSE))","v":5.8129300000000002E-2},{"$f":"IF(D794=1,\"0\",VLOOKUP(D794,coefficient2!$A$16:$B$19,2,FALSE))","v":5.8254399999999998E-2},{"$f":"IF(E794=1,\"0\",VLOOKUP(E794,coefficient2!$A$22:$B$25,2,FALSE))","v":0.2068864},{"$f":"IF(F794=1,\"0\",VLOOKUP(F794,coefficient2!$A$28:$B$31,2,FALSE))","v":9.5753900000000003E-2},0.51484899999999989]
[22244,2,2,2,4,4,14,{"$f":"IF(B795=1,\"0\",VLOOKUP(B795,coefficient2!$A$4:$B$7,2,FALSE))","v":6.6127000000000005E-2},{"$f":"IF(C795=1,\"0\",VLOOKUP(C795,coefficient2!$A$10:$B$13,2,FALSE))","v":5.8129300000000002E-2},{"$f":"IF(D795=1,\"0\",VLOOKUP(D795,coefficient2!$A$16:$B$19,2,FALSE))","v":5.8254399999999998E-2},{"$f":"IF(E795=1,\"0\",VLOOKUP(E795,coefficient2!$A$22:$B$25,2,FALSE))","v":0.2068864},{"$f":"IF(F795=1,\"0\",VLOOKUP(F795,coefficient2!$A$28:$B$31,2,FALSE))","v":0.23270360000000001},0.37789929999999983]
[22245,2,2,2,4,5,15,{"$f":"IF(B796=1,\"0\",VLOOKUP(B796,coefficient2!$A$4:$B$7,2,FALSE))","v":6.6127000000000005E-2},{"$f":"IF(C796=1,\"0\",VLOOKUP(C796,coefficient2!$A$10:$B$13,2,FALSE))","v":5.8129300000000002E-2},{"$f":"IF(D796=1,\"0\",VLOOKUP(D796,coefficient2!$A$16:$B$19,2,FALSE))","v":5.8254399999999998E-2},{"$f":"IF(E796=1,\"0\",VLOOKUP(E796,coefficient2!$A$22:$B$25,2,FALSE))","v":0.2068864},{"$f":"IF(F796=1,\"0\",VLOOKUP(F796,coefficient2!$A$28:$B$31,2,FALSE))","v":0.29534929999999998},0.31525359999999986]
[22251,2,2,2,5,1,12,{"$f":"IF(B797=1,\"0\",VLOOKUP(B797,coefficient2!$A$4:$B$7,2,FALSE))","v":6.6127000000000005E-2},{"$f":"IF(C797=1,\"0\",VLOOKUP(C797,coefficient2!$A$10:$B$13,2,FALSE))","v":5.8129300000000002E-2},{"$f":"IF(D797=1,\"0\",VLOOKUP(D797,coefficient2!$A$16:$B$19,2,FALSE))","v":5.8254399999999998E-2},{"$f":"IF(E797=1,\"0\",VLOOKUP(E797,coefficient2!$A$22:$B$25,2,FALSE))","v":0.25643310000000002},{"$f":"IF(F797=1,\"0\",VLOOKUP(F797,coefficient2!$A$28:$B$31,2,FALSE))","v":"0"},0.56105619999999989]
[22252,2,2,2,5,2,13,{"$f":"IF(B798=1,\"0\",VLOOKUP(B798,coefficient2!$A$4:$B$7,2,FALSE))","v":6.6127000000000005E-2},{"$f":"IF(C798=1,\"0\",VLOOKUP(C798,coefficient2!$A$10:$B$13,2,FALSE))","v":5.8129300000000002E-2},{"$f":"IF(D798=1,\"0\",VLOOKUP(D798,coefficient2!$A$16:$B$19,2,FALSE))","v":5.8254399999999998E-2},{"$f":"IF(E798=1,\"0\",VLOOKUP(E798,coefficient2!$A$22:$B$25,2,FALSE))","v":0.25643310000000002},{"$f":"IF(F798=1,\"0\",VLOOKUP(F798,coefficient2!$A$28:$B$31,2,FALSE))","v":5.8085699999999997E-2},0.50297049999999988]
[22253,2,2,2,5,3,14,{"$f":"IF(B799=1,\"0\",VLOOKUP(B799,coefficient2!$A$4:$B$7,2,FALSE))","v":6.6127000000000005E-2},{"$f":"IF(C799=1,\"0\",VLOOKUP(C799,coefficient2!$A$10:$B$13,2,FALSE))","v":5.8129300000000002E-2},{"$f":"IF(D799=1,\"0\",VLOOKUP(D799,coefficient2!$A$16:$B$19,2,FALSE))","v":5.8254399999999998E-2},{"$f":"IF(E799=1,\"0\",VLOOKUP(E799,coefficient2!$A$22:$B$25,2,FALSE))","v":0.25643310000000002},{"$f":"IF(F799=1,\"0\",VLOOKUP(F799,coefficient2!$A$28:$B$31,2,FALSE))","v":9.5753900000000003E-2},0.46530229999999989]
[22254,2,2,2,5,4,15,{"$f":"IF(B800=1,\"0\",VLOOKUP(B800,coefficient2!$A$4:$B$7,2,FALSE))","v":6.6127000000000005E-2},{"$f":"IF(C800=1,\"0\",VLOOKUP(C800,coefficient2!$A$10:$B$13,2,FALSE))","v":5.8129300000000002E-2},{"$f":"IF(D800=1,\"0\",VLOOKUP(D800,coefficient2!$A$16:$B$19,2,FALSE))","v":5.8254399999999998E-2},{"$f":"IF(E800=1,\"0\",VLOOKUP(E800,coefficient2!$A$22:$B$25,2,FALSE))","v":0.25643310000000002},{"$f":"IF(F800=1,\"0\",VLOOKUP(F800,coefficient2!$A$28:$B$31,2,FALSE))","v":0.23270360000000001},0.32835259999999988]
[22255,2,2,2,5,5,16,{"$f":"IF(B801=1,\"0\",VLOOKUP(B801,coefficient2!$A$4:$B$7,2,FALSE))","v":6.6127000000000005E-2},{"$f":"IF(C801=1,\"0\",VLOOKUP(C801,coefficient2!$A$10:$B$13,2,FALSE))","v":5.8129300000000002E-2},{"$f":"IF(D801=1,\"0\",VLOOKUP(D801,coefficient2!$A$16:$B$19,2,FALSE))","v":5.8254399999999998E-2},{"$f":"IF(E801=1,\"0\",VLOOKUP(E801,coefficient2!$A$22:$B$25,2,FALSE))","v":0.25643310000000002},{"$f":"IF(F801=1,\"0\",VLOOKUP(F801,coefficient2!$A$28:$B$31,2,FALSE))","v":0.29534929999999998},0.26570689999999991]
[22311,2,2,3,1,1,9,{"$f":"IF(B802=1,\"0\",VLOOKUP(B802,coefficient2!$A$4:$B$7,2,FALSE))","v":6.6127000000000005E-2},{"$f":"IF(C802=1,\"0\",VLOOKUP(C802,coefficient2!$A$10:$B$13,2,FALSE))","v":5.8129300000000002E-2},{"$f":"IF(D802=1,\"0\",VLOOKUP(D802,coefficient2!$A$16:$B$19,2,FALSE))","v":7.1197399999999994E-2},{"$f":"IF(E802=1,\"0\",VLOOKUP(E802,coefficient2!$A$22:$B$25,2,FALSE))","v":"0"},{"$f":"IF(F802=1,\"0\",VLOOKUP(F802,coefficient2!$A$28:$B$31,2,FALSE))","v":"0"},0.80454629999999994]
[22312,2,2,3,1,2,10,{"$f":"IF(B803=1,\"0\",VLOOKUP(B803,coefficient2!$A$4:$B$7,2,FALSE))","v":6.6127000000000005E-2},{"$f":"IF(C803=1,\"0\",VLOOKUP(C803,coefficient2!$A$10:$B$13,2,FALSE))","v":5.8129300000000002E-2},{"$f":"IF(D803=1,\"0\",VLOOKUP(D803,coefficient2!$A$16:$B$19,2,FALSE))","v":7.1197399999999994E-2},{"$f":"IF(E803=1,\"0\",VLOOKUP(E803,coefficient2!$A$22:$B$25,2,FALSE))","v":"0"},{"$f":"IF(F803=1,\"0\",VLOOKUP(F803,coefficient2!$A$28:$B$31,2,FALSE))","v":5.8085699999999997E-2},0.74646059999999992]
[22313,2,2,3,1,3,11,{"$f":"IF(B804=1,\"0\",VLOOKUP(B804,coefficient2!$A$4:$B$7,2,FALSE))","v":6.6127000000000005E-2},{"$f":"IF(C804=1,\"0\",VLOOKUP(C804,coefficient2!$A$10:$B$13,2,FALSE))","v":5.8129300000000002E-2},{"$f":"IF(D804=1,\"0\",VLOOKUP(D804,coefficient2!$A$16:$B$19,2,FALSE))","v":7.1197399999999994E-2},{"$f":"IF(E804=1,\"0\",VLOOKUP(E804,coefficient2!$A$22:$B$25,2,FALSE))","v":"0"},{"$f":"IF(F804=1,\"0\",VLOOKUP(F804,coefficient2!$A$28:$B$31,2,FALSE))","v":9.5753900000000003E-2},0.70879239999999988]
[22314,2,2,3,1,4,12,{"$f":"IF(B805=1,\"0\",VLOOKUP(B805,coefficient2!$A$4:$B$7,2,FALSE))","v":6.6127000000000005E-2},{"$f":"IF(C805=1,\"0\",VLOOKUP(C805,coefficient2!$A$10:$B$13,2,FALSE))","v":5.8129300000000002E-2},{"$f":"IF(D805=1,\"0\",VLOOKUP(D805,coefficient2!$A$16:$B$19,2,FALSE))","v":7.1197399999999994E-2},{"$f":"IF(E805=1,\"0\",VLOOKUP(E805,coefficient2!$A$22:$B$25,2,FALSE))","v":"0"},{"$f":"IF(F805=1,\"0\",VLOOKUP(F805,coefficient2!$A$28:$B$31,2,FALSE))","v":0.23270360000000001},0.57184269999999993]
[22315,2,2,3,1,5,13,{"$f":"IF(B806=1,\"0\",VLOOKUP(B806,coefficient2!$A$4:$B$7,2,FALSE))","v":6.6127000000000005E-2},{"$f":"IF(C806=1,\"0\",VLOOKUP(C806,coefficient2!$A$10:$B$13,2,FALSE))","v":5.8129300000000002E-2},{"$f":"IF(D806=1,\"0\",VLOOKUP(D806,coefficient2!$A$16:$B$19,2,FALSE))","v":7.1197399999999994E-2},{"$f":"IF(E806=1,\"0\",VLOOKUP(E806,coefficient2!$A$22:$B$25,2,FALSE))","v":"0"},{"$f":"IF(F806=1,\"0\",VLOOKUP(F806,coefficient2!$A$28:$B$31,2,FALSE))","v":0.29534929999999998},0.5091969999999999]
[22321,2,2,3,2,1,10,{"$f":"IF(B807=1,\"0\",VLOOKUP(B807,coefficient2!$A$4:$B$7,2,FALSE))","v":6.6127000000000005E-2},{"$f":"IF(C807=1,\"0\",VLOOKUP(C807,coefficient2!$A$10:$B$13,2,FALSE))","v":5.8129300000000002E-2},{"$f":"IF(D807=1,\"0\",VLOOKUP(D807,coefficient2!$A$16:$B$19,2,FALSE))","v":7.1197399999999994E-2},{"$f":"IF(E807=1,\"0\",VLOOKUP(E807,coefficient2!$A$22:$B$25,2,FALSE))","v":5.63998E-2},{"$f":"IF(F807=1,\"0\",VLOOKUP(F807,coefficient2!$A$28:$B$31,2,FALSE))","v":"0"},0.74814649999999994]
[22322,2,2,3,2,2,11,{"$f":"IF(B808=1,\"0\",VLOOKUP(B808,coefficient2!$A$4:$B$7,2,FALSE))","v":6.6127000000000005E-2},{"$f":"IF(C808=1,\"0\",VLOOKUP(C808,coefficient2!$A$10:$B$13,2,FALSE))","v":5.8129300000000002E-2},{"$f":"IF(D808=1,\"0\",VLOOKUP(D808,coefficient2!$A$16:$B$19,2,FALSE))","v":7.1197399999999994E-2},{"$f":"IF(E808=1,\"0\",VLOOKUP(E808,coefficient2!$A$22:$B$25,2,FALSE))","v":5.63998E-2},{"$f":"IF(F808=1,\"0\",VLOOKUP(F808,coefficient2!$A$28:$B$31,2,FALSE))","v":5.8085699999999997E-2},0.69006079999999992]
[22323,2,2,3,2,3,12,{"$f":"IF(B809=1,\"0\",VLOOKUP(B809,coefficient2!$A$4:$B$7,2,FALSE))","v":6.6127000000000005E-2},{"$f":"IF(C809=1,\"0\",VLOOKUP(C809,coefficient2!$A$10:$B$13,2,FALSE))","v":5.8129300000000002E-2},{"$f":"IF(D809=1,\"0\",VLOOKUP(D809,coefficient2!$A$16:$B$19,2,FALSE))","v":7.1197399999999994E-2},{"$f":"IF(E809=1,\"0\",VLOOKUP(E809,coefficient2!$A$22:$B$25,2,FALSE))","v":5.63998E-2},{"$f":"IF(F809=1,\"0\",VLOOKUP(F809,coefficient2!$A$28:$B$31,2,FALSE))","v":9.5753900000000003E-2},0.65239259999999999]
[22324,2,2,3,2,4,13,{"$f":"IF(B810=1,\"0\",VLOOKUP(B810,coefficient2!$A$4:$B$7,2,FALSE))","v":6.6127000000000005E-2},{"$f":"IF(C810=1,\"0\",VLOOKUP(C810,coefficient2!$A$10:$B$13,2,FALSE))","v":5.8129300000000002E-2},{"$f":"IF(D810=1,\"0\",VLOOKUP(D810,coefficient2!$A$16:$B$19,2,FALSE))","v":7.1197399999999994E-2},{"$f":"IF(E810=1,\"0\",VLOOKUP(E810,coefficient2!$A$22:$B$25,2,FALSE))","v":5.63998E-2},{"$f":"IF(F810=1,\"0\",VLOOKUP(F810,coefficient2!$A$28:$B$31,2,FALSE))","v":0.23270360000000001},0.51544289999999993]
[22325,2,2,3,2,5,14,{"$f":"IF(B811=1,\"0\",VLOOKUP(B811,coefficient2!$A$4:$B$7,2,FALSE))","v":6.6127000000000005E-2},{"$f":"IF(C811=1,\"0\",VLOOKUP(C811,coefficient2!$A$10:$B$13,2,FALSE))","v":5.8129300000000002E-2},{"$f":"IF(D811=1,\"0\",VLOOKUP(D811,coefficient2!$A$16:$B$19,2,FALSE))","v":7.1197399999999994E-2},{"$f":"IF(E811=1,\"0\",VLOOKUP(E811,coefficient2!$A$22:$B$25,2,FALSE))","v":5.63998E-2},{"$f":"IF(F811=1,\"0\",VLOOKUP(F811,coefficient2!$A$28:$B$31,2,FALSE))","v":0.29534929999999998},0.45279719999999996]
[22331,2,2,3,3,1,11,{"$f":"IF(B812=1,\"0\",VLOOKUP(B812,coefficient2!$A$4:$B$7,2,FALSE))","v":6.6127000000000005E-2},{"$f":"IF(C812=1,\"0\",VLOOKUP(C812,coefficient2!$A$10:$B$13,2,FALSE))","v":5.8129300000000002E-2},{"$f":"IF(D812=1,\"0\",VLOOKUP(D812,coefficient2!$A$16:$B$19,2,FALSE))","v":7.1197399999999994E-2},{"$f":"IF(E812=1,\"0\",VLOOKUP(E812,coefficient2!$A$22:$B$25,2,FALSE))","v":6.6492200000000001E-2},{"$f":"IF(F812=1,\"0\",VLOOKUP(F812,coefficient2!$A$28:$B$31,2,FALSE))","v":"0"},0.73805409999999994]
[22332,2,2,3,3,2,12,{"$f":"IF(B813=1,\"0\",VLOOKUP(B813,coefficient2!$A$4:$B$7,2,FALSE))","v":6.6127000000000005E-2},{"$f":"IF(C813=1,\"0\",VLOOKUP(C813,coefficient2!$A$10:$B$13,2,FALSE))","v":5.8129300000000002E-2},{"$f":"IF(D813=1,\"0\",VLOOKUP(D813,coefficient2!$A$16:$B$19,2,FALSE))","v":7.1197399999999994E-2},{"$f":"IF(E813=1,\"0\",VLOOKUP(E813,coefficient2!$A$22:$B$25,2,FALSE))","v":6.6492200000000001E-2},{"$f":"IF(F813=1,\"0\",VLOOKUP(F813,coefficient2!$A$28:$B$31,2,FALSE))","v":5.8085699999999997E-2},0.67996839999999992]
[22333,2,2,3,3,3,13,{"$f":"IF(B814=1,\"0\",VLOOKUP(B814,coefficient2!$A$4:$B$7,2,FALSE))","v":6.6127000000000005E-2},{"$f":"IF(C814=1,\"0\",VLOOKUP(C814,coefficient2!$A$10:$B$13,2,FALSE))","v":5.8129300000000002E-2},{"$f":"IF(D814=1,\"0\",VLOOKUP(D814,coefficient2!$A$16:$B$19,2,FALSE))","v":7.1197399999999994E-2},{"$f":"IF(E814=1,\"0\",VLOOKUP(E814,coefficient2!$A$22:$B$25,2,FALSE))","v":6.6492200000000001E-2},{"$f":"IF(F814=1,\"0\",VLOOKUP(F814,coefficient2!$A$28:$B$31,2,FALSE))","v":9.5753900000000003E-2},0.64230019999999999]
[22334,2,2,3,3,4,14,{"$f":"IF(B815=1,\"0\",VLOOKUP(B815,coefficient2!$A$4:$B$7,2,FALSE))","v":6.6127000000000005E-2},{"$f":"IF(C815=1,\"0\",VLOOKUP(C815,coefficient2!$A$10:$B$13,2,FALSE))","v":5.8129300000000002E-2},{"$f":"IF(D815=1,\"0\",VLOOKUP(D815,coefficient2!$A$16:$B$19,2,FALSE))","v":7.1197399999999994E-2},{"$f":"IF(E815=1,\"0\",VLOOKUP(E815,coefficient2!$A$22:$B$25,2,FALSE))","v":6.6492200000000001E-2},{"$f":"IF(F815=1,\"0\",VLOOKUP(F815,coefficient2!$A$28:$B$31,2,FALSE))","v":0.23270360000000001},0.50535049999999992]
[22335,2,2,3,3,5,15,{"$f":"IF(B816=1,\"0\",VLOOKUP(B816,coefficient2!$A$4:$B$7,2,FALSE))","v":6.6127000000000005E-2},{"$f":"IF(C816=1,\"0\",VLOOKUP(C816,coefficient2!$A$10:$B$13,2,FALSE))","v":5.8129300000000002E-2},{"$f":"IF(D816=1,\"0\",VLOOKUP(D816,coefficient2!$A$16:$B$19,2,FALSE))","v":7.1197399999999994E-2},{"$f":"IF(E816=1,\"0\",VLOOKUP(E816,coefficient2!$A$22:$B$25,2,FALSE))","v":6.6492200000000001E-2},{"$f":"IF(F816=1,\"0\",VLOOKUP(F816,coefficient2!$A$28:$B$31,2,FALSE))","v":0.29534929999999998},0.44270479999999995]
[22341,2,2,3,4,1,12,{"$f":"IF(B817=1,\"0\",VLOOKUP(B817,coefficient2!$A$4:$B$7,2,FALSE))","v":6.6127000000000005E-2},{"$f":"IF(C817=1,\"0\",VLOOKUP(C817,coefficient2!$A$10:$B$13,2,FALSE))","v":5.8129300000000002E-2},{"$f":"IF(D817=1,\"0\",VLOOKUP(D817,coefficient2!$A$16:$B$19,2,FALSE))","v":7.1197399999999994E-2},{"$f":"IF(E817=1,\"0\",VLOOKUP(E817,coefficient2!$A$22:$B$25,2,FALSE))","v":0.2068864},{"$f":"IF(F817=1,\"0\",VLOOKUP(F817,coefficient2!$A$28:$B$31,2,FALSE))","v":"0"},0.59765989999999991]
[22342,2,2,3,4,2,13,{"$f":"IF(B818=1,\"0\",VLOOKUP(B818,coefficient2!$A$4:$B$7,2,FALSE))","v":6.6127000000000005E-2},{"$f":"IF(C818=1,\"0\",VLOOKUP(C818,coefficient2!$A$10:$B$13,2,FALSE))","v":5.8129300000000002E-2},{"$f":"IF(D818=1,\"0\",VLOOKUP(D818,coefficient2!$A$16:$B$19,2,FALSE))","v":7.1197399999999994E-2},{"$f":"IF(E818=1,\"0\",VLOOKUP(E818,coefficient2!$A$22:$B$25,2,FALSE))","v":0.2068864},{"$f":"IF(F818=1,\"0\",VLOOKUP(F818,coefficient2!$A$28:$B$31,2,FALSE))","v":5.8085699999999997E-2},0.53957419999999989]
[22343,2,2,3,4,3,14,{"$f":"IF(B819=1,\"0\",VLOOKUP(B819,coefficient2!$A$4:$B$7,2,FALSE))","v":6.6127000000000005E-2},{"$f":"IF(C819=1,\"0\",VLOOKUP(C819,coefficient2!$A$10:$B$13,2,FALSE))","v":5.8129300000000002E-2},{"$f":"IF(D819=1,\"0\",VLOOKUP(D819,coefficient2!$A$16:$B$19,2,FALSE))","v":7.1197399999999994E-2},{"$f":"IF(E819=1,\"0\",VLOOKUP(E819,coefficient2!$A$22:$B$25,2,FALSE))","v":0.2068864},{"$f":"IF(F819=1,\"0\",VLOOKUP(F819,coefficient2!$A$28:$B$31,2,FALSE))","v":9.5753900000000003E-2},0.50190599999999996]
[22344,2,2,3,4,4,15,{"$f":"IF(B820=1,\"0\",VLOOKUP(B820,coefficient2!$A$4:$B$7,2,FALSE))","v":6.6127000000000005E-2},{"$f":"IF(C820=1,\"0\",VLOOKUP(C820,coefficient2!$A$10:$B$13,2,FALSE))","v":5.8129300000000002E-2},{"$f":"IF(D820=1,\"0\",VLOOKUP(D820,coefficient2!$A$16:$B$19,2,FALSE))","v":7.1197399999999994E-2},{"$f":"IF(E820=1,\"0\",VLOOKUP(E820,coefficient2!$A$22:$B$25,2,FALSE))","v":0.2068864},{"$f":"IF(F820=1,\"0\",VLOOKUP(F820,coefficient2!$A$28:$B$31,2,FALSE))","v":0.23270360000000001},0.3649562999999999]
[22345,2,2,3,4,5,16,{"$f":"IF(B821=1,\"0\",VLOOKUP(B821,coefficient2!$A$4:$B$7,2,FALSE))","v":6.6127000000000005E-2},{"$f":"IF(C821=1,\"0\",VLOOKUP(C821,coefficient2!$A$10:$B$13,2,FALSE))","v":5.8129300000000002E-2},{"$f":"IF(D821=1,\"0\",VLOOKUP(D821,coefficient2!$A$16:$B$19,2,FALSE))","v":7.1197399999999994E-2},{"$f":"IF(E821=1,\"0\",VLOOKUP(E821,coefficient2!$A$22:$B$25,2,FALSE))","v":0.2068864},{"$f":"IF(F821=1,\"0\",VLOOKUP(F821,coefficient2!$A$28:$B$31,2,FALSE))","v":0.29534929999999998},0.30231059999999993]
[22351,2,2,3,5,1,13,{"$f":"IF(B822=1,\"0\",VLOOKUP(B822,coefficient2!$A$4:$B$7,2,FALSE))","v":6.6127000000000005E-2},{"$f":"IF(C822=1,\"0\",VLOOKUP(C822,coefficient2!$A$10:$B$13,2,FALSE))","v":5.8129300000000002E-2},{"$f":"IF(D822=1,\"0\",VLOOKUP(D822,coefficient2!$A$16:$B$19,2,FALSE))","v":7.1197399999999994E-2},{"$f":"IF(E822=1,\"0\",VLOOKUP(E822,coefficient2!$A$22:$B$25,2,FALSE))","v":0.25643310000000002},{"$f":"IF(F822=1,\"0\",VLOOKUP(F822,coefficient2!$A$28:$B$31,2,FALSE))","v":"0"},0.54811319999999997]
[22352,2,2,3,5,2,14,{"$f":"IF(B823=1,\"0\",VLOOKUP(B823,coefficient2!$A$4:$B$7,2,FALSE))","v":6.6127000000000005E-2},{"$f":"IF(C823=1,\"0\",VLOOKUP(C823,coefficient2!$A$10:$B$13,2,FALSE))","v":5.8129300000000002E-2},{"$f":"IF(D823=1,\"0\",VLOOKUP(D823,coefficient2!$A$16:$B$19,2,FALSE))","v":7.1197399999999994E-2},{"$f":"IF(E823=1,\"0\",VLOOKUP(E823,coefficient2!$A$22:$B$25,2,FALSE))","v":0.25643310000000002},{"$f":"IF(F823=1,\"0\",VLOOKUP(F823,coefficient2!$A$28:$B$31,2,FALSE))","v":5.8085699999999997E-2},0.49002749999999995]
[22353,2,2,3,5,3,15,{"$f":"IF(B824=1,\"0\",VLOOKUP(B824,coefficient2!$A$4:$B$7,2,FALSE))","v":6.6127000000000005E-2},{"$f":"IF(C824=1,\"0\",VLOOKUP(C824,coefficient2!$A$10:$B$13,2,FALSE))","v":5.8129300000000002E-2},{"$f":"IF(D824=1,\"0\",VLOOKUP(D824,coefficient2!$A$16:$B$19,2,FALSE))","v":7.1197399999999994E-2},{"$f":"IF(E824=1,\"0\",VLOOKUP(E824,coefficient2!$A$22:$B$25,2,FALSE))","v":0.25643310000000002},{"$f":"IF(F824=1,\"0\",VLOOKUP(F824,coefficient2!$A$28:$B$31,2,FALSE))","v":9.5753900000000003E-2},0.45235929999999996]
[22354,2,2,3,5,4,16,{"$f":"IF(B825=1,\"0\",VLOOKUP(B825,coefficient2!$A$4:$B$7,2,FALSE))","v":6.6127000000000005E-2},{"$f":"IF(C825=1,\"0\",VLOOKUP(C825,coefficient2!$A$10:$B$13,2,FALSE))","v":5.8129300000000002E-2},{"$f":"IF(D825=1,\"0\",VLOOKUP(D825,coefficient2!$A$16:$B$19,2,FALSE))","v":7.1197399999999994E-2},{"$f":"IF(E825=1,\"0\",VLOOKUP(E825,coefficient2!$A$22:$B$25,2,FALSE))","v":0.25643310000000002},{"$f":"IF(F825=1,\"0\",VLOOKUP(F825,coefficient2!$A$28:$B$31,2,FALSE))","v":0.23270360000000001},0.31540959999999996]
[22355,2,2,3,5,5,17,{"$f":"IF(B826=1,\"0\",VLOOKUP(B826,coefficient2!$A$4:$B$7,2,FALSE))","v":6.6127000000000005E-2},{"$f":"IF(C826=1,\"0\",VLOOKUP(C826,coefficient2!$A$10:$B$13,2,FALSE))","v":5.8129300000000002E-2},{"$f":"IF(D826=1,\"0\",VLOOKUP(D826,coefficient2!$A$16:$B$19,2,FALSE))","v":7.1197399999999994E-2},{"$f":"IF(E826=1,\"0\",VLOOKUP(E826,coefficient2!$A$22:$B$25,2,FALSE))","v":0.25643310000000002},{"$f":"IF(F826=1,\"0\",VLOOKUP(F826,coefficient2!$A$28:$B$31,2,FALSE))","v":0.29534929999999998},0.25276389999999999]
[22411,2,2,4,1,1,10,{"$f":"IF(B827=1,\"0\",VLOOKUP(B827,coefficient2!$A$4:$B$7,2,FALSE))","v":6.6127000000000005E-2},{"$f":"IF(C827=1,\"0\",VLOOKUP(C827,coefficient2!$A$10:$B$13,2,FALSE))","v":5.8129300000000002E-2},{"$f":"IF(D827=1,\"0\",VLOOKUP(D827,coefficient2!$A$16:$B$19,2,FALSE))","v":0.1534855},{"$f":"IF(E827=1,\"0\",VLOOKUP(E827,coefficient2!$A$22:$B$25,2,FALSE))","v":"0"},{"$f":"IF(F827=1,\"0\",VLOOKUP(F827,coefficient2!$A$28:$B$31,2,FALSE))","v":"0"},0.72225819999999996]
[22412,2,2,4,1,2,11,{"$f":"IF(B828=1,\"0\",VLOOKUP(B828,coefficient2!$A$4:$B$7,2,FALSE))","v":6.6127000000000005E-2},{"$f":"IF(C828=1,\"0\",VLOOKUP(C828,coefficient2!$A$10:$B$13,2,FALSE))","v":5.8129300000000002E-2},{"$f":"IF(D828=1,\"0\",VLOOKUP(D828,coefficient2!$A$16:$B$19,2,FALSE))","v":0.1534855},{"$f":"IF(E828=1,\"0\",VLOOKUP(E828,coefficient2!$A$22:$B$25,2,FALSE))","v":"0"},{"$f":"IF(F828=1,\"0\",VLOOKUP(F828,coefficient2!$A$28:$B$31,2,FALSE))","v":5.8085699999999997E-2},0.66417249999999994]
[22413,2,2,4,1,3,12,{"$f":"IF(B829=1,\"0\",VLOOKUP(B829,coefficient2!$A$4:$B$7,2,FALSE))","v":6.6127000000000005E-2},{"$f":"IF(C829=1,\"0\",VLOOKUP(C829,coefficient2!$A$10:$B$13,2,FALSE))","v":5.8129300000000002E-2},{"$f":"IF(D829=1,\"0\",VLOOKUP(D829,coefficient2!$A$16:$B$19,2,FALSE))","v":0.1534855},{"$f":"IF(E829=1,\"0\",VLOOKUP(E829,coefficient2!$A$22:$B$25,2,FALSE))","v":"0"},{"$f":"IF(F829=1,\"0\",VLOOKUP(F829,coefficient2!$A$28:$B$31,2,FALSE))","v":9.5753900000000003E-2},0.6265042999999999]
[22414,2,2,4,1,4,13,{"$f":"IF(B830=1,\"0\",VLOOKUP(B830,coefficient2!$A$4:$B$7,2,FALSE))","v":6.6127000000000005E-2},{"$f":"IF(C830=1,\"0\",VLOOKUP(C830,coefficient2!$A$10:$B$13,2,FALSE))","v":5.8129300000000002E-2},{"$f":"IF(D830=1,\"0\",VLOOKUP(D830,coefficient2!$A$16:$B$19,2,FALSE))","v":0.1534855},{"$f":"IF(E830=1,\"0\",VLOOKUP(E830,coefficient2!$A$22:$B$25,2,FALSE))","v":"0"},{"$f":"IF(F830=1,\"0\",VLOOKUP(F830,coefficient2!$A$28:$B$31,2,FALSE))","v":0.23270360000000001},0.48955459999999995]
[22415,2,2,4,1,5,14,{"$f":"IF(B831=1,\"0\",VLOOKUP(B831,coefficient2!$A$4:$B$7,2,FALSE))","v":6.6127000000000005E-2},{"$f":"IF(C831=1,\"0\",VLOOKUP(C831,coefficient2!$A$10:$B$13,2,FALSE))","v":5.8129300000000002E-2},{"$f":"IF(D831=1,\"0\",VLOOKUP(D831,coefficient2!$A$16:$B$19,2,FALSE))","v":0.1534855},{"$f":"IF(E831=1,\"0\",VLOOKUP(E831,coefficient2!$A$22:$B$25,2,FALSE))","v":"0"},{"$f":"IF(F831=1,\"0\",VLOOKUP(F831,coefficient2!$A$28:$B$31,2,FALSE))","v":0.29534929999999998},0.42690889999999998]
[22421,2,2,4,2,1,11,{"$f":"IF(B832=1,\"0\",VLOOKUP(B832,coefficient2!$A$4:$B$7,2,FALSE))","v":6.6127000000000005E-2},{"$f":"IF(C832=1,\"0\",VLOOKUP(C832,coefficient2!$A$10:$B$13,2,FALSE))","v":5.8129300000000002E-2},{"$f":"IF(D832=1,\"0\",VLOOKUP(D832,coefficient2!$A$16:$B$19,2,FALSE))","v":0.1534855},{"$f":"IF(E832=1,\"0\",VLOOKUP(E832,coefficient2!$A$22:$B$25,2,FALSE))","v":5.63998E-2},{"$f":"IF(F832=1,\"0\",VLOOKUP(F832,coefficient2!$A$28:$B$31,2,FALSE))","v":"0"},0.66585839999999996]
[22422,2,2,4,2,2,12,{"$f":"IF(B833=1,\"0\",VLOOKUP(B833,coefficient2!$A$4:$B$7,2,FALSE))","v":6.6127000000000005E-2},{"$f":"IF(C833=1,\"0\",VLOOKUP(C833,coefficient2!$A$10:$B$13,2,FALSE))","v":5.8129300000000002E-2},{"$f":"IF(D833=1,\"0\",VLOOKUP(D833,coefficient2!$A$16:$B$19,2,FALSE))","v":0.1534855},{"$f":"IF(E833=1,\"0\",VLOOKUP(E833,coefficient2!$A$22:$B$25,2,FALSE))","v":5.63998E-2},{"$f":"IF(F833=1,\"0\",VLOOKUP(F833,coefficient2!$A$28:$B$31,2,FALSE))","v":5.8085699999999997E-2},0.60777269999999994]
[22423,2,2,4,2,3,13,{"$f":"IF(B834=1,\"0\",VLOOKUP(B834,coefficient2!$A$4:$B$7,2,FALSE))","v":6.6127000000000005E-2},{"$f":"IF(C834=1,\"0\",VLOOKUP(C834,coefficient2!$A$10:$B$13,2,FALSE))","v":5.8129300000000002E-2},{"$f":"IF(D834=1,\"0\",VLOOKUP(D834,coefficient2!$A$16:$B$19,2,FALSE))","v":0.1534855},{"$f":"IF(E834=1,\"0\",VLOOKUP(E834,coefficient2!$A$22:$B$25,2,FALSE))","v":5.63998E-2},{"$f":"IF(F834=1,\"0\",VLOOKUP(F834,coefficient2!$A$28:$B$31,2,FALSE))","v":9.5753900000000003E-2},{"$f":"1-H834-I834-J834-K834-L834","v":0.57010450000000001}]
[22424,{"$f":"INT(LEFT(A835,1))","v":2},{"$f":"INT(MID(A835,2,1))","v":2},{"$f":"INT(MID(A835,3,1))","v":4},{"$f":"INT(MID(A835,4,1))","v":2},{"$f":"INT(RIGHT(A835,1))","v":4},{"$f":"SUM(B835:F835)","v":14},{"$f":"IF(B835=1,\"0\",VLOOKUP(B835,coefficient2!$A$4:$B$7,2,FALSE))","v":6.6127000000000005E-2},{"$f":"IF(C835=1,\"0\",VLOOKUP(C835,coefficient2!$A$10:$B$13,2,FALSE))","v":5.8129300000000002E-2},{"$f":"IF(D835=1,\"0\",VLOOKUP(D835,coefficient2!$A$16:$B$19,2,FALSE))","v":0.1534855},{"$f":"IF(E835=1,\"0\",VLOOKUP(E835,coefficient2!$A$22:$B$25,2,FALSE))","v":5.63998E-2},{"$f":"IF(F835=1,\"0\",VLOOKUP(F835,coefficient2!$A$28:$B$31,2,FALSE))","v":0.23270360000000001},0.43315479999999995]
[22425,2,2,4,2,5,15,{"$f":"IF(B836=1,\"0\",VLOOKUP(B836,coefficient2!$A$4:$B$7,2,FALSE))","v":6.6127000000000005E-2},{"$f":"IF(C836=1,\"0\",VLOOKUP(C836,coefficient2!$A$10:$B$13,2,FALSE))","v":5.8129300000000002E-2},{"$f":"IF(D836=1,\"0\",VLOOKUP(D836,coefficient2!$A$16:$B$19,2,FALSE))","v":0.1534855},{"$f":"IF(E836=1,\"0\",VLOOKUP(E836,coefficient2!$A$22:$B$25,2,FALSE))","v":5.63998E-2},{"$f":"IF(F836=1,\"0\",VLOOKUP(F836,coefficient2!$A$28:$B$31,2,FALSE))","v":0.29534929999999998},0.37050909999999998]
[22431,2,2,4,3,1,12,{"$f":"IF(B837=1,\"0\",VLOOKUP(B837,coefficient2!$A$4:$B$7,2,FALSE))","v":6.6127000000000005E-2},{"$f":"IF(C837=1,\"0\",VLOOKUP(C837,coefficient2!$A$10:$B$13,2,FALSE))","v":5.8129300000000002E-2},{"$f":"IF(D837=1,\"0\",VLOOKUP(D837,coefficient2!$A$16:$B$19,2,FALSE))","v":0.1534855},{"$f":"IF(E837=1,\"0\",VLOOKUP(E837,coefficient2!$A$22:$B$25,2,FALSE))","v":6.6492200000000001E-2},{"$f":"IF(F837=1,\"0\",VLOOKUP(F837,coefficient2!$A$28:$B$31,2,FALSE))","v":"0"},0.65576599999999996]
[22432,2,2,4,3,2,13,{"$f":"IF(B838=1,\"0\",VLOOKUP(B838,coefficient2!$A$4:$B$7,2,FALSE))","v":6.6127000000000005E-2},{"$f":"IF(C838=1,\"0\",VLOOKUP(C838,coefficient2!$A$10:$B$13,2,FALSE))","v":5.8129300000000002E-2},{"$f":"IF(D838=1,\"0\",VLOOKUP(D838,coefficient2!$A$16:$B$19,2,FALSE))","v":0.1534855},{"$f":"IF(E838=1,\"0\",VLOOKUP(E838,coefficient2!$A$22:$B$25,2,FALSE))","v":6.6492200000000001E-2},{"$f":"IF(F838=1,\"0\",VLOOKUP(F838,coefficient2!$A$28:$B$31,2,FALSE))","v":5.8085699999999997E-2},0.59768029999999994]
[22433,2,2,4,3,3,14,{"$f":"IF(B839=1,\"0\",VLOOKUP(B839,coefficient2!$A$4:$B$7,2,FALSE))","v":6.6127000000000005E-2},{"$f":"IF(C839=1,\"0\",VLOOKUP(C839,coefficient2!$A$10:$B$13,2,FALSE))","v":5.8129300000000002E-2},{"$f":"IF(D839=1,\"0\",VLOOKUP(D839,coefficient2!$A$16:$B$19,2,FALSE))","v":0.1534855},{"$f":"IF(E839=1,\"0\",VLOOKUP(E839,coefficient2!$A$22:$B$25,2,FALSE))","v":6.6492200000000001E-2},{"$f":"IF(F839=1,\"0\",VLOOKUP(F839,coefficient2!$A$28:$B$31,2,FALSE))","v":9.5753900000000003E-2},0.56001210000000001]
[22434,2,2,4,3,4,15,{"$f":"IF(B840=1,\"0\",VLOOKUP(B840,coefficient2!$A$4:$B$7,2,FALSE))","v":6.6127000000000005E-2},{"$f":"IF(C840=1,\"0\",VLOOKUP(C840,coefficient2!$A$10:$B$13,2,FALSE))","v":5.8129300000000002E-2},{"$f":"IF(D840=1,\"0\",VLOOKUP(D840,coefficient2!$A$16:$B$19,2,FALSE))","v":0.1534855},{"$f":"IF(E840=1,\"0\",VLOOKUP(E840,coefficient2!$A$22:$B$25,2,FALSE))","v":6.6492200000000001E-2},{"$f":"IF(F840=1,\"0\",VLOOKUP(F840,coefficient2!$A$28:$B$31,2,FALSE))","v":0.23270360000000001},0.42306239999999995]
[22435,2,2,4,3,5,16,{"$f":"IF(B841=1,\"0\",VLOOKUP(B841,coefficient2!$A$4:$B$7,2,FALSE))","v":6.6127000000000005E-2},{"$f":"IF(C841=1,\"0\",VLOOKUP(C841,coefficient2!$A$10:$B$13,2,FALSE))","v":5.8129300000000002E-2},{"$f":"IF(D841=1,\"0\",VLOOKUP(D841,coefficient2!$A$16:$B$19,2,FALSE))","v":0.1534855},{"$f":"IF(E841=1,\"0\",VLOOKUP(E841,coefficient2!$A$22:$B$25,2,FALSE))","v":6.6492200000000001E-2},{"$f":"IF(F841=1,\"0\",VLOOKUP(F841,coefficient2!$A$28:$B$31,2,FALSE))","v":0.29534929999999998},0.36041669999999998]
[22441,2,2,4,4,1,13,{"$f":"IF(B842=1,\"0\",VLOOKUP(B842,coefficient2!$A$4:$B$7,2,FALSE))","v":6.6127000000000005E-2},{"$f":"IF(C842=1,\"0\",VLOOKUP(C842,coefficient2!$A$10:$B$13,2,FALSE))","v":5.8129300000000002E-2},{"$f":"IF(D842=1,\"0\",VLOOKUP(D842,coefficient2!$A$16:$B$19,2,FALSE))","v":0.1534855},{"$f":"IF(E842=1,\"0\",VLOOKUP(E842,coefficient2!$A$22:$B$25,2,FALSE))","v":0.2068864},{"$f":"IF(F842=1,\"0\",VLOOKUP(F842,coefficient2!$A$28:$B$31,2,FALSE))","v":"0"},0.51537179999999994]
[22442,2,2,4,4,2,14,{"$f":"IF(B843=1,\"0\",VLOOKUP(B843,coefficient2!$A$4:$B$7,2,FALSE))","v":6.6127000000000005E-2},{"$f":"IF(C843=1,\"0\",VLOOKUP(C843,coefficient2!$A$10:$B$13,2,FALSE))","v":5.8129300000000002E-2},{"$f":"IF(D843=1,\"0\",VLOOKUP(D843,coefficient2!$A$16:$B$19,2,FALSE))","v":0.1534855},{"$f":"IF(E843=1,\"0\",VLOOKUP(E843,coefficient2!$A$22:$B$25,2,FALSE))","v":0.2068864},{"$f":"IF(F843=1,\"0\",VLOOKUP(F843,coefficient2!$A$28:$B$31,2,FALSE))","v":5.8085699999999997E-2},0.45728609999999992]
[22443,2,2,4,4,3,15,{"$f":"IF(B844=1,\"0\",VLOOKUP(B844,coefficient2!$A$4:$B$7,2,FALSE))","v":6.6127000000000005E-2},{"$f":"IF(C844=1,\"0\",VLOOKUP(C844,coefficient2!$A$10:$B$13,2,FALSE))","v":5.8129300000000002E-2},{"$f":"IF(D844=1,\"0\",VLOOKUP(D844,coefficient2!$A$16:$B$19,2,FALSE))","v":0.1534855},{"$f":"IF(E844=1,\"0\",VLOOKUP(E844,coefficient2!$A$22:$B$25,2,FALSE))","v":0.2068864},{"$f":"IF(F844=1,\"0\",VLOOKUP(F844,coefficient2!$A$28:$B$31,2,FALSE))","v":9.5753900000000003E-2},0.41961789999999993]
[22444,2,2,4,4,4,16,{"$f":"IF(B845=1,\"0\",VLOOKUP(B845,coefficient2!$A$4:$B$7,2,FALSE))","v":6.6127000000000005E-2},{"$f":"IF(C845=1,\"0\",VLOOKUP(C845,coefficient2!$A$10:$B$13,2,FALSE))","v":5.8129300000000002E-2},{"$f":"IF(D845=1,\"0\",VLOOKUP(D845,coefficient2!$A$16:$B$19,2,FALSE))","v":0.1534855},{"$f":"IF(E845=1,\"0\",VLOOKUP(E845,coefficient2!$A$22:$B$25,2,FALSE))","v":0.2068864},{"$f":"IF(F845=1,\"0\",VLOOKUP(F845,coefficient2!$A$28:$B$31,2,FALSE))","v":0.23270360000000001},0.28266819999999993]
[22445,2,2,4,4,5,17,{"$f":"IF(B846=1,\"0\",VLOOKUP(B846,coefficient2!$A$4:$B$7,2,FALSE))","v":6.6127000000000005E-2},{"$f":"IF(C846=1,\"0\",VLOOKUP(C846,coefficient2!$A$10:$B$13,2,FALSE))","v":5.8129300000000002E-2},{"$f":"IF(D846=1,\"0\",VLOOKUP(D846,coefficient2!$A$16:$B$19,2,FALSE))","v":0.1534855},{"$f":"IF(E846=1,\"0\",VLOOKUP(E846,coefficient2!$A$22:$B$25,2,FALSE))","v":0.2068864},{"$f":"IF(F846=1,\"0\",VLOOKUP(F846,coefficient2!$A$28:$B$31,2,FALSE))","v":0.29534929999999998},0.22002249999999995]
[22451,2,2,4,5,1,14,{"$f":"IF(B847=1,\"0\",VLOOKUP(B847,coefficient2!$A$4:$B$7,2,FALSE))","v":6.6127000000000005E-2},{"$f":"IF(C847=1,\"0\",VLOOKUP(C847,coefficient2!$A$10:$B$13,2,FALSE))","v":5.8129300000000002E-2},{"$f":"IF(D847=1,\"0\",VLOOKUP(D847,coefficient2!$A$16:$B$19,2,FALSE))","v":0.1534855},{"$f":"IF(E847=1,\"0\",VLOOKUP(E847,coefficient2!$A$22:$B$25,2,FALSE))","v":0.25643310000000002},{"$f":"IF(F847=1,\"0\",VLOOKUP(F847,coefficient2!$A$28:$B$31,2,FALSE))","v":"0"},0.46582509999999994]
[22452,2,2,4,5,2,15,{"$f":"IF(B848=1,\"0\",VLOOKUP(B848,coefficient2!$A$4:$B$7,2,FALSE))","v":6.6127000000000005E-2},{"$f":"IF(C848=1,\"0\",VLOOKUP(C848,coefficient2!$A$10:$B$13,2,FALSE))","v":5.8129300000000002E-2},{"$f":"IF(D848=1,\"0\",VLOOKUP(D848,coefficient2!$A$16:$B$19,2,FALSE))","v":0.1534855},{"$f":"IF(E848=1,\"0\",VLOOKUP(E848,coefficient2!$A$22:$B$25,2,FALSE))","v":0.25643310000000002},{"$f":"IF(F848=1,\"0\",VLOOKUP(F848,coefficient2!$A$28:$B$31,2,FALSE))","v":5.8085699999999997E-2},0.40773939999999992]
[22453,2,2,4,5,3,16,{"$f":"IF(B849=1,\"0\",VLOOKUP(B849,coefficient2!$A$4:$B$7,2,FALSE))","v":6.6127000000000005E-2},{"$f":"IF(C849=1,\"0\",VLOOKUP(C849,coefficient2!$A$10:$B$13,2,FALSE))","v":5.8129300000000002E-2},{"$f":"IF(D849=1,\"0\",VLOOKUP(D849,coefficient2!$A$16:$B$19,2,FALSE))","v":0.1534855},{"$f":"IF(E849=1,\"0\",VLOOKUP(E849,coefficient2!$A$22:$B$25,2,FALSE))","v":0.25643310000000002},{"$f":"IF(F849=1,\"0\",VLOOKUP(F849,coefficient2!$A$28:$B$31,2,FALSE))","v":9.5753900000000003E-2},0.37007119999999993]
[22454,2,2,4,5,4,17,{"$f":"IF(B850=1,\"0\",VLOOKUP(B850,coefficient2!$A$4:$B$7,2,FALSE))","v":6.6127000000000005E-2},{"$f":"IF(C850=1,\"0\",VLOOKUP(C850,coefficient2!$A$10:$B$13,2,FALSE))","v":5.8129300000000002E-2},{"$f":"IF(D850=1,\"0\",VLOOKUP(D850,coefficient2!$A$16:$B$19,2,FALSE))","v":0.1534855},{"$f":"IF(E850=1,\"0\",VLOOKUP(E850,coefficient2!$A$22:$B$25,2,FALSE))","v":0.25643310000000002},{"$f":"IF(F850=1,\"0\",VLOOKUP(F850,coefficient2!$A$28:$B$31,2,FALSE))","v":0.23270360000000001},0.23312149999999993]
[22455,2,2,4,5,5,18,{"$f":"IF(B851=1,\"0\",VLOOKUP(B851,coefficient2!$A$4:$B$7,2,FALSE))","v":6.6127000000000005E-2},{"$f":"IF(C851=1,\"0\",VLOOKUP(C851,coefficient2!$A$10:$B$13,2,FALSE))","v":5.8129300000000002E-2},{"$f":"IF(D851=1,\"0\",VLOOKUP(D851,coefficient2!$A$16:$B$19,2,FALSE))","v":0.1534855},{"$f":"IF(E851=1,\"0\",VLOOKUP(E851,coefficient2!$A$22:$B$25,2,FALSE))","v":0.25643310000000002},{"$f":"IF(F851=1,\"0\",VLOOKUP(F851,coefficient2!$A$28:$B$31,2,FALSE))","v":0.29534929999999998},0.17047579999999996]
[22511,2,2,5,1,1,11,{"$f":"IF(B852=1,\"0\",VLOOKUP(B852,coefficient2!$A$4:$B$7,2,FALSE))","v":6.6127000000000005E-2},{"$f":"IF(C852=1,\"0\",VLOOKUP(C852,coefficient2!$A$10:$B$13,2,FALSE))","v":5.8129300000000002E-2},{"$f":"IF(D852=1,\"0\",VLOOKUP(D852,coefficient2!$A$16:$B$19,2,FALSE))","v":0.248331},{"$f":"IF(E852=1,\"0\",VLOOKUP(E852,coefficient2!$A$22:$B$25,2,FALSE))","v":"0"},{"$f":"IF(F852=1,\"0\",VLOOKUP(F852,coefficient2!$A$28:$B$31,2,FALSE))","v":"0"},0.62741269999999993]
[22512,2,2,5,1,2,12,{"$f":"IF(B853=1,\"0\",VLOOKUP(B853,coefficient2!$A$4:$B$7,2,FALSE))","v":6.6127000000000005E-2},{"$f":"IF(C853=1,\"0\",VLOOKUP(C853,coefficient2!$A$10:$B$13,2,FALSE))","v":5.8129300000000002E-2},{"$f":"IF(D853=1,\"0\",VLOOKUP(D853,coefficient2!$A$16:$B$19,2,FALSE))","v":0.248331},{"$f":"IF(E853=1,\"0\",VLOOKUP(E853,coefficient2!$A$22:$B$25,2,FALSE))","v":"0"},{"$f":"IF(F853=1,\"0\",VLOOKUP(F853,coefficient2!$A$28:$B$31,2,FALSE))","v":5.8085699999999997E-2},0.56932699999999992]
[22513,2,2,5,1,3,13,{"$f":"IF(B854=1,\"0\",VLOOKUP(B854,coefficient2!$A$4:$B$7,2,FALSE))","v":6.6127000000000005E-2},{"$f":"IF(C854=1,\"0\",VLOOKUP(C854,coefficient2!$A$10:$B$13,2,FALSE))","v":5.8129300000000002E-2},{"$f":"IF(D854=1,\"0\",VLOOKUP(D854,coefficient2!$A$16:$B$19,2,FALSE))","v":0.248331},{"$f":"IF(E854=1,\"0\",VLOOKUP(E854,coefficient2!$A$22:$B$25,2,FALSE))","v":"0"},{"$f":"IF(F854=1,\"0\",VLOOKUP(F854,coefficient2!$A$28:$B$31,2,FALSE))","v":9.5753900000000003E-2},0.53165879999999999]
[22514,2,2,5,1,4,14,{"$f":"IF(B855=1,\"0\",VLOOKUP(B855,coefficient2!$A$4:$B$7,2,FALSE))","v":6.6127000000000005E-2},{"$f":"IF(C855=1,\"0\",VLOOKUP(C855,coefficient2!$A$10:$B$13,2,FALSE))","v":5.8129300000000002E-2},{"$f":"IF(D855=1,\"0\",VLOOKUP(D855,coefficient2!$A$16:$B$19,2,FALSE))","v":0.248331},{"$f":"IF(E855=1,\"0\",VLOOKUP(E855,coefficient2!$A$22:$B$25,2,FALSE))","v":"0"},{"$f":"IF(F855=1,\"0\",VLOOKUP(F855,coefficient2!$A$28:$B$31,2,FALSE))","v":0.23270360000000001},0.39470909999999992]
[22515,2,2,5,1,5,15,{"$f":"IF(B856=1,\"0\",VLOOKUP(B856,coefficient2!$A$4:$B$7,2,FALSE))","v":6.6127000000000005E-2},{"$f":"IF(C856=1,\"0\",VLOOKUP(C856,coefficient2!$A$10:$B$13,2,FALSE))","v":5.8129300000000002E-2},{"$f":"IF(D856=1,\"0\",VLOOKUP(D856,coefficient2!$A$16:$B$19,2,FALSE))","v":0.248331},{"$f":"IF(E856=1,\"0\",VLOOKUP(E856,coefficient2!$A$22:$B$25,2,FALSE))","v":"0"},{"$f":"IF(F856=1,\"0\",VLOOKUP(F856,coefficient2!$A$28:$B$31,2,FALSE))","v":0.29534929999999998},0.33206339999999995]
[22521,2,2,5,2,1,12,{"$f":"IF(B857=1,\"0\",VLOOKUP(B857,coefficient2!$A$4:$B$7,2,FALSE))","v":6.6127000000000005E-2},{"$f":"IF(C857=1,\"0\",VLOOKUP(C857,coefficient2!$A$10:$B$13,2,FALSE))","v":5.8129300000000002E-2},{"$f":"IF(D857=1,\"0\",VLOOKUP(D857,coefficient2!$A$16:$B$19,2,FALSE))","v":0.248331},{"$f":"IF(E857=1,\"0\",VLOOKUP(E857,coefficient2!$A$22:$B$25,2,FALSE))","v":5.63998E-2},{"$f":"IF(F857=1,\"0\",VLOOKUP(F857,coefficient2!$A$28:$B$31,2,FALSE))","v":"0"},0.57101289999999993]
[22522,2,2,5,2,2,13,{"$f":"IF(B858=1,\"0\",VLOOKUP(B858,coefficient2!$A$4:$B$7,2,FALSE))","v":6.6127000000000005E-2},{"$f":"IF(C858=1,\"0\",VLOOKUP(C858,coefficient2!$A$10:$B$13,2,FALSE))","v":5.8129300000000002E-2},{"$f":"IF(D858=1,\"0\",VLOOKUP(D858,coefficient2!$A$16:$B$19,2,FALSE))","v":0.248331},{"$f":"IF(E858=1,\"0\",VLOOKUP(E858,coefficient2!$A$22:$B$25,2,FALSE))","v":5.63998E-2},{"$f":"IF(F858=1,\"0\",VLOOKUP(F858,coefficient2!$A$28:$B$31,2,FALSE))","v":5.8085699999999997E-2},0.51292719999999992]
[22523,2,2,5,2,3,14,{"$f":"IF(B859=1,\"0\",VLOOKUP(B859,coefficient2!$A$4:$B$7,2,FALSE))","v":6.6127000000000005E-2},{"$f":"IF(C859=1,\"0\",VLOOKUP(C859,coefficient2!$A$10:$B$13,2,FALSE))","v":5.8129300000000002E-2},{"$f":"IF(D859=1,\"0\",VLOOKUP(D859,coefficient2!$A$16:$B$19,2,FALSE))","v":0.248331},{"$f":"IF(E859=1,\"0\",VLOOKUP(E859,coefficient2!$A$22:$B$25,2,FALSE))","v":5.63998E-2},{"$f":"IF(F859=1,\"0\",VLOOKUP(F859,coefficient2!$A$28:$B$31,2,FALSE))","v":9.5753900000000003E-2},0.47525899999999993]
[22524,2,2,5,2,4,15,{"$f":"IF(B860=1,\"0\",VLOOKUP(B860,coefficient2!$A$4:$B$7,2,FALSE))","v":6.6127000000000005E-2},{"$f":"IF(C860=1,\"0\",VLOOKUP(C860,coefficient2!$A$10:$B$13,2,FALSE))","v":5.8129300000000002E-2},{"$f":"IF(D860=1,\"0\",VLOOKUP(D860,coefficient2!$A$16:$B$19,2,FALSE))","v":0.248331},{"$f":"IF(E860=1,\"0\",VLOOKUP(E860,coefficient2!$A$22:$B$25,2,FALSE))","v":5.63998E-2},{"$f":"IF(F860=1,\"0\",VLOOKUP(F860,coefficient2!$A$28:$B$31,2,FALSE))","v":0.23270360000000001},0.33830929999999992]
[22525,2,2,5,2,5,16,{"$f":"IF(B861=1,\"0\",VLOOKUP(B861,coefficient2!$A$4:$B$7,2,FALSE))","v":6.6127000000000005E-2},{"$f":"IF(C861=1,\"0\",VLOOKUP(C861,coefficient2!$A$10:$B$13,2,FALSE))","v":5.8129300000000002E-2},{"$f":"IF(D861=1,\"0\",VLOOKUP(D861,coefficient2!$A$16:$B$19,2,FALSE))","v":0.248331},{"$f":"IF(E861=1,\"0\",VLOOKUP(E861,coefficient2!$A$22:$B$25,2,FALSE))","v":5.63998E-2},{"$f":"IF(F861=1,\"0\",VLOOKUP(F861,coefficient2!$A$28:$B$31,2,FALSE))","v":0.29534929999999998},0.27566359999999995]
[22531,2,2,5,3,1,13,{"$f":"IF(B862=1,\"0\",VLOOKUP(B862,coefficient2!$A$4:$B$7,2,FALSE))","v":6.6127000000000005E-2},{"$f":"IF(C862=1,\"0\",VLOOKUP(C862,coefficient2!$A$10:$B$13,2,FALSE))","v":5.8129300000000002E-2},{"$f":"IF(D862=1,\"0\",VLOOKUP(D862,coefficient2!$A$16:$B$19,2,FALSE))","v":0.248331},{"$f":"IF(E862=1,\"0\",VLOOKUP(E862,coefficient2!$A$22:$B$25,2,FALSE))","v":6.6492200000000001E-2},{"$f":"IF(F862=1,\"0\",VLOOKUP(F862,coefficient2!$A$28:$B$31,2,FALSE))","v":"0"},0.56092049999999993]
[22532,2,2,5,3,2,14,{"$f":"IF(B863=1,\"0\",VLOOKUP(B863,coefficient2!$A$4:$B$7,2,FALSE))","v":6.6127000000000005E-2},{"$f":"IF(C863=1,\"0\",VLOOKUP(C863,coefficient2!$A$10:$B$13,2,FALSE))","v":5.8129300000000002E-2},{"$f":"IF(D863=1,\"0\",VLOOKUP(D863,coefficient2!$A$16:$B$19,2,FALSE))","v":0.248331},{"$f":"IF(E863=1,\"0\",VLOOKUP(E863,coefficient2!$A$22:$B$25,2,FALSE))","v":6.6492200000000001E-2},{"$f":"IF(F863=1,\"0\",VLOOKUP(F863,coefficient2!$A$28:$B$31,2,FALSE))","v":5.8085699999999997E-2},0.50283479999999992]
[22533,2,2,5,3,3,15,{"$f":"IF(B864=1,\"0\",VLOOKUP(B864,coefficient2!$A$4:$B$7,2,FALSE))","v":6.6127000000000005E-2},{"$f":"IF(C864=1,\"0\",VLOOKUP(C864,coefficient2!$A$10:$B$13,2,FALSE))","v":5.8129300000000002E-2},{"$f":"IF(D864=1,\"0\",VLOOKUP(D864,coefficient2!$A$16:$B$19,2,FALSE))","v":0.248331},{"$f":"IF(E864=1,\"0\",VLOOKUP(E864,coefficient2!$A$22:$B$25,2,FALSE))","v":6.6492200000000001E-2},{"$f":"IF(F864=1,\"0\",VLOOKUP(F864,coefficient2!$A$28:$B$31,2,FALSE))","v":9.5753900000000003E-2},0.46516659999999993]
[22534,2,2,5,3,4,16,{"$f":"IF(B865=1,\"0\",VLOOKUP(B865,coefficient2!$A$4:$B$7,2,FALSE))","v":6.6127000000000005E-2},{"$f":"IF(C865=1,\"0\",VLOOKUP(C865,coefficient2!$A$10:$B$13,2,FALSE))","v":5.8129300000000002E-2},{"$f":"IF(D865=1,\"0\",VLOOKUP(D865,coefficient2!$A$16:$B$19,2,FALSE))","v":0.248331},{"$f":"IF(E865=1,\"0\",VLOOKUP(E865,coefficient2!$A$22:$B$25,2,FALSE))","v":6.6492200000000001E-2},{"$f":"IF(F865=1,\"0\",VLOOKUP(F865,coefficient2!$A$28:$B$31,2,FALSE))","v":0.23270360000000001},0.32821689999999992]
[22535,2,2,5,3,5,17,{"$f":"IF(B866=1,\"0\",VLOOKUP(B866,coefficient2!$A$4:$B$7,2,FALSE))","v":6.6127000000000005E-2},{"$f":"IF(C866=1,\"0\",VLOOKUP(C866,coefficient2!$A$10:$B$13,2,FALSE))","v":5.8129300000000002E-2},{"$f":"IF(D866=1,\"0\",VLOOKUP(D866,coefficient2!$A$16:$B$19,2,FALSE))","v":0.248331},{"$f":"IF(E866=1,\"0\",VLOOKUP(E866,coefficient2!$A$22:$B$25,2,FALSE))","v":6.6492200000000001E-2},{"$f":"IF(F866=1,\"0\",VLOOKUP(F866,coefficient2!$A$28:$B$31,2,FALSE))","v":0.29534929999999998},0.26557119999999995]
[22541,2,2,5,4,1,14,{"$f":"IF(B867=1,\"0\",VLOOKUP(B867,coefficient2!$A$4:$B$7,2,FALSE))","v":6.6127000000000005E-2},{"$f":"IF(C867=1,\"0\",VLOOKUP(C867,coefficient2!$A$10:$B$13,2,FALSE))","v":5.8129300000000002E-2},{"$f":"IF(D867=1,\"0\",VLOOKUP(D867,coefficient2!$A$16:$B$19,2,FALSE))","v":0.248331},{"$f":"IF(E867=1,\"0\",VLOOKUP(E867,coefficient2!$A$22:$B$25,2,FALSE))","v":0.2068864},{"$f":"IF(F867=1,\"0\",VLOOKUP(F867,coefficient2!$A$28:$B$31,2,FALSE))","v":"0"},0.42052629999999991]
[22542,2,2,5,4,2,15,{"$f":"IF(B868=1,\"0\",VLOOKUP(B868,coefficient2!$A$4:$B$7,2,FALSE))","v":6.6127000000000005E-2},{"$f":"IF(C868=1,\"0\",VLOOKUP(C868,coefficient2!$A$10:$B$13,2,FALSE))","v":5.8129300000000002E-2},{"$f":"IF(D868=1,\"0\",VLOOKUP(D868,coefficient2!$A$16:$B$19,2,FALSE))","v":0.248331},{"$f":"IF(E868=1,\"0\",VLOOKUP(E868,coefficient2!$A$22:$B$25,2,FALSE))","v":0.2068864},{"$f":"IF(F868=1,\"0\",VLOOKUP(F868,coefficient2!$A$28:$B$31,2,FALSE))","v":5.8085699999999997E-2},0.36244059999999989]
[22543,2,2,5,4,3,16,{"$f":"IF(B869=1,\"0\",VLOOKUP(B869,coefficient2!$A$4:$B$7,2,FALSE))","v":6.6127000000000005E-2},{"$f":"IF(C869=1,\"0\",VLOOKUP(C869,coefficient2!$A$10:$B$13,2,FALSE))","v":5.8129300000000002E-2},{"$f":"IF(D869=1,\"0\",VLOOKUP(D869,coefficient2!$A$16:$B$19,2,FALSE))","v":0.248331},{"$f":"IF(E869=1,\"0\",VLOOKUP(E869,coefficient2!$A$22:$B$25,2,FALSE))","v":0.2068864},{"$f":"IF(F869=1,\"0\",VLOOKUP(F869,coefficient2!$A$28:$B$31,2,FALSE))","v":9.5753900000000003E-2},0.32477239999999991]
[22544,2,2,5,4,4,17,{"$f":"IF(B870=1,\"0\",VLOOKUP(B870,coefficient2!$A$4:$B$7,2,FALSE))","v":6.6127000000000005E-2},{"$f":"IF(C870=1,\"0\",VLOOKUP(C870,coefficient2!$A$10:$B$13,2,FALSE))","v":5.8129300000000002E-2},{"$f":"IF(D870=1,\"0\",VLOOKUP(D870,coefficient2!$A$16:$B$19,2,FALSE))","v":0.248331},{"$f":"IF(E870=1,\"0\",VLOOKUP(E870,coefficient2!$A$22:$B$25,2,FALSE))","v":0.2068864},{"$f":"IF(F870=1,\"0\",VLOOKUP(F870,coefficient2!$A$28:$B$31,2,FALSE))","v":0.23270360000000001},0.1878226999999999]
[22545,2,2,5,4,5,18,{"$f":"IF(B871=1,\"0\",VLOOKUP(B871,coefficient2!$A$4:$B$7,2,FALSE))","v":6.6127000000000005E-2},{"$f":"IF(C871=1,\"0\",VLOOKUP(C871,coefficient2!$A$10:$B$13,2,FALSE))","v":5.8129300000000002E-2},{"$f":"IF(D871=1,\"0\",VLOOKUP(D871,coefficient2!$A$16:$B$19,2,FALSE))","v":0.248331},{"$f":"IF(E871=1,\"0\",VLOOKUP(E871,coefficient2!$A$22:$B$25,2,FALSE))","v":0.2068864},{"$f":"IF(F871=1,\"0\",VLOOKUP(F871,coefficient2!$A$28:$B$31,2,FALSE))","v":0.29534929999999998},0.12517699999999993]
[22551,2,2,5,5,1,15,{"$f":"IF(B872=1,\"0\",VLOOKUP(B872,coefficient2!$A$4:$B$7,2,FALSE))","v":6.6127000000000005E-2},{"$f":"IF(C872=1,\"0\",VLOOKUP(C872,coefficient2!$A$10:$B$13,2,FALSE))","v":5.8129300000000002E-2},{"$f":"IF(D872=1,\"0\",VLOOKUP(D872,coefficient2!$A$16:$B$19,2,FALSE))","v":0.248331},{"$f":"IF(E872=1,\"0\",VLOOKUP(E872,coefficient2!$A$22:$B$25,2,FALSE))","v":0.25643310000000002},{"$f":"IF(F872=1,\"0\",VLOOKUP(F872,coefficient2!$A$28:$B$31,2,FALSE))","v":"0"},0.37097959999999991]
[22552,2,2,5,5,2,16,{"$f":"IF(B873=1,\"0\",VLOOKUP(B873,coefficient2!$A$4:$B$7,2,FALSE))","v":6.6127000000000005E-2},{"$f":"IF(C873=1,\"0\",VLOOKUP(C873,coefficient2!$A$10:$B$13,2,FALSE))","v":5.8129300000000002E-2},{"$f":"IF(D873=1,\"0\",VLOOKUP(D873,coefficient2!$A$16:$B$19,2,FALSE))","v":0.248331},{"$f":"IF(E873=1,\"0\",VLOOKUP(E873,coefficient2!$A$22:$B$25,2,FALSE))","v":0.25643310000000002},{"$f":"IF(F873=1,\"0\",VLOOKUP(F873,coefficient2!$A$28:$B$31,2,FALSE))","v":5.8085699999999997E-2},0.31289389999999989]
[22553,2,2,5,5,3,17,{"$f":"IF(B874=1,\"0\",VLOOKUP(B874,coefficient2!$A$4:$B$7,2,FALSE))","v":6.6127000000000005E-2},{"$f":"IF(C874=1,\"0\",VLOOKUP(C874,coefficient2!$A$10:$B$13,2,FALSE))","v":5.8129300000000002E-2},{"$f":"IF(D874=1,\"0\",VLOOKUP(D874,coefficient2!$A$16:$B$19,2,FALSE))","v":0.248331},{"$f":"IF(E874=1,\"0\",VLOOKUP(E874,coefficient2!$A$22:$B$25,2,FALSE))","v":0.25643310000000002},{"$f":"IF(F874=1,\"0\",VLOOKUP(F874,coefficient2!$A$28:$B$31,2,FALSE))","v":9.5753900000000003E-2},0.27522569999999991]
[22554,2,2,5,5,4,18,{"$f":"IF(B875=1,\"0\",VLOOKUP(B875,coefficient2!$A$4:$B$7,2,FALSE))","v":6.6127000000000005E-2},{"$f":"IF(C875=1,\"0\",VLOOKUP(C875,coefficient2!$A$10:$B$13,2,FALSE))","v":5.8129300000000002E-2},{"$f":"IF(D875=1,\"0\",VLOOKUP(D875,coefficient2!$A$16:$B$19,2,FALSE))","v":0.248331},{"$f":"IF(E875=1,\"0\",VLOOKUP(E875,coefficient2!$A$22:$B$25,2,FALSE))","v":0.25643310000000002},{"$f":"IF(F875=1,\"0\",VLOOKUP(F875,coefficient2!$A$28:$B$31,2,FALSE))","v":0.23270360000000001},0.1382759999999999]
[22555,2,2,5,5,5,19,{"$f":"IF(B876=1,\"0\",VLOOKUP(B876,coefficient2!$A$4:$B$7,2,FALSE))","v":6.6127000000000005E-2},{"$f":"IF(C876=1,\"0\",VLOOKUP(C876,coefficient2!$A$10:$B$13,2,FALSE))","v":5.8129300000000002E-2},{"$f":"IF(D876=1,\"0\",VLOOKUP(D876,coefficient2!$A$16:$B$19,2,FALSE))","v":0.248331},{"$f":"IF(E876=1,\"0\",VLOOKUP(E876,coefficient2!$A$22:$B$25,2,FALSE))","v":0.25643310000000002},{"$f":"IF(F876=1,\"0\",VLOOKUP(F876,coefficient2!$A$28:$B$31,2,FALSE))","v":0.29534929999999998},7.5630299999999928E-2]
[23111,2,3,1,1,1,8,{"$f":"IF(B877=1,\"0\",VLOOKUP(B877,coefficient2!$A$4:$B$7,2,FALSE))","v":6.6127000000000005E-2},{"$f":"IF(C877=1,\"0\",VLOOKUP(C877,coefficient2!$A$10:$B$13,2,FALSE))","v":7.0631200000000005E-2},{"$f":"IF(D877=1,\"0\",VLOOKUP(D877,coefficient2!$A$16:$B$19,2,FALSE))","v":"0"},{"$f":"IF(E877=1,\"0\",VLOOKUP(E877,coefficient2!$A$22:$B$25,2,FALSE))","v":"0"},{"$f":"IF(F877=1,\"0\",VLOOKUP(F877,coefficient2!$A$28:$B$31,2,FALSE))","v":"0"},0.86324179999999995]
[23112,2,3,1,1,2,9,{"$f":"IF(B878=1,\"0\",VLOOKUP(B878,coefficient2!$A$4:$B$7,2,FALSE))","v":6.6127000000000005E-2},{"$f":"IF(C878=1,\"0\",VLOOKUP(C878,coefficient2!$A$10:$B$13,2,FALSE))","v":7.0631200000000005E-2},{"$f":"IF(D878=1,\"0\",VLOOKUP(D878,coefficient2!$A$16:$B$19,2,FALSE))","v":"0"},{"$f":"IF(E878=1,\"0\",VLOOKUP(E878,coefficient2!$A$22:$B$25,2,FALSE))","v":"0"},{"$f":"IF(F878=1,\"0\",VLOOKUP(F878,coefficient2!$A$28:$B$31,2,FALSE))","v":5.8085699999999997E-2},0.80515609999999993]
[23113,2,3,1,1,3,10,{"$f":"IF(B879=1,\"0\",VLOOKUP(B879,coefficient2!$A$4:$B$7,2,FALSE))","v":6.6127000000000005E-2},{"$f":"IF(C879=1,\"0\",VLOOKUP(C879,coefficient2!$A$10:$B$13,2,FALSE))","v":7.0631200000000005E-2},{"$f":"IF(D879=1,\"0\",VLOOKUP(D879,coefficient2!$A$16:$B$19,2,FALSE))","v":"0"},{"$f":"IF(E879=1,\"0\",VLOOKUP(E879,coefficient2!$A$22:$B$25,2,FALSE))","v":"0"},{"$f":"IF(F879=1,\"0\",VLOOKUP(F879,coefficient2!$A$28:$B$31,2,FALSE))","v":9.5753900000000003E-2},0.76748789999999989]
[23114,2,3,1,1,4,11,{"$f":"IF(B880=1,\"0\",VLOOKUP(B880,coefficient2!$A$4:$B$7,2,FALSE))","v":6.6127000000000005E-2},{"$f":"IF(C880=1,\"0\",VLOOKUP(C880,coefficient2!$A$10:$B$13,2,FALSE))","v":7.0631200000000005E-2},{"$f":"IF(D880=1,\"0\",VLOOKUP(D880,coefficient2!$A$16:$B$19,2,FALSE))","v":"0"},{"$f":"IF(E880=1,\"0\",VLOOKUP(E880,coefficient2!$A$22:$B$25,2,FALSE))","v":"0"},{"$f":"IF(F880=1,\"0\",VLOOKUP(F880,coefficient2!$A$28:$B$31,2,FALSE))","v":0.23270360000000001},0.63053819999999994]
[23115,2,3,1,1,5,12,{"$f":"IF(B881=1,\"0\",VLOOKUP(B881,coefficient2!$A$4:$B$7,2,FALSE))","v":6.6127000000000005E-2},{"$f":"IF(C881=1,\"0\",VLOOKUP(C881,coefficient2!$A$10:$B$13,2,FALSE))","v":7.0631200000000005E-2},{"$f":"IF(D881=1,\"0\",VLOOKUP(D881,coefficient2!$A$16:$B$19,2,FALSE))","v":"0"},{"$f":"IF(E881=1,\"0\",VLOOKUP(E881,coefficient2!$A$22:$B$25,2,FALSE))","v":"0"},{"$f":"IF(F881=1,\"0\",VLOOKUP(F881,coefficient2!$A$28:$B$31,2,FALSE))","v":0.29534929999999998},0.56789249999999991]
[23121,2,3,1,2,1,9,{"$f":"IF(B882=1,\"0\",VLOOKUP(B882,coefficient2!$A$4:$B$7,2,FALSE))","v":6.6127000000000005E-2},{"$f":"IF(C882=1,\"0\",VLOOKUP(C882,coefficient2!$A$10:$B$13,2,FALSE))","v":7.0631200000000005E-2},{"$f":"IF(D882=1,\"0\",VLOOKUP(D882,coefficient2!$A$16:$B$19,2,FALSE))","v":"0"},{"$f":"IF(E882=1,\"0\",VLOOKUP(E882,coefficient2!$A$22:$B$25,2,FALSE))","v":5.63998E-2},{"$f":"IF(F882=1,\"0\",VLOOKUP(F882,coefficient2!$A$28:$B$31,2,FALSE))","v":"0"},0.80684199999999995]
[23122,2,3,1,2,2,10,{"$f":"IF(B883=1,\"0\",VLOOKUP(B883,coefficient2!$A$4:$B$7,2,FALSE))","v":6.6127000000000005E-2},{"$f":"IF(C883=1,\"0\",VLOOKUP(C883,coefficient2!$A$10:$B$13,2,FALSE))","v":7.0631200000000005E-2},{"$f":"IF(D883=1,\"0\",VLOOKUP(D883,coefficient2!$A$16:$B$19,2,FALSE))","v":"0"},{"$f":"IF(E883=1,\"0\",VLOOKUP(E883,coefficient2!$A$22:$B$25,2,FALSE))","v":5.63998E-2},{"$f":"IF(F883=1,\"0\",VLOOKUP(F883,coefficient2!$A$28:$B$31,2,FALSE))","v":5.8085699999999997E-2},0.74875629999999993]
[23123,2,3,1,2,3,11,{"$f":"IF(B884=1,\"0\",VLOOKUP(B884,coefficient2!$A$4:$B$7,2,FALSE))","v":6.6127000000000005E-2},{"$f":"IF(C884=1,\"0\",VLOOKUP(C884,coefficient2!$A$10:$B$13,2,FALSE))","v":7.0631200000000005E-2},{"$f":"IF(D884=1,\"0\",VLOOKUP(D884,coefficient2!$A$16:$B$19,2,FALSE))","v":"0"},{"$f":"IF(E884=1,\"0\",VLOOKUP(E884,coefficient2!$A$22:$B$25,2,FALSE))","v":5.63998E-2},{"$f":"IF(F884=1,\"0\",VLOOKUP(F884,coefficient2!$A$28:$B$31,2,FALSE))","v":9.5753900000000003E-2},0.7110881]
[23124,2,3,1,2,4,12,{"$f":"IF(B885=1,\"0\",VLOOKUP(B885,coefficient2!$A$4:$B$7,2,FALSE))","v":6.6127000000000005E-2},{"$f":"IF(C885=1,\"0\",VLOOKUP(C885,coefficient2!$A$10:$B$13,2,FALSE))","v":7.0631200000000005E-2},{"$f":"IF(D885=1,\"0\",VLOOKUP(D885,coefficient2!$A$16:$B$19,2,FALSE))","v":"0"},{"$f":"IF(E885=1,\"0\",VLOOKUP(E885,coefficient2!$A$22:$B$25,2,FALSE))","v":5.63998E-2},{"$f":"IF(F885=1,\"0\",VLOOKUP(F885,coefficient2!$A$28:$B$31,2,FALSE))","v":0.23270360000000001},0.57413839999999994]
[23125,2,3,1,2,5,13,{"$f":"IF(B886=1,\"0\",VLOOKUP(B886,coefficient2!$A$4:$B$7,2,FALSE))","v":6.6127000000000005E-2},{"$f":"IF(C886=1,\"0\",VLOOKUP(C886,coefficient2!$A$10:$B$13,2,FALSE))","v":7.0631200000000005E-2},{"$f":"IF(D886=1,\"0\",VLOOKUP(D886,coefficient2!$A$16:$B$19,2,FALSE))","v":"0"},{"$f":"IF(E886=1,\"0\",VLOOKUP(E886,coefficient2!$A$22:$B$25,2,FALSE))","v":5.63998E-2},{"$f":"IF(F886=1,\"0\",VLOOKUP(F886,coefficient2!$A$28:$B$31,2,FALSE))","v":0.29534929999999998},0.51149270000000002]
[23131,2,3,1,3,1,10,{"$f":"IF(B887=1,\"0\",VLOOKUP(B887,coefficient2!$A$4:$B$7,2,FALSE))","v":6.6127000000000005E-2},{"$f":"IF(C887=1,\"0\",VLOOKUP(C887,coefficient2!$A$10:$B$13,2,FALSE))","v":7.0631200000000005E-2},{"$f":"IF(D887=1,\"0\",VLOOKUP(D887,coefficient2!$A$16:$B$19,2,FALSE))","v":"0"},{"$f":"IF(E887=1,\"0\",VLOOKUP(E887,coefficient2!$A$22:$B$25,2,FALSE))","v":6.6492200000000001E-2},{"$f":"IF(F887=1,\"0\",VLOOKUP(F887,coefficient2!$A$28:$B$31,2,FALSE))","v":"0"},0.79674959999999995]
[23132,2,3,1,3,2,11,{"$f":"IF(B888=1,\"0\",VLOOKUP(B888,coefficient2!$A$4:$B$7,2,FALSE))","v":6.6127000000000005E-2},{"$f":"IF(C888=1,\"0\",VLOOKUP(C888,coefficient2!$A$10:$B$13,2,FALSE))","v":7.0631200000000005E-2},{"$f":"IF(D888=1,\"0\",VLOOKUP(D888,coefficient2!$A$16:$B$19,2,FALSE))","v":"0"},{"$f":"IF(E888=1,\"0\",VLOOKUP(E888,coefficient2!$A$22:$B$25,2,FALSE))","v":6.6492200000000001E-2},{"$f":"IF(F888=1,\"0\",VLOOKUP(F888,coefficient2!$A$28:$B$31,2,FALSE))","v":5.8085699999999997E-2},0.73866389999999993]
[23133,2,3,1,3,3,12,{"$f":"IF(B889=1,\"0\",VLOOKUP(B889,coefficient2!$A$4:$B$7,2,FALSE))","v":6.6127000000000005E-2},{"$f":"IF(C889=1,\"0\",VLOOKUP(C889,coefficient2!$A$10:$B$13,2,FALSE))","v":7.0631200000000005E-2},{"$f":"IF(D889=1,\"0\",VLOOKUP(D889,coefficient2!$A$16:$B$19,2,FALSE))","v":"0"},{"$f":"IF(E889=1,\"0\",VLOOKUP(E889,coefficient2!$A$22:$B$25,2,FALSE))","v":6.6492200000000001E-2},{"$f":"IF(F889=1,\"0\",VLOOKUP(F889,coefficient2!$A$28:$B$31,2,FALSE))","v":9.5753900000000003E-2},0.7009957]
[23134,2,3,1,3,4,13,{"$f":"IF(B890=1,\"0\",VLOOKUP(B890,coefficient2!$A$4:$B$7,2,FALSE))","v":6.6127000000000005E-2},{"$f":"IF(C890=1,\"0\",VLOOKUP(C890,coefficient2!$A$10:$B$13,2,FALSE))","v":7.0631200000000005E-2},{"$f":"IF(D890=1,\"0\",VLOOKUP(D890,coefficient2!$A$16:$B$19,2,FALSE))","v":"0"},{"$f":"IF(E890=1,\"0\",VLOOKUP(E890,coefficient2!$A$22:$B$25,2,FALSE))","v":6.6492200000000001E-2},{"$f":"IF(F890=1,\"0\",VLOOKUP(F890,coefficient2!$A$28:$B$31,2,FALSE))","v":0.23270360000000001},0.56404599999999994]
[23135,2,3,1,3,5,14,{"$f":"IF(B891=1,\"0\",VLOOKUP(B891,coefficient2!$A$4:$B$7,2,FALSE))","v":6.6127000000000005E-2},{"$f":"IF(C891=1,\"0\",VLOOKUP(C891,coefficient2!$A$10:$B$13,2,FALSE))","v":7.0631200000000005E-2},{"$f":"IF(D891=1,\"0\",VLOOKUP(D891,coefficient2!$A$16:$B$19,2,FALSE))","v":"0"},{"$f":"IF(E891=1,\"0\",VLOOKUP(E891,coefficient2!$A$22:$B$25,2,FALSE))","v":6.6492200000000001E-2},{"$f":"IF(F891=1,\"0\",VLOOKUP(F891,coefficient2!$A$28:$B$31,2,FALSE))","v":0.29534929999999998},0.50140030000000002]
[23141,2,3,1,4,1,11,{"$f":"IF(B892=1,\"0\",VLOOKUP(B892,coefficient2!$A$4:$B$7,2,FALSE))","v":6.6127000000000005E-2},{"$f":"IF(C892=1,\"0\",VLOOKUP(C892,coefficient2!$A$10:$B$13,2,FALSE))","v":7.0631200000000005E-2},{"$f":"IF(D892=1,\"0\",VLOOKUP(D892,coefficient2!$A$16:$B$19,2,FALSE))","v":"0"},{"$f":"IF(E892=1,\"0\",VLOOKUP(E892,coefficient2!$A$22:$B$25,2,FALSE))","v":0.2068864},{"$f":"IF(F892=1,\"0\",VLOOKUP(F892,coefficient2!$A$28:$B$31,2,FALSE))","v":"0"},0.65635539999999992]
[23142,2,3,1,4,2,12,{"$f":"IF(B893=1,\"0\",VLOOKUP(B893,coefficient2!$A$4:$B$7,2,FALSE))","v":6.6127000000000005E-2},{"$f":"IF(C893=1,\"0\",VLOOKUP(C893,coefficient2!$A$10:$B$13,2,FALSE))","v":7.0631200000000005E-2},{"$f":"IF(D893=1,\"0\",VLOOKUP(D893,coefficient2!$A$16:$B$19,2,FALSE))","v":"0"},{"$f":"IF(E893=1,\"0\",VLOOKUP(E893,coefficient2!$A$22:$B$25,2,FALSE))","v":0.2068864},{"$f":"IF(F893=1,\"0\",VLOOKUP(F893,coefficient2!$A$28:$B$31,2,FALSE))","v":5.8085699999999997E-2},0.5982696999999999]
[23143,2,3,1,4,3,13,{"$f":"IF(B894=1,\"0\",VLOOKUP(B894,coefficient2!$A$4:$B$7,2,FALSE))","v":6.6127000000000005E-2},{"$f":"IF(C894=1,\"0\",VLOOKUP(C894,coefficient2!$A$10:$B$13,2,FALSE))","v":7.0631200000000005E-2},{"$f":"IF(D894=1,\"0\",VLOOKUP(D894,coefficient2!$A$16:$B$19,2,FALSE))","v":"0"},{"$f":"IF(E894=1,\"0\",VLOOKUP(E894,coefficient2!$A$22:$B$25,2,FALSE))","v":0.2068864},{"$f":"IF(F894=1,\"0\",VLOOKUP(F894,coefficient2!$A$28:$B$31,2,FALSE))","v":9.5753900000000003E-2},0.56060149999999997]
[23144,2,3,1,4,4,14,{"$f":"IF(B895=1,\"0\",VLOOKUP(B895,coefficient2!$A$4:$B$7,2,FALSE))","v":6.6127000000000005E-2},{"$f":"IF(C895=1,\"0\",VLOOKUP(C895,coefficient2!$A$10:$B$13,2,FALSE))","v":7.0631200000000005E-2},{"$f":"IF(D895=1,\"0\",VLOOKUP(D895,coefficient2!$A$16:$B$19,2,FALSE))","v":"0"},{"$f":"IF(E895=1,\"0\",VLOOKUP(E895,coefficient2!$A$22:$B$25,2,FALSE))","v":0.2068864},{"$f":"IF(F895=1,\"0\",VLOOKUP(F895,coefficient2!$A$28:$B$31,2,FALSE))","v":0.23270360000000001},0.42365179999999991]
[23145,2,3,1,4,5,15,{"$f":"IF(B896=1,\"0\",VLOOKUP(B896,coefficient2!$A$4:$B$7,2,FALSE))","v":6.6127000000000005E-2},{"$f":"IF(C896=1,\"0\",VLOOKUP(C896,coefficient2!$A$10:$B$13,2,FALSE))","v":7.0631200000000005E-2},{"$f":"IF(D896=1,\"0\",VLOOKUP(D896,coefficient2!$A$16:$B$19,2,FALSE))","v":"0"},{"$f":"IF(E896=1,\"0\",VLOOKUP(E896,coefficient2!$A$22:$B$25,2,FALSE))","v":0.2068864},{"$f":"IF(F896=1,\"0\",VLOOKUP(F896,coefficient2!$A$28:$B$31,2,FALSE))","v":0.29534929999999998},0.36100609999999994]
[23151,2,3,1,5,1,12,{"$f":"IF(B897=1,\"0\",VLOOKUP(B897,coefficient2!$A$4:$B$7,2,FALSE))","v":6.6127000000000005E-2},{"$f":"IF(C897=1,\"0\",VLOOKUP(C897,coefficient2!$A$10:$B$13,2,FALSE))","v":7.0631200000000005E-2},{"$f":"IF(D897=1,\"0\",VLOOKUP(D897,coefficient2!$A$16:$B$19,2,FALSE))","v":"0"},{"$f":"IF(E897=1,\"0\",VLOOKUP(E897,coefficient2!$A$22:$B$25,2,FALSE))","v":0.25643310000000002},{"$f":"IF(F897=1,\"0\",VLOOKUP(F897,coefficient2!$A$28:$B$31,2,FALSE))","v":"0"},0.60680869999999998]
[23152,2,3,1,5,2,13,{"$f":"IF(B898=1,\"0\",VLOOKUP(B898,coefficient2!$A$4:$B$7,2,FALSE))","v":6.6127000000000005E-2},{"$f":"IF(C898=1,\"0\",VLOOKUP(C898,coefficient2!$A$10:$B$13,2,FALSE))","v":7.0631200000000005E-2},{"$f":"IF(D898=1,\"0\",VLOOKUP(D898,coefficient2!$A$16:$B$19,2,FALSE))","v":"0"},{"$f":"IF(E898=1,\"0\",VLOOKUP(E898,coefficient2!$A$22:$B$25,2,FALSE))","v":0.25643310000000002},{"$f":"IF(F898=1,\"0\",VLOOKUP(F898,coefficient2!$A$28:$B$31,2,FALSE))","v":5.8085699999999997E-2},{"$f":"1-H898-I898-J898-K898-L898","v":0.54872299999999996}]
[23153,{"$f":"INT(LEFT(A899,1))","v":2},{"$f":"INT(MID(A899,2,1))","v":3},{"$f":"INT(MID(A899,3,1))","v":1},{"$f":"INT(MID(A899,4,1))","v":5},{"$f":"INT(RIGHT(A899,1))","v":3},{"$f":"SUM(B899:F899)","v":14},{"$f":"IF(B899=1,\"0\",VLOOKUP(B899,coefficient2!$A$4:$B$7,2,FALSE))","v":6.6127000000000005E-2},{"$f":"IF(C899=1,\"0\",VLOOKUP(C899,coefficient2!$A$10:$B$13,2,FALSE))","v":7.0631200000000005E-2},{"$f":"IF(D899=1,\"0\",VLOOKUP(D899,coefficient2!$A$16:$B$19,2,FALSE))","v":"0"},{"$f":"IF(E899=1,\"0\",VLOOKUP(E899,coefficient2!$A$22:$B$25,2,FALSE))","v":0.25643310000000002},{"$f":"IF(F899=1,\"0\",VLOOKUP(F899,coefficient2!$A$28:$B$31,2,FALSE))","v":9.5753900000000003E-2},0.51105479999999992]
[23154,2,3,1,5,4,15,{"$f":"IF(B900=1,\"0\",VLOOKUP(B900,coefficient2!$A$4:$B$7,2,FALSE))","v":6.6127000000000005E-2},{"$f":"IF(C900=1,\"0\",VLOOKUP(C900,coefficient2!$A$10:$B$13,2,FALSE))","v":7.0631200000000005E-2},{"$f":"IF(D900=1,\"0\",VLOOKUP(D900,coefficient2!$A$16:$B$19,2,FALSE))","v":"0"},{"$f":"IF(E900=1,\"0\",VLOOKUP(E900,coefficient2!$A$22:$B$25,2,FALSE))","v":0.25643310000000002},{"$f":"IF(F900=1,\"0\",VLOOKUP(F900,coefficient2!$A$28:$B$31,2,FALSE))","v":0.23270360000000001},0.37410509999999997]
[23155,2,3,1,5,5,16,{"$f":"IF(B901=1,\"0\",VLOOKUP(B901,coefficient2!$A$4:$B$7,2,FALSE))","v":6.6127000000000005E-2},{"$f":"IF(C901=1,\"0\",VLOOKUP(C901,coefficient2!$A$10:$B$13,2,FALSE))","v":7.0631200000000005E-2},{"$f":"IF(D901=1,\"0\",VLOOKUP(D901,coefficient2!$A$16:$B$19,2,FALSE))","v":"0"},{"$f":"IF(E901=1,\"0\",VLOOKUP(E901,coefficient2!$A$22:$B$25,2,FALSE))","v":0.25643310000000002},{"$f":"IF(F901=1,\"0\",VLOOKUP(F901,coefficient2!$A$28:$B$31,2,FALSE))","v":0.29534929999999998},0.3114594]
[23211,2,3,2,1,1,9,{"$f":"IF(B902=1,\"0\",VLOOKUP(B902,coefficient2!$A$4:$B$7,2,FALSE))","v":6.6127000000000005E-2},{"$f":"IF(C902=1,\"0\",VLOOKUP(C902,coefficient2!$A$10:$B$13,2,FALSE))","v":7.0631200000000005E-2},{"$f":"IF(D902=1,\"0\",VLOOKUP(D902,coefficient2!$A$16:$B$19,2,FALSE))","v":5.8254399999999998E-2},{"$f":"IF(E902=1,\"0\",VLOOKUP(E902,coefficient2!$A$22:$B$25,2,FALSE))","v":"0"},{"$f":"IF(F902=1,\"0\",VLOOKUP(F902,coefficient2!$A$28:$B$31,2,FALSE))","v":"0"},0.80498739999999991]
[23212,2,3,2,1,2,10,{"$f":"IF(B903=1,\"0\",VLOOKUP(B903,coefficient2!$A$4:$B$7,2,FALSE))","v":6.6127000000000005E-2},{"$f":"IF(C903=1,\"0\",VLOOKUP(C903,coefficient2!$A$10:$B$13,2,FALSE))","v":7.0631200000000005E-2},{"$f":"IF(D903=1,\"0\",VLOOKUP(D903,coefficient2!$A$16:$B$19,2,FALSE))","v":5.8254399999999998E-2},{"$f":"IF(E903=1,\"0\",VLOOKUP(E903,coefficient2!$A$22:$B$25,2,FALSE))","v":"0"},{"$f":"IF(F903=1,\"0\",VLOOKUP(F903,coefficient2!$A$28:$B$31,2,FALSE))","v":5.8085699999999997E-2},0.74690169999999989]
[23213,2,3,2,1,3,11,{"$f":"IF(B904=1,\"0\",VLOOKUP(B904,coefficient2!$A$4:$B$7,2,FALSE))","v":6.6127000000000005E-2},{"$f":"IF(C904=1,\"0\",VLOOKUP(C904,coefficient2!$A$10:$B$13,2,FALSE))","v":7.0631200000000005E-2},{"$f":"IF(D904=1,\"0\",VLOOKUP(D904,coefficient2!$A$16:$B$19,2,FALSE))","v":5.8254399999999998E-2},{"$f":"IF(E904=1,\"0\",VLOOKUP(E904,coefficient2!$A$22:$B$25,2,FALSE))","v":"0"},{"$f":"IF(F904=1,\"0\",VLOOKUP(F904,coefficient2!$A$28:$B$31,2,FALSE))","v":9.5753900000000003E-2},0.70923349999999985]
[23214,2,3,2,1,4,12,{"$f":"IF(B905=1,\"0\",VLOOKUP(B905,coefficient2!$A$4:$B$7,2,FALSE))","v":6.6127000000000005E-2},{"$f":"IF(C905=1,\"0\",VLOOKUP(C905,coefficient2!$A$10:$B$13,2,FALSE))","v":7.0631200000000005E-2},{"$f":"IF(D905=1,\"0\",VLOOKUP(D905,coefficient2!$A$16:$B$19,2,FALSE))","v":5.8254399999999998E-2},{"$f":"IF(E905=1,\"0\",VLOOKUP(E905,coefficient2!$A$22:$B$25,2,FALSE))","v":"0"},{"$f":"IF(F905=1,\"0\",VLOOKUP(F905,coefficient2!$A$28:$B$31,2,FALSE))","v":0.23270360000000001},0.5722837999999999]
[23215,2,3,2,1,5,13,{"$f":"IF(B906=1,\"0\",VLOOKUP(B906,coefficient2!$A$4:$B$7,2,FALSE))","v":6.6127000000000005E-2},{"$f":"IF(C906=1,\"0\",VLOOKUP(C906,coefficient2!$A$10:$B$13,2,FALSE))","v":7.0631200000000005E-2},{"$f":"IF(D906=1,\"0\",VLOOKUP(D906,coefficient2!$A$16:$B$19,2,FALSE))","v":5.8254399999999998E-2},{"$f":"IF(E906=1,\"0\",VLOOKUP(E906,coefficient2!$A$22:$B$25,2,FALSE))","v":"0"},{"$f":"IF(F906=1,\"0\",VLOOKUP(F906,coefficient2!$A$28:$B$31,2,FALSE))","v":0.29534929999999998},0.50963809999999987]
[23221,2,3,2,2,1,10,{"$f":"IF(B907=1,\"0\",VLOOKUP(B907,coefficient2!$A$4:$B$7,2,FALSE))","v":6.6127000000000005E-2},{"$f":"IF(C907=1,\"0\",VLOOKUP(C907,coefficient2!$A$10:$B$13,2,FALSE))","v":7.0631200000000005E-2},{"$f":"IF(D907=1,\"0\",VLOOKUP(D907,coefficient2!$A$16:$B$19,2,FALSE))","v":5.8254399999999998E-2},{"$f":"IF(E907=1,\"0\",VLOOKUP(E907,coefficient2!$A$22:$B$25,2,FALSE))","v":5.63998E-2},{"$f":"IF(F907=1,\"0\",VLOOKUP(F907,coefficient2!$A$28:$B$31,2,FALSE))","v":"0"},0.74858759999999991]
[23222,2,3,2,2,2,11,{"$f":"IF(B908=1,\"0\",VLOOKUP(B908,coefficient2!$A$4:$B$7,2,FALSE))","v":6.6127000000000005E-2},{"$f":"IF(C908=1,\"0\",VLOOKUP(C908,coefficient2!$A$10:$B$13,2,FALSE))","v":7.0631200000000005E-2},{"$f":"IF(D908=1,\"0\",VLOOKUP(D908,coefficient2!$A$16:$B$19,2,FALSE))","v":5.8254399999999998E-2},{"$f":"IF(E908=1,\"0\",VLOOKUP(E908,coefficient2!$A$22:$B$25,2,FALSE))","v":5.63998E-2},{"$f":"IF(F908=1,\"0\",VLOOKUP(F908,coefficient2!$A$28:$B$31,2,FALSE))","v":5.8085699999999997E-2},0.69050189999999989]
[23223,2,3,2,2,3,12,{"$f":"IF(B909=1,\"0\",VLOOKUP(B909,coefficient2!$A$4:$B$7,2,FALSE))","v":6.6127000000000005E-2},{"$f":"IF(C909=1,\"0\",VLOOKUP(C909,coefficient2!$A$10:$B$13,2,FALSE))","v":7.0631200000000005E-2},{"$f":"IF(D909=1,\"0\",VLOOKUP(D909,coefficient2!$A$16:$B$19,2,FALSE))","v":5.8254399999999998E-2},{"$f":"IF(E909=1,\"0\",VLOOKUP(E909,coefficient2!$A$22:$B$25,2,FALSE))","v":5.63998E-2},{"$f":"IF(F909=1,\"0\",VLOOKUP(F909,coefficient2!$A$28:$B$31,2,FALSE))","v":9.5753900000000003E-2},0.65283369999999996]
[23224,2,3,2,2,4,13,{"$f":"IF(B910=1,\"0\",VLOOKUP(B910,coefficient2!$A$4:$B$7,2,FALSE))","v":6.6127000000000005E-2},{"$f":"IF(C910=1,\"0\",VLOOKUP(C910,coefficient2!$A$10:$B$13,2,FALSE))","v":7.0631200000000005E-2},{"$f":"IF(D910=1,\"0\",VLOOKUP(D910,coefficient2!$A$16:$B$19,2,FALSE))","v":5.8254399999999998E-2},{"$f":"IF(E910=1,\"0\",VLOOKUP(E910,coefficient2!$A$22:$B$25,2,FALSE))","v":5.63998E-2},{"$f":"IF(F910=1,\"0\",VLOOKUP(F910,coefficient2!$A$28:$B$31,2,FALSE))","v":0.23270360000000001},0.5158839999999999]
[23225,2,3,2,2,5,14,{"$f":"IF(B911=1,\"0\",VLOOKUP(B911,coefficient2!$A$4:$B$7,2,FALSE))","v":6.6127000000000005E-2},{"$f":"IF(C911=1,\"0\",VLOOKUP(C911,coefficient2!$A$10:$B$13,2,FALSE))","v":7.0631200000000005E-2},{"$f":"IF(D911=1,\"0\",VLOOKUP(D911,coefficient2!$A$16:$B$19,2,FALSE))","v":5.8254399999999998E-2},{"$f":"IF(E911=1,\"0\",VLOOKUP(E911,coefficient2!$A$22:$B$25,2,FALSE))","v":5.63998E-2},{"$f":"IF(F911=1,\"0\",VLOOKUP(F911,coefficient2!$A$28:$B$31,2,FALSE))","v":0.29534929999999998},0.45323829999999993]
[23231,2,3,2,3,1,11,{"$f":"IF(B912=1,\"0\",VLOOKUP(B912,coefficient2!$A$4:$B$7,2,FALSE))","v":6.6127000000000005E-2},{"$f":"IF(C912=1,\"0\",VLOOKUP(C912,coefficient2!$A$10:$B$13,2,FALSE))","v":7.0631200000000005E-2},{"$f":"IF(D912=1,\"0\",VLOOKUP(D912,coefficient2!$A$16:$B$19,2,FALSE))","v":5.8254399999999998E-2},{"$f":"IF(E912=1,\"0\",VLOOKUP(E912,coefficient2!$A$22:$B$25,2,FALSE))","v":6.6492200000000001E-2},{"$f":"IF(F912=1,\"0\",VLOOKUP(F912,coefficient2!$A$28:$B$31,2,FALSE))","v":"0"},0.73849519999999991]
[23232,2,3,2,3,2,12,{"$f":"IF(B913=1,\"0\",VLOOKUP(B913,coefficient2!$A$4:$B$7,2,FALSE))","v":6.6127000000000005E-2},{"$f":"IF(C913=1,\"0\",VLOOKUP(C913,coefficient2!$A$10:$B$13,2,FALSE))","v":7.0631200000000005E-2},{"$f":"IF(D913=1,\"0\",VLOOKUP(D913,coefficient2!$A$16:$B$19,2,FALSE))","v":5.8254399999999998E-2},{"$f":"IF(E913=1,\"0\",VLOOKUP(E913,coefficient2!$A$22:$B$25,2,FALSE))","v":6.6492200000000001E-2},{"$f":"IF(F913=1,\"0\",VLOOKUP(F913,coefficient2!$A$28:$B$31,2,FALSE))","v":5.8085699999999997E-2},0.68040949999999989]
[23233,2,3,2,3,3,13,{"$f":"IF(B914=1,\"0\",VLOOKUP(B914,coefficient2!$A$4:$B$7,2,FALSE))","v":6.6127000000000005E-2},{"$f":"IF(C914=1,\"0\",VLOOKUP(C914,coefficient2!$A$10:$B$13,2,FALSE))","v":7.0631200000000005E-2},{"$f":"IF(D914=1,\"0\",VLOOKUP(D914,coefficient2!$A$16:$B$19,2,FALSE))","v":5.8254399999999998E-2},{"$f":"IF(E914=1,\"0\",VLOOKUP(E914,coefficient2!$A$22:$B$25,2,FALSE))","v":6.6492200000000001E-2},{"$f":"IF(F914=1,\"0\",VLOOKUP(F914,coefficient2!$A$28:$B$31,2,FALSE))","v":9.5753900000000003E-2},0.64274129999999996]
[23234,2,3,2,3,4,14,{"$f":"IF(B915=1,\"0\",VLOOKUP(B915,coefficient2!$A$4:$B$7,2,FALSE))","v":6.6127000000000005E-2},{"$f":"IF(C915=1,\"0\",VLOOKUP(C915,coefficient2!$A$10:$B$13,2,FALSE))","v":7.0631200000000005E-2},{"$f":"IF(D915=1,\"0\",VLOOKUP(D915,coefficient2!$A$16:$B$19,2,FALSE))","v":5.8254399999999998E-2},{"$f":"IF(E915=1,\"0\",VLOOKUP(E915,coefficient2!$A$22:$B$25,2,FALSE))","v":6.6492200000000001E-2},{"$f":"IF(F915=1,\"0\",VLOOKUP(F915,coefficient2!$A$28:$B$31,2,FALSE))","v":0.23270360000000001},0.5057915999999999]
[23235,2,3,2,3,5,15,{"$f":"IF(B916=1,\"0\",VLOOKUP(B916,coefficient2!$A$4:$B$7,2,FALSE))","v":6.6127000000000005E-2},{"$f":"IF(C916=1,\"0\",VLOOKUP(C916,coefficient2!$A$10:$B$13,2,FALSE))","v":7.0631200000000005E-2},{"$f":"IF(D916=1,\"0\",VLOOKUP(D916,coefficient2!$A$16:$B$19,2,FALSE))","v":5.8254399999999998E-2},{"$f":"IF(E916=1,\"0\",VLOOKUP(E916,coefficient2!$A$22:$B$25,2,FALSE))","v":6.6492200000000001E-2},{"$f":"IF(F916=1,\"0\",VLOOKUP(F916,coefficient2!$A$28:$B$31,2,FALSE))","v":0.29534929999999998},0.44314589999999993]
[23241,2,3,2,4,1,12,{"$f":"IF(B917=1,\"0\",VLOOKUP(B917,coefficient2!$A$4:$B$7,2,FALSE))","v":6.6127000000000005E-2},{"$f":"IF(C917=1,\"0\",VLOOKUP(C917,coefficient2!$A$10:$B$13,2,FALSE))","v":7.0631200000000005E-2},{"$f":"IF(D917=1,\"0\",VLOOKUP(D917,coefficient2!$A$16:$B$19,2,FALSE))","v":5.8254399999999998E-2},{"$f":"IF(E917=1,\"0\",VLOOKUP(E917,coefficient2!$A$22:$B$25,2,FALSE))","v":0.2068864},{"$f":"IF(F917=1,\"0\",VLOOKUP(F917,coefficient2!$A$28:$B$31,2,FALSE))","v":"0"},0.59810099999999988]
[23242,2,3,2,4,2,13,{"$f":"IF(B918=1,\"0\",VLOOKUP(B918,coefficient2!$A$4:$B$7,2,FALSE))","v":6.6127000000000005E-2},{"$f":"IF(C918=1,\"0\",VLOOKUP(C918,coefficient2!$A$10:$B$13,2,FALSE))","v":7.0631200000000005E-2},{"$f":"IF(D918=1,\"0\",VLOOKUP(D918,coefficient2!$A$16:$B$19,2,FALSE))","v":5.8254399999999998E-2},{"$f":"IF(E918=1,\"0\",VLOOKUP(E918,coefficient2!$A$22:$B$25,2,FALSE))","v":0.2068864},{"$f":"IF(F918=1,\"0\",VLOOKUP(F918,coefficient2!$A$28:$B$31,2,FALSE))","v":5.8085699999999997E-2},0.54001529999999986]
[23243,2,3,2,4,3,14,{"$f":"IF(B919=1,\"0\",VLOOKUP(B919,coefficient2!$A$4:$B$7,2,FALSE))","v":6.6127000000000005E-2},{"$f":"IF(C919=1,\"0\",VLOOKUP(C919,coefficient2!$A$10:$B$13,2,FALSE))","v":7.0631200000000005E-2},{"$f":"IF(D919=1,\"0\",VLOOKUP(D919,coefficient2!$A$16:$B$19,2,FALSE))","v":5.8254399999999998E-2},{"$f":"IF(E919=1,\"0\",VLOOKUP(E919,coefficient2!$A$22:$B$25,2,FALSE))","v":0.2068864},{"$f":"IF(F919=1,\"0\",VLOOKUP(F919,coefficient2!$A$28:$B$31,2,FALSE))","v":9.5753900000000003E-2},0.50234709999999994]
[23244,2,3,2,4,4,15,{"$f":"IF(B920=1,\"0\",VLOOKUP(B920,coefficient2!$A$4:$B$7,2,FALSE))","v":6.6127000000000005E-2},{"$f":"IF(C920=1,\"0\",VLOOKUP(C920,coefficient2!$A$10:$B$13,2,FALSE))","v":7.0631200000000005E-2},{"$f":"IF(D920=1,\"0\",VLOOKUP(D920,coefficient2!$A$16:$B$19,2,FALSE))","v":5.8254399999999998E-2},{"$f":"IF(E920=1,\"0\",VLOOKUP(E920,coefficient2!$A$22:$B$25,2,FALSE))","v":0.2068864},{"$f":"IF(F920=1,\"0\",VLOOKUP(F920,coefficient2!$A$28:$B$31,2,FALSE))","v":0.23270360000000001},0.36539739999999987]
[23245,2,3,2,4,5,16,{"$f":"IF(B921=1,\"0\",VLOOKUP(B921,coefficient2!$A$4:$B$7,2,FALSE))","v":6.6127000000000005E-2},{"$f":"IF(C921=1,\"0\",VLOOKUP(C921,coefficient2!$A$10:$B$13,2,FALSE))","v":7.0631200000000005E-2},{"$f":"IF(D921=1,\"0\",VLOOKUP(D921,coefficient2!$A$16:$B$19,2,FALSE))","v":5.8254399999999998E-2},{"$f":"IF(E921=1,\"0\",VLOOKUP(E921,coefficient2!$A$22:$B$25,2,FALSE))","v":0.2068864},{"$f":"IF(F921=1,\"0\",VLOOKUP(F921,coefficient2!$A$28:$B$31,2,FALSE))","v":0.29534929999999998},0.3027516999999999]
[23251,2,3,2,5,1,13,{"$f":"IF(B922=1,\"0\",VLOOKUP(B922,coefficient2!$A$4:$B$7,2,FALSE))","v":6.6127000000000005E-2},{"$f":"IF(C922=1,\"0\",VLOOKUP(C922,coefficient2!$A$10:$B$13,2,FALSE))","v":7.0631200000000005E-2},{"$f":"IF(D922=1,\"0\",VLOOKUP(D922,coefficient2!$A$16:$B$19,2,FALSE))","v":5.8254399999999998E-2},{"$f":"IF(E922=1,\"0\",VLOOKUP(E922,coefficient2!$A$22:$B$25,2,FALSE))","v":0.25643310000000002},{"$f":"IF(F922=1,\"0\",VLOOKUP(F922,coefficient2!$A$28:$B$31,2,FALSE))","v":"0"},0.54855429999999994]
[23252,2,3,2,5,2,14,{"$f":"IF(B923=1,\"0\",VLOOKUP(B923,coefficient2!$A$4:$B$7,2,FALSE))","v":6.6127000000000005E-2},{"$f":"IF(C923=1,\"0\",VLOOKUP(C923,coefficient2!$A$10:$B$13,2,FALSE))","v":7.0631200000000005E-2},{"$f":"IF(D923=1,\"0\",VLOOKUP(D923,coefficient2!$A$16:$B$19,2,FALSE))","v":5.8254399999999998E-2},{"$f":"IF(E923=1,\"0\",VLOOKUP(E923,coefficient2!$A$22:$B$25,2,FALSE))","v":0.25643310000000002},{"$f":"IF(F923=1,\"0\",VLOOKUP(F923,coefficient2!$A$28:$B$31,2,FALSE))","v":5.8085699999999997E-2},0.49046859999999992]
[23253,2,3,2,5,3,15,{"$f":"IF(B924=1,\"0\",VLOOKUP(B924,coefficient2!$A$4:$B$7,2,FALSE))","v":6.6127000000000005E-2},{"$f":"IF(C924=1,\"0\",VLOOKUP(C924,coefficient2!$A$10:$B$13,2,FALSE))","v":7.0631200000000005E-2},{"$f":"IF(D924=1,\"0\",VLOOKUP(D924,coefficient2!$A$16:$B$19,2,FALSE))","v":5.8254399999999998E-2},{"$f":"IF(E924=1,\"0\",VLOOKUP(E924,coefficient2!$A$22:$B$25,2,FALSE))","v":0.25643310000000002},{"$f":"IF(F924=1,\"0\",VLOOKUP(F924,coefficient2!$A$28:$B$31,2,FALSE))","v":9.5753900000000003E-2},0.45280039999999994]
[23254,2,3,2,5,4,16,{"$f":"IF(B925=1,\"0\",VLOOKUP(B925,coefficient2!$A$4:$B$7,2,FALSE))","v":6.6127000000000005E-2},{"$f":"IF(C925=1,\"0\",VLOOKUP(C925,coefficient2!$A$10:$B$13,2,FALSE))","v":7.0631200000000005E-2},{"$f":"IF(D925=1,\"0\",VLOOKUP(D925,coefficient2!$A$16:$B$19,2,FALSE))","v":5.8254399999999998E-2},{"$f":"IF(E925=1,\"0\",VLOOKUP(E925,coefficient2!$A$22:$B$25,2,FALSE))","v":0.25643310000000002},{"$f":"IF(F925=1,\"0\",VLOOKUP(F925,coefficient2!$A$28:$B$31,2,FALSE))","v":0.23270360000000001},0.31585069999999993]
[23255,2,3,2,5,5,17,{"$f":"IF(B926=1,\"0\",VLOOKUP(B926,coefficient2!$A$4:$B$7,2,FALSE))","v":6.6127000000000005E-2},{"$f":"IF(C926=1,\"0\",VLOOKUP(C926,coefficient2!$A$10:$B$13,2,FALSE))","v":7.0631200000000005E-2},{"$f":"IF(D926=1,\"0\",VLOOKUP(D926,coefficient2!$A$16:$B$19,2,FALSE))","v":5.8254399999999998E-2},{"$f":"IF(E926=1,\"0\",VLOOKUP(E926,coefficient2!$A$22:$B$25,2,FALSE))","v":0.25643310000000002},{"$f":"IF(F926=1,\"0\",VLOOKUP(F926,coefficient2!$A$28:$B$31,2,FALSE))","v":0.29534929999999998},0.25320499999999996]
[23311,2,3,3,1,1,10,{"$f":"IF(B927=1,\"0\",VLOOKUP(B927,coefficient2!$A$4:$B$7,2,FALSE))","v":6.6127000000000005E-2},{"$f":"IF(C927=1,\"0\",VLOOKUP(C927,coefficient2!$A$10:$B$13,2,FALSE))","v":7.0631200000000005E-2},{"$f":"IF(D927=1,\"0\",VLOOKUP(D927,coefficient2!$A$16:$B$19,2,FALSE))","v":7.1197399999999994E-2},{"$f":"IF(E927=1,\"0\",VLOOKUP(E927,coefficient2!$A$22:$B$25,2,FALSE))","v":"0"},{"$f":"IF(F927=1,\"0\",VLOOKUP(F927,coefficient2!$A$28:$B$31,2,FALSE))","v":"0"},0.79204439999999998]
[23312,2,3,3,1,2,11,{"$f":"IF(B928=1,\"0\",VLOOKUP(B928,coefficient2!$A$4:$B$7,2,FALSE))","v":6.6127000000000005E-2},{"$f":"IF(C928=1,\"0\",VLOOKUP(C928,coefficient2!$A$10:$B$13,2,FALSE))","v":7.0631200000000005E-2},{"$f":"IF(D928=1,\"0\",VLOOKUP(D928,coefficient2!$A$16:$B$19,2,FALSE))","v":7.1197399999999994E-2},{"$f":"IF(E928=1,\"0\",VLOOKUP(E928,coefficient2!$A$22:$B$25,2,FALSE))","v":"0"},{"$f":"IF(F928=1,\"0\",VLOOKUP(F928,coefficient2!$A$28:$B$31,2,FALSE))","v":5.8085699999999997E-2},0.73395869999999996]
[23313,2,3,3,1,3,12,{"$f":"IF(B929=1,\"0\",VLOOKUP(B929,coefficient2!$A$4:$B$7,2,FALSE))","v":6.6127000000000005E-2},{"$f":"IF(C929=1,\"0\",VLOOKUP(C929,coefficient2!$A$10:$B$13,2,FALSE))","v":7.0631200000000005E-2},{"$f":"IF(D929=1,\"0\",VLOOKUP(D929,coefficient2!$A$16:$B$19,2,FALSE))","v":7.1197399999999994E-2},{"$f":"IF(E929=1,\"0\",VLOOKUP(E929,coefficient2!$A$22:$B$25,2,FALSE))","v":"0"},{"$f":"IF(F929=1,\"0\",VLOOKUP(F929,coefficient2!$A$28:$B$31,2,FALSE))","v":9.5753900000000003E-2},0.69629049999999992]
[23314,2,3,3,1,4,13,{"$f":"IF(B930=1,\"0\",VLOOKUP(B930,coefficient2!$A$4:$B$7,2,FALSE))","v":6.6127000000000005E-2},{"$f":"IF(C930=1,\"0\",VLOOKUP(C930,coefficient2!$A$10:$B$13,2,FALSE))","v":7.0631200000000005E-2},{"$f":"IF(D930=1,\"0\",VLOOKUP(D930,coefficient2!$A$16:$B$19,2,FALSE))","v":7.1197399999999994E-2},{"$f":"IF(E930=1,\"0\",VLOOKUP(E930,coefficient2!$A$22:$B$25,2,FALSE))","v":"0"},{"$f":"IF(F930=1,\"0\",VLOOKUP(F930,coefficient2!$A$28:$B$31,2,FALSE))","v":0.23270360000000001},0.55934079999999997]
[23315,2,3,3,1,5,14,{"$f":"IF(B931=1,\"0\",VLOOKUP(B931,coefficient2!$A$4:$B$7,2,FALSE))","v":6.6127000000000005E-2},{"$f":"IF(C931=1,\"0\",VLOOKUP(C931,coefficient2!$A$10:$B$13,2,FALSE))","v":7.0631200000000005E-2},{"$f":"IF(D931=1,\"0\",VLOOKUP(D931,coefficient2!$A$16:$B$19,2,FALSE))","v":7.1197399999999994E-2},{"$f":"IF(E931=1,\"0\",VLOOKUP(E931,coefficient2!$A$22:$B$25,2,FALSE))","v":"0"},{"$f":"IF(F931=1,\"0\",VLOOKUP(F931,coefficient2!$A$28:$B$31,2,FALSE))","v":0.29534929999999998},0.4966951]
[23321,2,3,3,2,1,11,{"$f":"IF(B932=1,\"0\",VLOOKUP(B932,coefficient2!$A$4:$B$7,2,FALSE))","v":6.6127000000000005E-2},{"$f":"IF(C932=1,\"0\",VLOOKUP(C932,coefficient2!$A$10:$B$13,2,FALSE))","v":7.0631200000000005E-2},{"$f":"IF(D932=1,\"0\",VLOOKUP(D932,coefficient2!$A$16:$B$19,2,FALSE))","v":7.1197399999999994E-2},{"$f":"IF(E932=1,\"0\",VLOOKUP(E932,coefficient2!$A$22:$B$25,2,FALSE))","v":5.63998E-2},{"$f":"IF(F932=1,\"0\",VLOOKUP(F932,coefficient2!$A$28:$B$31,2,FALSE))","v":"0"},0.73564459999999998]
[23322,2,3,3,2,2,12,{"$f":"IF(B933=1,\"0\",VLOOKUP(B933,coefficient2!$A$4:$B$7,2,FALSE))","v":6.6127000000000005E-2},{"$f":"IF(C933=1,\"0\",VLOOKUP(C933,coefficient2!$A$10:$B$13,2,FALSE))","v":7.0631200000000005E-2},{"$f":"IF(D933=1,\"0\",VLOOKUP(D933,coefficient2!$A$16:$B$19,2,FALSE))","v":7.1197399999999994E-2},{"$f":"IF(E933=1,\"0\",VLOOKUP(E933,coefficient2!$A$22:$B$25,2,FALSE))","v":5.63998E-2},{"$f":"IF(F933=1,\"0\",VLOOKUP(F933,coefficient2!$A$28:$B$31,2,FALSE))","v":5.8085699999999997E-2},0.67755889999999996]
[23323,2,3,3,2,3,13,{"$f":"IF(B934=1,\"0\",VLOOKUP(B934,coefficient2!$A$4:$B$7,2,FALSE))","v":6.6127000000000005E-2},{"$f":"IF(C934=1,\"0\",VLOOKUP(C934,coefficient2!$A$10:$B$13,2,FALSE))","v":7.0631200000000005E-2},{"$f":"IF(D934=1,\"0\",VLOOKUP(D934,coefficient2!$A$16:$B$19,2,FALSE))","v":7.1197399999999994E-2},{"$f":"IF(E934=1,\"0\",VLOOKUP(E934,coefficient2!$A$22:$B$25,2,FALSE))","v":5.63998E-2},{"$f":"IF(F934=1,\"0\",VLOOKUP(F934,coefficient2!$A$28:$B$31,2,FALSE))","v":9.5753900000000003E-2},0.63989070000000003]
[23324,2,3,3,2,4,14,{"$f":"IF(B935=1,\"0\",VLOOKUP(B935,coefficient2!$A$4:$B$7,2,FALSE))","v":6.6127000000000005E-2},{"$f":"IF(C935=1,\"0\",VLOOKUP(C935,coefficient2!$A$10:$B$13,2,FALSE))","v":7.0631200000000005E-2},{"$f":"IF(D935=1,\"0\",VLOOKUP(D935,coefficient2!$A$16:$B$19,2,FALSE))","v":7.1197399999999994E-2},{"$f":"IF(E935=1,\"0\",VLOOKUP(E935,coefficient2!$A$22:$B$25,2,FALSE))","v":5.63998E-2},{"$f":"IF(F935=1,\"0\",VLOOKUP(F935,coefficient2!$A$28:$B$31,2,FALSE))","v":0.23270360000000001},0.50294099999999997]
[23325,2,3,3,2,5,15,{"$f":"IF(B936=1,\"0\",VLOOKUP(B936,coefficient2!$A$4:$B$7,2,FALSE))","v":6.6127000000000005E-2},{"$f":"IF(C936=1,\"0\",VLOOKUP(C936,coefficient2!$A$10:$B$13,2,FALSE))","v":7.0631200000000005E-2},{"$f":"IF(D936=1,\"0\",VLOOKUP(D936,coefficient2!$A$16:$B$19,2,FALSE))","v":7.1197399999999994E-2},{"$f":"IF(E936=1,\"0\",VLOOKUP(E936,coefficient2!$A$22:$B$25,2,FALSE))","v":5.63998E-2},{"$f":"IF(F936=1,\"0\",VLOOKUP(F936,coefficient2!$A$28:$B$31,2,FALSE))","v":0.29534929999999998},0.4402953]
[23331,2,3,3,3,1,12,{"$f":"IF(B937=1,\"0\",VLOOKUP(B937,coefficient2!$A$4:$B$7,2,FALSE))","v":6.6127000000000005E-2},{"$f":"IF(C937=1,\"0\",VLOOKUP(C937,coefficient2!$A$10:$B$13,2,FALSE))","v":7.0631200000000005E-2},{"$f":"IF(D937=1,\"0\",VLOOKUP(D937,coefficient2!$A$16:$B$19,2,FALSE))","v":7.1197399999999994E-2},{"$f":"IF(E937=1,\"0\",VLOOKUP(E937,coefficient2!$A$22:$B$25,2,FALSE))","v":6.6492200000000001E-2},{"$f":"IF(F937=1,\"0\",VLOOKUP(F937,coefficient2!$A$28:$B$31,2,FALSE))","v":"0"},0.72555219999999998]
[23332,2,3,3,3,2,13,{"$f":"IF(B938=1,\"0\",VLOOKUP(B938,coefficient2!$A$4:$B$7,2,FALSE))","v":6.6127000000000005E-2},{"$f":"IF(C938=1,\"0\",VLOOKUP(C938,coefficient2!$A$10:$B$13,2,FALSE))","v":7.0631200000000005E-2},{"$f":"IF(D938=1,\"0\",VLOOKUP(D938,coefficient2!$A$16:$B$19,2,FALSE))","v":7.1197399999999994E-2},{"$f":"IF(E938=1,\"0\",VLOOKUP(E938,coefficient2!$A$22:$B$25,2,FALSE))","v":6.6492200000000001E-2},{"$f":"IF(F938=1,\"0\",VLOOKUP(F938,coefficient2!$A$28:$B$31,2,FALSE))","v":5.8085699999999997E-2},0.66746649999999996]
[23333,2,3,3,3,3,14,{"$f":"IF(B939=1,\"0\",VLOOKUP(B939,coefficient2!$A$4:$B$7,2,FALSE))","v":6.6127000000000005E-2},{"$f":"IF(C939=1,\"0\",VLOOKUP(C939,coefficient2!$A$10:$B$13,2,FALSE))","v":7.0631200000000005E-2},{"$f":"IF(D939=1,\"0\",VLOOKUP(D939,coefficient2!$A$16:$B$19,2,FALSE))","v":7.1197399999999994E-2},{"$f":"IF(E939=1,\"0\",VLOOKUP(E939,coefficient2!$A$22:$B$25,2,FALSE))","v":6.6492200000000001E-2},{"$f":"IF(F939=1,\"0\",VLOOKUP(F939,coefficient2!$A$28:$B$31,2,FALSE))","v":9.5753900000000003E-2},0.62979830000000003]
[23334,2,3,3,3,4,15,{"$f":"IF(B940=1,\"0\",VLOOKUP(B940,coefficient2!$A$4:$B$7,2,FALSE))","v":6.6127000000000005E-2},{"$f":"IF(C940=1,\"0\",VLOOKUP(C940,coefficient2!$A$10:$B$13,2,FALSE))","v":7.0631200000000005E-2},{"$f":"IF(D940=1,\"0\",VLOOKUP(D940,coefficient2!$A$16:$B$19,2,FALSE))","v":7.1197399999999994E-2},{"$f":"IF(E940=1,\"0\",VLOOKUP(E940,coefficient2!$A$22:$B$25,2,FALSE))","v":6.6492200000000001E-2},{"$f":"IF(F940=1,\"0\",VLOOKUP(F940,coefficient2!$A$28:$B$31,2,FALSE))","v":0.23270360000000001},0.49284859999999997]
[23335,2,3,3,3,5,16,{"$f":"IF(B941=1,\"0\",VLOOKUP(B941,coefficient2!$A$4:$B$7,2,FALSE))","v":6.6127000000000005E-2},{"$f":"IF(C941=1,\"0\",VLOOKUP(C941,coefficient2!$A$10:$B$13,2,FALSE))","v":7.0631200000000005E-2},{"$f":"IF(D941=1,\"0\",VLOOKUP(D941,coefficient2!$A$16:$B$19,2,FALSE))","v":7.1197399999999994E-2},{"$f":"IF(E941=1,\"0\",VLOOKUP(E941,coefficient2!$A$22:$B$25,2,FALSE))","v":6.6492200000000001E-2},{"$f":"IF(F941=1,\"0\",VLOOKUP(F941,coefficient2!$A$28:$B$31,2,FALSE))","v":0.29534929999999998},0.4302029]
[23341,2,3,3,4,1,13,{"$f":"IF(B942=1,\"0\",VLOOKUP(B942,coefficient2!$A$4:$B$7,2,FALSE))","v":6.6127000000000005E-2},{"$f":"IF(C942=1,\"0\",VLOOKUP(C942,coefficient2!$A$10:$B$13,2,FALSE))","v":7.0631200000000005E-2},{"$f":"IF(D942=1,\"0\",VLOOKUP(D942,coefficient2!$A$16:$B$19,2,FALSE))","v":7.1197399999999994E-2},{"$f":"IF(E942=1,\"0\",VLOOKUP(E942,coefficient2!$A$22:$B$25,2,FALSE))","v":0.2068864},{"$f":"IF(F942=1,\"0\",VLOOKUP(F942,coefficient2!$A$28:$B$31,2,FALSE))","v":"0"},0.58515799999999996]
[23342,2,3,3,4,2,14,{"$f":"IF(B943=1,\"0\",VLOOKUP(B943,coefficient2!$A$4:$B$7,2,FALSE))","v":6.6127000000000005E-2},{"$f":"IF(C943=1,\"0\",VLOOKUP(C943,coefficient2!$A$10:$B$13,2,FALSE))","v":7.0631200000000005E-2},{"$f":"IF(D943=1,\"0\",VLOOKUP(D943,coefficient2!$A$16:$B$19,2,FALSE))","v":7.1197399999999994E-2},{"$f":"IF(E943=1,\"0\",VLOOKUP(E943,coefficient2!$A$22:$B$25,2,FALSE))","v":0.2068864},{"$f":"IF(F943=1,\"0\",VLOOKUP(F943,coefficient2!$A$28:$B$31,2,FALSE))","v":5.8085699999999997E-2},0.52707229999999994]
[23343,2,3,3,4,3,15,{"$f":"IF(B944=1,\"0\",VLOOKUP(B944,coefficient2!$A$4:$B$7,2,FALSE))","v":6.6127000000000005E-2},{"$f":"IF(C944=1,\"0\",VLOOKUP(C944,coefficient2!$A$10:$B$13,2,FALSE))","v":7.0631200000000005E-2},{"$f":"IF(D944=1,\"0\",VLOOKUP(D944,coefficient2!$A$16:$B$19,2,FALSE))","v":7.1197399999999994E-2},{"$f":"IF(E944=1,\"0\",VLOOKUP(E944,coefficient2!$A$22:$B$25,2,FALSE))","v":0.2068864},{"$f":"IF(F944=1,\"0\",VLOOKUP(F944,coefficient2!$A$28:$B$31,2,FALSE))","v":9.5753900000000003E-2},0.48940409999999995]
[23344,2,3,3,4,4,16,{"$f":"IF(B945=1,\"0\",VLOOKUP(B945,coefficient2!$A$4:$B$7,2,FALSE))","v":6.6127000000000005E-2},{"$f":"IF(C945=1,\"0\",VLOOKUP(C945,coefficient2!$A$10:$B$13,2,FALSE))","v":7.0631200000000005E-2},{"$f":"IF(D945=1,\"0\",VLOOKUP(D945,coefficient2!$A$16:$B$19,2,FALSE))","v":7.1197399999999994E-2},{"$f":"IF(E945=1,\"0\",VLOOKUP(E945,coefficient2!$A$22:$B$25,2,FALSE))","v":0.2068864},{"$f":"IF(F945=1,\"0\",VLOOKUP(F945,coefficient2!$A$28:$B$31,2,FALSE))","v":0.23270360000000001},0.35245439999999995]
[23345,2,3,3,4,5,17,{"$f":"IF(B946=1,\"0\",VLOOKUP(B946,coefficient2!$A$4:$B$7,2,FALSE))","v":6.6127000000000005E-2},{"$f":"IF(C946=1,\"0\",VLOOKUP(C946,coefficient2!$A$10:$B$13,2,FALSE))","v":7.0631200000000005E-2},{"$f":"IF(D946=1,\"0\",VLOOKUP(D946,coefficient2!$A$16:$B$19,2,FALSE))","v":7.1197399999999994E-2},{"$f":"IF(E946=1,\"0\",VLOOKUP(E946,coefficient2!$A$22:$B$25,2,FALSE))","v":0.2068864},{"$f":"IF(F946=1,\"0\",VLOOKUP(F946,coefficient2!$A$28:$B$31,2,FALSE))","v":0.29534929999999998},0.28980869999999997]
[23351,2,3,3,5,1,14,{"$f":"IF(B947=1,\"0\",VLOOKUP(B947,coefficient2!$A$4:$B$7,2,FALSE))","v":6.6127000000000005E-2},{"$f":"IF(C947=1,\"0\",VLOOKUP(C947,coefficient2!$A$10:$B$13,2,FALSE))","v":7.0631200000000005E-2},{"$f":"IF(D947=1,\"0\",VLOOKUP(D947,coefficient2!$A$16:$B$19,2,FALSE))","v":7.1197399999999994E-2},{"$f":"IF(E947=1,\"0\",VLOOKUP(E947,coefficient2!$A$22:$B$25,2,FALSE))","v":0.25643310000000002},{"$f":"IF(F947=1,\"0\",VLOOKUP(F947,coefficient2!$A$28:$B$31,2,FALSE))","v":"0"},0.53561130000000001]
[23352,2,3,3,5,2,15,{"$f":"IF(B948=1,\"0\",VLOOKUP(B948,coefficient2!$A$4:$B$7,2,FALSE))","v":6.6127000000000005E-2},{"$f":"IF(C948=1,\"0\",VLOOKUP(C948,coefficient2!$A$10:$B$13,2,FALSE))","v":7.0631200000000005E-2},{"$f":"IF(D948=1,\"0\",VLOOKUP(D948,coefficient2!$A$16:$B$19,2,FALSE))","v":7.1197399999999994E-2},{"$f":"IF(E948=1,\"0\",VLOOKUP(E948,coefficient2!$A$22:$B$25,2,FALSE))","v":0.25643310000000002},{"$f":"IF(F948=1,\"0\",VLOOKUP(F948,coefficient2!$A$28:$B$31,2,FALSE))","v":5.8085699999999997E-2},0.47752559999999999]
[23353,2,3,3,5,3,16,{"$f":"IF(B949=1,\"0\",VLOOKUP(B949,coefficient2!$A$4:$B$7,2,FALSE))","v":6.6127000000000005E-2},{"$f":"IF(C949=1,\"0\",VLOOKUP(C949,coefficient2!$A$10:$B$13,2,FALSE))","v":7.0631200000000005E-2},{"$f":"IF(D949=1,\"0\",VLOOKUP(D949,coefficient2!$A$16:$B$19,2,FALSE))","v":7.1197399999999994E-2},{"$f":"IF(E949=1,\"0\",VLOOKUP(E949,coefficient2!$A$22:$B$25,2,FALSE))","v":0.25643310000000002},{"$f":"IF(F949=1,\"0\",VLOOKUP(F949,coefficient2!$A$28:$B$31,2,FALSE))","v":9.5753900000000003E-2},0.43985740000000001]
[23354,2,3,3,5,4,17,{"$f":"IF(B950=1,\"0\",VLOOKUP(B950,coefficient2!$A$4:$B$7,2,FALSE))","v":6.6127000000000005E-2},{"$f":"IF(C950=1,\"0\",VLOOKUP(C950,coefficient2!$A$10:$B$13,2,FALSE))","v":7.0631200000000005E-2},{"$f":"IF(D950=1,\"0\",VLOOKUP(D950,coefficient2!$A$16:$B$19,2,FALSE))","v":7.1197399999999994E-2},{"$f":"IF(E950=1,\"0\",VLOOKUP(E950,coefficient2!$A$22:$B$25,2,FALSE))","v":0.25643310000000002},{"$f":"IF(F950=1,\"0\",VLOOKUP(F950,coefficient2!$A$28:$B$31,2,FALSE))","v":0.23270360000000001},0.3029077]
[23355,2,3,3,5,5,18,{"$f":"IF(B951=1,\"0\",VLOOKUP(B951,coefficient2!$A$4:$B$7,2,FALSE))","v":6.6127000000000005E-2},{"$f":"IF(C951=1,\"0\",VLOOKUP(C951,coefficient2!$A$10:$B$13,2,FALSE))","v":7.0631200000000005E-2},{"$f":"IF(D951=1,\"0\",VLOOKUP(D951,coefficient2!$A$16:$B$19,2,FALSE))","v":7.1197399999999994E-2},{"$f":"IF(E951=1,\"0\",VLOOKUP(E951,coefficient2!$A$22:$B$25,2,FALSE))","v":0.25643310000000002},{"$f":"IF(F951=1,\"0\",VLOOKUP(F951,coefficient2!$A$28:$B$31,2,FALSE))","v":0.29534929999999998},0.24026200000000003]
[23411,2,3,4,1,1,11,{"$f":"IF(B952=1,\"0\",VLOOKUP(B952,coefficient2!$A$4:$B$7,2,FALSE))","v":6.6127000000000005E-2},{"$f":"IF(C952=1,\"0\",VLOOKUP(C952,coefficient2!$A$10:$B$13,2,FALSE))","v":7.0631200000000005E-2},{"$f":"IF(D952=1,\"0\",VLOOKUP(D952,coefficient2!$A$16:$B$19,2,FALSE))","v":0.1534855},{"$f":"IF(E952=1,\"0\",VLOOKUP(E952,coefficient2!$A$22:$B$25,2,FALSE))","v":"0"},{"$f":"IF(F952=1,\"0\",VLOOKUP(F952,coefficient2!$A$28:$B$31,2,FALSE))","v":"0"},0.70975630000000001]
[23412,2,3,4,1,2,12,{"$f":"IF(B953=1,\"0\",VLOOKUP(B953,coefficient2!$A$4:$B$7,2,FALSE))","v":6.6127000000000005E-2},{"$f":"IF(C953=1,\"0\",VLOOKUP(C953,coefficient2!$A$10:$B$13,2,FALSE))","v":7.0631200000000005E-2},{"$f":"IF(D953=1,\"0\",VLOOKUP(D953,coefficient2!$A$16:$B$19,2,FALSE))","v":0.1534855},{"$f":"IF(E953=1,\"0\",VLOOKUP(E953,coefficient2!$A$22:$B$25,2,FALSE))","v":"0"},{"$f":"IF(F953=1,\"0\",VLOOKUP(F953,coefficient2!$A$28:$B$31,2,FALSE))","v":5.8085699999999997E-2},0.65167059999999999]
[23413,2,3,4,1,3,13,{"$f":"IF(B954=1,\"0\",VLOOKUP(B954,coefficient2!$A$4:$B$7,2,FALSE))","v":6.6127000000000005E-2},{"$f":"IF(C954=1,\"0\",VLOOKUP(C954,coefficient2!$A$10:$B$13,2,FALSE))","v":7.0631200000000005E-2},{"$f":"IF(D954=1,\"0\",VLOOKUP(D954,coefficient2!$A$16:$B$19,2,FALSE))","v":0.1534855},{"$f":"IF(E954=1,\"0\",VLOOKUP(E954,coefficient2!$A$22:$B$25,2,FALSE))","v":"0"},{"$f":"IF(F954=1,\"0\",VLOOKUP(F954,coefficient2!$A$28:$B$31,2,FALSE))","v":9.5753900000000003E-2},0.61400239999999995]
[23414,2,3,4,1,4,14,{"$f":"IF(B955=1,\"0\",VLOOKUP(B955,coefficient2!$A$4:$B$7,2,FALSE))","v":6.6127000000000005E-2},{"$f":"IF(C955=1,\"0\",VLOOKUP(C955,coefficient2!$A$10:$B$13,2,FALSE))","v":7.0631200000000005E-2},{"$f":"IF(D955=1,\"0\",VLOOKUP(D955,coefficient2!$A$16:$B$19,2,FALSE))","v":0.1534855},{"$f":"IF(E955=1,\"0\",VLOOKUP(E955,coefficient2!$A$22:$B$25,2,FALSE))","v":"0"},{"$f":"IF(F955=1,\"0\",VLOOKUP(F955,coefficient2!$A$28:$B$31,2,FALSE))","v":0.23270360000000001},0.4770527]
[23415,2,3,4,1,5,15,{"$f":"IF(B956=1,\"0\",VLOOKUP(B956,coefficient2!$A$4:$B$7,2,FALSE))","v":6.6127000000000005E-2},{"$f":"IF(C956=1,\"0\",VLOOKUP(C956,coefficient2!$A$10:$B$13,2,FALSE))","v":7.0631200000000005E-2},{"$f":"IF(D956=1,\"0\",VLOOKUP(D956,coefficient2!$A$16:$B$19,2,FALSE))","v":0.1534855},{"$f":"IF(E956=1,\"0\",VLOOKUP(E956,coefficient2!$A$22:$B$25,2,FALSE))","v":"0"},{"$f":"IF(F956=1,\"0\",VLOOKUP(F956,coefficient2!$A$28:$B$31,2,FALSE))","v":0.29534929999999998},0.41440700000000003]
[23421,2,3,4,2,1,12,{"$f":"IF(B957=1,\"0\",VLOOKUP(B957,coefficient2!$A$4:$B$7,2,FALSE))","v":6.6127000000000005E-2},{"$f":"IF(C957=1,\"0\",VLOOKUP(C957,coefficient2!$A$10:$B$13,2,FALSE))","v":7.0631200000000005E-2},{"$f":"IF(D957=1,\"0\",VLOOKUP(D957,coefficient2!$A$16:$B$19,2,FALSE))","v":0.1534855},{"$f":"IF(E957=1,\"0\",VLOOKUP(E957,coefficient2!$A$22:$B$25,2,FALSE))","v":5.63998E-2},{"$f":"IF(F957=1,\"0\",VLOOKUP(F957,coefficient2!$A$28:$B$31,2,FALSE))","v":"0"},0.65335650000000001]
[23422,2,3,4,2,2,13,{"$f":"IF(B958=1,\"0\",VLOOKUP(B958,coefficient2!$A$4:$B$7,2,FALSE))","v":6.6127000000000005E-2},{"$f":"IF(C958=1,\"0\",VLOOKUP(C958,coefficient2!$A$10:$B$13,2,FALSE))","v":7.0631200000000005E-2},{"$f":"IF(D958=1,\"0\",VLOOKUP(D958,coefficient2!$A$16:$B$19,2,FALSE))","v":0.1534855},{"$f":"IF(E958=1,\"0\",VLOOKUP(E958,coefficient2!$A$22:$B$25,2,FALSE))","v":5.63998E-2},{"$f":"IF(F958=1,\"0\",VLOOKUP(F958,coefficient2!$A$28:$B$31,2,FALSE))","v":5.8085699999999997E-2},0.59527079999999999]
[23423,2,3,4,2,3,14,{"$f":"IF(B959=1,\"0\",VLOOKUP(B959,coefficient2!$A$4:$B$7,2,FALSE))","v":6.6127000000000005E-2},{"$f":"IF(C959=1,\"0\",VLOOKUP(C959,coefficient2!$A$10:$B$13,2,FALSE))","v":7.0631200000000005E-2},{"$f":"IF(D959=1,\"0\",VLOOKUP(D959,coefficient2!$A$16:$B$19,2,FALSE))","v":0.1534855},{"$f":"IF(E959=1,\"0\",VLOOKUP(E959,coefficient2!$A$22:$B$25,2,FALSE))","v":5.63998E-2},{"$f":"IF(F959=1,\"0\",VLOOKUP(F959,coefficient2!$A$28:$B$31,2,FALSE))","v":9.5753900000000003E-2},0.55760260000000006]
[23424,2,3,4,2,4,15,{"$f":"IF(B960=1,\"0\",VLOOKUP(B960,coefficient2!$A$4:$B$7,2,FALSE))","v":6.6127000000000005E-2},{"$f":"IF(C960=1,\"0\",VLOOKUP(C960,coefficient2!$A$10:$B$13,2,FALSE))","v":7.0631200000000005E-2},{"$f":"IF(D960=1,\"0\",VLOOKUP(D960,coefficient2!$A$16:$B$19,2,FALSE))","v":0.1534855},{"$f":"IF(E960=1,\"0\",VLOOKUP(E960,coefficient2!$A$22:$B$25,2,FALSE))","v":5.63998E-2},{"$f":"IF(F960=1,\"0\",VLOOKUP(F960,coefficient2!$A$28:$B$31,2,FALSE))","v":0.23270360000000001},0.4206529]
[23425,2,3,4,2,5,16,{"$f":"IF(B961=1,\"0\",VLOOKUP(B961,coefficient2!$A$4:$B$7,2,FALSE))","v":6.6127000000000005E-2},{"$f":"IF(C961=1,\"0\",VLOOKUP(C961,coefficient2!$A$10:$B$13,2,FALSE))","v":7.0631200000000005E-2},{"$f":"IF(D961=1,\"0\",VLOOKUP(D961,coefficient2!$A$16:$B$19,2,FALSE))","v":0.1534855},{"$f":"IF(E961=1,\"0\",VLOOKUP(E961,coefficient2!$A$22:$B$25,2,FALSE))","v":5.63998E-2},{"$f":"IF(F961=1,\"0\",VLOOKUP(F961,coefficient2!$A$28:$B$31,2,FALSE))","v":0.29534929999999998},0.35800720000000003]
[23431,2,3,4,3,1,13,{"$f":"IF(B962=1,\"0\",VLOOKUP(B962,coefficient2!$A$4:$B$7,2,FALSE))","v":6.6127000000000005E-2},{"$f":"IF(C962=1,\"0\",VLOOKUP(C962,coefficient2!$A$10:$B$13,2,FALSE))","v":7.0631200000000005E-2},{"$f":"IF(D962=1,\"0\",VLOOKUP(D962,coefficient2!$A$16:$B$19,2,FALSE))","v":0.1534855},{"$f":"IF(E962=1,\"0\",VLOOKUP(E962,coefficient2!$A$22:$B$25,2,FALSE))","v":6.6492200000000001E-2},{"$f":"IF(F962=1,\"0\",VLOOKUP(F962,coefficient2!$A$28:$B$31,2,FALSE))","v":"0"},{"$f":"1-H962-I962-J962-K962-L962","v":0.64326410000000001}]
[23432,{"$f":"INT(LEFT(A963,1))","v":2},{"$f":"INT(MID(A963,2,1))","v":3},{"$f":"INT(MID(A963,3,1))","v":4},{"$f":"INT(MID(A963,4,1))","v":3},{"$f":"INT(RIGHT(A963,1))","v":2},{"$f":"SUM(B963:F963)","v":14},{"$f":"IF(B963=1,\"0\",VLOOKUP(B963,coefficient2!$A$4:$B$7,2,FALSE))","v":6.6127000000000005E-2},{"$f":"IF(C963=1,\"0\",VLOOKUP(C963,coefficient2!$A$10:$B$13,2,FALSE))","v":7.0631200000000005E-2},{"$f":"IF(D963=1,\"0\",VLOOKUP(D963,coefficient2!$A$16:$B$19,2,FALSE))","v":0.1534855},{"$f":"IF(E963=1,\"0\",VLOOKUP(E963,coefficient2!$A$22:$B$25,2,FALSE))","v":6.6492200000000001E-2},{"$f":"IF(F963=1,\"0\",VLOOKUP(F963,coefficient2!$A$28:$B$31,2,FALSE))","v":5.8085699999999997E-2},0.58517839999999999]
[23433,2,3,4,3,3,15,{"$f":"IF(B964=1,\"0\",VLOOKUP(B964,coefficient2!$A$4:$B$7,2,FALSE))","v":6.6127000000000005E-2},{"$f":"IF(C964=1,\"0\",VLOOKUP(C964,coefficient2!$A$10:$B$13,2,FALSE))","v":7.0631200000000005E-2},{"$f":"IF(D964=1,\"0\",VLOOKUP(D964,coefficient2!$A$16:$B$19,2,FALSE))","v":0.1534855},{"$f":"IF(E964=1,\"0\",VLOOKUP(E964,coefficient2!$A$22:$B$25,2,FALSE))","v":6.6492200000000001E-2},{"$f":"IF(F964=1,\"0\",VLOOKUP(F964,coefficient2!$A$28:$B$31,2,FALSE))","v":9.5753900000000003E-2},0.54751020000000006]
[23434,2,3,4,3,4,16,{"$f":"IF(B965=1,\"0\",VLOOKUP(B965,coefficient2!$A$4:$B$7,2,FALSE))","v":6.6127000000000005E-2},{"$f":"IF(C965=1,\"0\",VLOOKUP(C965,coefficient2!$A$10:$B$13,2,FALSE))","v":7.0631200000000005E-2},{"$f":"IF(D965=1,\"0\",VLOOKUP(D965,coefficient2!$A$16:$B$19,2,FALSE))","v":0.1534855},{"$f":"IF(E965=1,\"0\",VLOOKUP(E965,coefficient2!$A$22:$B$25,2,FALSE))","v":6.6492200000000001E-2},{"$f":"IF(F965=1,\"0\",VLOOKUP(F965,coefficient2!$A$28:$B$31,2,FALSE))","v":0.23270360000000001},0.41056049999999999]
[23435,2,3,4,3,5,17,{"$f":"IF(B966=1,\"0\",VLOOKUP(B966,coefficient2!$A$4:$B$7,2,FALSE))","v":6.6127000000000005E-2},{"$f":"IF(C966=1,\"0\",VLOOKUP(C966,coefficient2!$A$10:$B$13,2,FALSE))","v":7.0631200000000005E-2},{"$f":"IF(D966=1,\"0\",VLOOKUP(D966,coefficient2!$A$16:$B$19,2,FALSE))","v":0.1534855},{"$f":"IF(E966=1,\"0\",VLOOKUP(E966,coefficient2!$A$22:$B$25,2,FALSE))","v":6.6492200000000001E-2},{"$f":"IF(F966=1,\"0\",VLOOKUP(F966,coefficient2!$A$28:$B$31,2,FALSE))","v":0.29534929999999998},0.34791480000000002]
[23441,2,3,4,4,1,14,{"$f":"IF(B967=1,\"0\",VLOOKUP(B967,coefficient2!$A$4:$B$7,2,FALSE))","v":6.6127000000000005E-2},{"$f":"IF(C967=1,\"0\",VLOOKUP(C967,coefficient2!$A$10:$B$13,2,FALSE))","v":7.0631200000000005E-2},{"$f":"IF(D967=1,\"0\",VLOOKUP(D967,coefficient2!$A$16:$B$19,2,FALSE))","v":0.1534855},{"$f":"IF(E967=1,\"0\",VLOOKUP(E967,coefficient2!$A$22:$B$25,2,FALSE))","v":0.2068864},{"$f":"IF(F967=1,\"0\",VLOOKUP(F967,coefficient2!$A$28:$B$31,2,FALSE))","v":"0"},0.50286989999999998]
[23442,2,3,4,4,2,15,{"$f":"IF(B968=1,\"0\",VLOOKUP(B968,coefficient2!$A$4:$B$7,2,FALSE))","v":6.6127000000000005E-2},{"$f":"IF(C968=1,\"0\",VLOOKUP(C968,coefficient2!$A$10:$B$13,2,FALSE))","v":7.0631200000000005E-2},{"$f":"IF(D968=1,\"0\",VLOOKUP(D968,coefficient2!$A$16:$B$19,2,FALSE))","v":0.1534855},{"$f":"IF(E968=1,\"0\",VLOOKUP(E968,coefficient2!$A$22:$B$25,2,FALSE))","v":0.2068864},{"$f":"IF(F968=1,\"0\",VLOOKUP(F968,coefficient2!$A$28:$B$31,2,FALSE))","v":5.8085699999999997E-2},0.44478419999999996]
[23443,2,3,4,4,3,16,{"$f":"IF(B969=1,\"0\",VLOOKUP(B969,coefficient2!$A$4:$B$7,2,FALSE))","v":6.6127000000000005E-2},{"$f":"IF(C969=1,\"0\",VLOOKUP(C969,coefficient2!$A$10:$B$13,2,FALSE))","v":7.0631200000000005E-2},{"$f":"IF(D969=1,\"0\",VLOOKUP(D969,coefficient2!$A$16:$B$19,2,FALSE))","v":0.1534855},{"$f":"IF(E969=1,\"0\",VLOOKUP(E969,coefficient2!$A$22:$B$25,2,FALSE))","v":0.2068864},{"$f":"IF(F969=1,\"0\",VLOOKUP(F969,coefficient2!$A$28:$B$31,2,FALSE))","v":9.5753900000000003E-2},0.40711599999999998]
[23444,2,3,4,4,4,17,{"$f":"IF(B970=1,\"0\",VLOOKUP(B970,coefficient2!$A$4:$B$7,2,FALSE))","v":6.6127000000000005E-2},{"$f":"IF(C970=1,\"0\",VLOOKUP(C970,coefficient2!$A$10:$B$13,2,FALSE))","v":7.0631200000000005E-2},{"$f":"IF(D970=1,\"0\",VLOOKUP(D970,coefficient2!$A$16:$B$19,2,FALSE))","v":0.1534855},{"$f":"IF(E970=1,\"0\",VLOOKUP(E970,coefficient2!$A$22:$B$25,2,FALSE))","v":0.2068864},{"$f":"IF(F970=1,\"0\",VLOOKUP(F970,coefficient2!$A$28:$B$31,2,FALSE))","v":0.23270360000000001},0.27016629999999997]
[23445,2,3,4,4,5,18,{"$f":"IF(B971=1,\"0\",VLOOKUP(B971,coefficient2!$A$4:$B$7,2,FALSE))","v":6.6127000000000005E-2},{"$f":"IF(C971=1,\"0\",VLOOKUP(C971,coefficient2!$A$10:$B$13,2,FALSE))","v":7.0631200000000005E-2},{"$f":"IF(D971=1,\"0\",VLOOKUP(D971,coefficient2!$A$16:$B$19,2,FALSE))","v":0.1534855},{"$f":"IF(E971=1,\"0\",VLOOKUP(E971,coefficient2!$A$22:$B$25,2,FALSE))","v":0.2068864},{"$f":"IF(F971=1,\"0\",VLOOKUP(F971,coefficient2!$A$28:$B$31,2,FALSE))","v":0.29534929999999998},0.2075206]
[23451,2,3,4,5,1,15,{"$f":"IF(B972=1,\"0\",VLOOKUP(B972,coefficient2!$A$4:$B$7,2,FALSE))","v":6.6127000000000005E-2},{"$f":"IF(C972=1,\"0\",VLOOKUP(C972,coefficient2!$A$10:$B$13,2,FALSE))","v":7.0631200000000005E-2},{"$f":"IF(D972=1,\"0\",VLOOKUP(D972,coefficient2!$A$16:$B$19,2,FALSE))","v":0.1534855},{"$f":"IF(E972=1,\"0\",VLOOKUP(E972,coefficient2!$A$22:$B$25,2,FALSE))","v":0.25643310000000002},{"$f":"IF(F972=1,\"0\",VLOOKUP(F972,coefficient2!$A$28:$B$31,2,FALSE))","v":"0"},0.45332319999999998]
[23452,2,3,4,5,2,16,{"$f":"IF(B973=1,\"0\",VLOOKUP(B973,coefficient2!$A$4:$B$7,2,FALSE))","v":6.6127000000000005E-2},{"$f":"IF(C973=1,\"0\",VLOOKUP(C973,coefficient2!$A$10:$B$13,2,FALSE))","v":7.0631200000000005E-2},{"$f":"IF(D973=1,\"0\",VLOOKUP(D973,coefficient2!$A$16:$B$19,2,FALSE))","v":0.1534855},{"$f":"IF(E973=1,\"0\",VLOOKUP(E973,coefficient2!$A$22:$B$25,2,FALSE))","v":0.25643310000000002},{"$f":"IF(F973=1,\"0\",VLOOKUP(F973,coefficient2!$A$28:$B$31,2,FALSE))","v":5.8085699999999997E-2},0.39523749999999996]
[23453,2,3,4,5,3,17,{"$f":"IF(B974=1,\"0\",VLOOKUP(B974,coefficient2!$A$4:$B$7,2,FALSE))","v":6.6127000000000005E-2},{"$f":"IF(C974=1,\"0\",VLOOKUP(C974,coefficient2!$A$10:$B$13,2,FALSE))","v":7.0631200000000005E-2},{"$f":"IF(D974=1,\"0\",VLOOKUP(D974,coefficient2!$A$16:$B$19,2,FALSE))","v":0.1534855},{"$f":"IF(E974=1,\"0\",VLOOKUP(E974,coefficient2!$A$22:$B$25,2,FALSE))","v":0.25643310000000002},{"$f":"IF(F974=1,\"0\",VLOOKUP(F974,coefficient2!$A$28:$B$31,2,FALSE))","v":9.5753900000000003E-2},0.35756929999999998]
[23454,2,3,4,5,4,18,{"$f":"IF(B975=1,\"0\",VLOOKUP(B975,coefficient2!$A$4:$B$7,2,FALSE))","v":6.6127000000000005E-2},{"$f":"IF(C975=1,\"0\",VLOOKUP(C975,coefficient2!$A$10:$B$13,2,FALSE))","v":7.0631200000000005E-2},{"$f":"IF(D975=1,\"0\",VLOOKUP(D975,coefficient2!$A$16:$B$19,2,FALSE))","v":0.1534855},{"$f":"IF(E975=1,\"0\",VLOOKUP(E975,coefficient2!$A$22:$B$25,2,FALSE))","v":0.25643310000000002},{"$f":"IF(F975=1,\"0\",VLOOKUP(F975,coefficient2!$A$28:$B$31,2,FALSE))","v":0.23270360000000001},0.22061959999999997]
[23455,2,3,4,5,5,19,{"$f":"IF(B976=1,\"0\",VLOOKUP(B976,coefficient2!$A$4:$B$7,2,FALSE))","v":6.6127000000000005E-2},{"$f":"IF(C976=1,\"0\",VLOOKUP(C976,coefficient2!$A$10:$B$13,2,FALSE))","v":7.0631200000000005E-2},{"$f":"IF(D976=1,\"0\",VLOOKUP(D976,coefficient2!$A$16:$B$19,2,FALSE))","v":0.1534855},{"$f":"IF(E976=1,\"0\",VLOOKUP(E976,coefficient2!$A$22:$B$25,2,FALSE))","v":0.25643310000000002},{"$f":"IF(F976=1,\"0\",VLOOKUP(F976,coefficient2!$A$28:$B$31,2,FALSE))","v":0.29534929999999998},0.1579739]
[23511,2,3,5,1,1,12,{"$f":"IF(B977=1,\"0\",VLOOKUP(B977,coefficient2!$A$4:$B$7,2,FALSE))","v":6.6127000000000005E-2},{"$f":"IF(C977=1,\"0\",VLOOKUP(C977,coefficient2!$A$10:$B$13,2,FALSE))","v":7.0631200000000005E-2},{"$f":"IF(D977=1,\"0\",VLOOKUP(D977,coefficient2!$A$16:$B$19,2,FALSE))","v":0.248331},{"$f":"IF(E977=1,\"0\",VLOOKUP(E977,coefficient2!$A$22:$B$25,2,FALSE))","v":"0"},{"$f":"IF(F977=1,\"0\",VLOOKUP(F977,coefficient2!$A$28:$B$31,2,FALSE))","v":"0"},0.61491079999999998]
[23512,2,3,5,1,2,13,{"$f":"IF(B978=1,\"0\",VLOOKUP(B978,coefficient2!$A$4:$B$7,2,FALSE))","v":6.6127000000000005E-2},{"$f":"IF(C978=1,\"0\",VLOOKUP(C978,coefficient2!$A$10:$B$13,2,FALSE))","v":7.0631200000000005E-2},{"$f":"IF(D978=1,\"0\",VLOOKUP(D978,coefficient2!$A$16:$B$19,2,FALSE))","v":0.248331},{"$f":"IF(E978=1,\"0\",VLOOKUP(E978,coefficient2!$A$22:$B$25,2,FALSE))","v":"0"},{"$f":"IF(F978=1,\"0\",VLOOKUP(F978,coefficient2!$A$28:$B$31,2,FALSE))","v":5.8085699999999997E-2},0.55682509999999996]
[23513,2,3,5,1,3,14,{"$f":"IF(B979=1,\"0\",VLOOKUP(B979,coefficient2!$A$4:$B$7,2,FALSE))","v":6.6127000000000005E-2},{"$f":"IF(C979=1,\"0\",VLOOKUP(C979,coefficient2!$A$10:$B$13,2,FALSE))","v":7.0631200000000005E-2},{"$f":"IF(D979=1,\"0\",VLOOKUP(D979,coefficient2!$A$16:$B$19,2,FALSE))","v":0.248331},{"$f":"IF(E979=1,\"0\",VLOOKUP(E979,coefficient2!$A$22:$B$25,2,FALSE))","v":"0"},{"$f":"IF(F979=1,\"0\",VLOOKUP(F979,coefficient2!$A$28:$B$31,2,FALSE))","v":9.5753900000000003E-2},0.51915690000000003]
[23514,2,3,5,1,4,15,{"$f":"IF(B980=1,\"0\",VLOOKUP(B980,coefficient2!$A$4:$B$7,2,FALSE))","v":6.6127000000000005E-2},{"$f":"IF(C980=1,\"0\",VLOOKUP(C980,coefficient2!$A$10:$B$13,2,FALSE))","v":7.0631200000000005E-2},{"$f":"IF(D980=1,\"0\",VLOOKUP(D980,coefficient2!$A$16:$B$19,2,FALSE))","v":0.248331},{"$f":"IF(E980=1,\"0\",VLOOKUP(E980,coefficient2!$A$22:$B$25,2,FALSE))","v":"0"},{"$f":"IF(F980=1,\"0\",VLOOKUP(F980,coefficient2!$A$28:$B$31,2,FALSE))","v":0.23270360000000001},0.38220719999999997]
[23515,2,3,5,1,5,16,{"$f":"IF(B981=1,\"0\",VLOOKUP(B981,coefficient2!$A$4:$B$7,2,FALSE))","v":6.6127000000000005E-2},{"$f":"IF(C981=1,\"0\",VLOOKUP(C981,coefficient2!$A$10:$B$13,2,FALSE))","v":7.0631200000000005E-2},{"$f":"IF(D981=1,\"0\",VLOOKUP(D981,coefficient2!$A$16:$B$19,2,FALSE))","v":0.248331},{"$f":"IF(E981=1,\"0\",VLOOKUP(E981,coefficient2!$A$22:$B$25,2,FALSE))","v":"0"},{"$f":"IF(F981=1,\"0\",VLOOKUP(F981,coefficient2!$A$28:$B$31,2,FALSE))","v":0.29534929999999998},0.3195615]
[23521,2,3,5,2,1,13,{"$f":"IF(B982=1,\"0\",VLOOKUP(B982,coefficient2!$A$4:$B$7,2,FALSE))","v":6.6127000000000005E-2},{"$f":"IF(C982=1,\"0\",VLOOKUP(C982,coefficient2!$A$10:$B$13,2,FALSE))","v":7.0631200000000005E-2},{"$f":"IF(D982=1,\"0\",VLOOKUP(D982,coefficient2!$A$16:$B$19,2,FALSE))","v":0.248331},{"$f":"IF(E982=1,\"0\",VLOOKUP(E982,coefficient2!$A$22:$B$25,2,FALSE))","v":5.63998E-2},{"$f":"IF(F982=1,\"0\",VLOOKUP(F982,coefficient2!$A$28:$B$31,2,FALSE))","v":"0"},0.55851099999999998]
[23522,2,3,5,2,2,14,{"$f":"IF(B983=1,\"0\",VLOOKUP(B983,coefficient2!$A$4:$B$7,2,FALSE))","v":6.6127000000000005E-2},{"$f":"IF(C983=1,\"0\",VLOOKUP(C983,coefficient2!$A$10:$B$13,2,FALSE))","v":7.0631200000000005E-2},{"$f":"IF(D983=1,\"0\",VLOOKUP(D983,coefficient2!$A$16:$B$19,2,FALSE))","v":0.248331},{"$f":"IF(E983=1,\"0\",VLOOKUP(E983,coefficient2!$A$22:$B$25,2,FALSE))","v":5.63998E-2},{"$f":"IF(F983=1,\"0\",VLOOKUP(F983,coefficient2!$A$28:$B$31,2,FALSE))","v":5.8085699999999997E-2},0.50042529999999996]
[23523,2,3,5,2,3,15,{"$f":"IF(B984=1,\"0\",VLOOKUP(B984,coefficient2!$A$4:$B$7,2,FALSE))","v":6.6127000000000005E-2},{"$f":"IF(C984=1,\"0\",VLOOKUP(C984,coefficient2!$A$10:$B$13,2,FALSE))","v":7.0631200000000005E-2},{"$f":"IF(D984=1,\"0\",VLOOKUP(D984,coefficient2!$A$16:$B$19,2,FALSE))","v":0.248331},{"$f":"IF(E984=1,\"0\",VLOOKUP(E984,coefficient2!$A$22:$B$25,2,FALSE))","v":5.63998E-2},{"$f":"IF(F984=1,\"0\",VLOOKUP(F984,coefficient2!$A$28:$B$31,2,FALSE))","v":9.5753900000000003E-2},0.46275709999999998]
[23524,2,3,5,2,4,16,{"$f":"IF(B985=1,\"0\",VLOOKUP(B985,coefficient2!$A$4:$B$7,2,FALSE))","v":6.6127000000000005E-2},{"$f":"IF(C985=1,\"0\",VLOOKUP(C985,coefficient2!$A$10:$B$13,2,FALSE))","v":7.0631200000000005E-2},{"$f":"IF(D985=1,\"0\",VLOOKUP(D985,coefficient2!$A$16:$B$19,2,FALSE))","v":0.248331},{"$f":"IF(E985=1,\"0\",VLOOKUP(E985,coefficient2!$A$22:$B$25,2,FALSE))","v":5.63998E-2},{"$f":"IF(F985=1,\"0\",VLOOKUP(F985,coefficient2!$A$28:$B$31,2,FALSE))","v":0.23270360000000001},0.32580739999999997]
[23525,2,3,5,2,5,17,{"$f":"IF(B986=1,\"0\",VLOOKUP(B986,coefficient2!$A$4:$B$7,2,FALSE))","v":6.6127000000000005E-2},{"$f":"IF(C986=1,\"0\",VLOOKUP(C986,coefficient2!$A$10:$B$13,2,FALSE))","v":7.0631200000000005E-2},{"$f":"IF(D986=1,\"0\",VLOOKUP(D986,coefficient2!$A$16:$B$19,2,FALSE))","v":0.248331},{"$f":"IF(E986=1,\"0\",VLOOKUP(E986,coefficient2!$A$22:$B$25,2,FALSE))","v":5.63998E-2},{"$f":"IF(F986=1,\"0\",VLOOKUP(F986,coefficient2!$A$28:$B$31,2,FALSE))","v":0.29534929999999998},0.2631617]
[23531,2,3,5,3,1,14,{"$f":"IF(B987=1,\"0\",VLOOKUP(B987,coefficient2!$A$4:$B$7,2,FALSE))","v":6.6127000000000005E-2},{"$f":"IF(C987=1,\"0\",VLOOKUP(C987,coefficient2!$A$10:$B$13,2,FALSE))","v":7.0631200000000005E-2},{"$f":"IF(D987=1,\"0\",VLOOKUP(D987,coefficient2!$A$16:$B$19,2,FALSE))","v":0.248331},{"$f":"IF(E987=1,\"0\",VLOOKUP(E987,coefficient2!$A$22:$B$25,2,FALSE))","v":6.6492200000000001E-2},{"$f":"IF(F987=1,\"0\",VLOOKUP(F987,coefficient2!$A$28:$B$31,2,FALSE))","v":"0"},0.54841859999999998]
[23532,2,3,5,3,2,15,{"$f":"IF(B988=1,\"0\",VLOOKUP(B988,coefficient2!$A$4:$B$7,2,FALSE))","v":6.6127000000000005E-2},{"$f":"IF(C988=1,\"0\",VLOOKUP(C988,coefficient2!$A$10:$B$13,2,FALSE))","v":7.0631200000000005E-2},{"$f":"IF(D988=1,\"0\",VLOOKUP(D988,coefficient2!$A$16:$B$19,2,FALSE))","v":0.248331},{"$f":"IF(E988=1,\"0\",VLOOKUP(E988,coefficient2!$A$22:$B$25,2,FALSE))","v":6.6492200000000001E-2},{"$f":"IF(F988=1,\"0\",VLOOKUP(F988,coefficient2!$A$28:$B$31,2,FALSE))","v":5.8085699999999997E-2},0.49033289999999996]
[23533,2,3,5,3,3,16,{"$f":"IF(B989=1,\"0\",VLOOKUP(B989,coefficient2!$A$4:$B$7,2,FALSE))","v":6.6127000000000005E-2},{"$f":"IF(C989=1,\"0\",VLOOKUP(C989,coefficient2!$A$10:$B$13,2,FALSE))","v":7.0631200000000005E-2},{"$f":"IF(D989=1,\"0\",VLOOKUP(D989,coefficient2!$A$16:$B$19,2,FALSE))","v":0.248331},{"$f":"IF(E989=1,\"0\",VLOOKUP(E989,coefficient2!$A$22:$B$25,2,FALSE))","v":6.6492200000000001E-2},{"$f":"IF(F989=1,\"0\",VLOOKUP(F989,coefficient2!$A$28:$B$31,2,FALSE))","v":9.5753900000000003E-2},0.45266469999999998]
[23534,2,3,5,3,4,17,{"$f":"IF(B990=1,\"0\",VLOOKUP(B990,coefficient2!$A$4:$B$7,2,FALSE))","v":6.6127000000000005E-2},{"$f":"IF(C990=1,\"0\",VLOOKUP(C990,coefficient2!$A$10:$B$13,2,FALSE))","v":7.0631200000000005E-2},{"$f":"IF(D990=1,\"0\",VLOOKUP(D990,coefficient2!$A$16:$B$19,2,FALSE))","v":0.248331},{"$f":"IF(E990=1,\"0\",VLOOKUP(E990,coefficient2!$A$22:$B$25,2,FALSE))","v":6.6492200000000001E-2},{"$f":"IF(F990=1,\"0\",VLOOKUP(F990,coefficient2!$A$28:$B$31,2,FALSE))","v":0.23270360000000001},0.31571499999999997]
[23535,2,3,5,3,5,18,{"$f":"IF(B991=1,\"0\",VLOOKUP(B991,coefficient2!$A$4:$B$7,2,FALSE))","v":6.6127000000000005E-2},{"$f":"IF(C991=1,\"0\",VLOOKUP(C991,coefficient2!$A$10:$B$13,2,FALSE))","v":7.0631200000000005E-2},{"$f":"IF(D991=1,\"0\",VLOOKUP(D991,coefficient2!$A$16:$B$19,2,FALSE))","v":0.248331},{"$f":"IF(E991=1,\"0\",VLOOKUP(E991,coefficient2!$A$22:$B$25,2,FALSE))","v":6.6492200000000001E-2},{"$f":"IF(F991=1,\"0\",VLOOKUP(F991,coefficient2!$A$28:$B$31,2,FALSE))","v":0.29534929999999998},0.2530693]
[23541,2,3,5,4,1,15,{"$f":"IF(B992=1,\"0\",VLOOKUP(B992,coefficient2!$A$4:$B$7,2,FALSE))","v":6.6127000000000005E-2},{"$f":"IF(C992=1,\"0\",VLOOKUP(C992,coefficient2!$A$10:$B$13,2,FALSE))","v":7.0631200000000005E-2},{"$f":"IF(D992=1,\"0\",VLOOKUP(D992,coefficient2!$A$16:$B$19,2,FALSE))","v":0.248331},{"$f":"IF(E992=1,\"0\",VLOOKUP(E992,coefficient2!$A$22:$B$25,2,FALSE))","v":0.2068864},{"$f":"IF(F992=1,\"0\",VLOOKUP(F992,coefficient2!$A$28:$B$31,2,FALSE))","v":"0"},0.40802439999999995]
[23542,2,3,5,4,2,16,{"$f":"IF(B993=1,\"0\",VLOOKUP(B993,coefficient2!$A$4:$B$7,2,FALSE))","v":6.6127000000000005E-2},{"$f":"IF(C993=1,\"0\",VLOOKUP(C993,coefficient2!$A$10:$B$13,2,FALSE))","v":7.0631200000000005E-2},{"$f":"IF(D993=1,\"0\",VLOOKUP(D993,coefficient2!$A$16:$B$19,2,FALSE))","v":0.248331},{"$f":"IF(E993=1,\"0\",VLOOKUP(E993,coefficient2!$A$22:$B$25,2,FALSE))","v":0.2068864},{"$f":"IF(F993=1,\"0\",VLOOKUP(F993,coefficient2!$A$28:$B$31,2,FALSE))","v":5.8085699999999997E-2},0.34993869999999994]
[23543,2,3,5,4,3,17,{"$f":"IF(B994=1,\"0\",VLOOKUP(B994,coefficient2!$A$4:$B$7,2,FALSE))","v":6.6127000000000005E-2},{"$f":"IF(C994=1,\"0\",VLOOKUP(C994,coefficient2!$A$10:$B$13,2,FALSE))","v":7.0631200000000005E-2},{"$f":"IF(D994=1,\"0\",VLOOKUP(D994,coefficient2!$A$16:$B$19,2,FALSE))","v":0.248331},{"$f":"IF(E994=1,\"0\",VLOOKUP(E994,coefficient2!$A$22:$B$25,2,FALSE))","v":0.2068864},{"$f":"IF(F994=1,\"0\",VLOOKUP(F994,coefficient2!$A$28:$B$31,2,FALSE))","v":9.5753900000000003E-2},0.31227049999999995]
[23544,2,3,5,4,4,18,{"$f":"IF(B995=1,\"0\",VLOOKUP(B995,coefficient2!$A$4:$B$7,2,FALSE))","v":6.6127000000000005E-2},{"$f":"IF(C995=1,\"0\",VLOOKUP(C995,coefficient2!$A$10:$B$13,2,FALSE))","v":7.0631200000000005E-2},{"$f":"IF(D995=1,\"0\",VLOOKUP(D995,coefficient2!$A$16:$B$19,2,FALSE))","v":0.248331},{"$f":"IF(E995=1,\"0\",VLOOKUP(E995,coefficient2!$A$22:$B$25,2,FALSE))","v":0.2068864},{"$f":"IF(F995=1,\"0\",VLOOKUP(F995,coefficient2!$A$28:$B$31,2,FALSE))","v":0.23270360000000001},0.17532079999999994]
[23545,2,3,5,4,5,19,{"$f":"IF(B996=1,\"0\",VLOOKUP(B996,coefficient2!$A$4:$B$7,2,FALSE))","v":6.6127000000000005E-2},{"$f":"IF(C996=1,\"0\",VLOOKUP(C996,coefficient2!$A$10:$B$13,2,FALSE))","v":7.0631200000000005E-2},{"$f":"IF(D996=1,\"0\",VLOOKUP(D996,coefficient2!$A$16:$B$19,2,FALSE))","v":0.248331},{"$f":"IF(E996=1,\"0\",VLOOKUP(E996,coefficient2!$A$22:$B$25,2,FALSE))","v":0.2068864},{"$f":"IF(F996=1,\"0\",VLOOKUP(F996,coefficient2!$A$28:$B$31,2,FALSE))","v":0.29534929999999998},0.11267509999999997]
[23551,2,3,5,5,1,16,{"$f":"IF(B997=1,\"0\",VLOOKUP(B997,coefficient2!$A$4:$B$7,2,FALSE))","v":6.6127000000000005E-2},{"$f":"IF(C997=1,\"0\",VLOOKUP(C997,coefficient2!$A$10:$B$13,2,FALSE))","v":7.0631200000000005E-2},{"$f":"IF(D997=1,\"0\",VLOOKUP(D997,coefficient2!$A$16:$B$19,2,FALSE))","v":0.248331},{"$f":"IF(E997=1,\"0\",VLOOKUP(E997,coefficient2!$A$22:$B$25,2,FALSE))","v":0.25643310000000002},{"$f":"IF(F997=1,\"0\",VLOOKUP(F997,coefficient2!$A$28:$B$31,2,FALSE))","v":"0"},0.35847769999999995]
[23552,2,3,5,5,2,17,{"$f":"IF(B998=1,\"0\",VLOOKUP(B998,coefficient2!$A$4:$B$7,2,FALSE))","v":6.6127000000000005E-2},{"$f":"IF(C998=1,\"0\",VLOOKUP(C998,coefficient2!$A$10:$B$13,2,FALSE))","v":7.0631200000000005E-2},{"$f":"IF(D998=1,\"0\",VLOOKUP(D998,coefficient2!$A$16:$B$19,2,FALSE))","v":0.248331},{"$f":"IF(E998=1,\"0\",VLOOKUP(E998,coefficient2!$A$22:$B$25,2,FALSE))","v":0.25643310000000002},{"$f":"IF(F998=1,\"0\",VLOOKUP(F998,coefficient2!$A$28:$B$31,2,FALSE))","v":5.8085699999999997E-2},0.30039199999999994]
[23553,2,3,5,5,3,18,{"$f":"IF(B999=1,\"0\",VLOOKUP(B999,coefficient2!$A$4:$B$7,2,FALSE))","v":6.6127000000000005E-2},{"$f":"IF(C999=1,\"0\",VLOOKUP(C999,coefficient2!$A$10:$B$13,2,FALSE))","v":7.0631200000000005E-2},{"$f":"IF(D999=1,\"0\",VLOOKUP(D999,coefficient2!$A$16:$B$19,2,FALSE))","v":0.248331},{"$f":"IF(E999=1,\"0\",VLOOKUP(E999,coefficient2!$A$22:$B$25,2,FALSE))","v":0.25643310000000002},{"$f":"IF(F999=1,\"0\",VLOOKUP(F999,coefficient2!$A$28:$B$31,2,FALSE))","v":9.5753900000000003E-2},0.26272379999999995]
[23554,2,3,5,5,4,19,{"$f":"IF(B1000=1,\"0\",VLOOKUP(B1000,coefficient2!$A$4:$B$7,2,FALSE))","v":6.6127000000000005E-2},{"$f":"IF(C1000=1,\"0\",VLOOKUP(C1000,coefficient2!$A$10:$B$13,2,FALSE))","v":7.0631200000000005E-2},{"$f":"IF(D1000=1,\"0\",VLOOKUP(D1000,coefficient2!$A$16:$B$19,2,FALSE))","v":0.248331},{"$f":"IF(E1000=1,\"0\",VLOOKUP(E1000,coefficient2!$A$22:$B$25,2,FALSE))","v":0.25643310000000002},{"$f":"IF(F1000=1,\"0\",VLOOKUP(F1000,coefficient2!$A$28:$B$31,2,FALSE))","v":0.23270360000000001},0.12577409999999994]
[23555,2,3,5,5,5,20,{"$f":"IF(B1001=1,\"0\",VLOOKUP(B1001,coefficient2!$A$4:$B$7,2,FALSE))","v":6.6127000000000005E-2},{"$f":"IF(C1001=1,\"0\",VLOOKUP(C1001,coefficient2!$A$10:$B$13,2,FALSE))","v":7.0631200000000005E-2},{"$f":"IF(D1001=1,\"0\",VLOOKUP(D1001,coefficient2!$A$16:$B$19,2,FALSE))","v":0.248331},{"$f":"IF(E1001=1,\"0\",VLOOKUP(E1001,coefficient2!$A$22:$B$25,2,FALSE))","v":0.25643310000000002},{"$f":"IF(F1001=1,\"0\",VLOOKUP(F1001,coefficient2!$A$28:$B$31,2,FALSE))","v":0.29534929999999998},6.3128399999999973E-2]
[24111,2,4,1,1,1,9,{"$f":"IF(B1002=1,\"0\",VLOOKUP(B1002,coefficient2!$A$4:$B$7,2,FALSE))","v":6.6127000000000005E-2},{"$f":"IF(C1002=1,\"0\",VLOOKUP(C1002,coefficient2!$A$10:$B$13,2,FALSE))","v":0.19249050000000001},{"$f":"IF(D1002=1,\"0\",VLOOKUP(D1002,coefficient2!$A$16:$B$19,2,FALSE))","v":"0"},{"$f":"IF(E1002=1,\"0\",VLOOKUP(E1002,coefficient2!$A$22:$B$25,2,FALSE))","v":"0"},{"$f":"IF(F1002=1,\"0\",VLOOKUP(F1002,coefficient2!$A$28:$B$31,2,FALSE))","v":"0"},0.74138249999999994]
[24112,2,4,1,1,2,10,{"$f":"IF(B1003=1,\"0\",VLOOKUP(B1003,coefficient2!$A$4:$B$7,2,FALSE))","v":6.6127000000000005E-2},{"$f":"IF(C1003=1,\"0\",VLOOKUP(C1003,coefficient2!$A$10:$B$13,2,FALSE))","v":0.19249050000000001},{"$f":"IF(D1003=1,\"0\",VLOOKUP(D1003,coefficient2!$A$16:$B$19,2,FALSE))","v":"0"},{"$f":"IF(E1003=1,\"0\",VLOOKUP(E1003,coefficient2!$A$22:$B$25,2,FALSE))","v":"0"},{"$f":"IF(F1003=1,\"0\",VLOOKUP(F1003,coefficient2!$A$28:$B$31,2,FALSE))","v":5.8085699999999997E-2},0.68329679999999993]
[24113,2,4,1,1,3,11,{"$f":"IF(B1004=1,\"0\",VLOOKUP(B1004,coefficient2!$A$4:$B$7,2,FALSE))","v":6.6127000000000005E-2},{"$f":"IF(C1004=1,\"0\",VLOOKUP(C1004,coefficient2!$A$10:$B$13,2,FALSE))","v":0.19249050000000001},{"$f":"IF(D1004=1,\"0\",VLOOKUP(D1004,coefficient2!$A$16:$B$19,2,FALSE))","v":"0"},{"$f":"IF(E1004=1,\"0\",VLOOKUP(E1004,coefficient2!$A$22:$B$25,2,FALSE))","v":"0"},{"$f":"IF(F1004=1,\"0\",VLOOKUP(F1004,coefficient2!$A$28:$B$31,2,FALSE))","v":9.5753900000000003E-2},0.6456286]
[24114,2,4,1,1,4,12,{"$f":"IF(B1005=1,\"0\",VLOOKUP(B1005,coefficient2!$A$4:$B$7,2,FALSE))","v":6.6127000000000005E-2},{"$f":"IF(C1005=1,\"0\",VLOOKUP(C1005,coefficient2!$A$10:$B$13,2,FALSE))","v":0.19249050000000001},{"$f":"IF(D1005=1,\"0\",VLOOKUP(D1005,coefficient2!$A$16:$B$19,2,FALSE))","v":"0"},{"$f":"IF(E1005=1,\"0\",VLOOKUP(E1005,coefficient2!$A$22:$B$25,2,FALSE))","v":"0"},{"$f":"IF(F1005=1,\"0\",VLOOKUP(F1005,coefficient2!$A$28:$B$31,2,FALSE))","v":0.23270360000000001},0.50867889999999993]
[24115,2,4,1,1,5,13,{"$f":"IF(B1006=1,\"0\",VLOOKUP(B1006,coefficient2!$A$4:$B$7,2,FALSE))","v":6.6127000000000005E-2},{"$f":"IF(C1006=1,\"0\",VLOOKUP(C1006,coefficient2!$A$10:$B$13,2,FALSE))","v":0.19249050000000001},{"$f":"IF(D1006=1,\"0\",VLOOKUP(D1006,coefficient2!$A$16:$B$19,2,FALSE))","v":"0"},{"$f":"IF(E1006=1,\"0\",VLOOKUP(E1006,coefficient2!$A$22:$B$25,2,FALSE))","v":"0"},{"$f":"IF(F1006=1,\"0\",VLOOKUP(F1006,coefficient2!$A$28:$B$31,2,FALSE))","v":0.29534929999999998},0.44603319999999996]
[24121,2,4,1,2,1,10,{"$f":"IF(B1007=1,\"0\",VLOOKUP(B1007,coefficient2!$A$4:$B$7,2,FALSE))","v":6.6127000000000005E-2},{"$f":"IF(C1007=1,\"0\",VLOOKUP(C1007,coefficient2!$A$10:$B$13,2,FALSE))","v":0.19249050000000001},{"$f":"IF(D1007=1,\"0\",VLOOKUP(D1007,coefficient2!$A$16:$B$19,2,FALSE))","v":"0"},{"$f":"IF(E1007=1,\"0\",VLOOKUP(E1007,coefficient2!$A$22:$B$25,2,FALSE))","v":5.63998E-2},{"$f":"IF(F1007=1,\"0\",VLOOKUP(F1007,coefficient2!$A$28:$B$31,2,FALSE))","v":"0"},0.68498269999999994]
[24122,2,4,1,2,2,11,{"$f":"IF(B1008=1,\"0\",VLOOKUP(B1008,coefficient2!$A$4:$B$7,2,FALSE))","v":6.6127000000000005E-2},{"$f":"IF(C1008=1,\"0\",VLOOKUP(C1008,coefficient2!$A$10:$B$13,2,FALSE))","v":0.19249050000000001},{"$f":"IF(D1008=1,\"0\",VLOOKUP(D1008,coefficient2!$A$16:$B$19,2,FALSE))","v":"0"},{"$f":"IF(E1008=1,\"0\",VLOOKUP(E1008,coefficient2!$A$22:$B$25,2,FALSE))","v":5.63998E-2},{"$f":"IF(F1008=1,\"0\",VLOOKUP(F1008,coefficient2!$A$28:$B$31,2,FALSE))","v":5.8085699999999997E-2},0.62689699999999993]
[24123,2,4,1,2,3,12,{"$f":"IF(B1009=1,\"0\",VLOOKUP(B1009,coefficient2!$A$4:$B$7,2,FALSE))","v":6.6127000000000005E-2},{"$f":"IF(C1009=1,\"0\",VLOOKUP(C1009,coefficient2!$A$10:$B$13,2,FALSE))","v":0.19249050000000001},{"$f":"IF(D1009=1,\"0\",VLOOKUP(D1009,coefficient2!$A$16:$B$19,2,FALSE))","v":"0"},{"$f":"IF(E1009=1,\"0\",VLOOKUP(E1009,coefficient2!$A$22:$B$25,2,FALSE))","v":5.63998E-2},{"$f":"IF(F1009=1,\"0\",VLOOKUP(F1009,coefficient2!$A$28:$B$31,2,FALSE))","v":9.5753900000000003E-2},0.58922879999999989]
[24124,2,4,1,2,4,13,{"$f":"IF(B1010=1,\"0\",VLOOKUP(B1010,coefficient2!$A$4:$B$7,2,FALSE))","v":6.6127000000000005E-2},{"$f":"IF(C1010=1,\"0\",VLOOKUP(C1010,coefficient2!$A$10:$B$13,2,FALSE))","v":0.19249050000000001},{"$f":"IF(D1010=1,\"0\",VLOOKUP(D1010,coefficient2!$A$16:$B$19,2,FALSE))","v":"0"},{"$f":"IF(E1010=1,\"0\",VLOOKUP(E1010,coefficient2!$A$22:$B$25,2,FALSE))","v":5.63998E-2},{"$f":"IF(F1010=1,\"0\",VLOOKUP(F1010,coefficient2!$A$28:$B$31,2,FALSE))","v":0.23270360000000001},0.45227909999999993]
[24125,2,4,1,2,5,14,{"$f":"IF(B1011=1,\"0\",VLOOKUP(B1011,coefficient2!$A$4:$B$7,2,FALSE))","v":6.6127000000000005E-2},{"$f":"IF(C1011=1,\"0\",VLOOKUP(C1011,coefficient2!$A$10:$B$13,2,FALSE))","v":0.19249050000000001},{"$f":"IF(D1011=1,\"0\",VLOOKUP(D1011,coefficient2!$A$16:$B$19,2,FALSE))","v":"0"},{"$f":"IF(E1011=1,\"0\",VLOOKUP(E1011,coefficient2!$A$22:$B$25,2,FALSE))","v":5.63998E-2},{"$f":"IF(F1011=1,\"0\",VLOOKUP(F1011,coefficient2!$A$28:$B$31,2,FALSE))","v":0.29534929999999998},0.38963339999999996]
[24131,2,4,1,3,1,11,{"$f":"IF(B1012=1,\"0\",VLOOKUP(B1012,coefficient2!$A$4:$B$7,2,FALSE))","v":6.6127000000000005E-2},{"$f":"IF(C1012=1,\"0\",VLOOKUP(C1012,coefficient2!$A$10:$B$13,2,FALSE))","v":0.19249050000000001},{"$f":"IF(D1012=1,\"0\",VLOOKUP(D1012,coefficient2!$A$16:$B$19,2,FALSE))","v":"0"},{"$f":"IF(E1012=1,\"0\",VLOOKUP(E1012,coefficient2!$A$22:$B$25,2,FALSE))","v":6.6492200000000001E-2},{"$f":"IF(F1012=1,\"0\",VLOOKUP(F1012,coefficient2!$A$28:$B$31,2,FALSE))","v":"0"},0.67489029999999994]
[24132,2,4,1,3,2,12,{"$f":"IF(B1013=1,\"0\",VLOOKUP(B1013,coefficient2!$A$4:$B$7,2,FALSE))","v":6.6127000000000005E-2},{"$f":"IF(C1013=1,\"0\",VLOOKUP(C1013,coefficient2!$A$10:$B$13,2,FALSE))","v":0.19249050000000001},{"$f":"IF(D1013=1,\"0\",VLOOKUP(D1013,coefficient2!$A$16:$B$19,2,FALSE))","v":"0"},{"$f":"IF(E1013=1,\"0\",VLOOKUP(E1013,coefficient2!$A$22:$B$25,2,FALSE))","v":6.6492200000000001E-2},{"$f":"IF(F1013=1,\"0\",VLOOKUP(F1013,coefficient2!$A$28:$B$31,2,FALSE))","v":5.8085699999999997E-2},0.61680459999999993]
[24133,2,4,1,3,3,13,{"$f":"IF(B1014=1,\"0\",VLOOKUP(B1014,coefficient2!$A$4:$B$7,2,FALSE))","v":6.6127000000000005E-2},{"$f":"IF(C1014=1,\"0\",VLOOKUP(C1014,coefficient2!$A$10:$B$13,2,FALSE))","v":0.19249050000000001},{"$f":"IF(D1014=1,\"0\",VLOOKUP(D1014,coefficient2!$A$16:$B$19,2,FALSE))","v":"0"},{"$f":"IF(E1014=1,\"0\",VLOOKUP(E1014,coefficient2!$A$22:$B$25,2,FALSE))","v":6.6492200000000001E-2},{"$f":"IF(F1014=1,\"0\",VLOOKUP(F1014,coefficient2!$A$28:$B$31,2,FALSE))","v":9.5753900000000003E-2},0.57913639999999988]
[24134,2,4,1,3,4,14,{"$f":"IF(B1015=1,\"0\",VLOOKUP(B1015,coefficient2!$A$4:$B$7,2,FALSE))","v":6.6127000000000005E-2},{"$f":"IF(C1015=1,\"0\",VLOOKUP(C1015,coefficient2!$A$10:$B$13,2,FALSE))","v":0.19249050000000001},{"$f":"IF(D1015=1,\"0\",VLOOKUP(D1015,coefficient2!$A$16:$B$19,2,FALSE))","v":"0"},{"$f":"IF(E1015=1,\"0\",VLOOKUP(E1015,coefficient2!$A$22:$B$25,2,FALSE))","v":6.6492200000000001E-2},{"$f":"IF(F1015=1,\"0\",VLOOKUP(F1015,coefficient2!$A$28:$B$31,2,FALSE))","v":0.23270360000000001},0.44218669999999993]
[24135,2,4,1,3,5,15,{"$f":"IF(B1016=1,\"0\",VLOOKUP(B1016,coefficient2!$A$4:$B$7,2,FALSE))","v":6.6127000000000005E-2},{"$f":"IF(C1016=1,\"0\",VLOOKUP(C1016,coefficient2!$A$10:$B$13,2,FALSE))","v":0.19249050000000001},{"$f":"IF(D1016=1,\"0\",VLOOKUP(D1016,coefficient2!$A$16:$B$19,2,FALSE))","v":"0"},{"$f":"IF(E1016=1,\"0\",VLOOKUP(E1016,coefficient2!$A$22:$B$25,2,FALSE))","v":6.6492200000000001E-2},{"$f":"IF(F1016=1,\"0\",VLOOKUP(F1016,coefficient2!$A$28:$B$31,2,FALSE))","v":0.29534929999999998},0.37954099999999996]
[24141,2,4,1,4,1,12,{"$f":"IF(B1017=1,\"0\",VLOOKUP(B1017,coefficient2!$A$4:$B$7,2,FALSE))","v":6.6127000000000005E-2},{"$f":"IF(C1017=1,\"0\",VLOOKUP(C1017,coefficient2!$A$10:$B$13,2,FALSE))","v":0.19249050000000001},{"$f":"IF(D1017=1,\"0\",VLOOKUP(D1017,coefficient2!$A$16:$B$19,2,FALSE))","v":"0"},{"$f":"IF(E1017=1,\"0\",VLOOKUP(E1017,coefficient2!$A$22:$B$25,2,FALSE))","v":0.2068864},{"$f":"IF(F1017=1,\"0\",VLOOKUP(F1017,coefficient2!$A$28:$B$31,2,FALSE))","v":"0"},0.53449609999999992]
[24142,2,4,1,4,2,13,{"$f":"IF(B1018=1,\"0\",VLOOKUP(B1018,coefficient2!$A$4:$B$7,2,FALSE))","v":6.6127000000000005E-2},{"$f":"IF(C1018=1,\"0\",VLOOKUP(C1018,coefficient2!$A$10:$B$13,2,FALSE))","v":0.19249050000000001},{"$f":"IF(D1018=1,\"0\",VLOOKUP(D1018,coefficient2!$A$16:$B$19,2,FALSE))","v":"0"},{"$f":"IF(E1018=1,\"0\",VLOOKUP(E1018,coefficient2!$A$22:$B$25,2,FALSE))","v":0.2068864},{"$f":"IF(F1018=1,\"0\",VLOOKUP(F1018,coefficient2!$A$28:$B$31,2,FALSE))","v":5.8085699999999997E-2},0.4764103999999999]
[24143,2,4,1,4,3,14,{"$f":"IF(B1019=1,\"0\",VLOOKUP(B1019,coefficient2!$A$4:$B$7,2,FALSE))","v":6.6127000000000005E-2},{"$f":"IF(C1019=1,\"0\",VLOOKUP(C1019,coefficient2!$A$10:$B$13,2,FALSE))","v":0.19249050000000001},{"$f":"IF(D1019=1,\"0\",VLOOKUP(D1019,coefficient2!$A$16:$B$19,2,FALSE))","v":"0"},{"$f":"IF(E1019=1,\"0\",VLOOKUP(E1019,coefficient2!$A$22:$B$25,2,FALSE))","v":0.2068864},{"$f":"IF(F1019=1,\"0\",VLOOKUP(F1019,coefficient2!$A$28:$B$31,2,FALSE))","v":9.5753900000000003E-2},0.43874219999999992]
[24144,2,4,1,4,4,15,{"$f":"IF(B1020=1,\"0\",VLOOKUP(B1020,coefficient2!$A$4:$B$7,2,FALSE))","v":6.6127000000000005E-2},{"$f":"IF(C1020=1,\"0\",VLOOKUP(C1020,coefficient2!$A$10:$B$13,2,FALSE))","v":0.19249050000000001},{"$f":"IF(D1020=1,\"0\",VLOOKUP(D1020,coefficient2!$A$16:$B$19,2,FALSE))","v":"0"},{"$f":"IF(E1020=1,\"0\",VLOOKUP(E1020,coefficient2!$A$22:$B$25,2,FALSE))","v":0.2068864},{"$f":"IF(F1020=1,\"0\",VLOOKUP(F1020,coefficient2!$A$28:$B$31,2,FALSE))","v":0.23270360000000001},0.30179249999999991]
[24145,2,4,1,4,5,16,{"$f":"IF(B1021=1,\"0\",VLOOKUP(B1021,coefficient2!$A$4:$B$7,2,FALSE))","v":6.6127000000000005E-2},{"$f":"IF(C1021=1,\"0\",VLOOKUP(C1021,coefficient2!$A$10:$B$13,2,FALSE))","v":0.19249050000000001},{"$f":"IF(D1021=1,\"0\",VLOOKUP(D1021,coefficient2!$A$16:$B$19,2,FALSE))","v":"0"},{"$f":"IF(E1021=1,\"0\",VLOOKUP(E1021,coefficient2!$A$22:$B$25,2,FALSE))","v":0.2068864},{"$f":"IF(F1021=1,\"0\",VLOOKUP(F1021,coefficient2!$A$28:$B$31,2,FALSE))","v":0.29534929999999998},0.23914679999999994]
[24151,2,4,1,5,1,13,{"$f":"IF(B1022=1,\"0\",VLOOKUP(B1022,coefficient2!$A$4:$B$7,2,FALSE))","v":6.6127000000000005E-2},{"$f":"IF(C1022=1,\"0\",VLOOKUP(C1022,coefficient2!$A$10:$B$13,2,FALSE))","v":0.19249050000000001},{"$f":"IF(D1022=1,\"0\",VLOOKUP(D1022,coefficient2!$A$16:$B$19,2,FALSE))","v":"0"},{"$f":"IF(E1022=1,\"0\",VLOOKUP(E1022,coefficient2!$A$22:$B$25,2,FALSE))","v":0.25643310000000002},{"$f":"IF(F1022=1,\"0\",VLOOKUP(F1022,coefficient2!$A$28:$B$31,2,FALSE))","v":"0"},0.48494939999999992]
[24152,2,4,1,5,2,14,{"$f":"IF(B1023=1,\"0\",VLOOKUP(B1023,coefficient2!$A$4:$B$7,2,FALSE))","v":6.6127000000000005E-2},{"$f":"IF(C1023=1,\"0\",VLOOKUP(C1023,coefficient2!$A$10:$B$13,2,FALSE))","v":0.19249050000000001},{"$f":"IF(D1023=1,\"0\",VLOOKUP(D1023,coefficient2!$A$16:$B$19,2,FALSE))","v":"0"},{"$f":"IF(E1023=1,\"0\",VLOOKUP(E1023,coefficient2!$A$22:$B$25,2,FALSE))","v":0.25643310000000002},{"$f":"IF(F1023=1,\"0\",VLOOKUP(F1023,coefficient2!$A$28:$B$31,2,FALSE))","v":5.8085699999999997E-2},0.4268636999999999]
[24153,2,4,1,5,3,15,{"$f":"IF(B1024=1,\"0\",VLOOKUP(B1024,coefficient2!$A$4:$B$7,2,FALSE))","v":6.6127000000000005E-2},{"$f":"IF(C1024=1,\"0\",VLOOKUP(C1024,coefficient2!$A$10:$B$13,2,FALSE))","v":0.19249050000000001},{"$f":"IF(D1024=1,\"0\",VLOOKUP(D1024,coefficient2!$A$16:$B$19,2,FALSE))","v":"0"},{"$f":"IF(E1024=1,\"0\",VLOOKUP(E1024,coefficient2!$A$22:$B$25,2,FALSE))","v":0.25643310000000002},{"$f":"IF(F1024=1,\"0\",VLOOKUP(F1024,coefficient2!$A$28:$B$31,2,FALSE))","v":9.5753900000000003E-2},0.38919549999999992]
[24154,2,4,1,5,4,16,{"$f":"IF(B1025=1,\"0\",VLOOKUP(B1025,coefficient2!$A$4:$B$7,2,FALSE))","v":6.6127000000000005E-2},{"$f":"IF(C1025=1,\"0\",VLOOKUP(C1025,coefficient2!$A$10:$B$13,2,FALSE))","v":0.19249050000000001},{"$f":"IF(D1025=1,\"0\",VLOOKUP(D1025,coefficient2!$A$16:$B$19,2,FALSE))","v":"0"},{"$f":"IF(E1025=1,\"0\",VLOOKUP(E1025,coefficient2!$A$22:$B$25,2,FALSE))","v":0.25643310000000002},{"$f":"IF(F1025=1,\"0\",VLOOKUP(F1025,coefficient2!$A$28:$B$31,2,FALSE))","v":0.23270360000000001},0.25224579999999991]
[24155,2,4,1,5,5,17,{"$f":"IF(B1026=1,\"0\",VLOOKUP(B1026,coefficient2!$A$4:$B$7,2,FALSE))","v":6.6127000000000005E-2},{"$f":"IF(C1026=1,\"0\",VLOOKUP(C1026,coefficient2!$A$10:$B$13,2,FALSE))","v":0.19249050000000001},{"$f":"IF(D1026=1,\"0\",VLOOKUP(D1026,coefficient2!$A$16:$B$19,2,FALSE))","v":"0"},{"$f":"IF(E1026=1,\"0\",VLOOKUP(E1026,coefficient2!$A$22:$B$25,2,FALSE))","v":0.25643310000000002},{"$f":"IF(F1026=1,\"0\",VLOOKUP(F1026,coefficient2!$A$28:$B$31,2,FALSE))","v":0.29534929999999998},{"$f":"1-H1026-I1026-J1026-K1026-L1026","v":0.18960009999999994}]
[24211,{"$f":"INT(LEFT(A1027,1))","v":2},{"$f":"INT(MID(A1027,2,1))","v":4},{"$f":"INT(MID(A1027,3,1))","v":2},{"$f":"INT(MID(A1027,4,1))","v":1},{"$f":"INT(RIGHT(A1027,1))","v":1},{"$f":"SUM(B1027:F1027)","v":10},{"$f":"IF(B1027=1,\"0\",VLOOKUP(B1027,coefficient2!$A$4:$B$7,2,FALSE))","v":6.6127000000000005E-2},{"$f":"IF(C1027=1,\"0\",VLOOKUP(C1027,coefficient2!$A$10:$B$13,2,FALSE))","v":0.19249050000000001},{"$f":"IF(D1027=1,\"0\",VLOOKUP(D1027,coefficient2!$A$16:$B$19,2,FALSE))","v":5.8254399999999998E-2},{"$f":"IF(E1027=1,\"0\",VLOOKUP(E1027,coefficient2!$A$22:$B$25,2,FALSE))","v":"0"},{"$f":"IF(F1027=1,\"0\",VLOOKUP(F1027,coefficient2!$A$28:$B$31,2,FALSE))","v":"0"},0.6831280999999999]
[24212,2,4,2,1,2,11,{"$f":"IF(B1028=1,\"0\",VLOOKUP(B1028,coefficient2!$A$4:$B$7,2,FALSE))","v":6.6127000000000005E-2},{"$f":"IF(C1028=1,\"0\",VLOOKUP(C1028,coefficient2!$A$10:$B$13,2,FALSE))","v":0.19249050000000001},{"$f":"IF(D1028=1,\"0\",VLOOKUP(D1028,coefficient2!$A$16:$B$19,2,FALSE))","v":5.8254399999999998E-2},{"$f":"IF(E1028=1,\"0\",VLOOKUP(E1028,coefficient2!$A$22:$B$25,2,FALSE))","v":"0"},{"$f":"IF(F1028=1,\"0\",VLOOKUP(F1028,coefficient2!$A$28:$B$31,2,FALSE))","v":5.8085699999999997E-2},0.62504239999999989]
[24213,2,4,2,1,3,12,{"$f":"IF(B1029=1,\"0\",VLOOKUP(B1029,coefficient2!$A$4:$B$7,2,FALSE))","v":6.6127000000000005E-2},{"$f":"IF(C1029=1,\"0\",VLOOKUP(C1029,coefficient2!$A$10:$B$13,2,FALSE))","v":0.19249050000000001},{"$f":"IF(D1029=1,\"0\",VLOOKUP(D1029,coefficient2!$A$16:$B$19,2,FALSE))","v":5.8254399999999998E-2},{"$f":"IF(E1029=1,\"0\",VLOOKUP(E1029,coefficient2!$A$22:$B$25,2,FALSE))","v":"0"},{"$f":"IF(F1029=1,\"0\",VLOOKUP(F1029,coefficient2!$A$28:$B$31,2,FALSE))","v":9.5753900000000003E-2},0.58737419999999996]
[24214,2,4,2,1,4,13,{"$f":"IF(B1030=1,\"0\",VLOOKUP(B1030,coefficient2!$A$4:$B$7,2,FALSE))","v":6.6127000000000005E-2},{"$f":"IF(C1030=1,\"0\",VLOOKUP(C1030,coefficient2!$A$10:$B$13,2,FALSE))","v":0.19249050000000001},{"$f":"IF(D1030=1,\"0\",VLOOKUP(D1030,coefficient2!$A$16:$B$19,2,FALSE))","v":5.8254399999999998E-2},{"$f":"IF(E1030=1,\"0\",VLOOKUP(E1030,coefficient2!$A$22:$B$25,2,FALSE))","v":"0"},{"$f":"IF(F1030=1,\"0\",VLOOKUP(F1030,coefficient2!$A$28:$B$31,2,FALSE))","v":0.23270360000000001},0.45042449999999989]
[24215,2,4,2,1,5,14,{"$f":"IF(B1031=1,\"0\",VLOOKUP(B1031,coefficient2!$A$4:$B$7,2,FALSE))","v":6.6127000000000005E-2},{"$f":"IF(C1031=1,\"0\",VLOOKUP(C1031,coefficient2!$A$10:$B$13,2,FALSE))","v":0.19249050000000001},{"$f":"IF(D1031=1,\"0\",VLOOKUP(D1031,coefficient2!$A$16:$B$19,2,FALSE))","v":5.8254399999999998E-2},{"$f":"IF(E1031=1,\"0\",VLOOKUP(E1031,coefficient2!$A$22:$B$25,2,FALSE))","v":"0"},{"$f":"IF(F1031=1,\"0\",VLOOKUP(F1031,coefficient2!$A$28:$B$31,2,FALSE))","v":0.29534929999999998},0.38777879999999992]
[24221,2,4,2,2,1,11,{"$f":"IF(B1032=1,\"0\",VLOOKUP(B1032,coefficient2!$A$4:$B$7,2,FALSE))","v":6.6127000000000005E-2},{"$f":"IF(C1032=1,\"0\",VLOOKUP(C1032,coefficient2!$A$10:$B$13,2,FALSE))","v":0.19249050000000001},{"$f":"IF(D1032=1,\"0\",VLOOKUP(D1032,coefficient2!$A$16:$B$19,2,FALSE))","v":5.8254399999999998E-2},{"$f":"IF(E1032=1,\"0\",VLOOKUP(E1032,coefficient2!$A$22:$B$25,2,FALSE))","v":5.63998E-2},{"$f":"IF(F1032=1,\"0\",VLOOKUP(F1032,coefficient2!$A$28:$B$31,2,FALSE))","v":"0"},0.6267282999999999]
[24222,2,4,2,2,2,12,{"$f":"IF(B1033=1,\"0\",VLOOKUP(B1033,coefficient2!$A$4:$B$7,2,FALSE))","v":6.6127000000000005E-2},{"$f":"IF(C1033=1,\"0\",VLOOKUP(C1033,coefficient2!$A$10:$B$13,2,FALSE))","v":0.19249050000000001},{"$f":"IF(D1033=1,\"0\",VLOOKUP(D1033,coefficient2!$A$16:$B$19,2,FALSE))","v":5.8254399999999998E-2},{"$f":"IF(E1033=1,\"0\",VLOOKUP(E1033,coefficient2!$A$22:$B$25,2,FALSE))","v":5.63998E-2},{"$f":"IF(F1033=1,\"0\",VLOOKUP(F1033,coefficient2!$A$28:$B$31,2,FALSE))","v":5.8085699999999997E-2},0.56864259999999989]
[24223,2,4,2,2,3,13,{"$f":"IF(B1034=1,\"0\",VLOOKUP(B1034,coefficient2!$A$4:$B$7,2,FALSE))","v":6.6127000000000005E-2},{"$f":"IF(C1034=1,\"0\",VLOOKUP(C1034,coefficient2!$A$10:$B$13,2,FALSE))","v":0.19249050000000001},{"$f":"IF(D1034=1,\"0\",VLOOKUP(D1034,coefficient2!$A$16:$B$19,2,FALSE))","v":5.8254399999999998E-2},{"$f":"IF(E1034=1,\"0\",VLOOKUP(E1034,coefficient2!$A$22:$B$25,2,FALSE))","v":5.63998E-2},{"$f":"IF(F1034=1,\"0\",VLOOKUP(F1034,coefficient2!$A$28:$B$31,2,FALSE))","v":9.5753900000000003E-2},0.53097439999999985]
[24224,2,4,2,2,4,14,{"$f":"IF(B1035=1,\"0\",VLOOKUP(B1035,coefficient2!$A$4:$B$7,2,FALSE))","v":6.6127000000000005E-2},{"$f":"IF(C1035=1,\"0\",VLOOKUP(C1035,coefficient2!$A$10:$B$13,2,FALSE))","v":0.19249050000000001},{"$f":"IF(D1035=1,\"0\",VLOOKUP(D1035,coefficient2!$A$16:$B$19,2,FALSE))","v":5.8254399999999998E-2},{"$f":"IF(E1035=1,\"0\",VLOOKUP(E1035,coefficient2!$A$22:$B$25,2,FALSE))","v":5.63998E-2},{"$f":"IF(F1035=1,\"0\",VLOOKUP(F1035,coefficient2!$A$28:$B$31,2,FALSE))","v":0.23270360000000001},0.39402469999999989]
[24225,2,4,2,2,5,15,{"$f":"IF(B1036=1,\"0\",VLOOKUP(B1036,coefficient2!$A$4:$B$7,2,FALSE))","v":6.6127000000000005E-2},{"$f":"IF(C1036=1,\"0\",VLOOKUP(C1036,coefficient2!$A$10:$B$13,2,FALSE))","v":0.19249050000000001},{"$f":"IF(D1036=1,\"0\",VLOOKUP(D1036,coefficient2!$A$16:$B$19,2,FALSE))","v":5.8254399999999998E-2},{"$f":"IF(E1036=1,\"0\",VLOOKUP(E1036,coefficient2!$A$22:$B$25,2,FALSE))","v":5.63998E-2},{"$f":"IF(F1036=1,\"0\",VLOOKUP(F1036,coefficient2!$A$28:$B$31,2,FALSE))","v":0.29534929999999998},0.33137899999999992]
[24231,2,4,2,3,1,12,{"$f":"IF(B1037=1,\"0\",VLOOKUP(B1037,coefficient2!$A$4:$B$7,2,FALSE))","v":6.6127000000000005E-2},{"$f":"IF(C1037=1,\"0\",VLOOKUP(C1037,coefficient2!$A$10:$B$13,2,FALSE))","v":0.19249050000000001},{"$f":"IF(D1037=1,\"0\",VLOOKUP(D1037,coefficient2!$A$16:$B$19,2,FALSE))","v":5.8254399999999998E-2},{"$f":"IF(E1037=1,\"0\",VLOOKUP(E1037,coefficient2!$A$22:$B$25,2,FALSE))","v":6.6492200000000001E-2},{"$f":"IF(F1037=1,\"0\",VLOOKUP(F1037,coefficient2!$A$28:$B$31,2,FALSE))","v":"0"},0.6166358999999999]
[24232,2,4,2,3,2,13,{"$f":"IF(B1038=1,\"0\",VLOOKUP(B1038,coefficient2!$A$4:$B$7,2,FALSE))","v":6.6127000000000005E-2},{"$f":"IF(C1038=1,\"0\",VLOOKUP(C1038,coefficient2!$A$10:$B$13,2,FALSE))","v":0.19249050000000001},{"$f":"IF(D1038=1,\"0\",VLOOKUP(D1038,coefficient2!$A$16:$B$19,2,FALSE))","v":5.8254399999999998E-2},{"$f":"IF(E1038=1,\"0\",VLOOKUP(E1038,coefficient2!$A$22:$B$25,2,FALSE))","v":6.6492200000000001E-2},{"$f":"IF(F1038=1,\"0\",VLOOKUP(F1038,coefficient2!$A$28:$B$31,2,FALSE))","v":5.8085699999999997E-2},0.55855019999999989]
[24233,2,4,2,3,3,14,{"$f":"IF(B1039=1,\"0\",VLOOKUP(B1039,coefficient2!$A$4:$B$7,2,FALSE))","v":6.6127000000000005E-2},{"$f":"IF(C1039=1,\"0\",VLOOKUP(C1039,coefficient2!$A$10:$B$13,2,FALSE))","v":0.19249050000000001},{"$f":"IF(D1039=1,\"0\",VLOOKUP(D1039,coefficient2!$A$16:$B$19,2,FALSE))","v":5.8254399999999998E-2},{"$f":"IF(E1039=1,\"0\",VLOOKUP(E1039,coefficient2!$A$22:$B$25,2,FALSE))","v":6.6492200000000001E-2},{"$f":"IF(F1039=1,\"0\",VLOOKUP(F1039,coefficient2!$A$28:$B$31,2,FALSE))","v":9.5753900000000003E-2},0.52088199999999985]
[24234,2,4,2,3,4,15,{"$f":"IF(B1040=1,\"0\",VLOOKUP(B1040,coefficient2!$A$4:$B$7,2,FALSE))","v":6.6127000000000005E-2},{"$f":"IF(C1040=1,\"0\",VLOOKUP(C1040,coefficient2!$A$10:$B$13,2,FALSE))","v":0.19249050000000001},{"$f":"IF(D1040=1,\"0\",VLOOKUP(D1040,coefficient2!$A$16:$B$19,2,FALSE))","v":5.8254399999999998E-2},{"$f":"IF(E1040=1,\"0\",VLOOKUP(E1040,coefficient2!$A$22:$B$25,2,FALSE))","v":6.6492200000000001E-2},{"$f":"IF(F1040=1,\"0\",VLOOKUP(F1040,coefficient2!$A$28:$B$31,2,FALSE))","v":0.23270360000000001},0.38393229999999989]
[24235,2,4,2,3,5,16,{"$f":"IF(B1041=1,\"0\",VLOOKUP(B1041,coefficient2!$A$4:$B$7,2,FALSE))","v":6.6127000000000005E-2},{"$f":"IF(C1041=1,\"0\",VLOOKUP(C1041,coefficient2!$A$10:$B$13,2,FALSE))","v":0.19249050000000001},{"$f":"IF(D1041=1,\"0\",VLOOKUP(D1041,coefficient2!$A$16:$B$19,2,FALSE))","v":5.8254399999999998E-2},{"$f":"IF(E1041=1,\"0\",VLOOKUP(E1041,coefficient2!$A$22:$B$25,2,FALSE))","v":6.6492200000000001E-2},{"$f":"IF(F1041=1,\"0\",VLOOKUP(F1041,coefficient2!$A$28:$B$31,2,FALSE))","v":0.29534929999999998},0.32128659999999992]
[24241,2,4,2,4,1,13,{"$f":"IF(B1042=1,\"0\",VLOOKUP(B1042,coefficient2!$A$4:$B$7,2,FALSE))","v":6.6127000000000005E-2},{"$f":"IF(C1042=1,\"0\",VLOOKUP(C1042,coefficient2!$A$10:$B$13,2,FALSE))","v":0.19249050000000001},{"$f":"IF(D1042=1,\"0\",VLOOKUP(D1042,coefficient2!$A$16:$B$19,2,FALSE))","v":5.8254399999999998E-2},{"$f":"IF(E1042=1,\"0\",VLOOKUP(E1042,coefficient2!$A$22:$B$25,2,FALSE))","v":0.2068864},{"$f":"IF(F1042=1,\"0\",VLOOKUP(F1042,coefficient2!$A$28:$B$31,2,FALSE))","v":"0"},0.47624169999999988]
[24242,2,4,2,4,2,14,{"$f":"IF(B1043=1,\"0\",VLOOKUP(B1043,coefficient2!$A$4:$B$7,2,FALSE))","v":6.6127000000000005E-2},{"$f":"IF(C1043=1,\"0\",VLOOKUP(C1043,coefficient2!$A$10:$B$13,2,FALSE))","v":0.19249050000000001},{"$f":"IF(D1043=1,\"0\",VLOOKUP(D1043,coefficient2!$A$16:$B$19,2,FALSE))","v":5.8254399999999998E-2},{"$f":"IF(E1043=1,\"0\",VLOOKUP(E1043,coefficient2!$A$22:$B$25,2,FALSE))","v":0.2068864},{"$f":"IF(F1043=1,\"0\",VLOOKUP(F1043,coefficient2!$A$28:$B$31,2,FALSE))","v":5.8085699999999997E-2},0.41815599999999986]
[24243,2,4,2,4,3,15,{"$f":"IF(B1044=1,\"0\",VLOOKUP(B1044,coefficient2!$A$4:$B$7,2,FALSE))","v":6.6127000000000005E-2},{"$f":"IF(C1044=1,\"0\",VLOOKUP(C1044,coefficient2!$A$10:$B$13,2,FALSE))","v":0.19249050000000001},{"$f":"IF(D1044=1,\"0\",VLOOKUP(D1044,coefficient2!$A$16:$B$19,2,FALSE))","v":5.8254399999999998E-2},{"$f":"IF(E1044=1,\"0\",VLOOKUP(E1044,coefficient2!$A$22:$B$25,2,FALSE))","v":0.2068864},{"$f":"IF(F1044=1,\"0\",VLOOKUP(F1044,coefficient2!$A$28:$B$31,2,FALSE))","v":9.5753900000000003E-2},0.38048779999999988]
[24244,2,4,2,4,4,16,{"$f":"IF(B1045=1,\"0\",VLOOKUP(B1045,coefficient2!$A$4:$B$7,2,FALSE))","v":6.6127000000000005E-2},{"$f":"IF(C1045=1,\"0\",VLOOKUP(C1045,coefficient2!$A$10:$B$13,2,FALSE))","v":0.19249050000000001},{"$f":"IF(D1045=1,\"0\",VLOOKUP(D1045,coefficient2!$A$16:$B$19,2,FALSE))","v":5.8254399999999998E-2},{"$f":"IF(E1045=1,\"0\",VLOOKUP(E1045,coefficient2!$A$22:$B$25,2,FALSE))","v":0.2068864},{"$f":"IF(F1045=1,\"0\",VLOOKUP(F1045,coefficient2!$A$28:$B$31,2,FALSE))","v":0.23270360000000001},0.24353809999999987]
[24245,2,4,2,4,5,17,{"$f":"IF(B1046=1,\"0\",VLOOKUP(B1046,coefficient2!$A$4:$B$7,2,FALSE))","v":6.6127000000000005E-2},{"$f":"IF(C1046=1,\"0\",VLOOKUP(C1046,coefficient2!$A$10:$B$13,2,FALSE))","v":0.19249050000000001},{"$f":"IF(D1046=1,\"0\",VLOOKUP(D1046,coefficient2!$A$16:$B$19,2,FALSE))","v":5.8254399999999998E-2},{"$f":"IF(E1046=1,\"0\",VLOOKUP(E1046,coefficient2!$A$22:$B$25,2,FALSE))","v":0.2068864},{"$f":"IF(F1046=1,\"0\",VLOOKUP(F1046,coefficient2!$A$28:$B$31,2,FALSE))","v":0.29534929999999998},0.1808923999999999]
[24251,2,4,2,5,1,14,{"$f":"IF(B1047=1,\"0\",VLOOKUP(B1047,coefficient2!$A$4:$B$7,2,FALSE))","v":6.6127000000000005E-2},{"$f":"IF(C1047=1,\"0\",VLOOKUP(C1047,coefficient2!$A$10:$B$13,2,FALSE))","v":0.19249050000000001},{"$f":"IF(D1047=1,\"0\",VLOOKUP(D1047,coefficient2!$A$16:$B$19,2,FALSE))","v":5.8254399999999998E-2},{"$f":"IF(E1047=1,\"0\",VLOOKUP(E1047,coefficient2!$A$22:$B$25,2,FALSE))","v":0.25643310000000002},{"$f":"IF(F1047=1,\"0\",VLOOKUP(F1047,coefficient2!$A$28:$B$31,2,FALSE))","v":"0"},0.42669499999999988]
[24252,2,4,2,5,2,15,{"$f":"IF(B1048=1,\"0\",VLOOKUP(B1048,coefficient2!$A$4:$B$7,2,FALSE))","v":6.6127000000000005E-2},{"$f":"IF(C1048=1,\"0\",VLOOKUP(C1048,coefficient2!$A$10:$B$13,2,FALSE))","v":0.19249050000000001},{"$f":"IF(D1048=1,\"0\",VLOOKUP(D1048,coefficient2!$A$16:$B$19,2,FALSE))","v":5.8254399999999998E-2},{"$f":"IF(E1048=1,\"0\",VLOOKUP(E1048,coefficient2!$A$22:$B$25,2,FALSE))","v":0.25643310000000002},{"$f":"IF(F1048=1,\"0\",VLOOKUP(F1048,coefficient2!$A$28:$B$31,2,FALSE))","v":5.8085699999999997E-2},0.36860929999999986]
[24253,2,4,2,5,3,16,{"$f":"IF(B1049=1,\"0\",VLOOKUP(B1049,coefficient2!$A$4:$B$7,2,FALSE))","v":6.6127000000000005E-2},{"$f":"IF(C1049=1,\"0\",VLOOKUP(C1049,coefficient2!$A$10:$B$13,2,FALSE))","v":0.19249050000000001},{"$f":"IF(D1049=1,\"0\",VLOOKUP(D1049,coefficient2!$A$16:$B$19,2,FALSE))","v":5.8254399999999998E-2},{"$f":"IF(E1049=1,\"0\",VLOOKUP(E1049,coefficient2!$A$22:$B$25,2,FALSE))","v":0.25643310000000002},{"$f":"IF(F1049=1,\"0\",VLOOKUP(F1049,coefficient2!$A$28:$B$31,2,FALSE))","v":9.5753900000000003E-2},0.33094109999999988]
[24254,2,4,2,5,4,17,{"$f":"IF(B1050=1,\"0\",VLOOKUP(B1050,coefficient2!$A$4:$B$7,2,FALSE))","v":6.6127000000000005E-2},{"$f":"IF(C1050=1,\"0\",VLOOKUP(C1050,coefficient2!$A$10:$B$13,2,FALSE))","v":0.19249050000000001},{"$f":"IF(D1050=1,\"0\",VLOOKUP(D1050,coefficient2!$A$16:$B$19,2,FALSE))","v":5.8254399999999998E-2},{"$f":"IF(E1050=1,\"0\",VLOOKUP(E1050,coefficient2!$A$22:$B$25,2,FALSE))","v":0.25643310000000002},{"$f":"IF(F1050=1,\"0\",VLOOKUP(F1050,coefficient2!$A$28:$B$31,2,FALSE))","v":0.23270360000000001},0.19399139999999987]
[24255,2,4,2,5,5,18,{"$f":"IF(B1051=1,\"0\",VLOOKUP(B1051,coefficient2!$A$4:$B$7,2,FALSE))","v":6.6127000000000005E-2},{"$f":"IF(C1051=1,\"0\",VLOOKUP(C1051,coefficient2!$A$10:$B$13,2,FALSE))","v":0.19249050000000001},{"$f":"IF(D1051=1,\"0\",VLOOKUP(D1051,coefficient2!$A$16:$B$19,2,FALSE))","v":5.8254399999999998E-2},{"$f":"IF(E1051=1,\"0\",VLOOKUP(E1051,coefficient2!$A$22:$B$25,2,FALSE))","v":0.25643310000000002},{"$f":"IF(F1051=1,\"0\",VLOOKUP(F1051,coefficient2!$A$28:$B$31,2,FALSE))","v":0.29534929999999998},0.1313456999999999]
[24311,2,4,3,1,1,11,{"$f":"IF(B1052=1,\"0\",VLOOKUP(B1052,coefficient2!$A$4:$B$7,2,FALSE))","v":6.6127000000000005E-2},{"$f":"IF(C1052=1,\"0\",VLOOKUP(C1052,coefficient2!$A$10:$B$13,2,FALSE))","v":0.19249050000000001},{"$f":"IF(D1052=1,\"0\",VLOOKUP(D1052,coefficient2!$A$16:$B$19,2,FALSE))","v":7.1197399999999994E-2},{"$f":"IF(E1052=1,\"0\",VLOOKUP(E1052,coefficient2!$A$22:$B$25,2,FALSE))","v":"0"},{"$f":"IF(F1052=1,\"0\",VLOOKUP(F1052,coefficient2!$A$28:$B$31,2,FALSE))","v":"0"},0.67018509999999998]
[24312,2,4,3,1,2,12,{"$f":"IF(B1053=1,\"0\",VLOOKUP(B1053,coefficient2!$A$4:$B$7,2,FALSE))","v":6.6127000000000005E-2},{"$f":"IF(C1053=1,\"0\",VLOOKUP(C1053,coefficient2!$A$10:$B$13,2,FALSE))","v":0.19249050000000001},{"$f":"IF(D1053=1,\"0\",VLOOKUP(D1053,coefficient2!$A$16:$B$19,2,FALSE))","v":7.1197399999999994E-2},{"$f":"IF(E1053=1,\"0\",VLOOKUP(E1053,coefficient2!$A$22:$B$25,2,FALSE))","v":"0"},{"$f":"IF(F1053=1,\"0\",VLOOKUP(F1053,coefficient2!$A$28:$B$31,2,FALSE))","v":5.8085699999999997E-2},0.61209939999999996]
[24313,2,4,3,1,3,13,{"$f":"IF(B1054=1,\"0\",VLOOKUP(B1054,coefficient2!$A$4:$B$7,2,FALSE))","v":6.6127000000000005E-2},{"$f":"IF(C1054=1,\"0\",VLOOKUP(C1054,coefficient2!$A$10:$B$13,2,FALSE))","v":0.19249050000000001},{"$f":"IF(D1054=1,\"0\",VLOOKUP(D1054,coefficient2!$A$16:$B$19,2,FALSE))","v":7.1197399999999994E-2},{"$f":"IF(E1054=1,\"0\",VLOOKUP(E1054,coefficient2!$A$22:$B$25,2,FALSE))","v":"0"},{"$f":"IF(F1054=1,\"0\",VLOOKUP(F1054,coefficient2!$A$28:$B$31,2,FALSE))","v":9.5753900000000003E-2},0.57443120000000003]
[24314,2,4,3,1,4,14,{"$f":"IF(B1055=1,\"0\",VLOOKUP(B1055,coefficient2!$A$4:$B$7,2,FALSE))","v":6.6127000000000005E-2},{"$f":"IF(C1055=1,\"0\",VLOOKUP(C1055,coefficient2!$A$10:$B$13,2,FALSE))","v":0.19249050000000001},{"$f":"IF(D1055=1,\"0\",VLOOKUP(D1055,coefficient2!$A$16:$B$19,2,FALSE))","v":7.1197399999999994E-2},{"$f":"IF(E1055=1,\"0\",VLOOKUP(E1055,coefficient2!$A$22:$B$25,2,FALSE))","v":"0"},{"$f":"IF(F1055=1,\"0\",VLOOKUP(F1055,coefficient2!$A$28:$B$31,2,FALSE))","v":0.23270360000000001},0.43748149999999997]
[24315,2,4,3,1,5,15,{"$f":"IF(B1056=1,\"0\",VLOOKUP(B1056,coefficient2!$A$4:$B$7,2,FALSE))","v":6.6127000000000005E-2},{"$f":"IF(C1056=1,\"0\",VLOOKUP(C1056,coefficient2!$A$10:$B$13,2,FALSE))","v":0.19249050000000001},{"$f":"IF(D1056=1,\"0\",VLOOKUP(D1056,coefficient2!$A$16:$B$19,2,FALSE))","v":7.1197399999999994E-2},{"$f":"IF(E1056=1,\"0\",VLOOKUP(E1056,coefficient2!$A$22:$B$25,2,FALSE))","v":"0"},{"$f":"IF(F1056=1,\"0\",VLOOKUP(F1056,coefficient2!$A$28:$B$31,2,FALSE))","v":0.29534929999999998},0.3748358]
[24321,2,4,3,2,1,12,{"$f":"IF(B1057=1,\"0\",VLOOKUP(B1057,coefficient2!$A$4:$B$7,2,FALSE))","v":6.6127000000000005E-2},{"$f":"IF(C1057=1,\"0\",VLOOKUP(C1057,coefficient2!$A$10:$B$13,2,FALSE))","v":0.19249050000000001},{"$f":"IF(D1057=1,\"0\",VLOOKUP(D1057,coefficient2!$A$16:$B$19,2,FALSE))","v":7.1197399999999994E-2},{"$f":"IF(E1057=1,\"0\",VLOOKUP(E1057,coefficient2!$A$22:$B$25,2,FALSE))","v":5.63998E-2},{"$f":"IF(F1057=1,\"0\",VLOOKUP(F1057,coefficient2!$A$28:$B$31,2,FALSE))","v":"0"},0.61378529999999998]
[24322,2,4,3,2,2,13,{"$f":"IF(B1058=1,\"0\",VLOOKUP(B1058,coefficient2!$A$4:$B$7,2,FALSE))","v":6.6127000000000005E-2},{"$f":"IF(C1058=1,\"0\",VLOOKUP(C1058,coefficient2!$A$10:$B$13,2,FALSE))","v":0.19249050000000001},{"$f":"IF(D1058=1,\"0\",VLOOKUP(D1058,coefficient2!$A$16:$B$19,2,FALSE))","v":7.1197399999999994E-2},{"$f":"IF(E1058=1,\"0\",VLOOKUP(E1058,coefficient2!$A$22:$B$25,2,FALSE))","v":5.63998E-2},{"$f":"IF(F1058=1,\"0\",VLOOKUP(F1058,coefficient2!$A$28:$B$31,2,FALSE))","v":5.8085699999999997E-2},0.55569959999999996]
[24323,2,4,3,2,3,14,{"$f":"IF(B1059=1,\"0\",VLOOKUP(B1059,coefficient2!$A$4:$B$7,2,FALSE))","v":6.6127000000000005E-2},{"$f":"IF(C1059=1,\"0\",VLOOKUP(C1059,coefficient2!$A$10:$B$13,2,FALSE))","v":0.19249050000000001},{"$f":"IF(D1059=1,\"0\",VLOOKUP(D1059,coefficient2!$A$16:$B$19,2,FALSE))","v":7.1197399999999994E-2},{"$f":"IF(E1059=1,\"0\",VLOOKUP(E1059,coefficient2!$A$22:$B$25,2,FALSE))","v":5.63998E-2},{"$f":"IF(F1059=1,\"0\",VLOOKUP(F1059,coefficient2!$A$28:$B$31,2,FALSE))","v":9.5753900000000003E-2},0.51803139999999992]
[24324,2,4,3,2,4,15,{"$f":"IF(B1060=1,\"0\",VLOOKUP(B1060,coefficient2!$A$4:$B$7,2,FALSE))","v":6.6127000000000005E-2},{"$f":"IF(C1060=1,\"0\",VLOOKUP(C1060,coefficient2!$A$10:$B$13,2,FALSE))","v":0.19249050000000001},{"$f":"IF(D1060=1,\"0\",VLOOKUP(D1060,coefficient2!$A$16:$B$19,2,FALSE))","v":7.1197399999999994E-2},{"$f":"IF(E1060=1,\"0\",VLOOKUP(E1060,coefficient2!$A$22:$B$25,2,FALSE))","v":5.63998E-2},{"$f":"IF(F1060=1,\"0\",VLOOKUP(F1060,coefficient2!$A$28:$B$31,2,FALSE))","v":0.23270360000000001},0.38108169999999997]
[24325,2,4,3,2,5,16,{"$f":"IF(B1061=1,\"0\",VLOOKUP(B1061,coefficient2!$A$4:$B$7,2,FALSE))","v":6.6127000000000005E-2},{"$f":"IF(C1061=1,\"0\",VLOOKUP(C1061,coefficient2!$A$10:$B$13,2,FALSE))","v":0.19249050000000001},{"$f":"IF(D1061=1,\"0\",VLOOKUP(D1061,coefficient2!$A$16:$B$19,2,FALSE))","v":7.1197399999999994E-2},{"$f":"IF(E1061=1,\"0\",VLOOKUP(E1061,coefficient2!$A$22:$B$25,2,FALSE))","v":5.63998E-2},{"$f":"IF(F1061=1,\"0\",VLOOKUP(F1061,coefficient2!$A$28:$B$31,2,FALSE))","v":0.29534929999999998},0.318436]
[24331,2,4,3,3,1,13,{"$f":"IF(B1062=1,\"0\",VLOOKUP(B1062,coefficient2!$A$4:$B$7,2,FALSE))","v":6.6127000000000005E-2},{"$f":"IF(C1062=1,\"0\",VLOOKUP(C1062,coefficient2!$A$10:$B$13,2,FALSE))","v":0.19249050000000001},{"$f":"IF(D1062=1,\"0\",VLOOKUP(D1062,coefficient2!$A$16:$B$19,2,FALSE))","v":7.1197399999999994E-2},{"$f":"IF(E1062=1,\"0\",VLOOKUP(E1062,coefficient2!$A$22:$B$25,2,FALSE))","v":6.6492200000000001E-2},{"$f":"IF(F1062=1,\"0\",VLOOKUP(F1062,coefficient2!$A$28:$B$31,2,FALSE))","v":"0"},0.60369289999999998]
[24332,2,4,3,3,2,14,{"$f":"IF(B1063=1,\"0\",VLOOKUP(B1063,coefficient2!$A$4:$B$7,2,FALSE))","v":6.6127000000000005E-2},{"$f":"IF(C1063=1,\"0\",VLOOKUP(C1063,coefficient2!$A$10:$B$13,2,FALSE))","v":0.19249050000000001},{"$f":"IF(D1063=1,\"0\",VLOOKUP(D1063,coefficient2!$A$16:$B$19,2,FALSE))","v":7.1197399999999994E-2},{"$f":"IF(E1063=1,\"0\",VLOOKUP(E1063,coefficient2!$A$22:$B$25,2,FALSE))","v":6.6492200000000001E-2},{"$f":"IF(F1063=1,\"0\",VLOOKUP(F1063,coefficient2!$A$28:$B$31,2,FALSE))","v":5.8085699999999997E-2},0.54560719999999996]
[24333,2,4,3,3,3,15,{"$f":"IF(B1064=1,\"0\",VLOOKUP(B1064,coefficient2!$A$4:$B$7,2,FALSE))","v":6.6127000000000005E-2},{"$f":"IF(C1064=1,\"0\",VLOOKUP(C1064,coefficient2!$A$10:$B$13,2,FALSE))","v":0.19249050000000001},{"$f":"IF(D1064=1,\"0\",VLOOKUP(D1064,coefficient2!$A$16:$B$19,2,FALSE))","v":7.1197399999999994E-2},{"$f":"IF(E1064=1,\"0\",VLOOKUP(E1064,coefficient2!$A$22:$B$25,2,FALSE))","v":6.6492200000000001E-2},{"$f":"IF(F1064=1,\"0\",VLOOKUP(F1064,coefficient2!$A$28:$B$31,2,FALSE))","v":9.5753900000000003E-2},0.50793899999999992]
[24334,2,4,3,3,4,16,{"$f":"IF(B1065=1,\"0\",VLOOKUP(B1065,coefficient2!$A$4:$B$7,2,FALSE))","v":6.6127000000000005E-2},{"$f":"IF(C1065=1,\"0\",VLOOKUP(C1065,coefficient2!$A$10:$B$13,2,FALSE))","v":0.19249050000000001},{"$f":"IF(D1065=1,\"0\",VLOOKUP(D1065,coefficient2!$A$16:$B$19,2,FALSE))","v":7.1197399999999994E-2},{"$f":"IF(E1065=1,\"0\",VLOOKUP(E1065,coefficient2!$A$22:$B$25,2,FALSE))","v":6.6492200000000001E-2},{"$f":"IF(F1065=1,\"0\",VLOOKUP(F1065,coefficient2!$A$28:$B$31,2,FALSE))","v":0.23270360000000001},0.37098929999999997]
[24335,2,4,3,3,5,17,{"$f":"IF(B1066=1,\"0\",VLOOKUP(B1066,coefficient2!$A$4:$B$7,2,FALSE))","v":6.6127000000000005E-2},{"$f":"IF(C1066=1,\"0\",VLOOKUP(C1066,coefficient2!$A$10:$B$13,2,FALSE))","v":0.19249050000000001},{"$f":"IF(D1066=1,\"0\",VLOOKUP(D1066,coefficient2!$A$16:$B$19,2,FALSE))","v":7.1197399999999994E-2},{"$f":"IF(E1066=1,\"0\",VLOOKUP(E1066,coefficient2!$A$22:$B$25,2,FALSE))","v":6.6492200000000001E-2},{"$f":"IF(F1066=1,\"0\",VLOOKUP(F1066,coefficient2!$A$28:$B$31,2,FALSE))","v":0.29534929999999998},0.3083436]
[24341,2,4,3,4,1,14,{"$f":"IF(B1067=1,\"0\",VLOOKUP(B1067,coefficient2!$A$4:$B$7,2,FALSE))","v":6.6127000000000005E-2},{"$f":"IF(C1067=1,\"0\",VLOOKUP(C1067,coefficient2!$A$10:$B$13,2,FALSE))","v":0.19249050000000001},{"$f":"IF(D1067=1,\"0\",VLOOKUP(D1067,coefficient2!$A$16:$B$19,2,FALSE))","v":7.1197399999999994E-2},{"$f":"IF(E1067=1,\"0\",VLOOKUP(E1067,coefficient2!$A$22:$B$25,2,FALSE))","v":0.2068864},{"$f":"IF(F1067=1,\"0\",VLOOKUP(F1067,coefficient2!$A$28:$B$31,2,FALSE))","v":"0"},0.46329869999999995]
[24342,2,4,3,4,2,15,{"$f":"IF(B1068=1,\"0\",VLOOKUP(B1068,coefficient2!$A$4:$B$7,2,FALSE))","v":6.6127000000000005E-2},{"$f":"IF(C1068=1,\"0\",VLOOKUP(C1068,coefficient2!$A$10:$B$13,2,FALSE))","v":0.19249050000000001},{"$f":"IF(D1068=1,\"0\",VLOOKUP(D1068,coefficient2!$A$16:$B$19,2,FALSE))","v":7.1197399999999994E-2},{"$f":"IF(E1068=1,\"0\",VLOOKUP(E1068,coefficient2!$A$22:$B$25,2,FALSE))","v":0.2068864},{"$f":"IF(F1068=1,\"0\",VLOOKUP(F1068,coefficient2!$A$28:$B$31,2,FALSE))","v":5.8085699999999997E-2},0.40521299999999993]
[24343,2,4,3,4,3,16,{"$f":"IF(B1069=1,\"0\",VLOOKUP(B1069,coefficient2!$A$4:$B$7,2,FALSE))","v":6.6127000000000005E-2},{"$f":"IF(C1069=1,\"0\",VLOOKUP(C1069,coefficient2!$A$10:$B$13,2,FALSE))","v":0.19249050000000001},{"$f":"IF(D1069=1,\"0\",VLOOKUP(D1069,coefficient2!$A$16:$B$19,2,FALSE))","v":7.1197399999999994E-2},{"$f":"IF(E1069=1,\"0\",VLOOKUP(E1069,coefficient2!$A$22:$B$25,2,FALSE))","v":0.2068864},{"$f":"IF(F1069=1,\"0\",VLOOKUP(F1069,coefficient2!$A$28:$B$31,2,FALSE))","v":9.5753900000000003E-2},0.36754479999999995]
[24344,2,4,3,4,4,17,{"$f":"IF(B1070=1,\"0\",VLOOKUP(B1070,coefficient2!$A$4:$B$7,2,FALSE))","v":6.6127000000000005E-2},{"$f":"IF(C1070=1,\"0\",VLOOKUP(C1070,coefficient2!$A$10:$B$13,2,FALSE))","v":0.19249050000000001},{"$f":"IF(D1070=1,\"0\",VLOOKUP(D1070,coefficient2!$A$16:$B$19,2,FALSE))","v":7.1197399999999994E-2},{"$f":"IF(E1070=1,\"0\",VLOOKUP(E1070,coefficient2!$A$22:$B$25,2,FALSE))","v":0.2068864},{"$f":"IF(F1070=1,\"0\",VLOOKUP(F1070,coefficient2!$A$28:$B$31,2,FALSE))","v":0.23270360000000001},0.23059509999999994]
[24345,2,4,3,4,5,18,{"$f":"IF(B1071=1,\"0\",VLOOKUP(B1071,coefficient2!$A$4:$B$7,2,FALSE))","v":6.6127000000000005E-2},{"$f":"IF(C1071=1,\"0\",VLOOKUP(C1071,coefficient2!$A$10:$B$13,2,FALSE))","v":0.19249050000000001},{"$f":"IF(D1071=1,\"0\",VLOOKUP(D1071,coefficient2!$A$16:$B$19,2,FALSE))","v":7.1197399999999994E-2},{"$f":"IF(E1071=1,\"0\",VLOOKUP(E1071,coefficient2!$A$22:$B$25,2,FALSE))","v":0.2068864},{"$f":"IF(F1071=1,\"0\",VLOOKUP(F1071,coefficient2!$A$28:$B$31,2,FALSE))","v":0.29534929999999998},0.16794939999999997]
[24351,2,4,3,5,1,15,{"$f":"IF(B1072=1,\"0\",VLOOKUP(B1072,coefficient2!$A$4:$B$7,2,FALSE))","v":6.6127000000000005E-2},{"$f":"IF(C1072=1,\"0\",VLOOKUP(C1072,coefficient2!$A$10:$B$13,2,FALSE))","v":0.19249050000000001},{"$f":"IF(D1072=1,\"0\",VLOOKUP(D1072,coefficient2!$A$16:$B$19,2,FALSE))","v":7.1197399999999994E-2},{"$f":"IF(E1072=1,\"0\",VLOOKUP(E1072,coefficient2!$A$22:$B$25,2,FALSE))","v":0.25643310000000002},{"$f":"IF(F1072=1,\"0\",VLOOKUP(F1072,coefficient2!$A$28:$B$31,2,FALSE))","v":"0"},0.41375199999999995]
[24352,2,4,3,5,2,16,{"$f":"IF(B1073=1,\"0\",VLOOKUP(B1073,coefficient2!$A$4:$B$7,2,FALSE))","v":6.6127000000000005E-2},{"$f":"IF(C1073=1,\"0\",VLOOKUP(C1073,coefficient2!$A$10:$B$13,2,FALSE))","v":0.19249050000000001},{"$f":"IF(D1073=1,\"0\",VLOOKUP(D1073,coefficient2!$A$16:$B$19,2,FALSE))","v":7.1197399999999994E-2},{"$f":"IF(E1073=1,\"0\",VLOOKUP(E1073,coefficient2!$A$22:$B$25,2,FALSE))","v":0.25643310000000002},{"$f":"IF(F1073=1,\"0\",VLOOKUP(F1073,coefficient2!$A$28:$B$31,2,FALSE))","v":5.8085699999999997E-2},0.35566629999999994]
[24353,2,4,3,5,3,17,{"$f":"IF(B1074=1,\"0\",VLOOKUP(B1074,coefficient2!$A$4:$B$7,2,FALSE))","v":6.6127000000000005E-2},{"$f":"IF(C1074=1,\"0\",VLOOKUP(C1074,coefficient2!$A$10:$B$13,2,FALSE))","v":0.19249050000000001},{"$f":"IF(D1074=1,\"0\",VLOOKUP(D1074,coefficient2!$A$16:$B$19,2,FALSE))","v":7.1197399999999994E-2},{"$f":"IF(E1074=1,\"0\",VLOOKUP(E1074,coefficient2!$A$22:$B$25,2,FALSE))","v":0.25643310000000002},{"$f":"IF(F1074=1,\"0\",VLOOKUP(F1074,coefficient2!$A$28:$B$31,2,FALSE))","v":9.5753900000000003E-2},0.31799809999999995]
[24354,2,4,3,5,4,18,{"$f":"IF(B1075=1,\"0\",VLOOKUP(B1075,coefficient2!$A$4:$B$7,2,FALSE))","v":6.6127000000000005E-2},{"$f":"IF(C1075=1,\"0\",VLOOKUP(C1075,coefficient2!$A$10:$B$13,2,FALSE))","v":0.19249050000000001},{"$f":"IF(D1075=1,\"0\",VLOOKUP(D1075,coefficient2!$A$16:$B$19,2,FALSE))","v":7.1197399999999994E-2},{"$f":"IF(E1075=1,\"0\",VLOOKUP(E1075,coefficient2!$A$22:$B$25,2,FALSE))","v":0.25643310000000002},{"$f":"IF(F1075=1,\"0\",VLOOKUP(F1075,coefficient2!$A$28:$B$31,2,FALSE))","v":0.23270360000000001},0.18104839999999994]
[24355,2,4,3,5,5,19,{"$f":"IF(B1076=1,\"0\",VLOOKUP(B1076,coefficient2!$A$4:$B$7,2,FALSE))","v":6.6127000000000005E-2},{"$f":"IF(C1076=1,\"0\",VLOOKUP(C1076,coefficient2!$A$10:$B$13,2,FALSE))","v":0.19249050000000001},{"$f":"IF(D1076=1,\"0\",VLOOKUP(D1076,coefficient2!$A$16:$B$19,2,FALSE))","v":7.1197399999999994E-2},{"$f":"IF(E1076=1,\"0\",VLOOKUP(E1076,coefficient2!$A$22:$B$25,2,FALSE))","v":0.25643310000000002},{"$f":"IF(F1076=1,\"0\",VLOOKUP(F1076,coefficient2!$A$28:$B$31,2,FALSE))","v":0.29534929999999998},0.11840269999999997]
[24411,2,4,4,1,1,12,{"$f":"IF(B1077=1,\"0\",VLOOKUP(B1077,coefficient2!$A$4:$B$7,2,FALSE))","v":6.6127000000000005E-2},{"$f":"IF(C1077=1,\"0\",VLOOKUP(C1077,coefficient2!$A$10:$B$13,2,FALSE))","v":0.19249050000000001},{"$f":"IF(D1077=1,\"0\",VLOOKUP(D1077,coefficient2!$A$16:$B$19,2,FALSE))","v":0.1534855},{"$f":"IF(E1077=1,\"0\",VLOOKUP(E1077,coefficient2!$A$22:$B$25,2,FALSE))","v":"0"},{"$f":"IF(F1077=1,\"0\",VLOOKUP(F1077,coefficient2!$A$28:$B$31,2,FALSE))","v":"0"},0.58789699999999989]
[24412,2,4,4,1,2,13,{"$f":"IF(B1078=1,\"0\",VLOOKUP(B1078,coefficient2!$A$4:$B$7,2,FALSE))","v":6.6127000000000005E-2},{"$f":"IF(C1078=1,\"0\",VLOOKUP(C1078,coefficient2!$A$10:$B$13,2,FALSE))","v":0.19249050000000001},{"$f":"IF(D1078=1,\"0\",VLOOKUP(D1078,coefficient2!$A$16:$B$19,2,FALSE))","v":0.1534855},{"$f":"IF(E1078=1,\"0\",VLOOKUP(E1078,coefficient2!$A$22:$B$25,2,FALSE))","v":"0"},{"$f":"IF(F1078=1,\"0\",VLOOKUP(F1078,coefficient2!$A$28:$B$31,2,FALSE))","v":5.8085699999999997E-2},0.52981129999999987]
[24413,2,4,4,1,3,14,{"$f":"IF(B1079=1,\"0\",VLOOKUP(B1079,coefficient2!$A$4:$B$7,2,FALSE))","v":6.6127000000000005E-2},{"$f":"IF(C1079=1,\"0\",VLOOKUP(C1079,coefficient2!$A$10:$B$13,2,FALSE))","v":0.19249050000000001},{"$f":"IF(D1079=1,\"0\",VLOOKUP(D1079,coefficient2!$A$16:$B$19,2,FALSE))","v":0.1534855},{"$f":"IF(E1079=1,\"0\",VLOOKUP(E1079,coefficient2!$A$22:$B$25,2,FALSE))","v":"0"},{"$f":"IF(F1079=1,\"0\",VLOOKUP(F1079,coefficient2!$A$28:$B$31,2,FALSE))","v":9.5753900000000003E-2},0.49214309999999989]
[24414,2,4,4,1,4,15,{"$f":"IF(B1080=1,\"0\",VLOOKUP(B1080,coefficient2!$A$4:$B$7,2,FALSE))","v":6.6127000000000005E-2},{"$f":"IF(C1080=1,\"0\",VLOOKUP(C1080,coefficient2!$A$10:$B$13,2,FALSE))","v":0.19249050000000001},{"$f":"IF(D1080=1,\"0\",VLOOKUP(D1080,coefficient2!$A$16:$B$19,2,FALSE))","v":0.1534855},{"$f":"IF(E1080=1,\"0\",VLOOKUP(E1080,coefficient2!$A$22:$B$25,2,FALSE))","v":"0"},{"$f":"IF(F1080=1,\"0\",VLOOKUP(F1080,coefficient2!$A$28:$B$31,2,FALSE))","v":0.23270360000000001},0.35519339999999988]
[24415,2,4,4,1,5,16,{"$f":"IF(B1081=1,\"0\",VLOOKUP(B1081,coefficient2!$A$4:$B$7,2,FALSE))","v":6.6127000000000005E-2},{"$f":"IF(C1081=1,\"0\",VLOOKUP(C1081,coefficient2!$A$10:$B$13,2,FALSE))","v":0.19249050000000001},{"$f":"IF(D1081=1,\"0\",VLOOKUP(D1081,coefficient2!$A$16:$B$19,2,FALSE))","v":0.1534855},{"$f":"IF(E1081=1,\"0\",VLOOKUP(E1081,coefficient2!$A$22:$B$25,2,FALSE))","v":"0"},{"$f":"IF(F1081=1,\"0\",VLOOKUP(F1081,coefficient2!$A$28:$B$31,2,FALSE))","v":0.29534929999999998},0.29254769999999991]
[24421,2,4,4,2,1,13,{"$f":"IF(B1082=1,\"0\",VLOOKUP(B1082,coefficient2!$A$4:$B$7,2,FALSE))","v":6.6127000000000005E-2},{"$f":"IF(C1082=1,\"0\",VLOOKUP(C1082,coefficient2!$A$10:$B$13,2,FALSE))","v":0.19249050000000001},{"$f":"IF(D1082=1,\"0\",VLOOKUP(D1082,coefficient2!$A$16:$B$19,2,FALSE))","v":0.1534855},{"$f":"IF(E1082=1,\"0\",VLOOKUP(E1082,coefficient2!$A$22:$B$25,2,FALSE))","v":5.63998E-2},{"$f":"IF(F1082=1,\"0\",VLOOKUP(F1082,coefficient2!$A$28:$B$31,2,FALSE))","v":"0"},0.53149719999999989]
[24422,2,4,4,2,2,14,{"$f":"IF(B1083=1,\"0\",VLOOKUP(B1083,coefficient2!$A$4:$B$7,2,FALSE))","v":6.6127000000000005E-2},{"$f":"IF(C1083=1,\"0\",VLOOKUP(C1083,coefficient2!$A$10:$B$13,2,FALSE))","v":0.19249050000000001},{"$f":"IF(D1083=1,\"0\",VLOOKUP(D1083,coefficient2!$A$16:$B$19,2,FALSE))","v":0.1534855},{"$f":"IF(E1083=1,\"0\",VLOOKUP(E1083,coefficient2!$A$22:$B$25,2,FALSE))","v":5.63998E-2},{"$f":"IF(F1083=1,\"0\",VLOOKUP(F1083,coefficient2!$A$28:$B$31,2,FALSE))","v":5.8085699999999997E-2},0.47341149999999987]
[24423,2,4,4,2,3,15,{"$f":"IF(B1084=1,\"0\",VLOOKUP(B1084,coefficient2!$A$4:$B$7,2,FALSE))","v":6.6127000000000005E-2},{"$f":"IF(C1084=1,\"0\",VLOOKUP(C1084,coefficient2!$A$10:$B$13,2,FALSE))","v":0.19249050000000001},{"$f":"IF(D1084=1,\"0\",VLOOKUP(D1084,coefficient2!$A$16:$B$19,2,FALSE))","v":0.1534855},{"$f":"IF(E1084=1,\"0\",VLOOKUP(E1084,coefficient2!$A$22:$B$25,2,FALSE))","v":5.63998E-2},{"$f":"IF(F1084=1,\"0\",VLOOKUP(F1084,coefficient2!$A$28:$B$31,2,FALSE))","v":9.5753900000000003E-2},0.43574329999999989]
[24424,2,4,4,2,4,16,{"$f":"IF(B1085=1,\"0\",VLOOKUP(B1085,coefficient2!$A$4:$B$7,2,FALSE))","v":6.6127000000000005E-2},{"$f":"IF(C1085=1,\"0\",VLOOKUP(C1085,coefficient2!$A$10:$B$13,2,FALSE))","v":0.19249050000000001},{"$f":"IF(D1085=1,\"0\",VLOOKUP(D1085,coefficient2!$A$16:$B$19,2,FALSE))","v":0.1534855},{"$f":"IF(E1085=1,\"0\",VLOOKUP(E1085,coefficient2!$A$22:$B$25,2,FALSE))","v":5.63998E-2},{"$f":"IF(F1085=1,\"0\",VLOOKUP(F1085,coefficient2!$A$28:$B$31,2,FALSE))","v":0.23270360000000001},0.29879359999999988]
[24425,2,4,4,2,5,17,{"$f":"IF(B1086=1,\"0\",VLOOKUP(B1086,coefficient2!$A$4:$B$7,2,FALSE))","v":6.6127000000000005E-2},{"$f":"IF(C1086=1,\"0\",VLOOKUP(C1086,coefficient2!$A$10:$B$13,2,FALSE))","v":0.19249050000000001},{"$f":"IF(D1086=1,\"0\",VLOOKUP(D1086,coefficient2!$A$16:$B$19,2,FALSE))","v":0.1534855},{"$f":"IF(E1086=1,\"0\",VLOOKUP(E1086,coefficient2!$A$22:$B$25,2,FALSE))","v":5.63998E-2},{"$f":"IF(F1086=1,\"0\",VLOOKUP(F1086,coefficient2!$A$28:$B$31,2,FALSE))","v":0.29534929999999998},0.23614789999999991]
[24431,2,4,4,3,1,14,{"$f":"IF(B1087=1,\"0\",VLOOKUP(B1087,coefficient2!$A$4:$B$7,2,FALSE))","v":6.6127000000000005E-2},{"$f":"IF(C1087=1,\"0\",VLOOKUP(C1087,coefficient2!$A$10:$B$13,2,FALSE))","v":0.19249050000000001},{"$f":"IF(D1087=1,\"0\",VLOOKUP(D1087,coefficient2!$A$16:$B$19,2,FALSE))","v":0.1534855},{"$f":"IF(E1087=1,\"0\",VLOOKUP(E1087,coefficient2!$A$22:$B$25,2,FALSE))","v":6.6492200000000001E-2},{"$f":"IF(F1087=1,\"0\",VLOOKUP(F1087,coefficient2!$A$28:$B$31,2,FALSE))","v":"0"},0.52140479999999989]
[24432,2,4,4,3,2,15,{"$f":"IF(B1088=1,\"0\",VLOOKUP(B1088,coefficient2!$A$4:$B$7,2,FALSE))","v":6.6127000000000005E-2},{"$f":"IF(C1088=1,\"0\",VLOOKUP(C1088,coefficient2!$A$10:$B$13,2,FALSE))","v":0.19249050000000001},{"$f":"IF(D1088=1,\"0\",VLOOKUP(D1088,coefficient2!$A$16:$B$19,2,FALSE))","v":0.1534855},{"$f":"IF(E1088=1,\"0\",VLOOKUP(E1088,coefficient2!$A$22:$B$25,2,FALSE))","v":6.6492200000000001E-2},{"$f":"IF(F1088=1,\"0\",VLOOKUP(F1088,coefficient2!$A$28:$B$31,2,FALSE))","v":5.8085699999999997E-2},0.46331909999999987]
[24433,2,4,4,3,3,16,{"$f":"IF(B1089=1,\"0\",VLOOKUP(B1089,coefficient2!$A$4:$B$7,2,FALSE))","v":6.6127000000000005E-2},{"$f":"IF(C1089=1,\"0\",VLOOKUP(C1089,coefficient2!$A$10:$B$13,2,FALSE))","v":0.19249050000000001},{"$f":"IF(D1089=1,\"0\",VLOOKUP(D1089,coefficient2!$A$16:$B$19,2,FALSE))","v":0.1534855},{"$f":"IF(E1089=1,\"0\",VLOOKUP(E1089,coefficient2!$A$22:$B$25,2,FALSE))","v":6.6492200000000001E-2},{"$f":"IF(F1089=1,\"0\",VLOOKUP(F1089,coefficient2!$A$28:$B$31,2,FALSE))","v":9.5753900000000003E-2},0.42565089999999989]
[24434,2,4,4,3,4,17,{"$f":"IF(B1090=1,\"0\",VLOOKUP(B1090,coefficient2!$A$4:$B$7,2,FALSE))","v":6.6127000000000005E-2},{"$f":"IF(C1090=1,\"0\",VLOOKUP(C1090,coefficient2!$A$10:$B$13,2,FALSE))","v":0.19249050000000001},{"$f":"IF(D1090=1,\"0\",VLOOKUP(D1090,coefficient2!$A$16:$B$19,2,FALSE))","v":0.1534855},{"$f":"IF(E1090=1,\"0\",VLOOKUP(E1090,coefficient2!$A$22:$B$25,2,FALSE))","v":6.6492200000000001E-2},{"$f":"IF(F1090=1,\"0\",VLOOKUP(F1090,coefficient2!$A$28:$B$31,2,FALSE))","v":0.23270360000000001},{"$f":"1-H1090-I1090-J1090-K1090-L1090","v":0.28870119999999988}]
[24435,{"$f":"INT(LEFT(A1091,1))","v":2},{"$f":"INT(MID(A1091,2,1))","v":4},{"$f":"INT(MID(A1091,3,1))","v":4},{"$f":"INT(MID(A1091,4,1))","v":3},{"$f":"INT(RIGHT(A1091,1))","v":5},{"$f":"SUM(B1091:F1091)","v":18},{"$f":"IF(B1091=1,\"0\",VLOOKUP(B1091,coefficient2!$A$4:$B$7,2,FALSE))","v":6.6127000000000005E-2},{"$f":"IF(C1091=1,\"0\",VLOOKUP(C1091,coefficient2!$A$10:$B$13,2,FALSE))","v":0.19249050000000001},{"$f":"IF(D1091=1,\"0\",VLOOKUP(D1091,coefficient2!$A$16:$B$19,2,FALSE))","v":0.1534855},{"$f":"IF(E1091=1,\"0\",VLOOKUP(E1091,coefficient2!$A$22:$B$25,2,FALSE))","v":6.6492200000000001E-2},{"$f":"IF(F1091=1,\"0\",VLOOKUP(F1091,coefficient2!$A$28:$B$31,2,FALSE))","v":0.29534929999999998},0.22605549999999991]
[24441,2,4,4,4,1,15,{"$f":"IF(B1092=1,\"0\",VLOOKUP(B1092,coefficient2!$A$4:$B$7,2,FALSE))","v":6.6127000000000005E-2},{"$f":"IF(C1092=1,\"0\",VLOOKUP(C1092,coefficient2!$A$10:$B$13,2,FALSE))","v":0.19249050000000001},{"$f":"IF(D1092=1,\"0\",VLOOKUP(D1092,coefficient2!$A$16:$B$19,2,FALSE))","v":0.1534855},{"$f":"IF(E1092=1,\"0\",VLOOKUP(E1092,coefficient2!$A$22:$B$25,2,FALSE))","v":0.2068864},{"$f":"IF(F1092=1,\"0\",VLOOKUP(F1092,coefficient2!$A$28:$B$31,2,FALSE))","v":"0"},0.38101059999999987]
[24442,2,4,4,4,2,16,{"$f":"IF(B1093=1,\"0\",VLOOKUP(B1093,coefficient2!$A$4:$B$7,2,FALSE))","v":6.6127000000000005E-2},{"$f":"IF(C1093=1,\"0\",VLOOKUP(C1093,coefficient2!$A$10:$B$13,2,FALSE))","v":0.19249050000000001},{"$f":"IF(D1093=1,\"0\",VLOOKUP(D1093,coefficient2!$A$16:$B$19,2,FALSE))","v":0.1534855},{"$f":"IF(E1093=1,\"0\",VLOOKUP(E1093,coefficient2!$A$22:$B$25,2,FALSE))","v":0.2068864},{"$f":"IF(F1093=1,\"0\",VLOOKUP(F1093,coefficient2!$A$28:$B$31,2,FALSE))","v":5.8085699999999997E-2},0.32292489999999985]
[24443,2,4,4,4,3,17,{"$f":"IF(B1094=1,\"0\",VLOOKUP(B1094,coefficient2!$A$4:$B$7,2,FALSE))","v":6.6127000000000005E-2},{"$f":"IF(C1094=1,\"0\",VLOOKUP(C1094,coefficient2!$A$10:$B$13,2,FALSE))","v":0.19249050000000001},{"$f":"IF(D1094=1,\"0\",VLOOKUP(D1094,coefficient2!$A$16:$B$19,2,FALSE))","v":0.1534855},{"$f":"IF(E1094=1,\"0\",VLOOKUP(E1094,coefficient2!$A$22:$B$25,2,FALSE))","v":0.2068864},{"$f":"IF(F1094=1,\"0\",VLOOKUP(F1094,coefficient2!$A$28:$B$31,2,FALSE))","v":9.5753900000000003E-2},0.28525669999999986]
[24444,2,4,4,4,4,18,{"$f":"IF(B1095=1,\"0\",VLOOKUP(B1095,coefficient2!$A$4:$B$7,2,FALSE))","v":6.6127000000000005E-2},{"$f":"IF(C1095=1,\"0\",VLOOKUP(C1095,coefficient2!$A$10:$B$13,2,FALSE))","v":0.19249050000000001},{"$f":"IF(D1095=1,\"0\",VLOOKUP(D1095,coefficient2!$A$16:$B$19,2,FALSE))","v":0.1534855},{"$f":"IF(E1095=1,\"0\",VLOOKUP(E1095,coefficient2!$A$22:$B$25,2,FALSE))","v":0.2068864},{"$f":"IF(F1095=1,\"0\",VLOOKUP(F1095,coefficient2!$A$28:$B$31,2,FALSE))","v":0.23270360000000001},0.14830699999999986]
[24445,2,4,4,4,5,19,{"$f":"IF(B1096=1,\"0\",VLOOKUP(B1096,coefficient2!$A$4:$B$7,2,FALSE))","v":6.6127000000000005E-2},{"$f":"IF(C1096=1,\"0\",VLOOKUP(C1096,coefficient2!$A$10:$B$13,2,FALSE))","v":0.19249050000000001},{"$f":"IF(D1096=1,\"0\",VLOOKUP(D1096,coefficient2!$A$16:$B$19,2,FALSE))","v":0.1534855},{"$f":"IF(E1096=1,\"0\",VLOOKUP(E1096,coefficient2!$A$22:$B$25,2,FALSE))","v":0.2068864},{"$f":"IF(F1096=1,\"0\",VLOOKUP(F1096,coefficient2!$A$28:$B$31,2,FALSE))","v":0.29534929999999998},8.5661299999999885E-2]
[24451,2,4,4,5,1,16,{"$f":"IF(B1097=1,\"0\",VLOOKUP(B1097,coefficient2!$A$4:$B$7,2,FALSE))","v":6.6127000000000005E-2},{"$f":"IF(C1097=1,\"0\",VLOOKUP(C1097,coefficient2!$A$10:$B$13,2,FALSE))","v":0.19249050000000001},{"$f":"IF(D1097=1,\"0\",VLOOKUP(D1097,coefficient2!$A$16:$B$19,2,FALSE))","v":0.1534855},{"$f":"IF(E1097=1,\"0\",VLOOKUP(E1097,coefficient2!$A$22:$B$25,2,FALSE))","v":0.25643310000000002},{"$f":"IF(F1097=1,\"0\",VLOOKUP(F1097,coefficient2!$A$28:$B$31,2,FALSE))","v":"0"},0.33146389999999987]
[24452,2,4,4,5,2,17,{"$f":"IF(B1098=1,\"0\",VLOOKUP(B1098,coefficient2!$A$4:$B$7,2,FALSE))","v":6.6127000000000005E-2},{"$f":"IF(C1098=1,\"0\",VLOOKUP(C1098,coefficient2!$A$10:$B$13,2,FALSE))","v":0.19249050000000001},{"$f":"IF(D1098=1,\"0\",VLOOKUP(D1098,coefficient2!$A$16:$B$19,2,FALSE))","v":0.1534855},{"$f":"IF(E1098=1,\"0\",VLOOKUP(E1098,coefficient2!$A$22:$B$25,2,FALSE))","v":0.25643310000000002},{"$f":"IF(F1098=1,\"0\",VLOOKUP(F1098,coefficient2!$A$28:$B$31,2,FALSE))","v":5.8085699999999997E-2},0.27337819999999985]
[24453,2,4,4,5,3,18,{"$f":"IF(B1099=1,\"0\",VLOOKUP(B1099,coefficient2!$A$4:$B$7,2,FALSE))","v":6.6127000000000005E-2},{"$f":"IF(C1099=1,\"0\",VLOOKUP(C1099,coefficient2!$A$10:$B$13,2,FALSE))","v":0.19249050000000001},{"$f":"IF(D1099=1,\"0\",VLOOKUP(D1099,coefficient2!$A$16:$B$19,2,FALSE))","v":0.1534855},{"$f":"IF(E1099=1,\"0\",VLOOKUP(E1099,coefficient2!$A$22:$B$25,2,FALSE))","v":0.25643310000000002},{"$f":"IF(F1099=1,\"0\",VLOOKUP(F1099,coefficient2!$A$28:$B$31,2,FALSE))","v":9.5753900000000003E-2},0.23570999999999986]
[24454,2,4,4,5,4,19,{"$f":"IF(B1100=1,\"0\",VLOOKUP(B1100,coefficient2!$A$4:$B$7,2,FALSE))","v":6.6127000000000005E-2},{"$f":"IF(C1100=1,\"0\",VLOOKUP(C1100,coefficient2!$A$10:$B$13,2,FALSE))","v":0.19249050000000001},{"$f":"IF(D1100=1,\"0\",VLOOKUP(D1100,coefficient2!$A$16:$B$19,2,FALSE))","v":0.1534855},{"$f":"IF(E1100=1,\"0\",VLOOKUP(E1100,coefficient2!$A$22:$B$25,2,FALSE))","v":0.25643310000000002},{"$f":"IF(F1100=1,\"0\",VLOOKUP(F1100,coefficient2!$A$28:$B$31,2,FALSE))","v":0.23270360000000001},9.8760299999999857E-2]
[24455,2,4,4,5,5,20,{"$f":"IF(B1101=1,\"0\",VLOOKUP(B1101,coefficient2!$A$4:$B$7,2,FALSE))","v":6.6127000000000005E-2},{"$f":"IF(C1101=1,\"0\",VLOOKUP(C1101,coefficient2!$A$10:$B$13,2,FALSE))","v":0.19249050000000001},{"$f":"IF(D1101=1,\"0\",VLOOKUP(D1101,coefficient2!$A$16:$B$19,2,FALSE))","v":0.1534855},{"$f":"IF(E1101=1,\"0\",VLOOKUP(E1101,coefficient2!$A$22:$B$25,2,FALSE))","v":0.25643310000000002},{"$f":"IF(F1101=1,\"0\",VLOOKUP(F1101,coefficient2!$A$28:$B$31,2,FALSE))","v":0.29534929999999998},3.6114599999999886E-2]
[24511,2,4,5,1,1,13,{"$f":"IF(B1102=1,\"0\",VLOOKUP(B1102,coefficient2!$A$4:$B$7,2,FALSE))","v":6.6127000000000005E-2},{"$f":"IF(C1102=1,\"0\",VLOOKUP(C1102,coefficient2!$A$10:$B$13,2,FALSE))","v":0.19249050000000001},{"$f":"IF(D1102=1,\"0\",VLOOKUP(D1102,coefficient2!$A$16:$B$19,2,FALSE))","v":0.248331},{"$f":"IF(E1102=1,\"0\",VLOOKUP(E1102,coefficient2!$A$22:$B$25,2,FALSE))","v":"0"},{"$f":"IF(F1102=1,\"0\",VLOOKUP(F1102,coefficient2!$A$28:$B$31,2,FALSE))","v":"0"},0.49305149999999998]
[24512,2,4,5,1,2,14,{"$f":"IF(B1103=1,\"0\",VLOOKUP(B1103,coefficient2!$A$4:$B$7,2,FALSE))","v":6.6127000000000005E-2},{"$f":"IF(C1103=1,\"0\",VLOOKUP(C1103,coefficient2!$A$10:$B$13,2,FALSE))","v":0.19249050000000001},{"$f":"IF(D1103=1,\"0\",VLOOKUP(D1103,coefficient2!$A$16:$B$19,2,FALSE))","v":0.248331},{"$f":"IF(E1103=1,\"0\",VLOOKUP(E1103,coefficient2!$A$22:$B$25,2,FALSE))","v":"0"},{"$f":"IF(F1103=1,\"0\",VLOOKUP(F1103,coefficient2!$A$28:$B$31,2,FALSE))","v":5.8085699999999997E-2},0.43496579999999996]
[24513,2,4,5,1,3,15,{"$f":"IF(B1104=1,\"0\",VLOOKUP(B1104,coefficient2!$A$4:$B$7,2,FALSE))","v":6.6127000000000005E-2},{"$f":"IF(C1104=1,\"0\",VLOOKUP(C1104,coefficient2!$A$10:$B$13,2,FALSE))","v":0.19249050000000001},{"$f":"IF(D1104=1,\"0\",VLOOKUP(D1104,coefficient2!$A$16:$B$19,2,FALSE))","v":0.248331},{"$f":"IF(E1104=1,\"0\",VLOOKUP(E1104,coefficient2!$A$22:$B$25,2,FALSE))","v":"0"},{"$f":"IF(F1104=1,\"0\",VLOOKUP(F1104,coefficient2!$A$28:$B$31,2,FALSE))","v":9.5753900000000003E-2},0.39729759999999997]
[24514,2,4,5,1,4,16,{"$f":"IF(B1105=1,\"0\",VLOOKUP(B1105,coefficient2!$A$4:$B$7,2,FALSE))","v":6.6127000000000005E-2},{"$f":"IF(C1105=1,\"0\",VLOOKUP(C1105,coefficient2!$A$10:$B$13,2,FALSE))","v":0.19249050000000001},{"$f":"IF(D1105=1,\"0\",VLOOKUP(D1105,coefficient2!$A$16:$B$19,2,FALSE))","v":0.248331},{"$f":"IF(E1105=1,\"0\",VLOOKUP(E1105,coefficient2!$A$22:$B$25,2,FALSE))","v":"0"},{"$f":"IF(F1105=1,\"0\",VLOOKUP(F1105,coefficient2!$A$28:$B$31,2,FALSE))","v":0.23270360000000001},0.26034789999999997]
[24515,2,4,5,1,5,17,{"$f":"IF(B1106=1,\"0\",VLOOKUP(B1106,coefficient2!$A$4:$B$7,2,FALSE))","v":6.6127000000000005E-2},{"$f":"IF(C1106=1,\"0\",VLOOKUP(C1106,coefficient2!$A$10:$B$13,2,FALSE))","v":0.19249050000000001},{"$f":"IF(D1106=1,\"0\",VLOOKUP(D1106,coefficient2!$A$16:$B$19,2,FALSE))","v":0.248331},{"$f":"IF(E1106=1,\"0\",VLOOKUP(E1106,coefficient2!$A$22:$B$25,2,FALSE))","v":"0"},{"$f":"IF(F1106=1,\"0\",VLOOKUP(F1106,coefficient2!$A$28:$B$31,2,FALSE))","v":0.29534929999999998},0.19770219999999999]
[24521,2,4,5,2,1,14,{"$f":"IF(B1107=1,\"0\",VLOOKUP(B1107,coefficient2!$A$4:$B$7,2,FALSE))","v":6.6127000000000005E-2},{"$f":"IF(C1107=1,\"0\",VLOOKUP(C1107,coefficient2!$A$10:$B$13,2,FALSE))","v":0.19249050000000001},{"$f":"IF(D1107=1,\"0\",VLOOKUP(D1107,coefficient2!$A$16:$B$19,2,FALSE))","v":0.248331},{"$f":"IF(E1107=1,\"0\",VLOOKUP(E1107,coefficient2!$A$22:$B$25,2,FALSE))","v":5.63998E-2},{"$f":"IF(F1107=1,\"0\",VLOOKUP(F1107,coefficient2!$A$28:$B$31,2,FALSE))","v":"0"},0.43665169999999998]
[24522,2,4,5,2,2,15,{"$f":"IF(B1108=1,\"0\",VLOOKUP(B1108,coefficient2!$A$4:$B$7,2,FALSE))","v":6.6127000000000005E-2},{"$f":"IF(C1108=1,\"0\",VLOOKUP(C1108,coefficient2!$A$10:$B$13,2,FALSE))","v":0.19249050000000001},{"$f":"IF(D1108=1,\"0\",VLOOKUP(D1108,coefficient2!$A$16:$B$19,2,FALSE))","v":0.248331},{"$f":"IF(E1108=1,\"0\",VLOOKUP(E1108,coefficient2!$A$22:$B$25,2,FALSE))","v":5.63998E-2},{"$f":"IF(F1108=1,\"0\",VLOOKUP(F1108,coefficient2!$A$28:$B$31,2,FALSE))","v":5.8085699999999997E-2},0.37856599999999996]
[24523,2,4,5,2,3,16,{"$f":"IF(B1109=1,\"0\",VLOOKUP(B1109,coefficient2!$A$4:$B$7,2,FALSE))","v":6.6127000000000005E-2},{"$f":"IF(C1109=1,\"0\",VLOOKUP(C1109,coefficient2!$A$10:$B$13,2,FALSE))","v":0.19249050000000001},{"$f":"IF(D1109=1,\"0\",VLOOKUP(D1109,coefficient2!$A$16:$B$19,2,FALSE))","v":0.248331},{"$f":"IF(E1109=1,\"0\",VLOOKUP(E1109,coefficient2!$A$22:$B$25,2,FALSE))","v":5.63998E-2},{"$f":"IF(F1109=1,\"0\",VLOOKUP(F1109,coefficient2!$A$28:$B$31,2,FALSE))","v":9.5753900000000003E-2},0.34089779999999997]
[24524,2,4,5,2,4,17,{"$f":"IF(B1110=1,\"0\",VLOOKUP(B1110,coefficient2!$A$4:$B$7,2,FALSE))","v":6.6127000000000005E-2},{"$f":"IF(C1110=1,\"0\",VLOOKUP(C1110,coefficient2!$A$10:$B$13,2,FALSE))","v":0.19249050000000001},{"$f":"IF(D1110=1,\"0\",VLOOKUP(D1110,coefficient2!$A$16:$B$19,2,FALSE))","v":0.248331},{"$f":"IF(E1110=1,\"0\",VLOOKUP(E1110,coefficient2!$A$22:$B$25,2,FALSE))","v":5.63998E-2},{"$f":"IF(F1110=1,\"0\",VLOOKUP(F1110,coefficient2!$A$28:$B$31,2,FALSE))","v":0.23270360000000001},0.20394809999999997]
[24525,2,4,5,2,5,18,{"$f":"IF(B1111=1,\"0\",VLOOKUP(B1111,coefficient2!$A$4:$B$7,2,FALSE))","v":6.6127000000000005E-2},{"$f":"IF(C1111=1,\"0\",VLOOKUP(C1111,coefficient2!$A$10:$B$13,2,FALSE))","v":0.19249050000000001},{"$f":"IF(D1111=1,\"0\",VLOOKUP(D1111,coefficient2!$A$16:$B$19,2,FALSE))","v":0.248331},{"$f":"IF(E1111=1,\"0\",VLOOKUP(E1111,coefficient2!$A$22:$B$25,2,FALSE))","v":5.63998E-2},{"$f":"IF(F1111=1,\"0\",VLOOKUP(F1111,coefficient2!$A$28:$B$31,2,FALSE))","v":0.29534929999999998},0.14130239999999999]
[24531,2,4,5,3,1,15,{"$f":"IF(B1112=1,\"0\",VLOOKUP(B1112,coefficient2!$A$4:$B$7,2,FALSE))","v":6.6127000000000005E-2},{"$f":"IF(C1112=1,\"0\",VLOOKUP(C1112,coefficient2!$A$10:$B$13,2,FALSE))","v":0.19249050000000001},{"$f":"IF(D1112=1,\"0\",VLOOKUP(D1112,coefficient2!$A$16:$B$19,2,FALSE))","v":0.248331},{"$f":"IF(E1112=1,\"0\",VLOOKUP(E1112,coefficient2!$A$22:$B$25,2,FALSE))","v":6.6492200000000001E-2},{"$f":"IF(F1112=1,\"0\",VLOOKUP(F1112,coefficient2!$A$28:$B$31,2,FALSE))","v":"0"},0.42655929999999997]
[24532,2,4,5,3,2,16,{"$f":"IF(B1113=1,\"0\",VLOOKUP(B1113,coefficient2!$A$4:$B$7,2,FALSE))","v":6.6127000000000005E-2},{"$f":"IF(C1113=1,\"0\",VLOOKUP(C1113,coefficient2!$A$10:$B$13,2,FALSE))","v":0.19249050000000001},{"$f":"IF(D1113=1,\"0\",VLOOKUP(D1113,coefficient2!$A$16:$B$19,2,FALSE))","v":0.248331},{"$f":"IF(E1113=1,\"0\",VLOOKUP(E1113,coefficient2!$A$22:$B$25,2,FALSE))","v":6.6492200000000001E-2},{"$f":"IF(F1113=1,\"0\",VLOOKUP(F1113,coefficient2!$A$28:$B$31,2,FALSE))","v":5.8085699999999997E-2},0.36847359999999996]
[24533,2,4,5,3,3,17,{"$f":"IF(B1114=1,\"0\",VLOOKUP(B1114,coefficient2!$A$4:$B$7,2,FALSE))","v":6.6127000000000005E-2},{"$f":"IF(C1114=1,\"0\",VLOOKUP(C1114,coefficient2!$A$10:$B$13,2,FALSE))","v":0.19249050000000001},{"$f":"IF(D1114=1,\"0\",VLOOKUP(D1114,coefficient2!$A$16:$B$19,2,FALSE))","v":0.248331},{"$f":"IF(E1114=1,\"0\",VLOOKUP(E1114,coefficient2!$A$22:$B$25,2,FALSE))","v":6.6492200000000001E-2},{"$f":"IF(F1114=1,\"0\",VLOOKUP(F1114,coefficient2!$A$28:$B$31,2,FALSE))","v":9.5753900000000003E-2},0.33080539999999997]
[24534,2,4,5,3,4,18,{"$f":"IF(B1115=1,\"0\",VLOOKUP(B1115,coefficient2!$A$4:$B$7,2,FALSE))","v":6.6127000000000005E-2},{"$f":"IF(C1115=1,\"0\",VLOOKUP(C1115,coefficient2!$A$10:$B$13,2,FALSE))","v":0.19249050000000001},{"$f":"IF(D1115=1,\"0\",VLOOKUP(D1115,coefficient2!$A$16:$B$19,2,FALSE))","v":0.248331},{"$f":"IF(E1115=1,\"0\",VLOOKUP(E1115,coefficient2!$A$22:$B$25,2,FALSE))","v":6.6492200000000001E-2},{"$f":"IF(F1115=1,\"0\",VLOOKUP(F1115,coefficient2!$A$28:$B$31,2,FALSE))","v":0.23270360000000001},0.19385569999999996]
[24535,2,4,5,3,5,19,{"$f":"IF(B1116=1,\"0\",VLOOKUP(B1116,coefficient2!$A$4:$B$7,2,FALSE))","v":6.6127000000000005E-2},{"$f":"IF(C1116=1,\"0\",VLOOKUP(C1116,coefficient2!$A$10:$B$13,2,FALSE))","v":0.19249050000000001},{"$f":"IF(D1116=1,\"0\",VLOOKUP(D1116,coefficient2!$A$16:$B$19,2,FALSE))","v":0.248331},{"$f":"IF(E1116=1,\"0\",VLOOKUP(E1116,coefficient2!$A$22:$B$25,2,FALSE))","v":6.6492200000000001E-2},{"$f":"IF(F1116=1,\"0\",VLOOKUP(F1116,coefficient2!$A$28:$B$31,2,FALSE))","v":0.29534929999999998},0.13120999999999999]
[24541,2,4,5,4,1,16,{"$f":"IF(B1117=1,\"0\",VLOOKUP(B1117,coefficient2!$A$4:$B$7,2,FALSE))","v":6.6127000000000005E-2},{"$f":"IF(C1117=1,\"0\",VLOOKUP(C1117,coefficient2!$A$10:$B$13,2,FALSE))","v":0.19249050000000001},{"$f":"IF(D1117=1,\"0\",VLOOKUP(D1117,coefficient2!$A$16:$B$19,2,FALSE))","v":0.248331},{"$f":"IF(E1117=1,\"0\",VLOOKUP(E1117,coefficient2!$A$22:$B$25,2,FALSE))","v":0.2068864},{"$f":"IF(F1117=1,\"0\",VLOOKUP(F1117,coefficient2!$A$28:$B$31,2,FALSE))","v":"0"},0.28616509999999995]
[24542,2,4,5,4,2,17,{"$f":"IF(B1118=1,\"0\",VLOOKUP(B1118,coefficient2!$A$4:$B$7,2,FALSE))","v":6.6127000000000005E-2},{"$f":"IF(C1118=1,\"0\",VLOOKUP(C1118,coefficient2!$A$10:$B$13,2,FALSE))","v":0.19249050000000001},{"$f":"IF(D1118=1,\"0\",VLOOKUP(D1118,coefficient2!$A$16:$B$19,2,FALSE))","v":0.248331},{"$f":"IF(E1118=1,\"0\",VLOOKUP(E1118,coefficient2!$A$22:$B$25,2,FALSE))","v":0.2068864},{"$f":"IF(F1118=1,\"0\",VLOOKUP(F1118,coefficient2!$A$28:$B$31,2,FALSE))","v":5.8085699999999997E-2},0.22807939999999996]
[24543,2,4,5,4,3,18,{"$f":"IF(B1119=1,\"0\",VLOOKUP(B1119,coefficient2!$A$4:$B$7,2,FALSE))","v":6.6127000000000005E-2},{"$f":"IF(C1119=1,\"0\",VLOOKUP(C1119,coefficient2!$A$10:$B$13,2,FALSE))","v":0.19249050000000001},{"$f":"IF(D1119=1,\"0\",VLOOKUP(D1119,coefficient2!$A$16:$B$19,2,FALSE))","v":0.248331},{"$f":"IF(E1119=1,\"0\",VLOOKUP(E1119,coefficient2!$A$22:$B$25,2,FALSE))","v":0.2068864},{"$f":"IF(F1119=1,\"0\",VLOOKUP(F1119,coefficient2!$A$28:$B$31,2,FALSE))","v":9.5753900000000003E-2},0.19041119999999995]
[24544,2,4,5,4,4,19,{"$f":"IF(B1120=1,\"0\",VLOOKUP(B1120,coefficient2!$A$4:$B$7,2,FALSE))","v":6.6127000000000005E-2},{"$f":"IF(C1120=1,\"0\",VLOOKUP(C1120,coefficient2!$A$10:$B$13,2,FALSE))","v":0.19249050000000001},{"$f":"IF(D1120=1,\"0\",VLOOKUP(D1120,coefficient2!$A$16:$B$19,2,FALSE))","v":0.248331},{"$f":"IF(E1120=1,\"0\",VLOOKUP(E1120,coefficient2!$A$22:$B$25,2,FALSE))","v":0.2068864},{"$f":"IF(F1120=1,\"0\",VLOOKUP(F1120,coefficient2!$A$28:$B$31,2,FALSE))","v":0.23270360000000001},5.346149999999994E-2]
[24545,2,4,5,4,5,20,{"$f":"IF(B1121=1,\"0\",VLOOKUP(B1121,coefficient2!$A$4:$B$7,2,FALSE))","v":6.6127000000000005E-2},{"$f":"IF(C1121=1,\"0\",VLOOKUP(C1121,coefficient2!$A$10:$B$13,2,FALSE))","v":0.19249050000000001},{"$f":"IF(D1121=1,\"0\",VLOOKUP(D1121,coefficient2!$A$16:$B$19,2,FALSE))","v":0.248331},{"$f":"IF(E1121=1,\"0\",VLOOKUP(E1121,coefficient2!$A$22:$B$25,2,FALSE))","v":0.2068864},{"$f":"IF(F1121=1,\"0\",VLOOKUP(F1121,coefficient2!$A$28:$B$31,2,FALSE))","v":0.29534929999999998},-9.1842000000000312E-3]
[24551,2,4,5,5,1,17,{"$f":"IF(B1122=1,\"0\",VLOOKUP(B1122,coefficient2!$A$4:$B$7,2,FALSE))","v":6.6127000000000005E-2},{"$f":"IF(C1122=1,\"0\",VLOOKUP(C1122,coefficient2!$A$10:$B$13,2,FALSE))","v":0.19249050000000001},{"$f":"IF(D1122=1,\"0\",VLOOKUP(D1122,coefficient2!$A$16:$B$19,2,FALSE))","v":0.248331},{"$f":"IF(E1122=1,\"0\",VLOOKUP(E1122,coefficient2!$A$22:$B$25,2,FALSE))","v":0.25643310000000002},{"$f":"IF(F1122=1,\"0\",VLOOKUP(F1122,coefficient2!$A$28:$B$31,2,FALSE))","v":"0"},0.23661839999999995]
[24552,2,4,5,5,2,18,{"$f":"IF(B1123=1,\"0\",VLOOKUP(B1123,coefficient2!$A$4:$B$7,2,FALSE))","v":6.6127000000000005E-2},{"$f":"IF(C1123=1,\"0\",VLOOKUP(C1123,coefficient2!$A$10:$B$13,2,FALSE))","v":0.19249050000000001},{"$f":"IF(D1123=1,\"0\",VLOOKUP(D1123,coefficient2!$A$16:$B$19,2,FALSE))","v":0.248331},{"$f":"IF(E1123=1,\"0\",VLOOKUP(E1123,coefficient2!$A$22:$B$25,2,FALSE))","v":0.25643310000000002},{"$f":"IF(F1123=1,\"0\",VLOOKUP(F1123,coefficient2!$A$28:$B$31,2,FALSE))","v":5.8085699999999997E-2},0.17853269999999996]
[24553,2,4,5,5,3,19,{"$f":"IF(B1124=1,\"0\",VLOOKUP(B1124,coefficient2!$A$4:$B$7,2,FALSE))","v":6.6127000000000005E-2},{"$f":"IF(C1124=1,\"0\",VLOOKUP(C1124,coefficient2!$A$10:$B$13,2,FALSE))","v":0.19249050000000001},{"$f":"IF(D1124=1,\"0\",VLOOKUP(D1124,coefficient2!$A$16:$B$19,2,FALSE))","v":0.248331},{"$f":"IF(E1124=1,\"0\",VLOOKUP(E1124,coefficient2!$A$22:$B$25,2,FALSE))","v":0.25643310000000002},{"$f":"IF(F1124=1,\"0\",VLOOKUP(F1124,coefficient2!$A$28:$B$31,2,FALSE))","v":9.5753900000000003E-2},0.14086449999999995]
[24554,2,4,5,5,4,20,{"$f":"IF(B1125=1,\"0\",VLOOKUP(B1125,coefficient2!$A$4:$B$7,2,FALSE))","v":6.6127000000000005E-2},{"$f":"IF(C1125=1,\"0\",VLOOKUP(C1125,coefficient2!$A$10:$B$13,2,FALSE))","v":0.19249050000000001},{"$f":"IF(D1125=1,\"0\",VLOOKUP(D1125,coefficient2!$A$16:$B$19,2,FALSE))","v":0.248331},{"$f":"IF(E1125=1,\"0\",VLOOKUP(E1125,coefficient2!$A$22:$B$25,2,FALSE))","v":0.25643310000000002},{"$f":"IF(F1125=1,\"0\",VLOOKUP(F1125,coefficient2!$A$28:$B$31,2,FALSE))","v":0.23270360000000001},3.9147999999999405E-3]
[24555,2,4,5,5,5,21,{"$f":"IF(B1126=1,\"0\",VLOOKUP(B1126,coefficient2!$A$4:$B$7,2,FALSE))","v":6.6127000000000005E-2},{"$f":"IF(C1126=1,\"0\",VLOOKUP(C1126,coefficient2!$A$10:$B$13,2,FALSE))","v":0.19249050000000001},{"$f":"IF(D1126=1,\"0\",VLOOKUP(D1126,coefficient2!$A$16:$B$19,2,FALSE))","v":0.248331},{"$f":"IF(E1126=1,\"0\",VLOOKUP(E1126,coefficient2!$A$22:$B$25,2,FALSE))","v":0.25643310000000002},{"$f":"IF(F1126=1,\"0\",VLOOKUP(F1126,coefficient2!$A$28:$B$31,2,FALSE))","v":0.29534929999999998},-5.873090000000003E-2]
[25111,2,5,1,1,1,10,{"$f":"IF(B1127=1,\"0\",VLOOKUP(B1127,coefficient2!$A$4:$B$7,2,FALSE))","v":6.6127000000000005E-2},{"$f":"IF(C1127=1,\"0\",VLOOKUP(C1127,coefficient2!$A$10:$B$13,2,FALSE))","v":0.2498763},{"$f":"IF(D1127=1,\"0\",VLOOKUP(D1127,coefficient2!$A$16:$B$19,2,FALSE))","v":"0"},{"$f":"IF(E1127=1,\"0\",VLOOKUP(E1127,coefficient2!$A$22:$B$25,2,FALSE))","v":"0"},{"$f":"IF(F1127=1,\"0\",VLOOKUP(F1127,coefficient2!$A$28:$B$31,2,FALSE))","v":"0"},0.68399670000000001]
[25112,2,5,1,1,2,11,{"$f":"IF(B1128=1,\"0\",VLOOKUP(B1128,coefficient2!$A$4:$B$7,2,FALSE))","v":6.6127000000000005E-2},{"$f":"IF(C1128=1,\"0\",VLOOKUP(C1128,coefficient2!$A$10:$B$13,2,FALSE))","v":0.2498763},{"$f":"IF(D1128=1,\"0\",VLOOKUP(D1128,coefficient2!$A$16:$B$19,2,FALSE))","v":"0"},{"$f":"IF(E1128=1,\"0\",VLOOKUP(E1128,coefficient2!$A$22:$B$25,2,FALSE))","v":"0"},{"$f":"IF(F1128=1,\"0\",VLOOKUP(F1128,coefficient2!$A$28:$B$31,2,FALSE))","v":5.8085699999999997E-2},0.625911]
[25113,2,5,1,1,3,12,{"$f":"IF(B1129=1,\"0\",VLOOKUP(B1129,coefficient2!$A$4:$B$7,2,FALSE))","v":6.6127000000000005E-2},{"$f":"IF(C1129=1,\"0\",VLOOKUP(C1129,coefficient2!$A$10:$B$13,2,FALSE))","v":0.2498763},{"$f":"IF(D1129=1,\"0\",VLOOKUP(D1129,coefficient2!$A$16:$B$19,2,FALSE))","v":"0"},{"$f":"IF(E1129=1,\"0\",VLOOKUP(E1129,coefficient2!$A$22:$B$25,2,FALSE))","v":"0"},{"$f":"IF(F1129=1,\"0\",VLOOKUP(F1129,coefficient2!$A$28:$B$31,2,FALSE))","v":9.5753900000000003E-2},0.58824279999999995]
[25114,2,5,1,1,4,13,{"$f":"IF(B1130=1,\"0\",VLOOKUP(B1130,coefficient2!$A$4:$B$7,2,FALSE))","v":6.6127000000000005E-2},{"$f":"IF(C1130=1,\"0\",VLOOKUP(C1130,coefficient2!$A$10:$B$13,2,FALSE))","v":0.2498763},{"$f":"IF(D1130=1,\"0\",VLOOKUP(D1130,coefficient2!$A$16:$B$19,2,FALSE))","v":"0"},{"$f":"IF(E1130=1,\"0\",VLOOKUP(E1130,coefficient2!$A$22:$B$25,2,FALSE))","v":"0"},{"$f":"IF(F1130=1,\"0\",VLOOKUP(F1130,coefficient2!$A$28:$B$31,2,FALSE))","v":0.23270360000000001},0.4512931]
[25115,2,5,1,1,5,14,{"$f":"IF(B1131=1,\"0\",VLOOKUP(B1131,coefficient2!$A$4:$B$7,2,FALSE))","v":6.6127000000000005E-2},{"$f":"IF(C1131=1,\"0\",VLOOKUP(C1131,coefficient2!$A$10:$B$13,2,FALSE))","v":0.2498763},{"$f":"IF(D1131=1,\"0\",VLOOKUP(D1131,coefficient2!$A$16:$B$19,2,FALSE))","v":"0"},{"$f":"IF(E1131=1,\"0\",VLOOKUP(E1131,coefficient2!$A$22:$B$25,2,FALSE))","v":"0"},{"$f":"IF(F1131=1,\"0\",VLOOKUP(F1131,coefficient2!$A$28:$B$31,2,FALSE))","v":0.29534929999999998},0.38864740000000003]
[25121,2,5,1,2,1,11,{"$f":"IF(B1132=1,\"0\",VLOOKUP(B1132,coefficient2!$A$4:$B$7,2,FALSE))","v":6.6127000000000005E-2},{"$f":"IF(C1132=1,\"0\",VLOOKUP(C1132,coefficient2!$A$10:$B$13,2,FALSE))","v":0.2498763},{"$f":"IF(D1132=1,\"0\",VLOOKUP(D1132,coefficient2!$A$16:$B$19,2,FALSE))","v":"0"},{"$f":"IF(E1132=1,\"0\",VLOOKUP(E1132,coefficient2!$A$22:$B$25,2,FALSE))","v":5.63998E-2},{"$f":"IF(F1132=1,\"0\",VLOOKUP(F1132,coefficient2!$A$28:$B$31,2,FALSE))","v":"0"},0.62759690000000001]
[25122,2,5,1,2,2,12,{"$f":"IF(B1133=1,\"0\",VLOOKUP(B1133,coefficient2!$A$4:$B$7,2,FALSE))","v":6.6127000000000005E-2},{"$f":"IF(C1133=1,\"0\",VLOOKUP(C1133,coefficient2!$A$10:$B$13,2,FALSE))","v":0.2498763},{"$f":"IF(D1133=1,\"0\",VLOOKUP(D1133,coefficient2!$A$16:$B$19,2,FALSE))","v":"0"},{"$f":"IF(E1133=1,\"0\",VLOOKUP(E1133,coefficient2!$A$22:$B$25,2,FALSE))","v":5.63998E-2},{"$f":"IF(F1133=1,\"0\",VLOOKUP(F1133,coefficient2!$A$28:$B$31,2,FALSE))","v":5.8085699999999997E-2},0.5695112]
[25123,2,5,1,2,3,13,{"$f":"IF(B1134=1,\"0\",VLOOKUP(B1134,coefficient2!$A$4:$B$7,2,FALSE))","v":6.6127000000000005E-2},{"$f":"IF(C1134=1,\"0\",VLOOKUP(C1134,coefficient2!$A$10:$B$13,2,FALSE))","v":0.2498763},{"$f":"IF(D1134=1,\"0\",VLOOKUP(D1134,coefficient2!$A$16:$B$19,2,FALSE))","v":"0"},{"$f":"IF(E1134=1,\"0\",VLOOKUP(E1134,coefficient2!$A$22:$B$25,2,FALSE))","v":5.63998E-2},{"$f":"IF(F1134=1,\"0\",VLOOKUP(F1134,coefficient2!$A$28:$B$31,2,FALSE))","v":9.5753900000000003E-2},0.53184300000000007]
[25124,2,5,1,2,4,14,{"$f":"IF(B1135=1,\"0\",VLOOKUP(B1135,coefficient2!$A$4:$B$7,2,FALSE))","v":6.6127000000000005E-2},{"$f":"IF(C1135=1,\"0\",VLOOKUP(C1135,coefficient2!$A$10:$B$13,2,FALSE))","v":0.2498763},{"$f":"IF(D1135=1,\"0\",VLOOKUP(D1135,coefficient2!$A$16:$B$19,2,FALSE))","v":"0"},{"$f":"IF(E1135=1,\"0\",VLOOKUP(E1135,coefficient2!$A$22:$B$25,2,FALSE))","v":5.63998E-2},{"$f":"IF(F1135=1,\"0\",VLOOKUP(F1135,coefficient2!$A$28:$B$31,2,FALSE))","v":0.23270360000000001},0.3948933]
[25125,2,5,1,2,5,15,{"$f":"IF(B1136=1,\"0\",VLOOKUP(B1136,coefficient2!$A$4:$B$7,2,FALSE))","v":6.6127000000000005E-2},{"$f":"IF(C1136=1,\"0\",VLOOKUP(C1136,coefficient2!$A$10:$B$13,2,FALSE))","v":0.2498763},{"$f":"IF(D1136=1,\"0\",VLOOKUP(D1136,coefficient2!$A$16:$B$19,2,FALSE))","v":"0"},{"$f":"IF(E1136=1,\"0\",VLOOKUP(E1136,coefficient2!$A$22:$B$25,2,FALSE))","v":5.63998E-2},{"$f":"IF(F1136=1,\"0\",VLOOKUP(F1136,coefficient2!$A$28:$B$31,2,FALSE))","v":0.29534929999999998},0.33224760000000003]
[25131,2,5,1,3,1,12,{"$f":"IF(B1137=1,\"0\",VLOOKUP(B1137,coefficient2!$A$4:$B$7,2,FALSE))","v":6.6127000000000005E-2},{"$f":"IF(C1137=1,\"0\",VLOOKUP(C1137,coefficient2!$A$10:$B$13,2,FALSE))","v":0.2498763},{"$f":"IF(D1137=1,\"0\",VLOOKUP(D1137,coefficient2!$A$16:$B$19,2,FALSE))","v":"0"},{"$f":"IF(E1137=1,\"0\",VLOOKUP(E1137,coefficient2!$A$22:$B$25,2,FALSE))","v":6.6492200000000001E-2},{"$f":"IF(F1137=1,\"0\",VLOOKUP(F1137,coefficient2!$A$28:$B$31,2,FALSE))","v":"0"},0.61750450000000001]
[25132,2,5,1,3,2,13,{"$f":"IF(B1138=1,\"0\",VLOOKUP(B1138,coefficient2!$A$4:$B$7,2,FALSE))","v":6.6127000000000005E-2},{"$f":"IF(C1138=1,\"0\",VLOOKUP(C1138,coefficient2!$A$10:$B$13,2,FALSE))","v":0.2498763},{"$f":"IF(D1138=1,\"0\",VLOOKUP(D1138,coefficient2!$A$16:$B$19,2,FALSE))","v":"0"},{"$f":"IF(E1138=1,\"0\",VLOOKUP(E1138,coefficient2!$A$22:$B$25,2,FALSE))","v":6.6492200000000001E-2},{"$f":"IF(F1138=1,\"0\",VLOOKUP(F1138,coefficient2!$A$28:$B$31,2,FALSE))","v":5.8085699999999997E-2},0.55941879999999999]
[25133,2,5,1,3,3,14,{"$f":"IF(B1139=1,\"0\",VLOOKUP(B1139,coefficient2!$A$4:$B$7,2,FALSE))","v":6.6127000000000005E-2},{"$f":"IF(C1139=1,\"0\",VLOOKUP(C1139,coefficient2!$A$10:$B$13,2,FALSE))","v":0.2498763},{"$f":"IF(D1139=1,\"0\",VLOOKUP(D1139,coefficient2!$A$16:$B$19,2,FALSE))","v":"0"},{"$f":"IF(E1139=1,\"0\",VLOOKUP(E1139,coefficient2!$A$22:$B$25,2,FALSE))","v":6.6492200000000001E-2},{"$f":"IF(F1139=1,\"0\",VLOOKUP(F1139,coefficient2!$A$28:$B$31,2,FALSE))","v":9.5753900000000003E-2},0.52175060000000006]
[25134,2,5,1,3,4,15,{"$f":"IF(B1140=1,\"0\",VLOOKUP(B1140,coefficient2!$A$4:$B$7,2,FALSE))","v":6.6127000000000005E-2},{"$f":"IF(C1140=1,\"0\",VLOOKUP(C1140,coefficient2!$A$10:$B$13,2,FALSE))","v":0.2498763},{"$f":"IF(D1140=1,\"0\",VLOOKUP(D1140,coefficient2!$A$16:$B$19,2,FALSE))","v":"0"},{"$f":"IF(E1140=1,\"0\",VLOOKUP(E1140,coefficient2!$A$22:$B$25,2,FALSE))","v":6.6492200000000001E-2},{"$f":"IF(F1140=1,\"0\",VLOOKUP(F1140,coefficient2!$A$28:$B$31,2,FALSE))","v":0.23270360000000001},0.3848009]
[25135,2,5,1,3,5,16,{"$f":"IF(B1141=1,\"0\",VLOOKUP(B1141,coefficient2!$A$4:$B$7,2,FALSE))","v":6.6127000000000005E-2},{"$f":"IF(C1141=1,\"0\",VLOOKUP(C1141,coefficient2!$A$10:$B$13,2,FALSE))","v":0.2498763},{"$f":"IF(D1141=1,\"0\",VLOOKUP(D1141,coefficient2!$A$16:$B$19,2,FALSE))","v":"0"},{"$f":"IF(E1141=1,\"0\",VLOOKUP(E1141,coefficient2!$A$22:$B$25,2,FALSE))","v":6.6492200000000001E-2},{"$f":"IF(F1141=1,\"0\",VLOOKUP(F1141,coefficient2!$A$28:$B$31,2,FALSE))","v":0.29534929999999998},0.32215520000000003]
[25141,2,5,1,4,1,13,{"$f":"IF(B1142=1,\"0\",VLOOKUP(B1142,coefficient2!$A$4:$B$7,2,FALSE))","v":6.6127000000000005E-2},{"$f":"IF(C1142=1,\"0\",VLOOKUP(C1142,coefficient2!$A$10:$B$13,2,FALSE))","v":0.2498763},{"$f":"IF(D1142=1,\"0\",VLOOKUP(D1142,coefficient2!$A$16:$B$19,2,FALSE))","v":"0"},{"$f":"IF(E1142=1,\"0\",VLOOKUP(E1142,coefficient2!$A$22:$B$25,2,FALSE))","v":0.2068864},{"$f":"IF(F1142=1,\"0\",VLOOKUP(F1142,coefficient2!$A$28:$B$31,2,FALSE))","v":"0"},0.47711029999999999]
[25142,2,5,1,4,2,14,{"$f":"IF(B1143=1,\"0\",VLOOKUP(B1143,coefficient2!$A$4:$B$7,2,FALSE))","v":6.6127000000000005E-2},{"$f":"IF(C1143=1,\"0\",VLOOKUP(C1143,coefficient2!$A$10:$B$13,2,FALSE))","v":0.2498763},{"$f":"IF(D1143=1,\"0\",VLOOKUP(D1143,coefficient2!$A$16:$B$19,2,FALSE))","v":"0"},{"$f":"IF(E1143=1,\"0\",VLOOKUP(E1143,coefficient2!$A$22:$B$25,2,FALSE))","v":0.2068864},{"$f":"IF(F1143=1,\"0\",VLOOKUP(F1143,coefficient2!$A$28:$B$31,2,FALSE))","v":5.8085699999999997E-2},0.41902459999999997]
[25143,2,5,1,4,3,15,{"$f":"IF(B1144=1,\"0\",VLOOKUP(B1144,coefficient2!$A$4:$B$7,2,FALSE))","v":6.6127000000000005E-2},{"$f":"IF(C1144=1,\"0\",VLOOKUP(C1144,coefficient2!$A$10:$B$13,2,FALSE))","v":0.2498763},{"$f":"IF(D1144=1,\"0\",VLOOKUP(D1144,coefficient2!$A$16:$B$19,2,FALSE))","v":"0"},{"$f":"IF(E1144=1,\"0\",VLOOKUP(E1144,coefficient2!$A$22:$B$25,2,FALSE))","v":0.2068864},{"$f":"IF(F1144=1,\"0\",VLOOKUP(F1144,coefficient2!$A$28:$B$31,2,FALSE))","v":9.5753900000000003E-2},0.38135639999999998]
[25144,2,5,1,4,4,16,{"$f":"IF(B1145=1,\"0\",VLOOKUP(B1145,coefficient2!$A$4:$B$7,2,FALSE))","v":6.6127000000000005E-2},{"$f":"IF(C1145=1,\"0\",VLOOKUP(C1145,coefficient2!$A$10:$B$13,2,FALSE))","v":0.2498763},{"$f":"IF(D1145=1,\"0\",VLOOKUP(D1145,coefficient2!$A$16:$B$19,2,FALSE))","v":"0"},{"$f":"IF(E1145=1,\"0\",VLOOKUP(E1145,coefficient2!$A$22:$B$25,2,FALSE))","v":0.2068864},{"$f":"IF(F1145=1,\"0\",VLOOKUP(F1145,coefficient2!$A$28:$B$31,2,FALSE))","v":0.23270360000000001},0.24440669999999998]
[25145,2,5,1,4,5,17,{"$f":"IF(B1146=1,\"0\",VLOOKUP(B1146,coefficient2!$A$4:$B$7,2,FALSE))","v":6.6127000000000005E-2},{"$f":"IF(C1146=1,\"0\",VLOOKUP(C1146,coefficient2!$A$10:$B$13,2,FALSE))","v":0.2498763},{"$f":"IF(D1146=1,\"0\",VLOOKUP(D1146,coefficient2!$A$16:$B$19,2,FALSE))","v":"0"},{"$f":"IF(E1146=1,\"0\",VLOOKUP(E1146,coefficient2!$A$22:$B$25,2,FALSE))","v":0.2068864},{"$f":"IF(F1146=1,\"0\",VLOOKUP(F1146,coefficient2!$A$28:$B$31,2,FALSE))","v":0.29534929999999998},0.18176100000000001]
[25151,2,5,1,5,1,14,{"$f":"IF(B1147=1,\"0\",VLOOKUP(B1147,coefficient2!$A$4:$B$7,2,FALSE))","v":6.6127000000000005E-2},{"$f":"IF(C1147=1,\"0\",VLOOKUP(C1147,coefficient2!$A$10:$B$13,2,FALSE))","v":0.2498763},{"$f":"IF(D1147=1,\"0\",VLOOKUP(D1147,coefficient2!$A$16:$B$19,2,FALSE))","v":"0"},{"$f":"IF(E1147=1,\"0\",VLOOKUP(E1147,coefficient2!$A$22:$B$25,2,FALSE))","v":0.25643310000000002},{"$f":"IF(F1147=1,\"0\",VLOOKUP(F1147,coefficient2!$A$28:$B$31,2,FALSE))","v":"0"},0.42756359999999999]
[25152,2,5,1,5,2,15,{"$f":"IF(B1148=1,\"0\",VLOOKUP(B1148,coefficient2!$A$4:$B$7,2,FALSE))","v":6.6127000000000005E-2},{"$f":"IF(C1148=1,\"0\",VLOOKUP(C1148,coefficient2!$A$10:$B$13,2,FALSE))","v":0.2498763},{"$f":"IF(D1148=1,\"0\",VLOOKUP(D1148,coefficient2!$A$16:$B$19,2,FALSE))","v":"0"},{"$f":"IF(E1148=1,\"0\",VLOOKUP(E1148,coefficient2!$A$22:$B$25,2,FALSE))","v":0.25643310000000002},{"$f":"IF(F1148=1,\"0\",VLOOKUP(F1148,coefficient2!$A$28:$B$31,2,FALSE))","v":5.8085699999999997E-2},0.36947789999999997]
[25153,2,5,1,5,3,16,{"$f":"IF(B1149=1,\"0\",VLOOKUP(B1149,coefficient2!$A$4:$B$7,2,FALSE))","v":6.6127000000000005E-2},{"$f":"IF(C1149=1,\"0\",VLOOKUP(C1149,coefficient2!$A$10:$B$13,2,FALSE))","v":0.2498763},{"$f":"IF(D1149=1,\"0\",VLOOKUP(D1149,coefficient2!$A$16:$B$19,2,FALSE))","v":"0"},{"$f":"IF(E1149=1,\"0\",VLOOKUP(E1149,coefficient2!$A$22:$B$25,2,FALSE))","v":0.25643310000000002},{"$f":"IF(F1149=1,\"0\",VLOOKUP(F1149,coefficient2!$A$28:$B$31,2,FALSE))","v":9.5753900000000003E-2},0.33180969999999999]
[25154,2,5,1,5,4,17,{"$f":"IF(B1150=1,\"0\",VLOOKUP(B1150,coefficient2!$A$4:$B$7,2,FALSE))","v":6.6127000000000005E-2},{"$f":"IF(C1150=1,\"0\",VLOOKUP(C1150,coefficient2!$A$10:$B$13,2,FALSE))","v":0.2498763},{"$f":"IF(D1150=1,\"0\",VLOOKUP(D1150,coefficient2!$A$16:$B$19,2,FALSE))","v":"0"},{"$f":"IF(E1150=1,\"0\",VLOOKUP(E1150,coefficient2!$A$22:$B$25,2,FALSE))","v":0.25643310000000002},{"$f":"IF(F1150=1,\"0\",VLOOKUP(F1150,coefficient2!$A$28:$B$31,2,FALSE))","v":0.23270360000000001},0.19485999999999998]
[25155,2,5,1,5,5,18,{"$f":"IF(B1151=1,\"0\",VLOOKUP(B1151,coefficient2!$A$4:$B$7,2,FALSE))","v":6.6127000000000005E-2},{"$f":"IF(C1151=1,\"0\",VLOOKUP(C1151,coefficient2!$A$10:$B$13,2,FALSE))","v":0.2498763},{"$f":"IF(D1151=1,\"0\",VLOOKUP(D1151,coefficient2!$A$16:$B$19,2,FALSE))","v":"0"},{"$f":"IF(E1151=1,\"0\",VLOOKUP(E1151,coefficient2!$A$22:$B$25,2,FALSE))","v":0.25643310000000002},{"$f":"IF(F1151=1,\"0\",VLOOKUP(F1151,coefficient2!$A$28:$B$31,2,FALSE))","v":0.29534929999999998},0.13221430000000001]
[25211,2,5,2,1,1,11,{"$f":"IF(B1152=1,\"0\",VLOOKUP(B1152,coefficient2!$A$4:$B$7,2,FALSE))","v":6.6127000000000005E-2},{"$f":"IF(C1152=1,\"0\",VLOOKUP(C1152,coefficient2!$A$10:$B$13,2,FALSE))","v":0.2498763},{"$f":"IF(D1152=1,\"0\",VLOOKUP(D1152,coefficient2!$A$16:$B$19,2,FALSE))","v":5.8254399999999998E-2},{"$f":"IF(E1152=1,\"0\",VLOOKUP(E1152,coefficient2!$A$22:$B$25,2,FALSE))","v":"0"},{"$f":"IF(F1152=1,\"0\",VLOOKUP(F1152,coefficient2!$A$28:$B$31,2,FALSE))","v":"0"},0.62574229999999997]
[25212,2,5,2,1,2,12,{"$f":"IF(B1153=1,\"0\",VLOOKUP(B1153,coefficient2!$A$4:$B$7,2,FALSE))","v":6.6127000000000005E-2},{"$f":"IF(C1153=1,\"0\",VLOOKUP(C1153,coefficient2!$A$10:$B$13,2,FALSE))","v":0.2498763},{"$f":"IF(D1153=1,\"0\",VLOOKUP(D1153,coefficient2!$A$16:$B$19,2,FALSE))","v":5.8254399999999998E-2},{"$f":"IF(E1153=1,\"0\",VLOOKUP(E1153,coefficient2!$A$22:$B$25,2,FALSE))","v":"0"},{"$f":"IF(F1153=1,\"0\",VLOOKUP(F1153,coefficient2!$A$28:$B$31,2,FALSE))","v":5.8085699999999997E-2},0.56765659999999996]
[25213,2,5,2,1,3,13,{"$f":"IF(B1154=1,\"0\",VLOOKUP(B1154,coefficient2!$A$4:$B$7,2,FALSE))","v":6.6127000000000005E-2},{"$f":"IF(C1154=1,\"0\",VLOOKUP(C1154,coefficient2!$A$10:$B$13,2,FALSE))","v":0.2498763},{"$f":"IF(D1154=1,\"0\",VLOOKUP(D1154,coefficient2!$A$16:$B$19,2,FALSE))","v":5.8254399999999998E-2},{"$f":"IF(E1154=1,\"0\",VLOOKUP(E1154,coefficient2!$A$22:$B$25,2,FALSE))","v":"0"},{"$f":"IF(F1154=1,\"0\",VLOOKUP(F1154,coefficient2!$A$28:$B$31,2,FALSE))","v":9.5753900000000003E-2},{"$f":"1-H1154-I1154-J1154-K1154-L1154","v":0.52998839999999992}]
[25214,{"$f":"INT(LEFT(A1155,1))","v":2},{"$f":"INT(MID(A1155,2,1))","v":5},{"$f":"INT(MID(A1155,3,1))","v":2},{"$f":"INT(MID(A1155,4,1))","v":1},{"$f":"INT(RIGHT(A1155,1))","v":4},{"$f":"SUM(B1155:F1155)","v":14},{"$f":"IF(B1155=1,\"0\",VLOOKUP(B1155,coefficient2!$A$4:$B$7,2,FALSE))","v":6.6127000000000005E-2},{"$f":"IF(C1155=1,\"0\",VLOOKUP(C1155,coefficient2!$A$10:$B$13,2,FALSE))","v":0.2498763},{"$f":"IF(D1155=1,\"0\",VLOOKUP(D1155,coefficient2!$A$16:$B$19,2,FALSE))","v":5.8254399999999998E-2},{"$f":"IF(E1155=1,\"0\",VLOOKUP(E1155,coefficient2!$A$22:$B$25,2,FALSE))","v":"0"},{"$f":"IF(F1155=1,\"0\",VLOOKUP(F1155,coefficient2!$A$28:$B$31,2,FALSE))","v":0.23270360000000001},0.39303869999999996]
[25215,2,5,2,1,5,15,{"$f":"IF(B1156=1,\"0\",VLOOKUP(B1156,coefficient2!$A$4:$B$7,2,FALSE))","v":6.6127000000000005E-2},{"$f":"IF(C1156=1,\"0\",VLOOKUP(C1156,coefficient2!$A$10:$B$13,2,FALSE))","v":0.2498763},{"$f":"IF(D1156=1,\"0\",VLOOKUP(D1156,coefficient2!$A$16:$B$19,2,FALSE))","v":5.8254399999999998E-2},{"$f":"IF(E1156=1,\"0\",VLOOKUP(E1156,coefficient2!$A$22:$B$25,2,FALSE))","v":"0"},{"$f":"IF(F1156=1,\"0\",VLOOKUP(F1156,coefficient2!$A$28:$B$31,2,FALSE))","v":0.29534929999999998},0.33039299999999999]
[25221,2,5,2,2,1,12,{"$f":"IF(B1157=1,\"0\",VLOOKUP(B1157,coefficient2!$A$4:$B$7,2,FALSE))","v":6.6127000000000005E-2},{"$f":"IF(C1157=1,\"0\",VLOOKUP(C1157,coefficient2!$A$10:$B$13,2,FALSE))","v":0.2498763},{"$f":"IF(D1157=1,\"0\",VLOOKUP(D1157,coefficient2!$A$16:$B$19,2,FALSE))","v":5.8254399999999998E-2},{"$f":"IF(E1157=1,\"0\",VLOOKUP(E1157,coefficient2!$A$22:$B$25,2,FALSE))","v":5.63998E-2},{"$f":"IF(F1157=1,\"0\",VLOOKUP(F1157,coefficient2!$A$28:$B$31,2,FALSE))","v":"0"},0.56934249999999997]
[25222,2,5,2,2,2,13,{"$f":"IF(B1158=1,\"0\",VLOOKUP(B1158,coefficient2!$A$4:$B$7,2,FALSE))","v":6.6127000000000005E-2},{"$f":"IF(C1158=1,\"0\",VLOOKUP(C1158,coefficient2!$A$10:$B$13,2,FALSE))","v":0.2498763},{"$f":"IF(D1158=1,\"0\",VLOOKUP(D1158,coefficient2!$A$16:$B$19,2,FALSE))","v":5.8254399999999998E-2},{"$f":"IF(E1158=1,\"0\",VLOOKUP(E1158,coefficient2!$A$22:$B$25,2,FALSE))","v":5.63998E-2},{"$f":"IF(F1158=1,\"0\",VLOOKUP(F1158,coefficient2!$A$28:$B$31,2,FALSE))","v":5.8085699999999997E-2},0.51125679999999996]
[25223,2,5,2,2,3,14,{"$f":"IF(B1159=1,\"0\",VLOOKUP(B1159,coefficient2!$A$4:$B$7,2,FALSE))","v":6.6127000000000005E-2},{"$f":"IF(C1159=1,\"0\",VLOOKUP(C1159,coefficient2!$A$10:$B$13,2,FALSE))","v":0.2498763},{"$f":"IF(D1159=1,\"0\",VLOOKUP(D1159,coefficient2!$A$16:$B$19,2,FALSE))","v":5.8254399999999998E-2},{"$f":"IF(E1159=1,\"0\",VLOOKUP(E1159,coefficient2!$A$22:$B$25,2,FALSE))","v":5.63998E-2},{"$f":"IF(F1159=1,\"0\",VLOOKUP(F1159,coefficient2!$A$28:$B$31,2,FALSE))","v":9.5753900000000003E-2},0.47358859999999997]
[25224,2,5,2,2,4,15,{"$f":"IF(B1160=1,\"0\",VLOOKUP(B1160,coefficient2!$A$4:$B$7,2,FALSE))","v":6.6127000000000005E-2},{"$f":"IF(C1160=1,\"0\",VLOOKUP(C1160,coefficient2!$A$10:$B$13,2,FALSE))","v":0.2498763},{"$f":"IF(D1160=1,\"0\",VLOOKUP(D1160,coefficient2!$A$16:$B$19,2,FALSE))","v":5.8254399999999998E-2},{"$f":"IF(E1160=1,\"0\",VLOOKUP(E1160,coefficient2!$A$22:$B$25,2,FALSE))","v":5.63998E-2},{"$f":"IF(F1160=1,\"0\",VLOOKUP(F1160,coefficient2!$A$28:$B$31,2,FALSE))","v":0.23270360000000001},0.33663889999999996]
[25225,2,5,2,2,5,16,{"$f":"IF(B1161=1,\"0\",VLOOKUP(B1161,coefficient2!$A$4:$B$7,2,FALSE))","v":6.6127000000000005E-2},{"$f":"IF(C1161=1,\"0\",VLOOKUP(C1161,coefficient2!$A$10:$B$13,2,FALSE))","v":0.2498763},{"$f":"IF(D1161=1,\"0\",VLOOKUP(D1161,coefficient2!$A$16:$B$19,2,FALSE))","v":5.8254399999999998E-2},{"$f":"IF(E1161=1,\"0\",VLOOKUP(E1161,coefficient2!$A$22:$B$25,2,FALSE))","v":5.63998E-2},{"$f":"IF(F1161=1,\"0\",VLOOKUP(F1161,coefficient2!$A$28:$B$31,2,FALSE))","v":0.29534929999999998},0.27399319999999999]
[25231,2,5,2,3,1,13,{"$f":"IF(B1162=1,\"0\",VLOOKUP(B1162,coefficient2!$A$4:$B$7,2,FALSE))","v":6.6127000000000005E-2},{"$f":"IF(C1162=1,\"0\",VLOOKUP(C1162,coefficient2!$A$10:$B$13,2,FALSE))","v":0.2498763},{"$f":"IF(D1162=1,\"0\",VLOOKUP(D1162,coefficient2!$A$16:$B$19,2,FALSE))","v":5.8254399999999998E-2},{"$f":"IF(E1162=1,\"0\",VLOOKUP(E1162,coefficient2!$A$22:$B$25,2,FALSE))","v":6.6492200000000001E-2},{"$f":"IF(F1162=1,\"0\",VLOOKUP(F1162,coefficient2!$A$28:$B$31,2,FALSE))","v":"0"},0.55925009999999997]
[25232,2,5,2,3,2,14,{"$f":"IF(B1163=1,\"0\",VLOOKUP(B1163,coefficient2!$A$4:$B$7,2,FALSE))","v":6.6127000000000005E-2},{"$f":"IF(C1163=1,\"0\",VLOOKUP(C1163,coefficient2!$A$10:$B$13,2,FALSE))","v":0.2498763},{"$f":"IF(D1163=1,\"0\",VLOOKUP(D1163,coefficient2!$A$16:$B$19,2,FALSE))","v":5.8254399999999998E-2},{"$f":"IF(E1163=1,\"0\",VLOOKUP(E1163,coefficient2!$A$22:$B$25,2,FALSE))","v":6.6492200000000001E-2},{"$f":"IF(F1163=1,\"0\",VLOOKUP(F1163,coefficient2!$A$28:$B$31,2,FALSE))","v":5.8085699999999997E-2},0.50116439999999995]
[25233,2,5,2,3,3,15,{"$f":"IF(B1164=1,\"0\",VLOOKUP(B1164,coefficient2!$A$4:$B$7,2,FALSE))","v":6.6127000000000005E-2},{"$f":"IF(C1164=1,\"0\",VLOOKUP(C1164,coefficient2!$A$10:$B$13,2,FALSE))","v":0.2498763},{"$f":"IF(D1164=1,\"0\",VLOOKUP(D1164,coefficient2!$A$16:$B$19,2,FALSE))","v":5.8254399999999998E-2},{"$f":"IF(E1164=1,\"0\",VLOOKUP(E1164,coefficient2!$A$22:$B$25,2,FALSE))","v":6.6492200000000001E-2},{"$f":"IF(F1164=1,\"0\",VLOOKUP(F1164,coefficient2!$A$28:$B$31,2,FALSE))","v":9.5753900000000003E-2},0.46349619999999997]
[25234,2,5,2,3,4,16,{"$f":"IF(B1165=1,\"0\",VLOOKUP(B1165,coefficient2!$A$4:$B$7,2,FALSE))","v":6.6127000000000005E-2},{"$f":"IF(C1165=1,\"0\",VLOOKUP(C1165,coefficient2!$A$10:$B$13,2,FALSE))","v":0.2498763},{"$f":"IF(D1165=1,\"0\",VLOOKUP(D1165,coefficient2!$A$16:$B$19,2,FALSE))","v":5.8254399999999998E-2},{"$f":"IF(E1165=1,\"0\",VLOOKUP(E1165,coefficient2!$A$22:$B$25,2,FALSE))","v":6.6492200000000001E-2},{"$f":"IF(F1165=1,\"0\",VLOOKUP(F1165,coefficient2!$A$28:$B$31,2,FALSE))","v":0.23270360000000001},0.32654649999999996]
[25235,2,5,2,3,5,17,{"$f":"IF(B1166=1,\"0\",VLOOKUP(B1166,coefficient2!$A$4:$B$7,2,FALSE))","v":6.6127000000000005E-2},{"$f":"IF(C1166=1,\"0\",VLOOKUP(C1166,coefficient2!$A$10:$B$13,2,FALSE))","v":0.2498763},{"$f":"IF(D1166=1,\"0\",VLOOKUP(D1166,coefficient2!$A$16:$B$19,2,FALSE))","v":5.8254399999999998E-2},{"$f":"IF(E1166=1,\"0\",VLOOKUP(E1166,coefficient2!$A$22:$B$25,2,FALSE))","v":6.6492200000000001E-2},{"$f":"IF(F1166=1,\"0\",VLOOKUP(F1166,coefficient2!$A$28:$B$31,2,FALSE))","v":0.29534929999999998},0.26390079999999999]
[25241,2,5,2,4,1,14,{"$f":"IF(B1167=1,\"0\",VLOOKUP(B1167,coefficient2!$A$4:$B$7,2,FALSE))","v":6.6127000000000005E-2},{"$f":"IF(C1167=1,\"0\",VLOOKUP(C1167,coefficient2!$A$10:$B$13,2,FALSE))","v":0.2498763},{"$f":"IF(D1167=1,\"0\",VLOOKUP(D1167,coefficient2!$A$16:$B$19,2,FALSE))","v":5.8254399999999998E-2},{"$f":"IF(E1167=1,\"0\",VLOOKUP(E1167,coefficient2!$A$22:$B$25,2,FALSE))","v":0.2068864},{"$f":"IF(F1167=1,\"0\",VLOOKUP(F1167,coefficient2!$A$28:$B$31,2,FALSE))","v":"0"},0.41885589999999995]
[25242,2,5,2,4,2,15,{"$f":"IF(B1168=1,\"0\",VLOOKUP(B1168,coefficient2!$A$4:$B$7,2,FALSE))","v":6.6127000000000005E-2},{"$f":"IF(C1168=1,\"0\",VLOOKUP(C1168,coefficient2!$A$10:$B$13,2,FALSE))","v":0.2498763},{"$f":"IF(D1168=1,\"0\",VLOOKUP(D1168,coefficient2!$A$16:$B$19,2,FALSE))","v":5.8254399999999998E-2},{"$f":"IF(E1168=1,\"0\",VLOOKUP(E1168,coefficient2!$A$22:$B$25,2,FALSE))","v":0.2068864},{"$f":"IF(F1168=1,\"0\",VLOOKUP(F1168,coefficient2!$A$28:$B$31,2,FALSE))","v":5.8085699999999997E-2},0.36077019999999993]
[25243,2,5,2,4,3,16,{"$f":"IF(B1169=1,\"0\",VLOOKUP(B1169,coefficient2!$A$4:$B$7,2,FALSE))","v":6.6127000000000005E-2},{"$f":"IF(C1169=1,\"0\",VLOOKUP(C1169,coefficient2!$A$10:$B$13,2,FALSE))","v":0.2498763},{"$f":"IF(D1169=1,\"0\",VLOOKUP(D1169,coefficient2!$A$16:$B$19,2,FALSE))","v":5.8254399999999998E-2},{"$f":"IF(E1169=1,\"0\",VLOOKUP(E1169,coefficient2!$A$22:$B$25,2,FALSE))","v":0.2068864},{"$f":"IF(F1169=1,\"0\",VLOOKUP(F1169,coefficient2!$A$28:$B$31,2,FALSE))","v":9.5753900000000003E-2},0.32310199999999994]
[25244,2,5,2,4,4,17,{"$f":"IF(B1170=1,\"0\",VLOOKUP(B1170,coefficient2!$A$4:$B$7,2,FALSE))","v":6.6127000000000005E-2},{"$f":"IF(C1170=1,\"0\",VLOOKUP(C1170,coefficient2!$A$10:$B$13,2,FALSE))","v":0.2498763},{"$f":"IF(D1170=1,\"0\",VLOOKUP(D1170,coefficient2!$A$16:$B$19,2,FALSE))","v":5.8254399999999998E-2},{"$f":"IF(E1170=1,\"0\",VLOOKUP(E1170,coefficient2!$A$22:$B$25,2,FALSE))","v":0.2068864},{"$f":"IF(F1170=1,\"0\",VLOOKUP(F1170,coefficient2!$A$28:$B$31,2,FALSE))","v":0.23270360000000001},0.18615229999999994]
[25245,2,5,2,4,5,18,{"$f":"IF(B1171=1,\"0\",VLOOKUP(B1171,coefficient2!$A$4:$B$7,2,FALSE))","v":6.6127000000000005E-2},{"$f":"IF(C1171=1,\"0\",VLOOKUP(C1171,coefficient2!$A$10:$B$13,2,FALSE))","v":0.2498763},{"$f":"IF(D1171=1,\"0\",VLOOKUP(D1171,coefficient2!$A$16:$B$19,2,FALSE))","v":5.8254399999999998E-2},{"$f":"IF(E1171=1,\"0\",VLOOKUP(E1171,coefficient2!$A$22:$B$25,2,FALSE))","v":0.2068864},{"$f":"IF(F1171=1,\"0\",VLOOKUP(F1171,coefficient2!$A$28:$B$31,2,FALSE))","v":0.29534929999999998},0.12350659999999997]
[25251,2,5,2,5,1,15,{"$f":"IF(B1172=1,\"0\",VLOOKUP(B1172,coefficient2!$A$4:$B$7,2,FALSE))","v":6.6127000000000005E-2},{"$f":"IF(C1172=1,\"0\",VLOOKUP(C1172,coefficient2!$A$10:$B$13,2,FALSE))","v":0.2498763},{"$f":"IF(D1172=1,\"0\",VLOOKUP(D1172,coefficient2!$A$16:$B$19,2,FALSE))","v":5.8254399999999998E-2},{"$f":"IF(E1172=1,\"0\",VLOOKUP(E1172,coefficient2!$A$22:$B$25,2,FALSE))","v":0.25643310000000002},{"$f":"IF(F1172=1,\"0\",VLOOKUP(F1172,coefficient2!$A$28:$B$31,2,FALSE))","v":"0"},0.36930919999999995]
[25252,2,5,2,5,2,16,{"$f":"IF(B1173=1,\"0\",VLOOKUP(B1173,coefficient2!$A$4:$B$7,2,FALSE))","v":6.6127000000000005E-2},{"$f":"IF(C1173=1,\"0\",VLOOKUP(C1173,coefficient2!$A$10:$B$13,2,FALSE))","v":0.2498763},{"$f":"IF(D1173=1,\"0\",VLOOKUP(D1173,coefficient2!$A$16:$B$19,2,FALSE))","v":5.8254399999999998E-2},{"$f":"IF(E1173=1,\"0\",VLOOKUP(E1173,coefficient2!$A$22:$B$25,2,FALSE))","v":0.25643310000000002},{"$f":"IF(F1173=1,\"0\",VLOOKUP(F1173,coefficient2!$A$28:$B$31,2,FALSE))","v":5.8085699999999997E-2},0.31122349999999993]
[25253,2,5,2,5,3,17,{"$f":"IF(B1174=1,\"0\",VLOOKUP(B1174,coefficient2!$A$4:$B$7,2,FALSE))","v":6.6127000000000005E-2},{"$f":"IF(C1174=1,\"0\",VLOOKUP(C1174,coefficient2!$A$10:$B$13,2,FALSE))","v":0.2498763},{"$f":"IF(D1174=1,\"0\",VLOOKUP(D1174,coefficient2!$A$16:$B$19,2,FALSE))","v":5.8254399999999998E-2},{"$f":"IF(E1174=1,\"0\",VLOOKUP(E1174,coefficient2!$A$22:$B$25,2,FALSE))","v":0.25643310000000002},{"$f":"IF(F1174=1,\"0\",VLOOKUP(F1174,coefficient2!$A$28:$B$31,2,FALSE))","v":9.5753900000000003E-2},0.27355529999999995]
[25254,2,5,2,5,4,18,{"$f":"IF(B1175=1,\"0\",VLOOKUP(B1175,coefficient2!$A$4:$B$7,2,FALSE))","v":6.6127000000000005E-2},{"$f":"IF(C1175=1,\"0\",VLOOKUP(C1175,coefficient2!$A$10:$B$13,2,FALSE))","v":0.2498763},{"$f":"IF(D1175=1,\"0\",VLOOKUP(D1175,coefficient2!$A$16:$B$19,2,FALSE))","v":5.8254399999999998E-2},{"$f":"IF(E1175=1,\"0\",VLOOKUP(E1175,coefficient2!$A$22:$B$25,2,FALSE))","v":0.25643310000000002},{"$f":"IF(F1175=1,\"0\",VLOOKUP(F1175,coefficient2!$A$28:$B$31,2,FALSE))","v":0.23270360000000001},0.13660559999999994]
[25255,2,5,2,5,5,19,{"$f":"IF(B1176=1,\"0\",VLOOKUP(B1176,coefficient2!$A$4:$B$7,2,FALSE))","v":6.6127000000000005E-2},{"$f":"IF(C1176=1,\"0\",VLOOKUP(C1176,coefficient2!$A$10:$B$13,2,FALSE))","v":0.2498763},{"$f":"IF(D1176=1,\"0\",VLOOKUP(D1176,coefficient2!$A$16:$B$19,2,FALSE))","v":5.8254399999999998E-2},{"$f":"IF(E1176=1,\"0\",VLOOKUP(E1176,coefficient2!$A$22:$B$25,2,FALSE))","v":0.25643310000000002},{"$f":"IF(F1176=1,\"0\",VLOOKUP(F1176,coefficient2!$A$28:$B$31,2,FALSE))","v":0.29534929999999998},7.3959899999999967E-2]
[25311,2,5,3,1,1,12,{"$f":"IF(B1177=1,\"0\",VLOOKUP(B1177,coefficient2!$A$4:$B$7,2,FALSE))","v":6.6127000000000005E-2},{"$f":"IF(C1177=1,\"0\",VLOOKUP(C1177,coefficient2!$A$10:$B$13,2,FALSE))","v":0.2498763},{"$f":"IF(D1177=1,\"0\",VLOOKUP(D1177,coefficient2!$A$16:$B$19,2,FALSE))","v":7.1197399999999994E-2},{"$f":"IF(E1177=1,\"0\",VLOOKUP(E1177,coefficient2!$A$22:$B$25,2,FALSE))","v":"0"},{"$f":"IF(F1177=1,\"0\",VLOOKUP(F1177,coefficient2!$A$28:$B$31,2,FALSE))","v":"0"},0.61279930000000005]
[25312,2,5,3,1,2,13,{"$f":"IF(B1178=1,\"0\",VLOOKUP(B1178,coefficient2!$A$4:$B$7,2,FALSE))","v":6.6127000000000005E-2},{"$f":"IF(C1178=1,\"0\",VLOOKUP(C1178,coefficient2!$A$10:$B$13,2,FALSE))","v":0.2498763},{"$f":"IF(D1178=1,\"0\",VLOOKUP(D1178,coefficient2!$A$16:$B$19,2,FALSE))","v":7.1197399999999994E-2},{"$f":"IF(E1178=1,\"0\",VLOOKUP(E1178,coefficient2!$A$22:$B$25,2,FALSE))","v":"0"},{"$f":"IF(F1178=1,\"0\",VLOOKUP(F1178,coefficient2!$A$28:$B$31,2,FALSE))","v":5.8085699999999997E-2},0.55471360000000003]
[25313,2,5,3,1,3,14,{"$f":"IF(B1179=1,\"0\",VLOOKUP(B1179,coefficient2!$A$4:$B$7,2,FALSE))","v":6.6127000000000005E-2},{"$f":"IF(C1179=1,\"0\",VLOOKUP(C1179,coefficient2!$A$10:$B$13,2,FALSE))","v":0.2498763},{"$f":"IF(D1179=1,\"0\",VLOOKUP(D1179,coefficient2!$A$16:$B$19,2,FALSE))","v":7.1197399999999994E-2},{"$f":"IF(E1179=1,\"0\",VLOOKUP(E1179,coefficient2!$A$22:$B$25,2,FALSE))","v":"0"},{"$f":"IF(F1179=1,\"0\",VLOOKUP(F1179,coefficient2!$A$28:$B$31,2,FALSE))","v":9.5753900000000003E-2},0.51704539999999999]
[25314,2,5,3,1,4,15,{"$f":"IF(B1180=1,\"0\",VLOOKUP(B1180,coefficient2!$A$4:$B$7,2,FALSE))","v":6.6127000000000005E-2},{"$f":"IF(C1180=1,\"0\",VLOOKUP(C1180,coefficient2!$A$10:$B$13,2,FALSE))","v":0.2498763},{"$f":"IF(D1180=1,\"0\",VLOOKUP(D1180,coefficient2!$A$16:$B$19,2,FALSE))","v":7.1197399999999994E-2},{"$f":"IF(E1180=1,\"0\",VLOOKUP(E1180,coefficient2!$A$22:$B$25,2,FALSE))","v":"0"},{"$f":"IF(F1180=1,\"0\",VLOOKUP(F1180,coefficient2!$A$28:$B$31,2,FALSE))","v":0.23270360000000001},0.38009570000000004]
[25315,2,5,3,1,5,16,{"$f":"IF(B1181=1,\"0\",VLOOKUP(B1181,coefficient2!$A$4:$B$7,2,FALSE))","v":6.6127000000000005E-2},{"$f":"IF(C1181=1,\"0\",VLOOKUP(C1181,coefficient2!$A$10:$B$13,2,FALSE))","v":0.2498763},{"$f":"IF(D1181=1,\"0\",VLOOKUP(D1181,coefficient2!$A$16:$B$19,2,FALSE))","v":7.1197399999999994E-2},{"$f":"IF(E1181=1,\"0\",VLOOKUP(E1181,coefficient2!$A$22:$B$25,2,FALSE))","v":"0"},{"$f":"IF(F1181=1,\"0\",VLOOKUP(F1181,coefficient2!$A$28:$B$31,2,FALSE))","v":0.29534929999999998},0.31745000000000007]
[25321,2,5,3,2,1,13,{"$f":"IF(B1182=1,\"0\",VLOOKUP(B1182,coefficient2!$A$4:$B$7,2,FALSE))","v":6.6127000000000005E-2},{"$f":"IF(C1182=1,\"0\",VLOOKUP(C1182,coefficient2!$A$10:$B$13,2,FALSE))","v":0.2498763},{"$f":"IF(D1182=1,\"0\",VLOOKUP(D1182,coefficient2!$A$16:$B$19,2,FALSE))","v":7.1197399999999994E-2},{"$f":"IF(E1182=1,\"0\",VLOOKUP(E1182,coefficient2!$A$22:$B$25,2,FALSE))","v":5.63998E-2},{"$f":"IF(F1182=1,\"0\",VLOOKUP(F1182,coefficient2!$A$28:$B$31,2,FALSE))","v":"0"},0.55639950000000005]
[25322,2,5,3,2,2,14,{"$f":"IF(B1183=1,\"0\",VLOOKUP(B1183,coefficient2!$A$4:$B$7,2,FALSE))","v":6.6127000000000005E-2},{"$f":"IF(C1183=1,\"0\",VLOOKUP(C1183,coefficient2!$A$10:$B$13,2,FALSE))","v":0.2498763},{"$f":"IF(D1183=1,\"0\",VLOOKUP(D1183,coefficient2!$A$16:$B$19,2,FALSE))","v":7.1197399999999994E-2},{"$f":"IF(E1183=1,\"0\",VLOOKUP(E1183,coefficient2!$A$22:$B$25,2,FALSE))","v":5.63998E-2},{"$f":"IF(F1183=1,\"0\",VLOOKUP(F1183,coefficient2!$A$28:$B$31,2,FALSE))","v":5.8085699999999997E-2},0.49831380000000003]
[25323,2,5,3,2,3,15,{"$f":"IF(B1184=1,\"0\",VLOOKUP(B1184,coefficient2!$A$4:$B$7,2,FALSE))","v":6.6127000000000005E-2},{"$f":"IF(C1184=1,\"0\",VLOOKUP(C1184,coefficient2!$A$10:$B$13,2,FALSE))","v":0.2498763},{"$f":"IF(D1184=1,\"0\",VLOOKUP(D1184,coefficient2!$A$16:$B$19,2,FALSE))","v":7.1197399999999994E-2},{"$f":"IF(E1184=1,\"0\",VLOOKUP(E1184,coefficient2!$A$22:$B$25,2,FALSE))","v":5.63998E-2},{"$f":"IF(F1184=1,\"0\",VLOOKUP(F1184,coefficient2!$A$28:$B$31,2,FALSE))","v":9.5753900000000003E-2},0.46064560000000004]
[25324,2,5,3,2,4,16,{"$f":"IF(B1185=1,\"0\",VLOOKUP(B1185,coefficient2!$A$4:$B$7,2,FALSE))","v":6.6127000000000005E-2},{"$f":"IF(C1185=1,\"0\",VLOOKUP(C1185,coefficient2!$A$10:$B$13,2,FALSE))","v":0.2498763},{"$f":"IF(D1185=1,\"0\",VLOOKUP(D1185,coefficient2!$A$16:$B$19,2,FALSE))","v":7.1197399999999994E-2},{"$f":"IF(E1185=1,\"0\",VLOOKUP(E1185,coefficient2!$A$22:$B$25,2,FALSE))","v":5.63998E-2},{"$f":"IF(F1185=1,\"0\",VLOOKUP(F1185,coefficient2!$A$28:$B$31,2,FALSE))","v":0.23270360000000001},0.32369590000000004]
[25325,2,5,3,2,5,17,{"$f":"IF(B1186=1,\"0\",VLOOKUP(B1186,coefficient2!$A$4:$B$7,2,FALSE))","v":6.6127000000000005E-2},{"$f":"IF(C1186=1,\"0\",VLOOKUP(C1186,coefficient2!$A$10:$B$13,2,FALSE))","v":0.2498763},{"$f":"IF(D1186=1,\"0\",VLOOKUP(D1186,coefficient2!$A$16:$B$19,2,FALSE))","v":7.1197399999999994E-2},{"$f":"IF(E1186=1,\"0\",VLOOKUP(E1186,coefficient2!$A$22:$B$25,2,FALSE))","v":5.63998E-2},{"$f":"IF(F1186=1,\"0\",VLOOKUP(F1186,coefficient2!$A$28:$B$31,2,FALSE))","v":0.29534929999999998},0.26105020000000007]
[25331,2,5,3,3,1,14,{"$f":"IF(B1187=1,\"0\",VLOOKUP(B1187,coefficient2!$A$4:$B$7,2,FALSE))","v":6.6127000000000005E-2},{"$f":"IF(C1187=1,\"0\",VLOOKUP(C1187,coefficient2!$A$10:$B$13,2,FALSE))","v":0.2498763},{"$f":"IF(D1187=1,\"0\",VLOOKUP(D1187,coefficient2!$A$16:$B$19,2,FALSE))","v":7.1197399999999994E-2},{"$f":"IF(E1187=1,\"0\",VLOOKUP(E1187,coefficient2!$A$22:$B$25,2,FALSE))","v":6.6492200000000001E-2},{"$f":"IF(F1187=1,\"0\",VLOOKUP(F1187,coefficient2!$A$28:$B$31,2,FALSE))","v":"0"},0.54630710000000005]
[25332,2,5,3,3,2,15,{"$f":"IF(B1188=1,\"0\",VLOOKUP(B1188,coefficient2!$A$4:$B$7,2,FALSE))","v":6.6127000000000005E-2},{"$f":"IF(C1188=1,\"0\",VLOOKUP(C1188,coefficient2!$A$10:$B$13,2,FALSE))","v":0.2498763},{"$f":"IF(D1188=1,\"0\",VLOOKUP(D1188,coefficient2!$A$16:$B$19,2,FALSE))","v":7.1197399999999994E-2},{"$f":"IF(E1188=1,\"0\",VLOOKUP(E1188,coefficient2!$A$22:$B$25,2,FALSE))","v":6.6492200000000001E-2},{"$f":"IF(F1188=1,\"0\",VLOOKUP(F1188,coefficient2!$A$28:$B$31,2,FALSE))","v":5.8085699999999997E-2},0.48822140000000003]
[25333,2,5,3,3,3,16,{"$f":"IF(B1189=1,\"0\",VLOOKUP(B1189,coefficient2!$A$4:$B$7,2,FALSE))","v":6.6127000000000005E-2},{"$f":"IF(C1189=1,\"0\",VLOOKUP(C1189,coefficient2!$A$10:$B$13,2,FALSE))","v":0.2498763},{"$f":"IF(D1189=1,\"0\",VLOOKUP(D1189,coefficient2!$A$16:$B$19,2,FALSE))","v":7.1197399999999994E-2},{"$f":"IF(E1189=1,\"0\",VLOOKUP(E1189,coefficient2!$A$22:$B$25,2,FALSE))","v":6.6492200000000001E-2},{"$f":"IF(F1189=1,\"0\",VLOOKUP(F1189,coefficient2!$A$28:$B$31,2,FALSE))","v":9.5753900000000003E-2},0.45055320000000004]
[25334,2,5,3,3,4,17,{"$f":"IF(B1190=1,\"0\",VLOOKUP(B1190,coefficient2!$A$4:$B$7,2,FALSE))","v":6.6127000000000005E-2},{"$f":"IF(C1190=1,\"0\",VLOOKUP(C1190,coefficient2!$A$10:$B$13,2,FALSE))","v":0.2498763},{"$f":"IF(D1190=1,\"0\",VLOOKUP(D1190,coefficient2!$A$16:$B$19,2,FALSE))","v":7.1197399999999994E-2},{"$f":"IF(E1190=1,\"0\",VLOOKUP(E1190,coefficient2!$A$22:$B$25,2,FALSE))","v":6.6492200000000001E-2},{"$f":"IF(F1190=1,\"0\",VLOOKUP(F1190,coefficient2!$A$28:$B$31,2,FALSE))","v":0.23270360000000001},0.31360350000000004]
[25335,2,5,3,3,5,18,{"$f":"IF(B1191=1,\"0\",VLOOKUP(B1191,coefficient2!$A$4:$B$7,2,FALSE))","v":6.6127000000000005E-2},{"$f":"IF(C1191=1,\"0\",VLOOKUP(C1191,coefficient2!$A$10:$B$13,2,FALSE))","v":0.2498763},{"$f":"IF(D1191=1,\"0\",VLOOKUP(D1191,coefficient2!$A$16:$B$19,2,FALSE))","v":7.1197399999999994E-2},{"$f":"IF(E1191=1,\"0\",VLOOKUP(E1191,coefficient2!$A$22:$B$25,2,FALSE))","v":6.6492200000000001E-2},{"$f":"IF(F1191=1,\"0\",VLOOKUP(F1191,coefficient2!$A$28:$B$31,2,FALSE))","v":0.29534929999999998},0.25095780000000006]
[25341,2,5,3,4,1,15,{"$f":"IF(B1192=1,\"0\",VLOOKUP(B1192,coefficient2!$A$4:$B$7,2,FALSE))","v":6.6127000000000005E-2},{"$f":"IF(C1192=1,\"0\",VLOOKUP(C1192,coefficient2!$A$10:$B$13,2,FALSE))","v":0.2498763},{"$f":"IF(D1192=1,\"0\",VLOOKUP(D1192,coefficient2!$A$16:$B$19,2,FALSE))","v":7.1197399999999994E-2},{"$f":"IF(E1192=1,\"0\",VLOOKUP(E1192,coefficient2!$A$22:$B$25,2,FALSE))","v":0.2068864},{"$f":"IF(F1192=1,\"0\",VLOOKUP(F1192,coefficient2!$A$28:$B$31,2,FALSE))","v":"0"},0.40591290000000002]
[25342,2,5,3,4,2,16,{"$f":"IF(B1193=1,\"0\",VLOOKUP(B1193,coefficient2!$A$4:$B$7,2,FALSE))","v":6.6127000000000005E-2},{"$f":"IF(C1193=1,\"0\",VLOOKUP(C1193,coefficient2!$A$10:$B$13,2,FALSE))","v":0.2498763},{"$f":"IF(D1193=1,\"0\",VLOOKUP(D1193,coefficient2!$A$16:$B$19,2,FALSE))","v":7.1197399999999994E-2},{"$f":"IF(E1193=1,\"0\",VLOOKUP(E1193,coefficient2!$A$22:$B$25,2,FALSE))","v":0.2068864},{"$f":"IF(F1193=1,\"0\",VLOOKUP(F1193,coefficient2!$A$28:$B$31,2,FALSE))","v":5.8085699999999997E-2},0.3478272]
[25343,2,5,3,4,3,17,{"$f":"IF(B1194=1,\"0\",VLOOKUP(B1194,coefficient2!$A$4:$B$7,2,FALSE))","v":6.6127000000000005E-2},{"$f":"IF(C1194=1,\"0\",VLOOKUP(C1194,coefficient2!$A$10:$B$13,2,FALSE))","v":0.2498763},{"$f":"IF(D1194=1,\"0\",VLOOKUP(D1194,coefficient2!$A$16:$B$19,2,FALSE))","v":7.1197399999999994E-2},{"$f":"IF(E1194=1,\"0\",VLOOKUP(E1194,coefficient2!$A$22:$B$25,2,FALSE))","v":0.2068864},{"$f":"IF(F1194=1,\"0\",VLOOKUP(F1194,coefficient2!$A$28:$B$31,2,FALSE))","v":9.5753900000000003E-2},0.31015900000000002]
[25344,2,5,3,4,4,18,{"$f":"IF(B1195=1,\"0\",VLOOKUP(B1195,coefficient2!$A$4:$B$7,2,FALSE))","v":6.6127000000000005E-2},{"$f":"IF(C1195=1,\"0\",VLOOKUP(C1195,coefficient2!$A$10:$B$13,2,FALSE))","v":0.2498763},{"$f":"IF(D1195=1,\"0\",VLOOKUP(D1195,coefficient2!$A$16:$B$19,2,FALSE))","v":7.1197399999999994E-2},{"$f":"IF(E1195=1,\"0\",VLOOKUP(E1195,coefficient2!$A$22:$B$25,2,FALSE))","v":0.2068864},{"$f":"IF(F1195=1,\"0\",VLOOKUP(F1195,coefficient2!$A$28:$B$31,2,FALSE))","v":0.23270360000000001},0.17320930000000001]
[25345,2,5,3,4,5,19,{"$f":"IF(B1196=1,\"0\",VLOOKUP(B1196,coefficient2!$A$4:$B$7,2,FALSE))","v":6.6127000000000005E-2},{"$f":"IF(C1196=1,\"0\",VLOOKUP(C1196,coefficient2!$A$10:$B$13,2,FALSE))","v":0.2498763},{"$f":"IF(D1196=1,\"0\",VLOOKUP(D1196,coefficient2!$A$16:$B$19,2,FALSE))","v":7.1197399999999994E-2},{"$f":"IF(E1196=1,\"0\",VLOOKUP(E1196,coefficient2!$A$22:$B$25,2,FALSE))","v":0.2068864},{"$f":"IF(F1196=1,\"0\",VLOOKUP(F1196,coefficient2!$A$28:$B$31,2,FALSE))","v":0.29534929999999998},0.11056360000000004]
[25351,2,5,3,5,1,16,{"$f":"IF(B1197=1,\"0\",VLOOKUP(B1197,coefficient2!$A$4:$B$7,2,FALSE))","v":6.6127000000000005E-2},{"$f":"IF(C1197=1,\"0\",VLOOKUP(C1197,coefficient2!$A$10:$B$13,2,FALSE))","v":0.2498763},{"$f":"IF(D1197=1,\"0\",VLOOKUP(D1197,coefficient2!$A$16:$B$19,2,FALSE))","v":7.1197399999999994E-2},{"$f":"IF(E1197=1,\"0\",VLOOKUP(E1197,coefficient2!$A$22:$B$25,2,FALSE))","v":0.25643310000000002},{"$f":"IF(F1197=1,\"0\",VLOOKUP(F1197,coefficient2!$A$28:$B$31,2,FALSE))","v":"0"},0.35636620000000002]
[25352,2,5,3,5,2,17,{"$f":"IF(B1198=1,\"0\",VLOOKUP(B1198,coefficient2!$A$4:$B$7,2,FALSE))","v":6.6127000000000005E-2},{"$f":"IF(C1198=1,\"0\",VLOOKUP(C1198,coefficient2!$A$10:$B$13,2,FALSE))","v":0.2498763},{"$f":"IF(D1198=1,\"0\",VLOOKUP(D1198,coefficient2!$A$16:$B$19,2,FALSE))","v":7.1197399999999994E-2},{"$f":"IF(E1198=1,\"0\",VLOOKUP(E1198,coefficient2!$A$22:$B$25,2,FALSE))","v":0.25643310000000002},{"$f":"IF(F1198=1,\"0\",VLOOKUP(F1198,coefficient2!$A$28:$B$31,2,FALSE))","v":5.8085699999999997E-2},0.2982805]
[25353,2,5,3,5,3,18,{"$f":"IF(B1199=1,\"0\",VLOOKUP(B1199,coefficient2!$A$4:$B$7,2,FALSE))","v":6.6127000000000005E-2},{"$f":"IF(C1199=1,\"0\",VLOOKUP(C1199,coefficient2!$A$10:$B$13,2,FALSE))","v":0.2498763},{"$f":"IF(D1199=1,\"0\",VLOOKUP(D1199,coefficient2!$A$16:$B$19,2,FALSE))","v":7.1197399999999994E-2},{"$f":"IF(E1199=1,\"0\",VLOOKUP(E1199,coefficient2!$A$22:$B$25,2,FALSE))","v":0.25643310000000002},{"$f":"IF(F1199=1,\"0\",VLOOKUP(F1199,coefficient2!$A$28:$B$31,2,FALSE))","v":9.5753900000000003E-2},0.26061230000000002]
[25354,2,5,3,5,4,19,{"$f":"IF(B1200=1,\"0\",VLOOKUP(B1200,coefficient2!$A$4:$B$7,2,FALSE))","v":6.6127000000000005E-2},{"$f":"IF(C1200=1,\"0\",VLOOKUP(C1200,coefficient2!$A$10:$B$13,2,FALSE))","v":0.2498763},{"$f":"IF(D1200=1,\"0\",VLOOKUP(D1200,coefficient2!$A$16:$B$19,2,FALSE))","v":7.1197399999999994E-2},{"$f":"IF(E1200=1,\"0\",VLOOKUP(E1200,coefficient2!$A$22:$B$25,2,FALSE))","v":0.25643310000000002},{"$f":"IF(F1200=1,\"0\",VLOOKUP(F1200,coefficient2!$A$28:$B$31,2,FALSE))","v":0.23270360000000001},0.12366260000000001]
[25355,2,5,3,5,5,20,{"$f":"IF(B1201=1,\"0\",VLOOKUP(B1201,coefficient2!$A$4:$B$7,2,FALSE))","v":6.6127000000000005E-2},{"$f":"IF(C1201=1,\"0\",VLOOKUP(C1201,coefficient2!$A$10:$B$13,2,FALSE))","v":0.2498763},{"$f":"IF(D1201=1,\"0\",VLOOKUP(D1201,coefficient2!$A$16:$B$19,2,FALSE))","v":7.1197399999999994E-2},{"$f":"IF(E1201=1,\"0\",VLOOKUP(E1201,coefficient2!$A$22:$B$25,2,FALSE))","v":0.25643310000000002},{"$f":"IF(F1201=1,\"0\",VLOOKUP(F1201,coefficient2!$A$28:$B$31,2,FALSE))","v":0.29534929999999998},6.1016900000000041E-2]
[25411,2,5,4,1,1,13,{"$f":"IF(B1202=1,\"0\",VLOOKUP(B1202,coefficient2!$A$4:$B$7,2,FALSE))","v":6.6127000000000005E-2},{"$f":"IF(C1202=1,\"0\",VLOOKUP(C1202,coefficient2!$A$10:$B$13,2,FALSE))","v":0.2498763},{"$f":"IF(D1202=1,\"0\",VLOOKUP(D1202,coefficient2!$A$16:$B$19,2,FALSE))","v":0.1534855},{"$f":"IF(E1202=1,\"0\",VLOOKUP(E1202,coefficient2!$A$22:$B$25,2,FALSE))","v":"0"},{"$f":"IF(F1202=1,\"0\",VLOOKUP(F1202,coefficient2!$A$28:$B$31,2,FALSE))","v":"0"},0.53051120000000007]
[25412,2,5,4,1,2,14,{"$f":"IF(B1203=1,\"0\",VLOOKUP(B1203,coefficient2!$A$4:$B$7,2,FALSE))","v":6.6127000000000005E-2},{"$f":"IF(C1203=1,\"0\",VLOOKUP(C1203,coefficient2!$A$10:$B$13,2,FALSE))","v":0.2498763},{"$f":"IF(D1203=1,\"0\",VLOOKUP(D1203,coefficient2!$A$16:$B$19,2,FALSE))","v":0.1534855},{"$f":"IF(E1203=1,\"0\",VLOOKUP(E1203,coefficient2!$A$22:$B$25,2,FALSE))","v":"0"},{"$f":"IF(F1203=1,\"0\",VLOOKUP(F1203,coefficient2!$A$28:$B$31,2,FALSE))","v":5.8085699999999997E-2},0.47242550000000005]
[25413,2,5,4,1,3,15,{"$f":"IF(B1204=1,\"0\",VLOOKUP(B1204,coefficient2!$A$4:$B$7,2,FALSE))","v":6.6127000000000005E-2},{"$f":"IF(C1204=1,\"0\",VLOOKUP(C1204,coefficient2!$A$10:$B$13,2,FALSE))","v":0.2498763},{"$f":"IF(D1204=1,\"0\",VLOOKUP(D1204,coefficient2!$A$16:$B$19,2,FALSE))","v":0.1534855},{"$f":"IF(E1204=1,\"0\",VLOOKUP(E1204,coefficient2!$A$22:$B$25,2,FALSE))","v":"0"},{"$f":"IF(F1204=1,\"0\",VLOOKUP(F1204,coefficient2!$A$28:$B$31,2,FALSE))","v":9.5753900000000003E-2},0.43475730000000007]
[25414,2,5,4,1,4,16,{"$f":"IF(B1205=1,\"0\",VLOOKUP(B1205,coefficient2!$A$4:$B$7,2,FALSE))","v":6.6127000000000005E-2},{"$f":"IF(C1205=1,\"0\",VLOOKUP(C1205,coefficient2!$A$10:$B$13,2,FALSE))","v":0.2498763},{"$f":"IF(D1205=1,\"0\",VLOOKUP(D1205,coefficient2!$A$16:$B$19,2,FALSE))","v":0.1534855},{"$f":"IF(E1205=1,\"0\",VLOOKUP(E1205,coefficient2!$A$22:$B$25,2,FALSE))","v":"0"},{"$f":"IF(F1205=1,\"0\",VLOOKUP(F1205,coefficient2!$A$28:$B$31,2,FALSE))","v":0.23270360000000001},0.29780760000000006]
[25415,2,5,4,1,5,17,{"$f":"IF(B1206=1,\"0\",VLOOKUP(B1206,coefficient2!$A$4:$B$7,2,FALSE))","v":6.6127000000000005E-2},{"$f":"IF(C1206=1,\"0\",VLOOKUP(C1206,coefficient2!$A$10:$B$13,2,FALSE))","v":0.2498763},{"$f":"IF(D1206=1,\"0\",VLOOKUP(D1206,coefficient2!$A$16:$B$19,2,FALSE))","v":0.1534855},{"$f":"IF(E1206=1,\"0\",VLOOKUP(E1206,coefficient2!$A$22:$B$25,2,FALSE))","v":"0"},{"$f":"IF(F1206=1,\"0\",VLOOKUP(F1206,coefficient2!$A$28:$B$31,2,FALSE))","v":0.29534929999999998},0.23516190000000009]
[25421,2,5,4,2,1,14,{"$f":"IF(B1207=1,\"0\",VLOOKUP(B1207,coefficient2!$A$4:$B$7,2,FALSE))","v":6.6127000000000005E-2},{"$f":"IF(C1207=1,\"0\",VLOOKUP(C1207,coefficient2!$A$10:$B$13,2,FALSE))","v":0.2498763},{"$f":"IF(D1207=1,\"0\",VLOOKUP(D1207,coefficient2!$A$16:$B$19,2,FALSE))","v":0.1534855},{"$f":"IF(E1207=1,\"0\",VLOOKUP(E1207,coefficient2!$A$22:$B$25,2,FALSE))","v":5.63998E-2},{"$f":"IF(F1207=1,\"0\",VLOOKUP(F1207,coefficient2!$A$28:$B$31,2,FALSE))","v":"0"},0.47411140000000007]
[25422,2,5,4,2,2,15,{"$f":"IF(B1208=1,\"0\",VLOOKUP(B1208,coefficient2!$A$4:$B$7,2,FALSE))","v":6.6127000000000005E-2},{"$f":"IF(C1208=1,\"0\",VLOOKUP(C1208,coefficient2!$A$10:$B$13,2,FALSE))","v":0.2498763},{"$f":"IF(D1208=1,\"0\",VLOOKUP(D1208,coefficient2!$A$16:$B$19,2,FALSE))","v":0.1534855},{"$f":"IF(E1208=1,\"0\",VLOOKUP(E1208,coefficient2!$A$22:$B$25,2,FALSE))","v":5.63998E-2},{"$f":"IF(F1208=1,\"0\",VLOOKUP(F1208,coefficient2!$A$28:$B$31,2,FALSE))","v":5.8085699999999997E-2},0.41602570000000005]
[25423,2,5,4,2,3,16,{"$f":"IF(B1209=1,\"0\",VLOOKUP(B1209,coefficient2!$A$4:$B$7,2,FALSE))","v":6.6127000000000005E-2},{"$f":"IF(C1209=1,\"0\",VLOOKUP(C1209,coefficient2!$A$10:$B$13,2,FALSE))","v":0.2498763},{"$f":"IF(D1209=1,\"0\",VLOOKUP(D1209,coefficient2!$A$16:$B$19,2,FALSE))","v":0.1534855},{"$f":"IF(E1209=1,\"0\",VLOOKUP(E1209,coefficient2!$A$22:$B$25,2,FALSE))","v":5.63998E-2},{"$f":"IF(F1209=1,\"0\",VLOOKUP(F1209,coefficient2!$A$28:$B$31,2,FALSE))","v":9.5753900000000003E-2},0.37835750000000007]
[25424,2,5,4,2,4,17,{"$f":"IF(B1210=1,\"0\",VLOOKUP(B1210,coefficient2!$A$4:$B$7,2,FALSE))","v":6.6127000000000005E-2},{"$f":"IF(C1210=1,\"0\",VLOOKUP(C1210,coefficient2!$A$10:$B$13,2,FALSE))","v":0.2498763},{"$f":"IF(D1210=1,\"0\",VLOOKUP(D1210,coefficient2!$A$16:$B$19,2,FALSE))","v":0.1534855},{"$f":"IF(E1210=1,\"0\",VLOOKUP(E1210,coefficient2!$A$22:$B$25,2,FALSE))","v":5.63998E-2},{"$f":"IF(F1210=1,\"0\",VLOOKUP(F1210,coefficient2!$A$28:$B$31,2,FALSE))","v":0.23270360000000001},0.24140780000000006]
[25425,2,5,4,2,5,18,{"$f":"IF(B1211=1,\"0\",VLOOKUP(B1211,coefficient2!$A$4:$B$7,2,FALSE))","v":6.6127000000000005E-2},{"$f":"IF(C1211=1,\"0\",VLOOKUP(C1211,coefficient2!$A$10:$B$13,2,FALSE))","v":0.2498763},{"$f":"IF(D1211=1,\"0\",VLOOKUP(D1211,coefficient2!$A$16:$B$19,2,FALSE))","v":0.1534855},{"$f":"IF(E1211=1,\"0\",VLOOKUP(E1211,coefficient2!$A$22:$B$25,2,FALSE))","v":5.63998E-2},{"$f":"IF(F1211=1,\"0\",VLOOKUP(F1211,coefficient2!$A$28:$B$31,2,FALSE))","v":0.29534929999999998},0.17876210000000009]
[25431,2,5,4,3,1,15,{"$f":"IF(B1212=1,\"0\",VLOOKUP(B1212,coefficient2!$A$4:$B$7,2,FALSE))","v":6.6127000000000005E-2},{"$f":"IF(C1212=1,\"0\",VLOOKUP(C1212,coefficient2!$A$10:$B$13,2,FALSE))","v":0.2498763},{"$f":"IF(D1212=1,\"0\",VLOOKUP(D1212,coefficient2!$A$16:$B$19,2,FALSE))","v":0.1534855},{"$f":"IF(E1212=1,\"0\",VLOOKUP(E1212,coefficient2!$A$22:$B$25,2,FALSE))","v":6.6492200000000001E-2},{"$f":"IF(F1212=1,\"0\",VLOOKUP(F1212,coefficient2!$A$28:$B$31,2,FALSE))","v":"0"},0.46401900000000007]
[25432,2,5,4,3,2,16,{"$f":"IF(B1213=1,\"0\",VLOOKUP(B1213,coefficient2!$A$4:$B$7,2,FALSE))","v":6.6127000000000005E-2},{"$f":"IF(C1213=1,\"0\",VLOOKUP(C1213,coefficient2!$A$10:$B$13,2,FALSE))","v":0.2498763},{"$f":"IF(D1213=1,\"0\",VLOOKUP(D1213,coefficient2!$A$16:$B$19,2,FALSE))","v":0.1534855},{"$f":"IF(E1213=1,\"0\",VLOOKUP(E1213,coefficient2!$A$22:$B$25,2,FALSE))","v":6.6492200000000001E-2},{"$f":"IF(F1213=1,\"0\",VLOOKUP(F1213,coefficient2!$A$28:$B$31,2,FALSE))","v":5.8085699999999997E-2},0.40593330000000005]
[25433,2,5,4,3,3,17,{"$f":"IF(B1214=1,\"0\",VLOOKUP(B1214,coefficient2!$A$4:$B$7,2,FALSE))","v":6.6127000000000005E-2},{"$f":"IF(C1214=1,\"0\",VLOOKUP(C1214,coefficient2!$A$10:$B$13,2,FALSE))","v":0.2498763},{"$f":"IF(D1214=1,\"0\",VLOOKUP(D1214,coefficient2!$A$16:$B$19,2,FALSE))","v":0.1534855},{"$f":"IF(E1214=1,\"0\",VLOOKUP(E1214,coefficient2!$A$22:$B$25,2,FALSE))","v":6.6492200000000001E-2},{"$f":"IF(F1214=1,\"0\",VLOOKUP(F1214,coefficient2!$A$28:$B$31,2,FALSE))","v":9.5753900000000003E-2},0.36826510000000007]
[25434,2,5,4,3,4,18,{"$f":"IF(B1215=1,\"0\",VLOOKUP(B1215,coefficient2!$A$4:$B$7,2,FALSE))","v":6.6127000000000005E-2},{"$f":"IF(C1215=1,\"0\",VLOOKUP(C1215,coefficient2!$A$10:$B$13,2,FALSE))","v":0.2498763},{"$f":"IF(D1215=1,\"0\",VLOOKUP(D1215,coefficient2!$A$16:$B$19,2,FALSE))","v":0.1534855},{"$f":"IF(E1215=1,\"0\",VLOOKUP(E1215,coefficient2!$A$22:$B$25,2,FALSE))","v":6.6492200000000001E-2},{"$f":"IF(F1215=1,\"0\",VLOOKUP(F1215,coefficient2!$A$28:$B$31,2,FALSE))","v":0.23270360000000001},0.23131540000000006]
[25435,2,5,4,3,5,19,{"$f":"IF(B1216=1,\"0\",VLOOKUP(B1216,coefficient2!$A$4:$B$7,2,FALSE))","v":6.6127000000000005E-2},{"$f":"IF(C1216=1,\"0\",VLOOKUP(C1216,coefficient2!$A$10:$B$13,2,FALSE))","v":0.2498763},{"$f":"IF(D1216=1,\"0\",VLOOKUP(D1216,coefficient2!$A$16:$B$19,2,FALSE))","v":0.1534855},{"$f":"IF(E1216=1,\"0\",VLOOKUP(E1216,coefficient2!$A$22:$B$25,2,FALSE))","v":6.6492200000000001E-2},{"$f":"IF(F1216=1,\"0\",VLOOKUP(F1216,coefficient2!$A$28:$B$31,2,FALSE))","v":0.29534929999999998},0.16866970000000009]
[25441,2,5,4,4,1,16,{"$f":"IF(B1217=1,\"0\",VLOOKUP(B1217,coefficient2!$A$4:$B$7,2,FALSE))","v":6.6127000000000005E-2},{"$f":"IF(C1217=1,\"0\",VLOOKUP(C1217,coefficient2!$A$10:$B$13,2,FALSE))","v":0.2498763},{"$f":"IF(D1217=1,\"0\",VLOOKUP(D1217,coefficient2!$A$16:$B$19,2,FALSE))","v":0.1534855},{"$f":"IF(E1217=1,\"0\",VLOOKUP(E1217,coefficient2!$A$22:$B$25,2,FALSE))","v":0.2068864},{"$f":"IF(F1217=1,\"0\",VLOOKUP(F1217,coefficient2!$A$28:$B$31,2,FALSE))","v":"0"},0.32362480000000005]
[25442,2,5,4,4,2,17,{"$f":"IF(B1218=1,\"0\",VLOOKUP(B1218,coefficient2!$A$4:$B$7,2,FALSE))","v":6.6127000000000005E-2},{"$f":"IF(C1218=1,\"0\",VLOOKUP(C1218,coefficient2!$A$10:$B$13,2,FALSE))","v":0.2498763},{"$f":"IF(D1218=1,\"0\",VLOOKUP(D1218,coefficient2!$A$16:$B$19,2,FALSE))","v":0.1534855},{"$f":"IF(E1218=1,\"0\",VLOOKUP(E1218,coefficient2!$A$22:$B$25,2,FALSE))","v":0.2068864},{"$f":"IF(F1218=1,\"0\",VLOOKUP(F1218,coefficient2!$A$28:$B$31,2,FALSE))","v":5.8085699999999997E-2},{"$f":"1-H1218-I1218-J1218-K1218-L1218","v":0.26553910000000003}]
[25443,{"$f":"INT(LEFT(A1219,1))","v":2},{"$f":"INT(MID(A1219,2,1))","v":5},{"$f":"INT(MID(A1219,3,1))","v":4},{"$f":"INT(MID(A1219,4,1))","v":4},{"$f":"INT(RIGHT(A1219,1))","v":3},{"$f":"SUM(B1219:F1219)","v":18},{"$f":"IF(B1219=1,\"0\",VLOOKUP(B1219,coefficient2!$A$4:$B$7,2,FALSE))","v":6.6127000000000005E-2},{"$f":"IF(C1219=1,\"0\",VLOOKUP(C1219,coefficient2!$A$10:$B$13,2,FALSE))","v":0.2498763},{"$f":"IF(D1219=1,\"0\",VLOOKUP(D1219,coefficient2!$A$16:$B$19,2,FALSE))","v":0.1534855},{"$f":"IF(E1219=1,\"0\",VLOOKUP(E1219,coefficient2!$A$22:$B$25,2,FALSE))","v":0.2068864},{"$f":"IF(F1219=1,\"0\",VLOOKUP(F1219,coefficient2!$A$28:$B$31,2,FALSE))","v":9.5753900000000003E-2},0.22787090000000004]
[25444,2,5,4,4,4,19,{"$f":"IF(B1220=1,\"0\",VLOOKUP(B1220,coefficient2!$A$4:$B$7,2,FALSE))","v":6.6127000000000005E-2},{"$f":"IF(C1220=1,\"0\",VLOOKUP(C1220,coefficient2!$A$10:$B$13,2,FALSE))","v":0.2498763},{"$f":"IF(D1220=1,\"0\",VLOOKUP(D1220,coefficient2!$A$16:$B$19,2,FALSE))","v":0.1534855},{"$f":"IF(E1220=1,\"0\",VLOOKUP(E1220,coefficient2!$A$22:$B$25,2,FALSE))","v":0.2068864},{"$f":"IF(F1220=1,\"0\",VLOOKUP(F1220,coefficient2!$A$28:$B$31,2,FALSE))","v":0.23270360000000001},9.0921200000000035E-2]
[25445,2,5,4,4,5,20,{"$f":"IF(B1221=1,\"0\",VLOOKUP(B1221,coefficient2!$A$4:$B$7,2,FALSE))","v":6.6127000000000005E-2},{"$f":"IF(C1221=1,\"0\",VLOOKUP(C1221,coefficient2!$A$10:$B$13,2,FALSE))","v":0.2498763},{"$f":"IF(D1221=1,\"0\",VLOOKUP(D1221,coefficient2!$A$16:$B$19,2,FALSE))","v":0.1534855},{"$f":"IF(E1221=1,\"0\",VLOOKUP(E1221,coefficient2!$A$22:$B$25,2,FALSE))","v":0.2068864},{"$f":"IF(F1221=1,\"0\",VLOOKUP(F1221,coefficient2!$A$28:$B$31,2,FALSE))","v":0.29534929999999998},2.8275500000000064E-2]
[25451,2,5,4,5,1,17,{"$f":"IF(B1222=1,\"0\",VLOOKUP(B1222,coefficient2!$A$4:$B$7,2,FALSE))","v":6.6127000000000005E-2},{"$f":"IF(C1222=1,\"0\",VLOOKUP(C1222,coefficient2!$A$10:$B$13,2,FALSE))","v":0.2498763},{"$f":"IF(D1222=1,\"0\",VLOOKUP(D1222,coefficient2!$A$16:$B$19,2,FALSE))","v":0.1534855},{"$f":"IF(E1222=1,\"0\",VLOOKUP(E1222,coefficient2!$A$22:$B$25,2,FALSE))","v":0.25643310000000002},{"$f":"IF(F1222=1,\"0\",VLOOKUP(F1222,coefficient2!$A$28:$B$31,2,FALSE))","v":"0"},0.27407810000000005]
[25452,2,5,4,5,2,18,{"$f":"IF(B1223=1,\"0\",VLOOKUP(B1223,coefficient2!$A$4:$B$7,2,FALSE))","v":6.6127000000000005E-2},{"$f":"IF(C1223=1,\"0\",VLOOKUP(C1223,coefficient2!$A$10:$B$13,2,FALSE))","v":0.2498763},{"$f":"IF(D1223=1,\"0\",VLOOKUP(D1223,coefficient2!$A$16:$B$19,2,FALSE))","v":0.1534855},{"$f":"IF(E1223=1,\"0\",VLOOKUP(E1223,coefficient2!$A$22:$B$25,2,FALSE))","v":0.25643310000000002},{"$f":"IF(F1223=1,\"0\",VLOOKUP(F1223,coefficient2!$A$28:$B$31,2,FALSE))","v":5.8085699999999997E-2},0.21599240000000006]
[25453,2,5,4,5,3,19,{"$f":"IF(B1224=1,\"0\",VLOOKUP(B1224,coefficient2!$A$4:$B$7,2,FALSE))","v":6.6127000000000005E-2},{"$f":"IF(C1224=1,\"0\",VLOOKUP(C1224,coefficient2!$A$10:$B$13,2,FALSE))","v":0.2498763},{"$f":"IF(D1224=1,\"0\",VLOOKUP(D1224,coefficient2!$A$16:$B$19,2,FALSE))","v":0.1534855},{"$f":"IF(E1224=1,\"0\",VLOOKUP(E1224,coefficient2!$A$22:$B$25,2,FALSE))","v":0.25643310000000002},{"$f":"IF(F1224=1,\"0\",VLOOKUP(F1224,coefficient2!$A$28:$B$31,2,FALSE))","v":9.5753900000000003E-2},0.17832420000000004]
[25454,2,5,4,5,4,20,{"$f":"IF(B1225=1,\"0\",VLOOKUP(B1225,coefficient2!$A$4:$B$7,2,FALSE))","v":6.6127000000000005E-2},{"$f":"IF(C1225=1,\"0\",VLOOKUP(C1225,coefficient2!$A$10:$B$13,2,FALSE))","v":0.2498763},{"$f":"IF(D1225=1,\"0\",VLOOKUP(D1225,coefficient2!$A$16:$B$19,2,FALSE))","v":0.1534855},{"$f":"IF(E1225=1,\"0\",VLOOKUP(E1225,coefficient2!$A$22:$B$25,2,FALSE))","v":0.25643310000000002},{"$f":"IF(F1225=1,\"0\",VLOOKUP(F1225,coefficient2!$A$28:$B$31,2,FALSE))","v":0.23270360000000001},4.1374500000000036E-2]
[25455,2,5,4,5,5,21,{"$f":"IF(B1226=1,\"0\",VLOOKUP(B1226,coefficient2!$A$4:$B$7,2,FALSE))","v":6.6127000000000005E-2},{"$f":"IF(C1226=1,\"0\",VLOOKUP(C1226,coefficient2!$A$10:$B$13,2,FALSE))","v":0.2498763},{"$f":"IF(D1226=1,\"0\",VLOOKUP(D1226,coefficient2!$A$16:$B$19,2,FALSE))","v":0.1534855},{"$f":"IF(E1226=1,\"0\",VLOOKUP(E1226,coefficient2!$A$22:$B$25,2,FALSE))","v":0.25643310000000002},{"$f":"IF(F1226=1,\"0\",VLOOKUP(F1226,coefficient2!$A$28:$B$31,2,FALSE))","v":0.29534929999999998},-2.1271199999999935E-2]
[25511,2,5,5,1,1,14,{"$f":"IF(B1227=1,\"0\",VLOOKUP(B1227,coefficient2!$A$4:$B$7,2,FALSE))","v":6.6127000000000005E-2},{"$f":"IF(C1227=1,\"0\",VLOOKUP(C1227,coefficient2!$A$10:$B$13,2,FALSE))","v":0.2498763},{"$f":"IF(D1227=1,\"0\",VLOOKUP(D1227,coefficient2!$A$16:$B$19,2,FALSE))","v":0.248331},{"$f":"IF(E1227=1,\"0\",VLOOKUP(E1227,coefficient2!$A$22:$B$25,2,FALSE))","v":"0"},{"$f":"IF(F1227=1,\"0\",VLOOKUP(F1227,coefficient2!$A$28:$B$31,2,FALSE))","v":"0"},0.43566570000000004]
[25512,2,5,5,1,2,15,{"$f":"IF(B1228=1,\"0\",VLOOKUP(B1228,coefficient2!$A$4:$B$7,2,FALSE))","v":6.6127000000000005E-2},{"$f":"IF(C1228=1,\"0\",VLOOKUP(C1228,coefficient2!$A$10:$B$13,2,FALSE))","v":0.2498763},{"$f":"IF(D1228=1,\"0\",VLOOKUP(D1228,coefficient2!$A$16:$B$19,2,FALSE))","v":0.248331},{"$f":"IF(E1228=1,\"0\",VLOOKUP(E1228,coefficient2!$A$22:$B$25,2,FALSE))","v":"0"},{"$f":"IF(F1228=1,\"0\",VLOOKUP(F1228,coefficient2!$A$28:$B$31,2,FALSE))","v":5.8085699999999997E-2},0.37758000000000003]
[25513,2,5,5,1,3,16,{"$f":"IF(B1229=1,\"0\",VLOOKUP(B1229,coefficient2!$A$4:$B$7,2,FALSE))","v":6.6127000000000005E-2},{"$f":"IF(C1229=1,\"0\",VLOOKUP(C1229,coefficient2!$A$10:$B$13,2,FALSE))","v":0.2498763},{"$f":"IF(D1229=1,\"0\",VLOOKUP(D1229,coefficient2!$A$16:$B$19,2,FALSE))","v":0.248331},{"$f":"IF(E1229=1,\"0\",VLOOKUP(E1229,coefficient2!$A$22:$B$25,2,FALSE))","v":"0"},{"$f":"IF(F1229=1,\"0\",VLOOKUP(F1229,coefficient2!$A$28:$B$31,2,FALSE))","v":9.5753900000000003E-2},0.33991180000000004]
[25514,2,5,5,1,4,17,{"$f":"IF(B1230=1,\"0\",VLOOKUP(B1230,coefficient2!$A$4:$B$7,2,FALSE))","v":6.6127000000000005E-2},{"$f":"IF(C1230=1,\"0\",VLOOKUP(C1230,coefficient2!$A$10:$B$13,2,FALSE))","v":0.2498763},{"$f":"IF(D1230=1,\"0\",VLOOKUP(D1230,coefficient2!$A$16:$B$19,2,FALSE))","v":0.248331},{"$f":"IF(E1230=1,\"0\",VLOOKUP(E1230,coefficient2!$A$22:$B$25,2,FALSE))","v":"0"},{"$f":"IF(F1230=1,\"0\",VLOOKUP(F1230,coefficient2!$A$28:$B$31,2,FALSE))","v":0.23270360000000001},0.20296210000000003]
[25515,2,5,5,1,5,18,{"$f":"IF(B1231=1,\"0\",VLOOKUP(B1231,coefficient2!$A$4:$B$7,2,FALSE))","v":6.6127000000000005E-2},{"$f":"IF(C1231=1,\"0\",VLOOKUP(C1231,coefficient2!$A$10:$B$13,2,FALSE))","v":0.2498763},{"$f":"IF(D1231=1,\"0\",VLOOKUP(D1231,coefficient2!$A$16:$B$19,2,FALSE))","v":0.248331},{"$f":"IF(E1231=1,\"0\",VLOOKUP(E1231,coefficient2!$A$22:$B$25,2,FALSE))","v":"0"},{"$f":"IF(F1231=1,\"0\",VLOOKUP(F1231,coefficient2!$A$28:$B$31,2,FALSE))","v":0.29534929999999998},0.14031640000000006]
[25521,2,5,5,2,1,15,{"$f":"IF(B1232=1,\"0\",VLOOKUP(B1232,coefficient2!$A$4:$B$7,2,FALSE))","v":6.6127000000000005E-2},{"$f":"IF(C1232=1,\"0\",VLOOKUP(C1232,coefficient2!$A$10:$B$13,2,FALSE))","v":0.2498763},{"$f":"IF(D1232=1,\"0\",VLOOKUP(D1232,coefficient2!$A$16:$B$19,2,FALSE))","v":0.248331},{"$f":"IF(E1232=1,\"0\",VLOOKUP(E1232,coefficient2!$A$22:$B$25,2,FALSE))","v":5.63998E-2},{"$f":"IF(F1232=1,\"0\",VLOOKUP(F1232,coefficient2!$A$28:$B$31,2,FALSE))","v":"0"},0.37926590000000004]
[25522,2,5,5,2,2,16,{"$f":"IF(B1233=1,\"0\",VLOOKUP(B1233,coefficient2!$A$4:$B$7,2,FALSE))","v":6.6127000000000005E-2},{"$f":"IF(C1233=1,\"0\",VLOOKUP(C1233,coefficient2!$A$10:$B$13,2,FALSE))","v":0.2498763},{"$f":"IF(D1233=1,\"0\",VLOOKUP(D1233,coefficient2!$A$16:$B$19,2,FALSE))","v":0.248331},{"$f":"IF(E1233=1,\"0\",VLOOKUP(E1233,coefficient2!$A$22:$B$25,2,FALSE))","v":5.63998E-2},{"$f":"IF(F1233=1,\"0\",VLOOKUP(F1233,coefficient2!$A$28:$B$31,2,FALSE))","v":5.8085699999999997E-2},0.32118020000000003]
[25523,2,5,5,2,3,17,{"$f":"IF(B1234=1,\"0\",VLOOKUP(B1234,coefficient2!$A$4:$B$7,2,FALSE))","v":6.6127000000000005E-2},{"$f":"IF(C1234=1,\"0\",VLOOKUP(C1234,coefficient2!$A$10:$B$13,2,FALSE))","v":0.2498763},{"$f":"IF(D1234=1,\"0\",VLOOKUP(D1234,coefficient2!$A$16:$B$19,2,FALSE))","v":0.248331},{"$f":"IF(E1234=1,\"0\",VLOOKUP(E1234,coefficient2!$A$22:$B$25,2,FALSE))","v":5.63998E-2},{"$f":"IF(F1234=1,\"0\",VLOOKUP(F1234,coefficient2!$A$28:$B$31,2,FALSE))","v":9.5753900000000003E-2},0.28351200000000004]
[25524,2,5,5,2,4,18,{"$f":"IF(B1235=1,\"0\",VLOOKUP(B1235,coefficient2!$A$4:$B$7,2,FALSE))","v":6.6127000000000005E-2},{"$f":"IF(C1235=1,\"0\",VLOOKUP(C1235,coefficient2!$A$10:$B$13,2,FALSE))","v":0.2498763},{"$f":"IF(D1235=1,\"0\",VLOOKUP(D1235,coefficient2!$A$16:$B$19,2,FALSE))","v":0.248331},{"$f":"IF(E1235=1,\"0\",VLOOKUP(E1235,coefficient2!$A$22:$B$25,2,FALSE))","v":5.63998E-2},{"$f":"IF(F1235=1,\"0\",VLOOKUP(F1235,coefficient2!$A$28:$B$31,2,FALSE))","v":0.23270360000000001},0.14656230000000003]
[25525,2,5,5,2,5,19,{"$f":"IF(B1236=1,\"0\",VLOOKUP(B1236,coefficient2!$A$4:$B$7,2,FALSE))","v":6.6127000000000005E-2},{"$f":"IF(C1236=1,\"0\",VLOOKUP(C1236,coefficient2!$A$10:$B$13,2,FALSE))","v":0.2498763},{"$f":"IF(D1236=1,\"0\",VLOOKUP(D1236,coefficient2!$A$16:$B$19,2,FALSE))","v":0.248331},{"$f":"IF(E1236=1,\"0\",VLOOKUP(E1236,coefficient2!$A$22:$B$25,2,FALSE))","v":5.63998E-2},{"$f":"IF(F1236=1,\"0\",VLOOKUP(F1236,coefficient2!$A$28:$B$31,2,FALSE))","v":0.29534929999999998},8.3916600000000063E-2]
[25531,2,5,5,3,1,16,{"$f":"IF(B1237=1,\"0\",VLOOKUP(B1237,coefficient2!$A$4:$B$7,2,FALSE))","v":6.6127000000000005E-2},{"$f":"IF(C1237=1,\"0\",VLOOKUP(C1237,coefficient2!$A$10:$B$13,2,FALSE))","v":0.2498763},{"$f":"IF(D1237=1,\"0\",VLOOKUP(D1237,coefficient2!$A$16:$B$19,2,FALSE))","v":0.248331},{"$f":"IF(E1237=1,\"0\",VLOOKUP(E1237,coefficient2!$A$22:$B$25,2,FALSE))","v":6.6492200000000001E-2},{"$f":"IF(F1237=1,\"0\",VLOOKUP(F1237,coefficient2!$A$28:$B$31,2,FALSE))","v":"0"},0.36917350000000004]
[25532,2,5,5,3,2,17,{"$f":"IF(B1238=1,\"0\",VLOOKUP(B1238,coefficient2!$A$4:$B$7,2,FALSE))","v":6.6127000000000005E-2},{"$f":"IF(C1238=1,\"0\",VLOOKUP(C1238,coefficient2!$A$10:$B$13,2,FALSE))","v":0.2498763},{"$f":"IF(D1238=1,\"0\",VLOOKUP(D1238,coefficient2!$A$16:$B$19,2,FALSE))","v":0.248331},{"$f":"IF(E1238=1,\"0\",VLOOKUP(E1238,coefficient2!$A$22:$B$25,2,FALSE))","v":6.6492200000000001E-2},{"$f":"IF(F1238=1,\"0\",VLOOKUP(F1238,coefficient2!$A$28:$B$31,2,FALSE))","v":5.8085699999999997E-2},0.31108780000000003]
[25533,2,5,5,3,3,18,{"$f":"IF(B1239=1,\"0\",VLOOKUP(B1239,coefficient2!$A$4:$B$7,2,FALSE))","v":6.6127000000000005E-2},{"$f":"IF(C1239=1,\"0\",VLOOKUP(C1239,coefficient2!$A$10:$B$13,2,FALSE))","v":0.2498763},{"$f":"IF(D1239=1,\"0\",VLOOKUP(D1239,coefficient2!$A$16:$B$19,2,FALSE))","v":0.248331},{"$f":"IF(E1239=1,\"0\",VLOOKUP(E1239,coefficient2!$A$22:$B$25,2,FALSE))","v":6.6492200000000001E-2},{"$f":"IF(F1239=1,\"0\",VLOOKUP(F1239,coefficient2!$A$28:$B$31,2,FALSE))","v":9.5753900000000003E-2},0.27341960000000004]
[25534,2,5,5,3,4,19,{"$f":"IF(B1240=1,\"0\",VLOOKUP(B1240,coefficient2!$A$4:$B$7,2,FALSE))","v":6.6127000000000005E-2},{"$f":"IF(C1240=1,\"0\",VLOOKUP(C1240,coefficient2!$A$10:$B$13,2,FALSE))","v":0.2498763},{"$f":"IF(D1240=1,\"0\",VLOOKUP(D1240,coefficient2!$A$16:$B$19,2,FALSE))","v":0.248331},{"$f":"IF(E1240=1,\"0\",VLOOKUP(E1240,coefficient2!$A$22:$B$25,2,FALSE))","v":6.6492200000000001E-2},{"$f":"IF(F1240=1,\"0\",VLOOKUP(F1240,coefficient2!$A$28:$B$31,2,FALSE))","v":0.23270360000000001},0.13646990000000003]
[25535,2,5,5,3,5,20,{"$f":"IF(B1241=1,\"0\",VLOOKUP(B1241,coefficient2!$A$4:$B$7,2,FALSE))","v":6.6127000000000005E-2},{"$f":"IF(C1241=1,\"0\",VLOOKUP(C1241,coefficient2!$A$10:$B$13,2,FALSE))","v":0.2498763},{"$f":"IF(D1241=1,\"0\",VLOOKUP(D1241,coefficient2!$A$16:$B$19,2,FALSE))","v":0.248331},{"$f":"IF(E1241=1,\"0\",VLOOKUP(E1241,coefficient2!$A$22:$B$25,2,FALSE))","v":6.6492200000000001E-2},{"$f":"IF(F1241=1,\"0\",VLOOKUP(F1241,coefficient2!$A$28:$B$31,2,FALSE))","v":0.29534929999999998},7.3824200000000062E-2]
[25541,2,5,5,4,1,17,{"$f":"IF(B1242=1,\"0\",VLOOKUP(B1242,coefficient2!$A$4:$B$7,2,FALSE))","v":6.6127000000000005E-2},{"$f":"IF(C1242=1,\"0\",VLOOKUP(C1242,coefficient2!$A$10:$B$13,2,FALSE))","v":0.2498763},{"$f":"IF(D1242=1,\"0\",VLOOKUP(D1242,coefficient2!$A$16:$B$19,2,FALSE))","v":0.248331},{"$f":"IF(E1242=1,\"0\",VLOOKUP(E1242,coefficient2!$A$22:$B$25,2,FALSE))","v":0.2068864},{"$f":"IF(F1242=1,\"0\",VLOOKUP(F1242,coefficient2!$A$28:$B$31,2,FALSE))","v":"0"},0.22877930000000005]
[25542,2,5,5,4,2,18,{"$f":"IF(B1243=1,\"0\",VLOOKUP(B1243,coefficient2!$A$4:$B$7,2,FALSE))","v":6.6127000000000005E-2},{"$f":"IF(C1243=1,\"0\",VLOOKUP(C1243,coefficient2!$A$10:$B$13,2,FALSE))","v":0.2498763},{"$f":"IF(D1243=1,\"0\",VLOOKUP(D1243,coefficient2!$A$16:$B$19,2,FALSE))","v":0.248331},{"$f":"IF(E1243=1,\"0\",VLOOKUP(E1243,coefficient2!$A$22:$B$25,2,FALSE))","v":0.2068864},{"$f":"IF(F1243=1,\"0\",VLOOKUP(F1243,coefficient2!$A$28:$B$31,2,FALSE))","v":5.8085699999999997E-2},0.17069360000000006]
[25543,2,5,5,4,3,19,{"$f":"IF(B1244=1,\"0\",VLOOKUP(B1244,coefficient2!$A$4:$B$7,2,FALSE))","v":6.6127000000000005E-2},{"$f":"IF(C1244=1,\"0\",VLOOKUP(C1244,coefficient2!$A$10:$B$13,2,FALSE))","v":0.2498763},{"$f":"IF(D1244=1,\"0\",VLOOKUP(D1244,coefficient2!$A$16:$B$19,2,FALSE))","v":0.248331},{"$f":"IF(E1244=1,\"0\",VLOOKUP(E1244,coefficient2!$A$22:$B$25,2,FALSE))","v":0.2068864},{"$f":"IF(F1244=1,\"0\",VLOOKUP(F1244,coefficient2!$A$28:$B$31,2,FALSE))","v":9.5753900000000003E-2},0.13302540000000004]
[25544,2,5,5,4,4,20,{"$f":"IF(B1245=1,\"0\",VLOOKUP(B1245,coefficient2!$A$4:$B$7,2,FALSE))","v":6.6127000000000005E-2},{"$f":"IF(C1245=1,\"0\",VLOOKUP(C1245,coefficient2!$A$10:$B$13,2,FALSE))","v":0.2498763},{"$f":"IF(D1245=1,\"0\",VLOOKUP(D1245,coefficient2!$A$16:$B$19,2,FALSE))","v":0.248331},{"$f":"IF(E1245=1,\"0\",VLOOKUP(E1245,coefficient2!$A$22:$B$25,2,FALSE))","v":0.2068864},{"$f":"IF(F1245=1,\"0\",VLOOKUP(F1245,coefficient2!$A$28:$B$31,2,FALSE))","v":0.23270360000000001},-3.9242999999999639E-3]
[25545,2,5,5,4,5,21,{"$f":"IF(B1246=1,\"0\",VLOOKUP(B1246,coefficient2!$A$4:$B$7,2,FALSE))","v":6.6127000000000005E-2},{"$f":"IF(C1246=1,\"0\",VLOOKUP(C1246,coefficient2!$A$10:$B$13,2,FALSE))","v":0.2498763},{"$f":"IF(D1246=1,\"0\",VLOOKUP(D1246,coefficient2!$A$16:$B$19,2,FALSE))","v":0.248331},{"$f":"IF(E1246=1,\"0\",VLOOKUP(E1246,coefficient2!$A$22:$B$25,2,FALSE))","v":0.2068864},{"$f":"IF(F1246=1,\"0\",VLOOKUP(F1246,coefficient2!$A$28:$B$31,2,FALSE))","v":0.29534929999999998},-6.6569999999999935E-2]
[25551,2,5,5,5,1,18,{"$f":"IF(B1247=1,\"0\",VLOOKUP(B1247,coefficient2!$A$4:$B$7,2,FALSE))","v":6.6127000000000005E-2},{"$f":"IF(C1247=1,\"0\",VLOOKUP(C1247,coefficient2!$A$10:$B$13,2,FALSE))","v":0.2498763},{"$f":"IF(D1247=1,\"0\",VLOOKUP(D1247,coefficient2!$A$16:$B$19,2,FALSE))","v":0.248331},{"$f":"IF(E1247=1,\"0\",VLOOKUP(E1247,coefficient2!$A$22:$B$25,2,FALSE))","v":0.25643310000000002},{"$f":"IF(F1247=1,\"0\",VLOOKUP(F1247,coefficient2!$A$28:$B$31,2,FALSE))","v":"0"},0.17923260000000002]
[25552,2,5,5,5,2,19,{"$f":"IF(B1248=1,\"0\",VLOOKUP(B1248,coefficient2!$A$4:$B$7,2,FALSE))","v":6.6127000000000005E-2},{"$f":"IF(C1248=1,\"0\",VLOOKUP(C1248,coefficient2!$A$10:$B$13,2,FALSE))","v":0.2498763},{"$f":"IF(D1248=1,\"0\",VLOOKUP(D1248,coefficient2!$A$16:$B$19,2,FALSE))","v":0.248331},{"$f":"IF(E1248=1,\"0\",VLOOKUP(E1248,coefficient2!$A$22:$B$25,2,FALSE))","v":0.25643310000000002},{"$f":"IF(F1248=1,\"0\",VLOOKUP(F1248,coefficient2!$A$28:$B$31,2,FALSE))","v":5.8085699999999997E-2},0.12114690000000003]
[25553,2,5,5,5,3,20,{"$f":"IF(B1249=1,\"0\",VLOOKUP(B1249,coefficient2!$A$4:$B$7,2,FALSE))","v":6.6127000000000005E-2},{"$f":"IF(C1249=1,\"0\",VLOOKUP(C1249,coefficient2!$A$10:$B$13,2,FALSE))","v":0.2498763},{"$f":"IF(D1249=1,\"0\",VLOOKUP(D1249,coefficient2!$A$16:$B$19,2,FALSE))","v":0.248331},{"$f":"IF(E1249=1,\"0\",VLOOKUP(E1249,coefficient2!$A$22:$B$25,2,FALSE))","v":0.25643310000000002},{"$f":"IF(F1249=1,\"0\",VLOOKUP(F1249,coefficient2!$A$28:$B$31,2,FALSE))","v":9.5753900000000003E-2},8.3478700000000017E-2]
[25554,2,5,5,5,4,21,{"$f":"IF(B1250=1,\"0\",VLOOKUP(B1250,coefficient2!$A$4:$B$7,2,FALSE))","v":6.6127000000000005E-2},{"$f":"IF(C1250=1,\"0\",VLOOKUP(C1250,coefficient2!$A$10:$B$13,2,FALSE))","v":0.2498763},{"$f":"IF(D1250=1,\"0\",VLOOKUP(D1250,coefficient2!$A$16:$B$19,2,FALSE))","v":0.248331},{"$f":"IF(E1250=1,\"0\",VLOOKUP(E1250,coefficient2!$A$22:$B$25,2,FALSE))","v":0.25643310000000002},{"$f":"IF(F1250=1,\"0\",VLOOKUP(F1250,coefficient2!$A$28:$B$31,2,FALSE))","v":0.23270360000000001},-5.3470999999999991E-2]
[25555,2,5,5,5,5,22,{"$f":"IF(B1251=1,\"0\",VLOOKUP(B1251,coefficient2!$A$4:$B$7,2,FALSE))","v":6.6127000000000005E-2},{"$f":"IF(C1251=1,\"0\",VLOOKUP(C1251,coefficient2!$A$10:$B$13,2,FALSE))","v":0.2498763},{"$f":"IF(D1251=1,\"0\",VLOOKUP(D1251,coefficient2!$A$16:$B$19,2,FALSE))","v":0.248331},{"$f":"IF(E1251=1,\"0\",VLOOKUP(E1251,coefficient2!$A$22:$B$25,2,FALSE))","v":0.25643310000000002},{"$f":"IF(F1251=1,\"0\",VLOOKUP(F1251,coefficient2!$A$28:$B$31,2,FALSE))","v":0.29534929999999998},-0.11611669999999996]
[31111,3,1,1,1,1,7,{"$f":"IF(B1252=1,\"0\",VLOOKUP(B1252,coefficient2!$A$4:$B$7,2,FALSE))","v":8.6562899999999998E-2},{"$f":"IF(C1252=1,\"0\",VLOOKUP(C1252,coefficient2!$A$10:$B$13,2,FALSE))","v":"0"},{"$f":"IF(D1252=1,\"0\",VLOOKUP(D1252,coefficient2!$A$16:$B$19,2,FALSE))","v":"0"},{"$f":"IF(E1252=1,\"0\",VLOOKUP(E1252,coefficient2!$A$22:$B$25,2,FALSE))","v":"0"},{"$f":"IF(F1252=1,\"0\",VLOOKUP(F1252,coefficient2!$A$28:$B$31,2,FALSE))","v":"0"},0.9134371]
[31112,3,1,1,1,2,8,{"$f":"IF(B1253=1,\"0\",VLOOKUP(B1253,coefficient2!$A$4:$B$7,2,FALSE))","v":8.6562899999999998E-2},{"$f":"IF(C1253=1,\"0\",VLOOKUP(C1253,coefficient2!$A$10:$B$13,2,FALSE))","v":"0"},{"$f":"IF(D1253=1,\"0\",VLOOKUP(D1253,coefficient2!$A$16:$B$19,2,FALSE))","v":"0"},{"$f":"IF(E1253=1,\"0\",VLOOKUP(E1253,coefficient2!$A$22:$B$25,2,FALSE))","v":"0"},{"$f":"IF(F1253=1,\"0\",VLOOKUP(F1253,coefficient2!$A$28:$B$31,2,FALSE))","v":5.8085699999999997E-2},0.85535139999999998]
[31113,3,1,1,1,3,9,{"$f":"IF(B1254=1,\"0\",VLOOKUP(B1254,coefficient2!$A$4:$B$7,2,FALSE))","v":8.6562899999999998E-2},{"$f":"IF(C1254=1,\"0\",VLOOKUP(C1254,coefficient2!$A$10:$B$13,2,FALSE))","v":"0"},{"$f":"IF(D1254=1,\"0\",VLOOKUP(D1254,coefficient2!$A$16:$B$19,2,FALSE))","v":"0"},{"$f":"IF(E1254=1,\"0\",VLOOKUP(E1254,coefficient2!$A$22:$B$25,2,FALSE))","v":"0"},{"$f":"IF(F1254=1,\"0\",VLOOKUP(F1254,coefficient2!$A$28:$B$31,2,FALSE))","v":9.5753900000000003E-2},0.81768320000000005]
[31114,3,1,1,1,4,10,{"$f":"IF(B1255=1,\"0\",VLOOKUP(B1255,coefficient2!$A$4:$B$7,2,FALSE))","v":8.6562899999999998E-2},{"$f":"IF(C1255=1,\"0\",VLOOKUP(C1255,coefficient2!$A$10:$B$13,2,FALSE))","v":"0"},{"$f":"IF(D1255=1,\"0\",VLOOKUP(D1255,coefficient2!$A$16:$B$19,2,FALSE))","v":"0"},{"$f":"IF(E1255=1,\"0\",VLOOKUP(E1255,coefficient2!$A$22:$B$25,2,FALSE))","v":"0"},{"$f":"IF(F1255=1,\"0\",VLOOKUP(F1255,coefficient2!$A$28:$B$31,2,FALSE))","v":0.23270360000000001},0.68073349999999999]
[31115,3,1,1,1,5,11,{"$f":"IF(B1256=1,\"0\",VLOOKUP(B1256,coefficient2!$A$4:$B$7,2,FALSE))","v":8.6562899999999998E-2},{"$f":"IF(C1256=1,\"0\",VLOOKUP(C1256,coefficient2!$A$10:$B$13,2,FALSE))","v":"0"},{"$f":"IF(D1256=1,\"0\",VLOOKUP(D1256,coefficient2!$A$16:$B$19,2,FALSE))","v":"0"},{"$f":"IF(E1256=1,\"0\",VLOOKUP(E1256,coefficient2!$A$22:$B$25,2,FALSE))","v":"0"},{"$f":"IF(F1256=1,\"0\",VLOOKUP(F1256,coefficient2!$A$28:$B$31,2,FALSE))","v":0.29534929999999998},0.61808780000000008]
[31121,3,1,1,2,1,8,{"$f":"IF(B1257=1,\"0\",VLOOKUP(B1257,coefficient2!$A$4:$B$7,2,FALSE))","v":8.6562899999999998E-2},{"$f":"IF(C1257=1,\"0\",VLOOKUP(C1257,coefficient2!$A$10:$B$13,2,FALSE))","v":"0"},{"$f":"IF(D1257=1,\"0\",VLOOKUP(D1257,coefficient2!$A$16:$B$19,2,FALSE))","v":"0"},{"$f":"IF(E1257=1,\"0\",VLOOKUP(E1257,coefficient2!$A$22:$B$25,2,FALSE))","v":5.63998E-2},{"$f":"IF(F1257=1,\"0\",VLOOKUP(F1257,coefficient2!$A$28:$B$31,2,FALSE))","v":"0"},0.8570373]
[31122,3,1,1,2,2,9,{"$f":"IF(B1258=1,\"0\",VLOOKUP(B1258,coefficient2!$A$4:$B$7,2,FALSE))","v":8.6562899999999998E-2},{"$f":"IF(C1258=1,\"0\",VLOOKUP(C1258,coefficient2!$A$10:$B$13,2,FALSE))","v":"0"},{"$f":"IF(D1258=1,\"0\",VLOOKUP(D1258,coefficient2!$A$16:$B$19,2,FALSE))","v":"0"},{"$f":"IF(E1258=1,\"0\",VLOOKUP(E1258,coefficient2!$A$22:$B$25,2,FALSE))","v":5.63998E-2},{"$f":"IF(F1258=1,\"0\",VLOOKUP(F1258,coefficient2!$A$28:$B$31,2,FALSE))","v":5.8085699999999997E-2},0.79895159999999998]
[31123,3,1,1,2,3,10,{"$f":"IF(B1259=1,\"0\",VLOOKUP(B1259,coefficient2!$A$4:$B$7,2,FALSE))","v":8.6562899999999998E-2},{"$f":"IF(C1259=1,\"0\",VLOOKUP(C1259,coefficient2!$A$10:$B$13,2,FALSE))","v":"0"},{"$f":"IF(D1259=1,\"0\",VLOOKUP(D1259,coefficient2!$A$16:$B$19,2,FALSE))","v":"0"},{"$f":"IF(E1259=1,\"0\",VLOOKUP(E1259,coefficient2!$A$22:$B$25,2,FALSE))","v":5.63998E-2},{"$f":"IF(F1259=1,\"0\",VLOOKUP(F1259,coefficient2!$A$28:$B$31,2,FALSE))","v":9.5753900000000003E-2},0.76128339999999994]
[31124,3,1,1,2,4,11,{"$f":"IF(B1260=1,\"0\",VLOOKUP(B1260,coefficient2!$A$4:$B$7,2,FALSE))","v":8.6562899999999998E-2},{"$f":"IF(C1260=1,\"0\",VLOOKUP(C1260,coefficient2!$A$10:$B$13,2,FALSE))","v":"0"},{"$f":"IF(D1260=1,\"0\",VLOOKUP(D1260,coefficient2!$A$16:$B$19,2,FALSE))","v":"0"},{"$f":"IF(E1260=1,\"0\",VLOOKUP(E1260,coefficient2!$A$22:$B$25,2,FALSE))","v":5.63998E-2},{"$f":"IF(F1260=1,\"0\",VLOOKUP(F1260,coefficient2!$A$28:$B$31,2,FALSE))","v":0.23270360000000001},0.62433369999999999]
[31125,3,1,1,2,5,12,{"$f":"IF(B1261=1,\"0\",VLOOKUP(B1261,coefficient2!$A$4:$B$7,2,FALSE))","v":8.6562899999999998E-2},{"$f":"IF(C1261=1,\"0\",VLOOKUP(C1261,coefficient2!$A$10:$B$13,2,FALSE))","v":"0"},{"$f":"IF(D1261=1,\"0\",VLOOKUP(D1261,coefficient2!$A$16:$B$19,2,FALSE))","v":"0"},{"$f":"IF(E1261=1,\"0\",VLOOKUP(E1261,coefficient2!$A$22:$B$25,2,FALSE))","v":5.63998E-2},{"$f":"IF(F1261=1,\"0\",VLOOKUP(F1261,coefficient2!$A$28:$B$31,2,FALSE))","v":0.29534929999999998},0.56168799999999997]
[31131,3,1,1,3,1,9,{"$f":"IF(B1262=1,\"0\",VLOOKUP(B1262,coefficient2!$A$4:$B$7,2,FALSE))","v":8.6562899999999998E-2},{"$f":"IF(C1262=1,\"0\",VLOOKUP(C1262,coefficient2!$A$10:$B$13,2,FALSE))","v":"0"},{"$f":"IF(D1262=1,\"0\",VLOOKUP(D1262,coefficient2!$A$16:$B$19,2,FALSE))","v":"0"},{"$f":"IF(E1262=1,\"0\",VLOOKUP(E1262,coefficient2!$A$22:$B$25,2,FALSE))","v":6.6492200000000001E-2},{"$f":"IF(F1262=1,\"0\",VLOOKUP(F1262,coefficient2!$A$28:$B$31,2,FALSE))","v":"0"},0.8469449]
[31132,3,1,1,3,2,10,{"$f":"IF(B1263=1,\"0\",VLOOKUP(B1263,coefficient2!$A$4:$B$7,2,FALSE))","v":8.6562899999999998E-2},{"$f":"IF(C1263=1,\"0\",VLOOKUP(C1263,coefficient2!$A$10:$B$13,2,FALSE))","v":"0"},{"$f":"IF(D1263=1,\"0\",VLOOKUP(D1263,coefficient2!$A$16:$B$19,2,FALSE))","v":"0"},{"$f":"IF(E1263=1,\"0\",VLOOKUP(E1263,coefficient2!$A$22:$B$25,2,FALSE))","v":6.6492200000000001E-2},{"$f":"IF(F1263=1,\"0\",VLOOKUP(F1263,coefficient2!$A$28:$B$31,2,FALSE))","v":5.8085699999999997E-2},0.78885919999999998]
[31133,3,1,1,3,3,11,{"$f":"IF(B1264=1,\"0\",VLOOKUP(B1264,coefficient2!$A$4:$B$7,2,FALSE))","v":8.6562899999999998E-2},{"$f":"IF(C1264=1,\"0\",VLOOKUP(C1264,coefficient2!$A$10:$B$13,2,FALSE))","v":"0"},{"$f":"IF(D1264=1,\"0\",VLOOKUP(D1264,coefficient2!$A$16:$B$19,2,FALSE))","v":"0"},{"$f":"IF(E1264=1,\"0\",VLOOKUP(E1264,coefficient2!$A$22:$B$25,2,FALSE))","v":6.6492200000000001E-2},{"$f":"IF(F1264=1,\"0\",VLOOKUP(F1264,coefficient2!$A$28:$B$31,2,FALSE))","v":9.5753900000000003E-2},0.75119099999999994]
[31134,3,1,1,3,4,12,{"$f":"IF(B1265=1,\"0\",VLOOKUP(B1265,coefficient2!$A$4:$B$7,2,FALSE))","v":8.6562899999999998E-2},{"$f":"IF(C1265=1,\"0\",VLOOKUP(C1265,coefficient2!$A$10:$B$13,2,FALSE))","v":"0"},{"$f":"IF(D1265=1,\"0\",VLOOKUP(D1265,coefficient2!$A$16:$B$19,2,FALSE))","v":"0"},{"$f":"IF(E1265=1,\"0\",VLOOKUP(E1265,coefficient2!$A$22:$B$25,2,FALSE))","v":6.6492200000000001E-2},{"$f":"IF(F1265=1,\"0\",VLOOKUP(F1265,coefficient2!$A$28:$B$31,2,FALSE))","v":0.23270360000000001},0.61424129999999999]
[31135,3,1,1,3,5,13,{"$f":"IF(B1266=1,\"0\",VLOOKUP(B1266,coefficient2!$A$4:$B$7,2,FALSE))","v":8.6562899999999998E-2},{"$f":"IF(C1266=1,\"0\",VLOOKUP(C1266,coefficient2!$A$10:$B$13,2,FALSE))","v":"0"},{"$f":"IF(D1266=1,\"0\",VLOOKUP(D1266,coefficient2!$A$16:$B$19,2,FALSE))","v":"0"},{"$f":"IF(E1266=1,\"0\",VLOOKUP(E1266,coefficient2!$A$22:$B$25,2,FALSE))","v":6.6492200000000001E-2},{"$f":"IF(F1266=1,\"0\",VLOOKUP(F1266,coefficient2!$A$28:$B$31,2,FALSE))","v":0.29534929999999998},0.55159559999999996]
[31141,3,1,1,4,1,10,{"$f":"IF(B1267=1,\"0\",VLOOKUP(B1267,coefficient2!$A$4:$B$7,2,FALSE))","v":8.6562899999999998E-2},{"$f":"IF(C1267=1,\"0\",VLOOKUP(C1267,coefficient2!$A$10:$B$13,2,FALSE))","v":"0"},{"$f":"IF(D1267=1,\"0\",VLOOKUP(D1267,coefficient2!$A$16:$B$19,2,FALSE))","v":"0"},{"$f":"IF(E1267=1,\"0\",VLOOKUP(E1267,coefficient2!$A$22:$B$25,2,FALSE))","v":0.2068864},{"$f":"IF(F1267=1,\"0\",VLOOKUP(F1267,coefficient2!$A$28:$B$31,2,FALSE))","v":"0"},0.70655069999999998]
[31142,3,1,1,4,2,11,{"$f":"IF(B1268=1,\"0\",VLOOKUP(B1268,coefficient2!$A$4:$B$7,2,FALSE))","v":8.6562899999999998E-2},{"$f":"IF(C1268=1,\"0\",VLOOKUP(C1268,coefficient2!$A$10:$B$13,2,FALSE))","v":"0"},{"$f":"IF(D1268=1,\"0\",VLOOKUP(D1268,coefficient2!$A$16:$B$19,2,FALSE))","v":"0"},{"$f":"IF(E1268=1,\"0\",VLOOKUP(E1268,coefficient2!$A$22:$B$25,2,FALSE))","v":0.2068864},{"$f":"IF(F1268=1,\"0\",VLOOKUP(F1268,coefficient2!$A$28:$B$31,2,FALSE))","v":5.8085699999999997E-2},0.64846499999999996]
[31143,3,1,1,4,3,12,{"$f":"IF(B1269=1,\"0\",VLOOKUP(B1269,coefficient2!$A$4:$B$7,2,FALSE))","v":8.6562899999999998E-2},{"$f":"IF(C1269=1,\"0\",VLOOKUP(C1269,coefficient2!$A$10:$B$13,2,FALSE))","v":"0"},{"$f":"IF(D1269=1,\"0\",VLOOKUP(D1269,coefficient2!$A$16:$B$19,2,FALSE))","v":"0"},{"$f":"IF(E1269=1,\"0\",VLOOKUP(E1269,coefficient2!$A$22:$B$25,2,FALSE))","v":0.2068864},{"$f":"IF(F1269=1,\"0\",VLOOKUP(F1269,coefficient2!$A$28:$B$31,2,FALSE))","v":9.5753900000000003E-2},0.61079679999999992]
[31144,3,1,1,4,4,13,{"$f":"IF(B1270=1,\"0\",VLOOKUP(B1270,coefficient2!$A$4:$B$7,2,FALSE))","v":8.6562899999999998E-2},{"$f":"IF(C1270=1,\"0\",VLOOKUP(C1270,coefficient2!$A$10:$B$13,2,FALSE))","v":"0"},{"$f":"IF(D1270=1,\"0\",VLOOKUP(D1270,coefficient2!$A$16:$B$19,2,FALSE))","v":"0"},{"$f":"IF(E1270=1,\"0\",VLOOKUP(E1270,coefficient2!$A$22:$B$25,2,FALSE))","v":0.2068864},{"$f":"IF(F1270=1,\"0\",VLOOKUP(F1270,coefficient2!$A$28:$B$31,2,FALSE))","v":0.23270360000000001},0.47384709999999997]
[31145,3,1,1,4,5,14,{"$f":"IF(B1271=1,\"0\",VLOOKUP(B1271,coefficient2!$A$4:$B$7,2,FALSE))","v":8.6562899999999998E-2},{"$f":"IF(C1271=1,\"0\",VLOOKUP(C1271,coefficient2!$A$10:$B$13,2,FALSE))","v":"0"},{"$f":"IF(D1271=1,\"0\",VLOOKUP(D1271,coefficient2!$A$16:$B$19,2,FALSE))","v":"0"},{"$f":"IF(E1271=1,\"0\",VLOOKUP(E1271,coefficient2!$A$22:$B$25,2,FALSE))","v":0.2068864},{"$f":"IF(F1271=1,\"0\",VLOOKUP(F1271,coefficient2!$A$28:$B$31,2,FALSE))","v":0.29534929999999998},0.41120139999999999]
[31151,3,1,1,5,1,11,{"$f":"IF(B1272=1,\"0\",VLOOKUP(B1272,coefficient2!$A$4:$B$7,2,FALSE))","v":8.6562899999999998E-2},{"$f":"IF(C1272=1,\"0\",VLOOKUP(C1272,coefficient2!$A$10:$B$13,2,FALSE))","v":"0"},{"$f":"IF(D1272=1,\"0\",VLOOKUP(D1272,coefficient2!$A$16:$B$19,2,FALSE))","v":"0"},{"$f":"IF(E1272=1,\"0\",VLOOKUP(E1272,coefficient2!$A$22:$B$25,2,FALSE))","v":0.25643310000000002},{"$f":"IF(F1272=1,\"0\",VLOOKUP(F1272,coefficient2!$A$28:$B$31,2,FALSE))","v":"0"},0.65700399999999992]
[31152,3,1,1,5,2,12,{"$f":"IF(B1273=1,\"0\",VLOOKUP(B1273,coefficient2!$A$4:$B$7,2,FALSE))","v":8.6562899999999998E-2},{"$f":"IF(C1273=1,\"0\",VLOOKUP(C1273,coefficient2!$A$10:$B$13,2,FALSE))","v":"0"},{"$f":"IF(D1273=1,\"0\",VLOOKUP(D1273,coefficient2!$A$16:$B$19,2,FALSE))","v":"0"},{"$f":"IF(E1273=1,\"0\",VLOOKUP(E1273,coefficient2!$A$22:$B$25,2,FALSE))","v":0.25643310000000002},{"$f":"IF(F1273=1,\"0\",VLOOKUP(F1273,coefficient2!$A$28:$B$31,2,FALSE))","v":5.8085699999999997E-2},0.5989182999999999]
[31153,3,1,1,5,3,13,{"$f":"IF(B1274=1,\"0\",VLOOKUP(B1274,coefficient2!$A$4:$B$7,2,FALSE))","v":8.6562899999999998E-2},{"$f":"IF(C1274=1,\"0\",VLOOKUP(C1274,coefficient2!$A$10:$B$13,2,FALSE))","v":"0"},{"$f":"IF(D1274=1,\"0\",VLOOKUP(D1274,coefficient2!$A$16:$B$19,2,FALSE))","v":"0"},{"$f":"IF(E1274=1,\"0\",VLOOKUP(E1274,coefficient2!$A$22:$B$25,2,FALSE))","v":0.25643310000000002},{"$f":"IF(F1274=1,\"0\",VLOOKUP(F1274,coefficient2!$A$28:$B$31,2,FALSE))","v":9.5753900000000003E-2},0.56125009999999986]
[31154,3,1,1,5,4,14,{"$f":"IF(B1275=1,\"0\",VLOOKUP(B1275,coefficient2!$A$4:$B$7,2,FALSE))","v":8.6562899999999998E-2},{"$f":"IF(C1275=1,\"0\",VLOOKUP(C1275,coefficient2!$A$10:$B$13,2,FALSE))","v":"0"},{"$f":"IF(D1275=1,\"0\",VLOOKUP(D1275,coefficient2!$A$16:$B$19,2,FALSE))","v":"0"},{"$f":"IF(E1275=1,\"0\",VLOOKUP(E1275,coefficient2!$A$22:$B$25,2,FALSE))","v":0.25643310000000002},{"$f":"IF(F1275=1,\"0\",VLOOKUP(F1275,coefficient2!$A$28:$B$31,2,FALSE))","v":0.23270360000000001},0.42430039999999991]
[31155,3,1,1,5,5,15,{"$f":"IF(B1276=1,\"0\",VLOOKUP(B1276,coefficient2!$A$4:$B$7,2,FALSE))","v":8.6562899999999998E-2},{"$f":"IF(C1276=1,\"0\",VLOOKUP(C1276,coefficient2!$A$10:$B$13,2,FALSE))","v":"0"},{"$f":"IF(D1276=1,\"0\",VLOOKUP(D1276,coefficient2!$A$16:$B$19,2,FALSE))","v":"0"},{"$f":"IF(E1276=1,\"0\",VLOOKUP(E1276,coefficient2!$A$22:$B$25,2,FALSE))","v":0.25643310000000002},{"$f":"IF(F1276=1,\"0\",VLOOKUP(F1276,coefficient2!$A$28:$B$31,2,FALSE))","v":0.29534929999999998},0.36165469999999994]
[31211,3,1,2,1,1,8,{"$f":"IF(B1277=1,\"0\",VLOOKUP(B1277,coefficient2!$A$4:$B$7,2,FALSE))","v":8.6562899999999998E-2},{"$f":"IF(C1277=1,\"0\",VLOOKUP(C1277,coefficient2!$A$10:$B$13,2,FALSE))","v":"0"},{"$f":"IF(D1277=1,\"0\",VLOOKUP(D1277,coefficient2!$A$16:$B$19,2,FALSE))","v":5.8254399999999998E-2},{"$f":"IF(E1277=1,\"0\",VLOOKUP(E1277,coefficient2!$A$22:$B$25,2,FALSE))","v":"0"},{"$f":"IF(F1277=1,\"0\",VLOOKUP(F1277,coefficient2!$A$28:$B$31,2,FALSE))","v":"0"},0.85518269999999996]
[31212,3,1,2,1,2,9,{"$f":"IF(B1278=1,\"0\",VLOOKUP(B1278,coefficient2!$A$4:$B$7,2,FALSE))","v":8.6562899999999998E-2},{"$f":"IF(C1278=1,\"0\",VLOOKUP(C1278,coefficient2!$A$10:$B$13,2,FALSE))","v":"0"},{"$f":"IF(D1278=1,\"0\",VLOOKUP(D1278,coefficient2!$A$16:$B$19,2,FALSE))","v":5.8254399999999998E-2},{"$f":"IF(E1278=1,\"0\",VLOOKUP(E1278,coefficient2!$A$22:$B$25,2,FALSE))","v":"0"},{"$f":"IF(F1278=1,\"0\",VLOOKUP(F1278,coefficient2!$A$28:$B$31,2,FALSE))","v":5.8085699999999997E-2},0.79709699999999994]
[31213,3,1,2,1,3,10,{"$f":"IF(B1279=1,\"0\",VLOOKUP(B1279,coefficient2!$A$4:$B$7,2,FALSE))","v":8.6562899999999998E-2},{"$f":"IF(C1279=1,\"0\",VLOOKUP(C1279,coefficient2!$A$10:$B$13,2,FALSE))","v":"0"},{"$f":"IF(D1279=1,\"0\",VLOOKUP(D1279,coefficient2!$A$16:$B$19,2,FALSE))","v":5.8254399999999998E-2},{"$f":"IF(E1279=1,\"0\",VLOOKUP(E1279,coefficient2!$A$22:$B$25,2,FALSE))","v":"0"},{"$f":"IF(F1279=1,\"0\",VLOOKUP(F1279,coefficient2!$A$28:$B$31,2,FALSE))","v":9.5753900000000003E-2},0.75942880000000001]
[31214,3,1,2,1,4,11,{"$f":"IF(B1280=1,\"0\",VLOOKUP(B1280,coefficient2!$A$4:$B$7,2,FALSE))","v":8.6562899999999998E-2},{"$f":"IF(C1280=1,\"0\",VLOOKUP(C1280,coefficient2!$A$10:$B$13,2,FALSE))","v":"0"},{"$f":"IF(D1280=1,\"0\",VLOOKUP(D1280,coefficient2!$A$16:$B$19,2,FALSE))","v":5.8254399999999998E-2},{"$f":"IF(E1280=1,\"0\",VLOOKUP(E1280,coefficient2!$A$22:$B$25,2,FALSE))","v":"0"},{"$f":"IF(F1280=1,\"0\",VLOOKUP(F1280,coefficient2!$A$28:$B$31,2,FALSE))","v":0.23270360000000001},0.62247909999999995]
[31215,3,1,2,1,5,12,{"$f":"IF(B1281=1,\"0\",VLOOKUP(B1281,coefficient2!$A$4:$B$7,2,FALSE))","v":8.6562899999999998E-2},{"$f":"IF(C1281=1,\"0\",VLOOKUP(C1281,coefficient2!$A$10:$B$13,2,FALSE))","v":"0"},{"$f":"IF(D1281=1,\"0\",VLOOKUP(D1281,coefficient2!$A$16:$B$19,2,FALSE))","v":5.8254399999999998E-2},{"$f":"IF(E1281=1,\"0\",VLOOKUP(E1281,coefficient2!$A$22:$B$25,2,FALSE))","v":"0"},{"$f":"IF(F1281=1,\"0\",VLOOKUP(F1281,coefficient2!$A$28:$B$31,2,FALSE))","v":0.29534929999999998},0.55983340000000004]
[31221,3,1,2,2,1,9,{"$f":"IF(B1282=1,\"0\",VLOOKUP(B1282,coefficient2!$A$4:$B$7,2,FALSE))","v":8.6562899999999998E-2},{"$f":"IF(C1282=1,\"0\",VLOOKUP(C1282,coefficient2!$A$10:$B$13,2,FALSE))","v":"0"},{"$f":"IF(D1282=1,\"0\",VLOOKUP(D1282,coefficient2!$A$16:$B$19,2,FALSE))","v":5.8254399999999998E-2},{"$f":"IF(E1282=1,\"0\",VLOOKUP(E1282,coefficient2!$A$22:$B$25,2,FALSE))","v":5.63998E-2},{"$f":"IF(F1282=1,\"0\",VLOOKUP(F1282,coefficient2!$A$28:$B$31,2,FALSE))","v":"0"},{"$f":"1-H1282-I1282-J1282-K1282-L1282","v":0.79878289999999996}]
[31222,{"$f":"INT(LEFT(A1283,1))","v":3},{"$f":"INT(MID(A1283,2,1))","v":1},{"$f":"INT(MID(A1283,3,1))","v":2},{"$f":"INT(MID(A1283,4,1))","v":2},{"$f":"INT(RIGHT(A1283,1))","v":2},{"$f":"SUM(B1283:F1283)","v":10},{"$f":"IF(B1283=1,\"0\",VLOOKUP(B1283,coefficient2!$A$4:$B$7,2,FALSE))","v":8.6562899999999998E-2},{"$f":"IF(C1283=1,\"0\",VLOOKUP(C1283,coefficient2!$A$10:$B$13,2,FALSE))","v":"0"},{"$f":"IF(D1283=1,\"0\",VLOOKUP(D1283,coefficient2!$A$16:$B$19,2,FALSE))","v":5.8254399999999998E-2},{"$f":"IF(E1283=1,\"0\",VLOOKUP(E1283,coefficient2!$A$22:$B$25,2,FALSE))","v":5.63998E-2},{"$f":"IF(F1283=1,\"0\",VLOOKUP(F1283,coefficient2!$A$28:$B$31,2,FALSE))","v":5.8085699999999997E-2},0.74069719999999994]
[31223,3,1,2,2,3,11,{"$f":"IF(B1284=1,\"0\",VLOOKUP(B1284,coefficient2!$A$4:$B$7,2,FALSE))","v":8.6562899999999998E-2},{"$f":"IF(C1284=1,\"0\",VLOOKUP(C1284,coefficient2!$A$10:$B$13,2,FALSE))","v":"0"},{"$f":"IF(D1284=1,\"0\",VLOOKUP(D1284,coefficient2!$A$16:$B$19,2,FALSE))","v":5.8254399999999998E-2},{"$f":"IF(E1284=1,\"0\",VLOOKUP(E1284,coefficient2!$A$22:$B$25,2,FALSE))","v":5.63998E-2},{"$f":"IF(F1284=1,\"0\",VLOOKUP(F1284,coefficient2!$A$28:$B$31,2,FALSE))","v":9.5753900000000003E-2},0.7030289999999999]
[31224,3,1,2,2,4,12,{"$f":"IF(B1285=1,\"0\",VLOOKUP(B1285,coefficient2!$A$4:$B$7,2,FALSE))","v":8.6562899999999998E-2},{"$f":"IF(C1285=1,\"0\",VLOOKUP(C1285,coefficient2!$A$10:$B$13,2,FALSE))","v":"0"},{"$f":"IF(D1285=1,\"0\",VLOOKUP(D1285,coefficient2!$A$16:$B$19,2,FALSE))","v":5.8254399999999998E-2},{"$f":"IF(E1285=1,\"0\",VLOOKUP(E1285,coefficient2!$A$22:$B$25,2,FALSE))","v":5.63998E-2},{"$f":"IF(F1285=1,\"0\",VLOOKUP(F1285,coefficient2!$A$28:$B$31,2,FALSE))","v":0.23270360000000001},0.56607929999999995]
[31225,3,1,2,2,5,13,{"$f":"IF(B1286=1,\"0\",VLOOKUP(B1286,coefficient2!$A$4:$B$7,2,FALSE))","v":8.6562899999999998E-2},{"$f":"IF(C1286=1,\"0\",VLOOKUP(C1286,coefficient2!$A$10:$B$13,2,FALSE))","v":"0"},{"$f":"IF(D1286=1,\"0\",VLOOKUP(D1286,coefficient2!$A$16:$B$19,2,FALSE))","v":5.8254399999999998E-2},{"$f":"IF(E1286=1,\"0\",VLOOKUP(E1286,coefficient2!$A$22:$B$25,2,FALSE))","v":5.63998E-2},{"$f":"IF(F1286=1,\"0\",VLOOKUP(F1286,coefficient2!$A$28:$B$31,2,FALSE))","v":0.29534929999999998},0.50343359999999993]
[31231,3,1,2,3,1,10,{"$f":"IF(B1287=1,\"0\",VLOOKUP(B1287,coefficient2!$A$4:$B$7,2,FALSE))","v":8.6562899999999998E-2},{"$f":"IF(C1287=1,\"0\",VLOOKUP(C1287,coefficient2!$A$10:$B$13,2,FALSE))","v":"0"},{"$f":"IF(D1287=1,\"0\",VLOOKUP(D1287,coefficient2!$A$16:$B$19,2,FALSE))","v":5.8254399999999998E-2},{"$f":"IF(E1287=1,\"0\",VLOOKUP(E1287,coefficient2!$A$22:$B$25,2,FALSE))","v":6.6492200000000001E-2},{"$f":"IF(F1287=1,\"0\",VLOOKUP(F1287,coefficient2!$A$28:$B$31,2,FALSE))","v":"0"},0.78869049999999996]
[31232,3,1,2,3,2,11,{"$f":"IF(B1288=1,\"0\",VLOOKUP(B1288,coefficient2!$A$4:$B$7,2,FALSE))","v":8.6562899999999998E-2},{"$f":"IF(C1288=1,\"0\",VLOOKUP(C1288,coefficient2!$A$10:$B$13,2,FALSE))","v":"0"},{"$f":"IF(D1288=1,\"0\",VLOOKUP(D1288,coefficient2!$A$16:$B$19,2,FALSE))","v":5.8254399999999998E-2},{"$f":"IF(E1288=1,\"0\",VLOOKUP(E1288,coefficient2!$A$22:$B$25,2,FALSE))","v":6.6492200000000001E-2},{"$f":"IF(F1288=1,\"0\",VLOOKUP(F1288,coefficient2!$A$28:$B$31,2,FALSE))","v":5.8085699999999997E-2},0.73060479999999994]
[31233,3,1,2,3,3,12,{"$f":"IF(B1289=1,\"0\",VLOOKUP(B1289,coefficient2!$A$4:$B$7,2,FALSE))","v":8.6562899999999998E-2},{"$f":"IF(C1289=1,\"0\",VLOOKUP(C1289,coefficient2!$A$10:$B$13,2,FALSE))","v":"0"},{"$f":"IF(D1289=1,\"0\",VLOOKUP(D1289,coefficient2!$A$16:$B$19,2,FALSE))","v":5.8254399999999998E-2},{"$f":"IF(E1289=1,\"0\",VLOOKUP(E1289,coefficient2!$A$22:$B$25,2,FALSE))","v":6.6492200000000001E-2},{"$f":"IF(F1289=1,\"0\",VLOOKUP(F1289,coefficient2!$A$28:$B$31,2,FALSE))","v":9.5753900000000003E-2},0.6929365999999999]
[31234,3,1,2,3,4,13,{"$f":"IF(B1290=1,\"0\",VLOOKUP(B1290,coefficient2!$A$4:$B$7,2,FALSE))","v":8.6562899999999998E-2},{"$f":"IF(C1290=1,\"0\",VLOOKUP(C1290,coefficient2!$A$10:$B$13,2,FALSE))","v":"0"},{"$f":"IF(D1290=1,\"0\",VLOOKUP(D1290,coefficient2!$A$16:$B$19,2,FALSE))","v":5.8254399999999998E-2},{"$f":"IF(E1290=1,\"0\",VLOOKUP(E1290,coefficient2!$A$22:$B$25,2,FALSE))","v":6.6492200000000001E-2},{"$f":"IF(F1290=1,\"0\",VLOOKUP(F1290,coefficient2!$A$28:$B$31,2,FALSE))","v":0.23270360000000001},0.55598689999999995]
[31235,3,1,2,3,5,14,{"$f":"IF(B1291=1,\"0\",VLOOKUP(B1291,coefficient2!$A$4:$B$7,2,FALSE))","v":8.6562899999999998E-2},{"$f":"IF(C1291=1,\"0\",VLOOKUP(C1291,coefficient2!$A$10:$B$13,2,FALSE))","v":"0"},{"$f":"IF(D1291=1,\"0\",VLOOKUP(D1291,coefficient2!$A$16:$B$19,2,FALSE))","v":5.8254399999999998E-2},{"$f":"IF(E1291=1,\"0\",VLOOKUP(E1291,coefficient2!$A$22:$B$25,2,FALSE))","v":6.6492200000000001E-2},{"$f":"IF(F1291=1,\"0\",VLOOKUP(F1291,coefficient2!$A$28:$B$31,2,FALSE))","v":0.29534929999999998},0.49334119999999998]
[31241,3,1,2,4,1,11,{"$f":"IF(B1292=1,\"0\",VLOOKUP(B1292,coefficient2!$A$4:$B$7,2,FALSE))","v":8.6562899999999998E-2},{"$f":"IF(C1292=1,\"0\",VLOOKUP(C1292,coefficient2!$A$10:$B$13,2,FALSE))","v":"0"},{"$f":"IF(D1292=1,\"0\",VLOOKUP(D1292,coefficient2!$A$16:$B$19,2,FALSE))","v":5.8254399999999998E-2},{"$f":"IF(E1292=1,\"0\",VLOOKUP(E1292,coefficient2!$A$22:$B$25,2,FALSE))","v":0.2068864},{"$f":"IF(F1292=1,\"0\",VLOOKUP(F1292,coefficient2!$A$28:$B$31,2,FALSE))","v":"0"},0.64829629999999994]
[31242,3,1,2,4,2,12,{"$f":"IF(B1293=1,\"0\",VLOOKUP(B1293,coefficient2!$A$4:$B$7,2,FALSE))","v":8.6562899999999998E-2},{"$f":"IF(C1293=1,\"0\",VLOOKUP(C1293,coefficient2!$A$10:$B$13,2,FALSE))","v":"0"},{"$f":"IF(D1293=1,\"0\",VLOOKUP(D1293,coefficient2!$A$16:$B$19,2,FALSE))","v":5.8254399999999998E-2},{"$f":"IF(E1293=1,\"0\",VLOOKUP(E1293,coefficient2!$A$22:$B$25,2,FALSE))","v":0.2068864},{"$f":"IF(F1293=1,\"0\",VLOOKUP(F1293,coefficient2!$A$28:$B$31,2,FALSE))","v":5.8085699999999997E-2},0.59021059999999992]
[31243,3,1,2,4,3,13,{"$f":"IF(B1294=1,\"0\",VLOOKUP(B1294,coefficient2!$A$4:$B$7,2,FALSE))","v":8.6562899999999998E-2},{"$f":"IF(C1294=1,\"0\",VLOOKUP(C1294,coefficient2!$A$10:$B$13,2,FALSE))","v":"0"},{"$f":"IF(D1294=1,\"0\",VLOOKUP(D1294,coefficient2!$A$16:$B$19,2,FALSE))","v":5.8254399999999998E-2},{"$f":"IF(E1294=1,\"0\",VLOOKUP(E1294,coefficient2!$A$22:$B$25,2,FALSE))","v":0.2068864},{"$f":"IF(F1294=1,\"0\",VLOOKUP(F1294,coefficient2!$A$28:$B$31,2,FALSE))","v":9.5753900000000003E-2},0.55254239999999988]
[31244,3,1,2,4,4,14,{"$f":"IF(B1295=1,\"0\",VLOOKUP(B1295,coefficient2!$A$4:$B$7,2,FALSE))","v":8.6562899999999998E-2},{"$f":"IF(C1295=1,\"0\",VLOOKUP(C1295,coefficient2!$A$10:$B$13,2,FALSE))","v":"0"},{"$f":"IF(D1295=1,\"0\",VLOOKUP(D1295,coefficient2!$A$16:$B$19,2,FALSE))","v":5.8254399999999998E-2},{"$f":"IF(E1295=1,\"0\",VLOOKUP(E1295,coefficient2!$A$22:$B$25,2,FALSE))","v":0.2068864},{"$f":"IF(F1295=1,\"0\",VLOOKUP(F1295,coefficient2!$A$28:$B$31,2,FALSE))","v":0.23270360000000001},0.41559269999999993]
[31245,3,1,2,4,5,15,{"$f":"IF(B1296=1,\"0\",VLOOKUP(B1296,coefficient2!$A$4:$B$7,2,FALSE))","v":8.6562899999999998E-2},{"$f":"IF(C1296=1,\"0\",VLOOKUP(C1296,coefficient2!$A$10:$B$13,2,FALSE))","v":"0"},{"$f":"IF(D1296=1,\"0\",VLOOKUP(D1296,coefficient2!$A$16:$B$19,2,FALSE))","v":5.8254399999999998E-2},{"$f":"IF(E1296=1,\"0\",VLOOKUP(E1296,coefficient2!$A$22:$B$25,2,FALSE))","v":0.2068864},{"$f":"IF(F1296=1,\"0\",VLOOKUP(F1296,coefficient2!$A$28:$B$31,2,FALSE))","v":0.29534929999999998},0.35294699999999996]
[31251,3,1,2,5,1,12,{"$f":"IF(B1297=1,\"0\",VLOOKUP(B1297,coefficient2!$A$4:$B$7,2,FALSE))","v":8.6562899999999998E-2},{"$f":"IF(C1297=1,\"0\",VLOOKUP(C1297,coefficient2!$A$10:$B$13,2,FALSE))","v":"0"},{"$f":"IF(D1297=1,\"0\",VLOOKUP(D1297,coefficient2!$A$16:$B$19,2,FALSE))","v":5.8254399999999998E-2},{"$f":"IF(E1297=1,\"0\",VLOOKUP(E1297,coefficient2!$A$22:$B$25,2,FALSE))","v":0.25643310000000002},{"$f":"IF(F1297=1,\"0\",VLOOKUP(F1297,coefficient2!$A$28:$B$31,2,FALSE))","v":"0"},0.59874959999999988]
[31252,3,1,2,5,2,13,{"$f":"IF(B1298=1,\"0\",VLOOKUP(B1298,coefficient2!$A$4:$B$7,2,FALSE))","v":8.6562899999999998E-2},{"$f":"IF(C1298=1,\"0\",VLOOKUP(C1298,coefficient2!$A$10:$B$13,2,FALSE))","v":"0"},{"$f":"IF(D1298=1,\"0\",VLOOKUP(D1298,coefficient2!$A$16:$B$19,2,FALSE))","v":5.8254399999999998E-2},{"$f":"IF(E1298=1,\"0\",VLOOKUP(E1298,coefficient2!$A$22:$B$25,2,FALSE))","v":0.25643310000000002},{"$f":"IF(F1298=1,\"0\",VLOOKUP(F1298,coefficient2!$A$28:$B$31,2,FALSE))","v":5.8085699999999997E-2},0.54066389999999986]
[31253,3,1,2,5,3,14,{"$f":"IF(B1299=1,\"0\",VLOOKUP(B1299,coefficient2!$A$4:$B$7,2,FALSE))","v":8.6562899999999998E-2},{"$f":"IF(C1299=1,\"0\",VLOOKUP(C1299,coefficient2!$A$10:$B$13,2,FALSE))","v":"0"},{"$f":"IF(D1299=1,\"0\",VLOOKUP(D1299,coefficient2!$A$16:$B$19,2,FALSE))","v":5.8254399999999998E-2},{"$f":"IF(E1299=1,\"0\",VLOOKUP(E1299,coefficient2!$A$22:$B$25,2,FALSE))","v":0.25643310000000002},{"$f":"IF(F1299=1,\"0\",VLOOKUP(F1299,coefficient2!$A$28:$B$31,2,FALSE))","v":9.5753900000000003E-2},0.50299569999999982]
[31254,3,1,2,5,4,15,{"$f":"IF(B1300=1,\"0\",VLOOKUP(B1300,coefficient2!$A$4:$B$7,2,FALSE))","v":8.6562899999999998E-2},{"$f":"IF(C1300=1,\"0\",VLOOKUP(C1300,coefficient2!$A$10:$B$13,2,FALSE))","v":"0"},{"$f":"IF(D1300=1,\"0\",VLOOKUP(D1300,coefficient2!$A$16:$B$19,2,FALSE))","v":5.8254399999999998E-2},{"$f":"IF(E1300=1,\"0\",VLOOKUP(E1300,coefficient2!$A$22:$B$25,2,FALSE))","v":0.25643310000000002},{"$f":"IF(F1300=1,\"0\",VLOOKUP(F1300,coefficient2!$A$28:$B$31,2,FALSE))","v":0.23270360000000001},0.36604599999999987]
[31255,3,1,2,5,5,16,{"$f":"IF(B1301=1,\"0\",VLOOKUP(B1301,coefficient2!$A$4:$B$7,2,FALSE))","v":8.6562899999999998E-2},{"$f":"IF(C1301=1,\"0\",VLOOKUP(C1301,coefficient2!$A$10:$B$13,2,FALSE))","v":"0"},{"$f":"IF(D1301=1,\"0\",VLOOKUP(D1301,coefficient2!$A$16:$B$19,2,FALSE))","v":5.8254399999999998E-2},{"$f":"IF(E1301=1,\"0\",VLOOKUP(E1301,coefficient2!$A$22:$B$25,2,FALSE))","v":0.25643310000000002},{"$f":"IF(F1301=1,\"0\",VLOOKUP(F1301,coefficient2!$A$28:$B$31,2,FALSE))","v":0.29534929999999998},0.3034002999999999]
[31311,3,1,3,1,1,9,{"$f":"IF(B1302=1,\"0\",VLOOKUP(B1302,coefficient2!$A$4:$B$7,2,FALSE))","v":8.6562899999999998E-2},{"$f":"IF(C1302=1,\"0\",VLOOKUP(C1302,coefficient2!$A$10:$B$13,2,FALSE))","v":"0"},{"$f":"IF(D1302=1,\"0\",VLOOKUP(D1302,coefficient2!$A$16:$B$19,2,FALSE))","v":7.1197399999999994E-2},{"$f":"IF(E1302=1,\"0\",VLOOKUP(E1302,coefficient2!$A$22:$B$25,2,FALSE))","v":"0"},{"$f":"IF(F1302=1,\"0\",VLOOKUP(F1302,coefficient2!$A$28:$B$31,2,FALSE))","v":"0"},0.84223970000000004]
[31312,3,1,3,1,2,10,{"$f":"IF(B1303=1,\"0\",VLOOKUP(B1303,coefficient2!$A$4:$B$7,2,FALSE))","v":8.6562899999999998E-2},{"$f":"IF(C1303=1,\"0\",VLOOKUP(C1303,coefficient2!$A$10:$B$13,2,FALSE))","v":"0"},{"$f":"IF(D1303=1,\"0\",VLOOKUP(D1303,coefficient2!$A$16:$B$19,2,FALSE))","v":7.1197399999999994E-2},{"$f":"IF(E1303=1,\"0\",VLOOKUP(E1303,coefficient2!$A$22:$B$25,2,FALSE))","v":"0"},{"$f":"IF(F1303=1,\"0\",VLOOKUP(F1303,coefficient2!$A$28:$B$31,2,FALSE))","v":5.8085699999999997E-2},0.78415400000000002]
[31313,3,1,3,1,3,11,{"$f":"IF(B1304=1,\"0\",VLOOKUP(B1304,coefficient2!$A$4:$B$7,2,FALSE))","v":8.6562899999999998E-2},{"$f":"IF(C1304=1,\"0\",VLOOKUP(C1304,coefficient2!$A$10:$B$13,2,FALSE))","v":"0"},{"$f":"IF(D1304=1,\"0\",VLOOKUP(D1304,coefficient2!$A$16:$B$19,2,FALSE))","v":7.1197399999999994E-2},{"$f":"IF(E1304=1,\"0\",VLOOKUP(E1304,coefficient2!$A$22:$B$25,2,FALSE))","v":"0"},{"$f":"IF(F1304=1,\"0\",VLOOKUP(F1304,coefficient2!$A$28:$B$31,2,FALSE))","v":9.5753900000000003E-2},0.74648580000000009]
[31314,3,1,3,1,4,12,{"$f":"IF(B1305=1,\"0\",VLOOKUP(B1305,coefficient2!$A$4:$B$7,2,FALSE))","v":8.6562899999999998E-2},{"$f":"IF(C1305=1,\"0\",VLOOKUP(C1305,coefficient2!$A$10:$B$13,2,FALSE))","v":"0"},{"$f":"IF(D1305=1,\"0\",VLOOKUP(D1305,coefficient2!$A$16:$B$19,2,FALSE))","v":7.1197399999999994E-2},{"$f":"IF(E1305=1,\"0\",VLOOKUP(E1305,coefficient2!$A$22:$B$25,2,FALSE))","v":"0"},{"$f":"IF(F1305=1,\"0\",VLOOKUP(F1305,coefficient2!$A$28:$B$31,2,FALSE))","v":0.23270360000000001},0.60953610000000003]
[31315,3,1,3,1,5,13,{"$f":"IF(B1306=1,\"0\",VLOOKUP(B1306,coefficient2!$A$4:$B$7,2,FALSE))","v":8.6562899999999998E-2},{"$f":"IF(C1306=1,\"0\",VLOOKUP(C1306,coefficient2!$A$10:$B$13,2,FALSE))","v":"0"},{"$f":"IF(D1306=1,\"0\",VLOOKUP(D1306,coefficient2!$A$16:$B$19,2,FALSE))","v":7.1197399999999994E-2},{"$f":"IF(E1306=1,\"0\",VLOOKUP(E1306,coefficient2!$A$22:$B$25,2,FALSE))","v":"0"},{"$f":"IF(F1306=1,\"0\",VLOOKUP(F1306,coefficient2!$A$28:$B$31,2,FALSE))","v":0.29534929999999998},0.54689040000000011]
[31321,3,1,3,2,1,10,{"$f":"IF(B1307=1,\"0\",VLOOKUP(B1307,coefficient2!$A$4:$B$7,2,FALSE))","v":8.6562899999999998E-2},{"$f":"IF(C1307=1,\"0\",VLOOKUP(C1307,coefficient2!$A$10:$B$13,2,FALSE))","v":"0"},{"$f":"IF(D1307=1,\"0\",VLOOKUP(D1307,coefficient2!$A$16:$B$19,2,FALSE))","v":7.1197399999999994E-2},{"$f":"IF(E1307=1,\"0\",VLOOKUP(E1307,coefficient2!$A$22:$B$25,2,FALSE))","v":5.63998E-2},{"$f":"IF(F1307=1,\"0\",VLOOKUP(F1307,coefficient2!$A$28:$B$31,2,FALSE))","v":"0"},0.78583990000000004]
[31322,3,1,3,2,2,11,{"$f":"IF(B1308=1,\"0\",VLOOKUP(B1308,coefficient2!$A$4:$B$7,2,FALSE))","v":8.6562899999999998E-2},{"$f":"IF(C1308=1,\"0\",VLOOKUP(C1308,coefficient2!$A$10:$B$13,2,FALSE))","v":"0"},{"$f":"IF(D1308=1,\"0\",VLOOKUP(D1308,coefficient2!$A$16:$B$19,2,FALSE))","v":7.1197399999999994E-2},{"$f":"IF(E1308=1,\"0\",VLOOKUP(E1308,coefficient2!$A$22:$B$25,2,FALSE))","v":5.63998E-2},{"$f":"IF(F1308=1,\"0\",VLOOKUP(F1308,coefficient2!$A$28:$B$31,2,FALSE))","v":5.8085699999999997E-2},0.72775420000000002]
[31323,3,1,3,2,3,12,{"$f":"IF(B1309=1,\"0\",VLOOKUP(B1309,coefficient2!$A$4:$B$7,2,FALSE))","v":8.6562899999999998E-2},{"$f":"IF(C1309=1,\"0\",VLOOKUP(C1309,coefficient2!$A$10:$B$13,2,FALSE))","v":"0"},{"$f":"IF(D1309=1,\"0\",VLOOKUP(D1309,coefficient2!$A$16:$B$19,2,FALSE))","v":7.1197399999999994E-2},{"$f":"IF(E1309=1,\"0\",VLOOKUP(E1309,coefficient2!$A$22:$B$25,2,FALSE))","v":5.63998E-2},{"$f":"IF(F1309=1,\"0\",VLOOKUP(F1309,coefficient2!$A$28:$B$31,2,FALSE))","v":9.5753900000000003E-2},0.69008599999999998]
[31324,3,1,3,2,4,13,{"$f":"IF(B1310=1,\"0\",VLOOKUP(B1310,coefficient2!$A$4:$B$7,2,FALSE))","v":8.6562899999999998E-2},{"$f":"IF(C1310=1,\"0\",VLOOKUP(C1310,coefficient2!$A$10:$B$13,2,FALSE))","v":"0"},{"$f":"IF(D1310=1,\"0\",VLOOKUP(D1310,coefficient2!$A$16:$B$19,2,FALSE))","v":7.1197399999999994E-2},{"$f":"IF(E1310=1,\"0\",VLOOKUP(E1310,coefficient2!$A$22:$B$25,2,FALSE))","v":5.63998E-2},{"$f":"IF(F1310=1,\"0\",VLOOKUP(F1310,coefficient2!$A$28:$B$31,2,FALSE))","v":0.23270360000000001},0.55313630000000003]
[31325,3,1,3,2,5,14,{"$f":"IF(B1311=1,\"0\",VLOOKUP(B1311,coefficient2!$A$4:$B$7,2,FALSE))","v":8.6562899999999998E-2},{"$f":"IF(C1311=1,\"0\",VLOOKUP(C1311,coefficient2!$A$10:$B$13,2,FALSE))","v":"0"},{"$f":"IF(D1311=1,\"0\",VLOOKUP(D1311,coefficient2!$A$16:$B$19,2,FALSE))","v":7.1197399999999994E-2},{"$f":"IF(E1311=1,\"0\",VLOOKUP(E1311,coefficient2!$A$22:$B$25,2,FALSE))","v":5.63998E-2},{"$f":"IF(F1311=1,\"0\",VLOOKUP(F1311,coefficient2!$A$28:$B$31,2,FALSE))","v":0.29534929999999998},0.49049060000000005]
[31331,3,1,3,3,1,11,{"$f":"IF(B1312=1,\"0\",VLOOKUP(B1312,coefficient2!$A$4:$B$7,2,FALSE))","v":8.6562899999999998E-2},{"$f":"IF(C1312=1,\"0\",VLOOKUP(C1312,coefficient2!$A$10:$B$13,2,FALSE))","v":"0"},{"$f":"IF(D1312=1,\"0\",VLOOKUP(D1312,coefficient2!$A$16:$B$19,2,FALSE))","v":7.1197399999999994E-2},{"$f":"IF(E1312=1,\"0\",VLOOKUP(E1312,coefficient2!$A$22:$B$25,2,FALSE))","v":6.6492200000000001E-2},{"$f":"IF(F1312=1,\"0\",VLOOKUP(F1312,coefficient2!$A$28:$B$31,2,FALSE))","v":"0"},0.77574750000000003]
[31332,3,1,3,3,2,12,{"$f":"IF(B1313=1,\"0\",VLOOKUP(B1313,coefficient2!$A$4:$B$7,2,FALSE))","v":8.6562899999999998E-2},{"$f":"IF(C1313=1,\"0\",VLOOKUP(C1313,coefficient2!$A$10:$B$13,2,FALSE))","v":"0"},{"$f":"IF(D1313=1,\"0\",VLOOKUP(D1313,coefficient2!$A$16:$B$19,2,FALSE))","v":7.1197399999999994E-2},{"$f":"IF(E1313=1,\"0\",VLOOKUP(E1313,coefficient2!$A$22:$B$25,2,FALSE))","v":6.6492200000000001E-2},{"$f":"IF(F1313=1,\"0\",VLOOKUP(F1313,coefficient2!$A$28:$B$31,2,FALSE))","v":5.8085699999999997E-2},0.71766180000000002]
[31333,3,1,3,3,3,13,{"$f":"IF(B1314=1,\"0\",VLOOKUP(B1314,coefficient2!$A$4:$B$7,2,FALSE))","v":8.6562899999999998E-2},{"$f":"IF(C1314=1,\"0\",VLOOKUP(C1314,coefficient2!$A$10:$B$13,2,FALSE))","v":"0"},{"$f":"IF(D1314=1,\"0\",VLOOKUP(D1314,coefficient2!$A$16:$B$19,2,FALSE))","v":7.1197399999999994E-2},{"$f":"IF(E1314=1,\"0\",VLOOKUP(E1314,coefficient2!$A$22:$B$25,2,FALSE))","v":6.6492200000000001E-2},{"$f":"IF(F1314=1,\"0\",VLOOKUP(F1314,coefficient2!$A$28:$B$31,2,FALSE))","v":9.5753900000000003E-2},0.67999359999999998]
[31334,3,1,3,3,4,14,{"$f":"IF(B1315=1,\"0\",VLOOKUP(B1315,coefficient2!$A$4:$B$7,2,FALSE))","v":8.6562899999999998E-2},{"$f":"IF(C1315=1,\"0\",VLOOKUP(C1315,coefficient2!$A$10:$B$13,2,FALSE))","v":"0"},{"$f":"IF(D1315=1,\"0\",VLOOKUP(D1315,coefficient2!$A$16:$B$19,2,FALSE))","v":7.1197399999999994E-2},{"$f":"IF(E1315=1,\"0\",VLOOKUP(E1315,coefficient2!$A$22:$B$25,2,FALSE))","v":6.6492200000000001E-2},{"$f":"IF(F1315=1,\"0\",VLOOKUP(F1315,coefficient2!$A$28:$B$31,2,FALSE))","v":0.23270360000000001},0.54304390000000002]
[31335,3,1,3,3,5,15,{"$f":"IF(B1316=1,\"0\",VLOOKUP(B1316,coefficient2!$A$4:$B$7,2,FALSE))","v":8.6562899999999998E-2},{"$f":"IF(C1316=1,\"0\",VLOOKUP(C1316,coefficient2!$A$10:$B$13,2,FALSE))","v":"0"},{"$f":"IF(D1316=1,\"0\",VLOOKUP(D1316,coefficient2!$A$16:$B$19,2,FALSE))","v":7.1197399999999994E-2},{"$f":"IF(E1316=1,\"0\",VLOOKUP(E1316,coefficient2!$A$22:$B$25,2,FALSE))","v":6.6492200000000001E-2},{"$f":"IF(F1316=1,\"0\",VLOOKUP(F1316,coefficient2!$A$28:$B$31,2,FALSE))","v":0.29534929999999998},0.48039820000000005]
[31341,3,1,3,4,1,12,{"$f":"IF(B1317=1,\"0\",VLOOKUP(B1317,coefficient2!$A$4:$B$7,2,FALSE))","v":8.6562899999999998E-2},{"$f":"IF(C1317=1,\"0\",VLOOKUP(C1317,coefficient2!$A$10:$B$13,2,FALSE))","v":"0"},{"$f":"IF(D1317=1,\"0\",VLOOKUP(D1317,coefficient2!$A$16:$B$19,2,FALSE))","v":7.1197399999999994E-2},{"$f":"IF(E1317=1,\"0\",VLOOKUP(E1317,coefficient2!$A$22:$B$25,2,FALSE))","v":0.2068864},{"$f":"IF(F1317=1,\"0\",VLOOKUP(F1317,coefficient2!$A$28:$B$31,2,FALSE))","v":"0"},0.63535330000000001]
[31342,3,1,3,4,2,13,{"$f":"IF(B1318=1,\"0\",VLOOKUP(B1318,coefficient2!$A$4:$B$7,2,FALSE))","v":8.6562899999999998E-2},{"$f":"IF(C1318=1,\"0\",VLOOKUP(C1318,coefficient2!$A$10:$B$13,2,FALSE))","v":"0"},{"$f":"IF(D1318=1,\"0\",VLOOKUP(D1318,coefficient2!$A$16:$B$19,2,FALSE))","v":7.1197399999999994E-2},{"$f":"IF(E1318=1,\"0\",VLOOKUP(E1318,coefficient2!$A$22:$B$25,2,FALSE))","v":0.2068864},{"$f":"IF(F1318=1,\"0\",VLOOKUP(F1318,coefficient2!$A$28:$B$31,2,FALSE))","v":5.8085699999999997E-2},0.57726759999999999]
[31343,3,1,3,4,3,14,{"$f":"IF(B1319=1,\"0\",VLOOKUP(B1319,coefficient2!$A$4:$B$7,2,FALSE))","v":8.6562899999999998E-2},{"$f":"IF(C1319=1,\"0\",VLOOKUP(C1319,coefficient2!$A$10:$B$13,2,FALSE))","v":"0"},{"$f":"IF(D1319=1,\"0\",VLOOKUP(D1319,coefficient2!$A$16:$B$19,2,FALSE))","v":7.1197399999999994E-2},{"$f":"IF(E1319=1,\"0\",VLOOKUP(E1319,coefficient2!$A$22:$B$25,2,FALSE))","v":0.2068864},{"$f":"IF(F1319=1,\"0\",VLOOKUP(F1319,coefficient2!$A$28:$B$31,2,FALSE))","v":9.5753900000000003E-2},0.53959939999999995]
[31344,3,1,3,4,4,15,{"$f":"IF(B1320=1,\"0\",VLOOKUP(B1320,coefficient2!$A$4:$B$7,2,FALSE))","v":8.6562899999999998E-2},{"$f":"IF(C1320=1,\"0\",VLOOKUP(C1320,coefficient2!$A$10:$B$13,2,FALSE))","v":"0"},{"$f":"IF(D1320=1,\"0\",VLOOKUP(D1320,coefficient2!$A$16:$B$19,2,FALSE))","v":7.1197399999999994E-2},{"$f":"IF(E1320=1,\"0\",VLOOKUP(E1320,coefficient2!$A$22:$B$25,2,FALSE))","v":0.2068864},{"$f":"IF(F1320=1,\"0\",VLOOKUP(F1320,coefficient2!$A$28:$B$31,2,FALSE))","v":0.23270360000000001},0.4026497]
[31345,3,1,3,4,5,16,{"$f":"IF(B1321=1,\"0\",VLOOKUP(B1321,coefficient2!$A$4:$B$7,2,FALSE))","v":8.6562899999999998E-2},{"$f":"IF(C1321=1,\"0\",VLOOKUP(C1321,coefficient2!$A$10:$B$13,2,FALSE))","v":"0"},{"$f":"IF(D1321=1,\"0\",VLOOKUP(D1321,coefficient2!$A$16:$B$19,2,FALSE))","v":7.1197399999999994E-2},{"$f":"IF(E1321=1,\"0\",VLOOKUP(E1321,coefficient2!$A$22:$B$25,2,FALSE))","v":0.2068864},{"$f":"IF(F1321=1,\"0\",VLOOKUP(F1321,coefficient2!$A$28:$B$31,2,FALSE))","v":0.29534929999999998},0.34000400000000003]
[31351,3,1,3,5,1,13,{"$f":"IF(B1322=1,\"0\",VLOOKUP(B1322,coefficient2!$A$4:$B$7,2,FALSE))","v":8.6562899999999998E-2},{"$f":"IF(C1322=1,\"0\",VLOOKUP(C1322,coefficient2!$A$10:$B$13,2,FALSE))","v":"0"},{"$f":"IF(D1322=1,\"0\",VLOOKUP(D1322,coefficient2!$A$16:$B$19,2,FALSE))","v":7.1197399999999994E-2},{"$f":"IF(E1322=1,\"0\",VLOOKUP(E1322,coefficient2!$A$22:$B$25,2,FALSE))","v":0.25643310000000002},{"$f":"IF(F1322=1,\"0\",VLOOKUP(F1322,coefficient2!$A$28:$B$31,2,FALSE))","v":"0"},0.58580659999999996]
[31352,3,1,3,5,2,14,{"$f":"IF(B1323=1,\"0\",VLOOKUP(B1323,coefficient2!$A$4:$B$7,2,FALSE))","v":8.6562899999999998E-2},{"$f":"IF(C1323=1,\"0\",VLOOKUP(C1323,coefficient2!$A$10:$B$13,2,FALSE))","v":"0"},{"$f":"IF(D1323=1,\"0\",VLOOKUP(D1323,coefficient2!$A$16:$B$19,2,FALSE))","v":7.1197399999999994E-2},{"$f":"IF(E1323=1,\"0\",VLOOKUP(E1323,coefficient2!$A$22:$B$25,2,FALSE))","v":0.25643310000000002},{"$f":"IF(F1323=1,\"0\",VLOOKUP(F1323,coefficient2!$A$28:$B$31,2,FALSE))","v":5.8085699999999997E-2},0.52772089999999994]
[31353,3,1,3,5,3,15,{"$f":"IF(B1324=1,\"0\",VLOOKUP(B1324,coefficient2!$A$4:$B$7,2,FALSE))","v":8.6562899999999998E-2},{"$f":"IF(C1324=1,\"0\",VLOOKUP(C1324,coefficient2!$A$10:$B$13,2,FALSE))","v":"0"},{"$f":"IF(D1324=1,\"0\",VLOOKUP(D1324,coefficient2!$A$16:$B$19,2,FALSE))","v":7.1197399999999994E-2},{"$f":"IF(E1324=1,\"0\",VLOOKUP(E1324,coefficient2!$A$22:$B$25,2,FALSE))","v":0.25643310000000002},{"$f":"IF(F1324=1,\"0\",VLOOKUP(F1324,coefficient2!$A$28:$B$31,2,FALSE))","v":9.5753900000000003E-2},0.49005269999999995]
[31354,3,1,3,5,4,16,{"$f":"IF(B1325=1,\"0\",VLOOKUP(B1325,coefficient2!$A$4:$B$7,2,FALSE))","v":8.6562899999999998E-2},{"$f":"IF(C1325=1,\"0\",VLOOKUP(C1325,coefficient2!$A$10:$B$13,2,FALSE))","v":"0"},{"$f":"IF(D1325=1,\"0\",VLOOKUP(D1325,coefficient2!$A$16:$B$19,2,FALSE))","v":7.1197399999999994E-2},{"$f":"IF(E1325=1,\"0\",VLOOKUP(E1325,coefficient2!$A$22:$B$25,2,FALSE))","v":0.25643310000000002},{"$f":"IF(F1325=1,\"0\",VLOOKUP(F1325,coefficient2!$A$28:$B$31,2,FALSE))","v":0.23270360000000001},0.35310299999999994]
[31355,3,1,3,5,5,17,{"$f":"IF(B1326=1,\"0\",VLOOKUP(B1326,coefficient2!$A$4:$B$7,2,FALSE))","v":8.6562899999999998E-2},{"$f":"IF(C1326=1,\"0\",VLOOKUP(C1326,coefficient2!$A$10:$B$13,2,FALSE))","v":"0"},{"$f":"IF(D1326=1,\"0\",VLOOKUP(D1326,coefficient2!$A$16:$B$19,2,FALSE))","v":7.1197399999999994E-2},{"$f":"IF(E1326=1,\"0\",VLOOKUP(E1326,coefficient2!$A$22:$B$25,2,FALSE))","v":0.25643310000000002},{"$f":"IF(F1326=1,\"0\",VLOOKUP(F1326,coefficient2!$A$28:$B$31,2,FALSE))","v":0.29534929999999998},0.29045729999999997]
[31411,3,1,4,1,1,10,{"$f":"IF(B1327=1,\"0\",VLOOKUP(B1327,coefficient2!$A$4:$B$7,2,FALSE))","v":8.6562899999999998E-2},{"$f":"IF(C1327=1,\"0\",VLOOKUP(C1327,coefficient2!$A$10:$B$13,2,FALSE))","v":"0"},{"$f":"IF(D1327=1,\"0\",VLOOKUP(D1327,coefficient2!$A$16:$B$19,2,FALSE))","v":0.1534855},{"$f":"IF(E1327=1,\"0\",VLOOKUP(E1327,coefficient2!$A$22:$B$25,2,FALSE))","v":"0"},{"$f":"IF(F1327=1,\"0\",VLOOKUP(F1327,coefficient2!$A$28:$B$31,2,FALSE))","v":"0"},0.75995159999999995]
[31412,3,1,4,1,2,11,{"$f":"IF(B1328=1,\"0\",VLOOKUP(B1328,coefficient2!$A$4:$B$7,2,FALSE))","v":8.6562899999999998E-2},{"$f":"IF(C1328=1,\"0\",VLOOKUP(C1328,coefficient2!$A$10:$B$13,2,FALSE))","v":"0"},{"$f":"IF(D1328=1,\"0\",VLOOKUP(D1328,coefficient2!$A$16:$B$19,2,FALSE))","v":0.1534855},{"$f":"IF(E1328=1,\"0\",VLOOKUP(E1328,coefficient2!$A$22:$B$25,2,FALSE))","v":"0"},{"$f":"IF(F1328=1,\"0\",VLOOKUP(F1328,coefficient2!$A$28:$B$31,2,FALSE))","v":5.8085699999999997E-2},0.70186589999999993]
[31413,3,1,4,1,3,12,{"$f":"IF(B1329=1,\"0\",VLOOKUP(B1329,coefficient2!$A$4:$B$7,2,FALSE))","v":8.6562899999999998E-2},{"$f":"IF(C1329=1,\"0\",VLOOKUP(C1329,coefficient2!$A$10:$B$13,2,FALSE))","v":"0"},{"$f":"IF(D1329=1,\"0\",VLOOKUP(D1329,coefficient2!$A$16:$B$19,2,FALSE))","v":0.1534855},{"$f":"IF(E1329=1,\"0\",VLOOKUP(E1329,coefficient2!$A$22:$B$25,2,FALSE))","v":"0"},{"$f":"IF(F1329=1,\"0\",VLOOKUP(F1329,coefficient2!$A$28:$B$31,2,FALSE))","v":9.5753900000000003E-2},0.66419769999999989]
[31414,3,1,4,1,4,13,{"$f":"IF(B1330=1,\"0\",VLOOKUP(B1330,coefficient2!$A$4:$B$7,2,FALSE))","v":8.6562899999999998E-2},{"$f":"IF(C1330=1,\"0\",VLOOKUP(C1330,coefficient2!$A$10:$B$13,2,FALSE))","v":"0"},{"$f":"IF(D1330=1,\"0\",VLOOKUP(D1330,coefficient2!$A$16:$B$19,2,FALSE))","v":0.1534855},{"$f":"IF(E1330=1,\"0\",VLOOKUP(E1330,coefficient2!$A$22:$B$25,2,FALSE))","v":"0"},{"$f":"IF(F1330=1,\"0\",VLOOKUP(F1330,coefficient2!$A$28:$B$31,2,FALSE))","v":0.23270360000000001},0.52724799999999994]
[31415,3,1,4,1,5,14,{"$f":"IF(B1331=1,\"0\",VLOOKUP(B1331,coefficient2!$A$4:$B$7,2,FALSE))","v":8.6562899999999998E-2},{"$f":"IF(C1331=1,\"0\",VLOOKUP(C1331,coefficient2!$A$10:$B$13,2,FALSE))","v":"0"},{"$f":"IF(D1331=1,\"0\",VLOOKUP(D1331,coefficient2!$A$16:$B$19,2,FALSE))","v":0.1534855},{"$f":"IF(E1331=1,\"0\",VLOOKUP(E1331,coefficient2!$A$22:$B$25,2,FALSE))","v":"0"},{"$f":"IF(F1331=1,\"0\",VLOOKUP(F1331,coefficient2!$A$28:$B$31,2,FALSE))","v":0.29534929999999998},0.46460229999999997]
[31421,3,1,4,2,1,11,{"$f":"IF(B1332=1,\"0\",VLOOKUP(B1332,coefficient2!$A$4:$B$7,2,FALSE))","v":8.6562899999999998E-2},{"$f":"IF(C1332=1,\"0\",VLOOKUP(C1332,coefficient2!$A$10:$B$13,2,FALSE))","v":"0"},{"$f":"IF(D1332=1,\"0\",VLOOKUP(D1332,coefficient2!$A$16:$B$19,2,FALSE))","v":0.1534855},{"$f":"IF(E1332=1,\"0\",VLOOKUP(E1332,coefficient2!$A$22:$B$25,2,FALSE))","v":5.63998E-2},{"$f":"IF(F1332=1,\"0\",VLOOKUP(F1332,coefficient2!$A$28:$B$31,2,FALSE))","v":"0"},0.70355179999999995]
[31422,3,1,4,2,2,12,{"$f":"IF(B1333=1,\"0\",VLOOKUP(B1333,coefficient2!$A$4:$B$7,2,FALSE))","v":8.6562899999999998E-2},{"$f":"IF(C1333=1,\"0\",VLOOKUP(C1333,coefficient2!$A$10:$B$13,2,FALSE))","v":"0"},{"$f":"IF(D1333=1,\"0\",VLOOKUP(D1333,coefficient2!$A$16:$B$19,2,FALSE))","v":0.1534855},{"$f":"IF(E1333=1,\"0\",VLOOKUP(E1333,coefficient2!$A$22:$B$25,2,FALSE))","v":5.63998E-2},{"$f":"IF(F1333=1,\"0\",VLOOKUP(F1333,coefficient2!$A$28:$B$31,2,FALSE))","v":5.8085699999999997E-2},0.64546609999999993]
[31423,3,1,4,2,3,13,{"$f":"IF(B1334=1,\"0\",VLOOKUP(B1334,coefficient2!$A$4:$B$7,2,FALSE))","v":8.6562899999999998E-2},{"$f":"IF(C1334=1,\"0\",VLOOKUP(C1334,coefficient2!$A$10:$B$13,2,FALSE))","v":"0"},{"$f":"IF(D1334=1,\"0\",VLOOKUP(D1334,coefficient2!$A$16:$B$19,2,FALSE))","v":0.1534855},{"$f":"IF(E1334=1,\"0\",VLOOKUP(E1334,coefficient2!$A$22:$B$25,2,FALSE))","v":5.63998E-2},{"$f":"IF(F1334=1,\"0\",VLOOKUP(F1334,coefficient2!$A$28:$B$31,2,FALSE))","v":9.5753900000000003E-2},0.6077979]
[31424,3,1,4,2,4,14,{"$f":"IF(B1335=1,\"0\",VLOOKUP(B1335,coefficient2!$A$4:$B$7,2,FALSE))","v":8.6562899999999998E-2},{"$f":"IF(C1335=1,\"0\",VLOOKUP(C1335,coefficient2!$A$10:$B$13,2,FALSE))","v":"0"},{"$f":"IF(D1335=1,\"0\",VLOOKUP(D1335,coefficient2!$A$16:$B$19,2,FALSE))","v":0.1534855},{"$f":"IF(E1335=1,\"0\",VLOOKUP(E1335,coefficient2!$A$22:$B$25,2,FALSE))","v":5.63998E-2},{"$f":"IF(F1335=1,\"0\",VLOOKUP(F1335,coefficient2!$A$28:$B$31,2,FALSE))","v":0.23270360000000001},0.47084819999999994]
[31425,3,1,4,2,5,15,{"$f":"IF(B1336=1,\"0\",VLOOKUP(B1336,coefficient2!$A$4:$B$7,2,FALSE))","v":8.6562899999999998E-2},{"$f":"IF(C1336=1,\"0\",VLOOKUP(C1336,coefficient2!$A$10:$B$13,2,FALSE))","v":"0"},{"$f":"IF(D1336=1,\"0\",VLOOKUP(D1336,coefficient2!$A$16:$B$19,2,FALSE))","v":0.1534855},{"$f":"IF(E1336=1,\"0\",VLOOKUP(E1336,coefficient2!$A$22:$B$25,2,FALSE))","v":5.63998E-2},{"$f":"IF(F1336=1,\"0\",VLOOKUP(F1336,coefficient2!$A$28:$B$31,2,FALSE))","v":0.29534929999999998},0.40820249999999997]
[31431,3,1,4,3,1,12,{"$f":"IF(B1337=1,\"0\",VLOOKUP(B1337,coefficient2!$A$4:$B$7,2,FALSE))","v":8.6562899999999998E-2},{"$f":"IF(C1337=1,\"0\",VLOOKUP(C1337,coefficient2!$A$10:$B$13,2,FALSE))","v":"0"},{"$f":"IF(D1337=1,\"0\",VLOOKUP(D1337,coefficient2!$A$16:$B$19,2,FALSE))","v":0.1534855},{"$f":"IF(E1337=1,\"0\",VLOOKUP(E1337,coefficient2!$A$22:$B$25,2,FALSE))","v":6.6492200000000001E-2},{"$f":"IF(F1337=1,\"0\",VLOOKUP(F1337,coefficient2!$A$28:$B$31,2,FALSE))","v":"0"},0.69345939999999995]
[31432,3,1,4,3,2,13,{"$f":"IF(B1338=1,\"0\",VLOOKUP(B1338,coefficient2!$A$4:$B$7,2,FALSE))","v":8.6562899999999998E-2},{"$f":"IF(C1338=1,\"0\",VLOOKUP(C1338,coefficient2!$A$10:$B$13,2,FALSE))","v":"0"},{"$f":"IF(D1338=1,\"0\",VLOOKUP(D1338,coefficient2!$A$16:$B$19,2,FALSE))","v":0.1534855},{"$f":"IF(E1338=1,\"0\",VLOOKUP(E1338,coefficient2!$A$22:$B$25,2,FALSE))","v":6.6492200000000001E-2},{"$f":"IF(F1338=1,\"0\",VLOOKUP(F1338,coefficient2!$A$28:$B$31,2,FALSE))","v":5.8085699999999997E-2},0.63537369999999993]
[31433,3,1,4,3,3,14,{"$f":"IF(B1339=1,\"0\",VLOOKUP(B1339,coefficient2!$A$4:$B$7,2,FALSE))","v":8.6562899999999998E-2},{"$f":"IF(C1339=1,\"0\",VLOOKUP(C1339,coefficient2!$A$10:$B$13,2,FALSE))","v":"0"},{"$f":"IF(D1339=1,\"0\",VLOOKUP(D1339,coefficient2!$A$16:$B$19,2,FALSE))","v":0.1534855},{"$f":"IF(E1339=1,\"0\",VLOOKUP(E1339,coefficient2!$A$22:$B$25,2,FALSE))","v":6.6492200000000001E-2},{"$f":"IF(F1339=1,\"0\",VLOOKUP(F1339,coefficient2!$A$28:$B$31,2,FALSE))","v":9.5753900000000003E-2},0.5977055]
[31434,3,1,4,3,4,15,{"$f":"IF(B1340=1,\"0\",VLOOKUP(B1340,coefficient2!$A$4:$B$7,2,FALSE))","v":8.6562899999999998E-2},{"$f":"IF(C1340=1,\"0\",VLOOKUP(C1340,coefficient2!$A$10:$B$13,2,FALSE))","v":"0"},{"$f":"IF(D1340=1,\"0\",VLOOKUP(D1340,coefficient2!$A$16:$B$19,2,FALSE))","v":0.1534855},{"$f":"IF(E1340=1,\"0\",VLOOKUP(E1340,coefficient2!$A$22:$B$25,2,FALSE))","v":6.6492200000000001E-2},{"$f":"IF(F1340=1,\"0\",VLOOKUP(F1340,coefficient2!$A$28:$B$31,2,FALSE))","v":0.23270360000000001},0.46075579999999994]
[31435,3,1,4,3,5,16,{"$f":"IF(B1341=1,\"0\",VLOOKUP(B1341,coefficient2!$A$4:$B$7,2,FALSE))","v":8.6562899999999998E-2},{"$f":"IF(C1341=1,\"0\",VLOOKUP(C1341,coefficient2!$A$10:$B$13,2,FALSE))","v":"0"},{"$f":"IF(D1341=1,\"0\",VLOOKUP(D1341,coefficient2!$A$16:$B$19,2,FALSE))","v":0.1534855},{"$f":"IF(E1341=1,\"0\",VLOOKUP(E1341,coefficient2!$A$22:$B$25,2,FALSE))","v":6.6492200000000001E-2},{"$f":"IF(F1341=1,\"0\",VLOOKUP(F1341,coefficient2!$A$28:$B$31,2,FALSE))","v":0.29534929999999998},0.39811009999999997]
[31441,3,1,4,4,1,13,{"$f":"IF(B1342=1,\"0\",VLOOKUP(B1342,coefficient2!$A$4:$B$7,2,FALSE))","v":8.6562899999999998E-2},{"$f":"IF(C1342=1,\"0\",VLOOKUP(C1342,coefficient2!$A$10:$B$13,2,FALSE))","v":"0"},{"$f":"IF(D1342=1,\"0\",VLOOKUP(D1342,coefficient2!$A$16:$B$19,2,FALSE))","v":0.1534855},{"$f":"IF(E1342=1,\"0\",VLOOKUP(E1342,coefficient2!$A$22:$B$25,2,FALSE))","v":0.2068864},{"$f":"IF(F1342=1,\"0\",VLOOKUP(F1342,coefficient2!$A$28:$B$31,2,FALSE))","v":"0"},0.55306519999999992]
[31442,3,1,4,4,2,14,{"$f":"IF(B1343=1,\"0\",VLOOKUP(B1343,coefficient2!$A$4:$B$7,2,FALSE))","v":8.6562899999999998E-2},{"$f":"IF(C1343=1,\"0\",VLOOKUP(C1343,coefficient2!$A$10:$B$13,2,FALSE))","v":"0"},{"$f":"IF(D1343=1,\"0\",VLOOKUP(D1343,coefficient2!$A$16:$B$19,2,FALSE))","v":0.1534855},{"$f":"IF(E1343=1,\"0\",VLOOKUP(E1343,coefficient2!$A$22:$B$25,2,FALSE))","v":0.2068864},{"$f":"IF(F1343=1,\"0\",VLOOKUP(F1343,coefficient2!$A$28:$B$31,2,FALSE))","v":5.8085699999999997E-2},0.49497949999999991]
[31443,3,1,4,4,3,15,{"$f":"IF(B1344=1,\"0\",VLOOKUP(B1344,coefficient2!$A$4:$B$7,2,FALSE))","v":8.6562899999999998E-2},{"$f":"IF(C1344=1,\"0\",VLOOKUP(C1344,coefficient2!$A$10:$B$13,2,FALSE))","v":"0"},{"$f":"IF(D1344=1,\"0\",VLOOKUP(D1344,coefficient2!$A$16:$B$19,2,FALSE))","v":0.1534855},{"$f":"IF(E1344=1,\"0\",VLOOKUP(E1344,coefficient2!$A$22:$B$25,2,FALSE))","v":0.2068864},{"$f":"IF(F1344=1,\"0\",VLOOKUP(F1344,coefficient2!$A$28:$B$31,2,FALSE))","v":9.5753900000000003E-2},0.45731129999999992]
[31444,3,1,4,4,4,16,{"$f":"IF(B1345=1,\"0\",VLOOKUP(B1345,coefficient2!$A$4:$B$7,2,FALSE))","v":8.6562899999999998E-2},{"$f":"IF(C1345=1,\"0\",VLOOKUP(C1345,coefficient2!$A$10:$B$13,2,FALSE))","v":"0"},{"$f":"IF(D1345=1,\"0\",VLOOKUP(D1345,coefficient2!$A$16:$B$19,2,FALSE))","v":0.1534855},{"$f":"IF(E1345=1,\"0\",VLOOKUP(E1345,coefficient2!$A$22:$B$25,2,FALSE))","v":0.2068864},{"$f":"IF(F1345=1,\"0\",VLOOKUP(F1345,coefficient2!$A$28:$B$31,2,FALSE))","v":0.23270360000000001},0.32036159999999991]
[31445,3,1,4,4,5,17,{"$f":"IF(B1346=1,\"0\",VLOOKUP(B1346,coefficient2!$A$4:$B$7,2,FALSE))","v":8.6562899999999998E-2},{"$f":"IF(C1346=1,\"0\",VLOOKUP(C1346,coefficient2!$A$10:$B$13,2,FALSE))","v":"0"},{"$f":"IF(D1346=1,\"0\",VLOOKUP(D1346,coefficient2!$A$16:$B$19,2,FALSE))","v":0.1534855},{"$f":"IF(E1346=1,\"0\",VLOOKUP(E1346,coefficient2!$A$22:$B$25,2,FALSE))","v":0.2068864},{"$f":"IF(F1346=1,\"0\",VLOOKUP(F1346,coefficient2!$A$28:$B$31,2,FALSE))","v":0.29534929999999998},{"$f":"1-H1346-I1346-J1346-K1346-L1346","v":0.25771589999999994}]
[31451,{"$f":"INT(LEFT(A1347,1))","v":3},{"$f":"INT(MID(A1347,2,1))","v":1},{"$f":"INT(MID(A1347,3,1))","v":4},{"$f":"INT(MID(A1347,4,1))","v":5},{"$f":"INT(RIGHT(A1347,1))","v":1},{"$f":"SUM(B1347:F1347)","v":14},{"$f":"IF(B1347=1,\"0\",VLOOKUP(B1347,coefficient2!$A$4:$B$7,2,FALSE))","v":8.6562899999999998E-2},{"$f":"IF(C1347=1,\"0\",VLOOKUP(C1347,coefficient2!$A$10:$B$13,2,FALSE))","v":"0"},{"$f":"IF(D1347=1,\"0\",VLOOKUP(D1347,coefficient2!$A$16:$B$19,2,FALSE))","v":0.1534855},{"$f":"IF(E1347=1,\"0\",VLOOKUP(E1347,coefficient2!$A$22:$B$25,2,FALSE))","v":0.25643310000000002},{"$f":"IF(F1347=1,\"0\",VLOOKUP(F1347,coefficient2!$A$28:$B$31,2,FALSE))","v":"0"},0.50351849999999998]
[31452,3,1,4,5,2,15,{"$f":"IF(B1348=1,\"0\",VLOOKUP(B1348,coefficient2!$A$4:$B$7,2,FALSE))","v":8.6562899999999998E-2},{"$f":"IF(C1348=1,\"0\",VLOOKUP(C1348,coefficient2!$A$10:$B$13,2,FALSE))","v":"0"},{"$f":"IF(D1348=1,\"0\",VLOOKUP(D1348,coefficient2!$A$16:$B$19,2,FALSE))","v":0.1534855},{"$f":"IF(E1348=1,\"0\",VLOOKUP(E1348,coefficient2!$A$22:$B$25,2,FALSE))","v":0.25643310000000002},{"$f":"IF(F1348=1,\"0\",VLOOKUP(F1348,coefficient2!$A$28:$B$31,2,FALSE))","v":5.8085699999999997E-2},0.44543279999999996]
[31453,3,1,4,5,3,16,{"$f":"IF(B1349=1,\"0\",VLOOKUP(B1349,coefficient2!$A$4:$B$7,2,FALSE))","v":8.6562899999999998E-2},{"$f":"IF(C1349=1,\"0\",VLOOKUP(C1349,coefficient2!$A$10:$B$13,2,FALSE))","v":"0"},{"$f":"IF(D1349=1,\"0\",VLOOKUP(D1349,coefficient2!$A$16:$B$19,2,FALSE))","v":0.1534855},{"$f":"IF(E1349=1,\"0\",VLOOKUP(E1349,coefficient2!$A$22:$B$25,2,FALSE))","v":0.25643310000000002},{"$f":"IF(F1349=1,\"0\",VLOOKUP(F1349,coefficient2!$A$28:$B$31,2,FALSE))","v":9.5753900000000003E-2},0.40776459999999998]
[31454,3,1,4,5,4,17,{"$f":"IF(B1350=1,\"0\",VLOOKUP(B1350,coefficient2!$A$4:$B$7,2,FALSE))","v":8.6562899999999998E-2},{"$f":"IF(C1350=1,\"0\",VLOOKUP(C1350,coefficient2!$A$10:$B$13,2,FALSE))","v":"0"},{"$f":"IF(D1350=1,\"0\",VLOOKUP(D1350,coefficient2!$A$16:$B$19,2,FALSE))","v":0.1534855},{"$f":"IF(E1350=1,\"0\",VLOOKUP(E1350,coefficient2!$A$22:$B$25,2,FALSE))","v":0.25643310000000002},{"$f":"IF(F1350=1,\"0\",VLOOKUP(F1350,coefficient2!$A$28:$B$31,2,FALSE))","v":0.23270360000000001},0.27081489999999997]
[31455,3,1,4,5,5,18,{"$f":"IF(B1351=1,\"0\",VLOOKUP(B1351,coefficient2!$A$4:$B$7,2,FALSE))","v":8.6562899999999998E-2},{"$f":"IF(C1351=1,\"0\",VLOOKUP(C1351,coefficient2!$A$10:$B$13,2,FALSE))","v":"0"},{"$f":"IF(D1351=1,\"0\",VLOOKUP(D1351,coefficient2!$A$16:$B$19,2,FALSE))","v":0.1534855},{"$f":"IF(E1351=1,\"0\",VLOOKUP(E1351,coefficient2!$A$22:$B$25,2,FALSE))","v":0.25643310000000002},{"$f":"IF(F1351=1,\"0\",VLOOKUP(F1351,coefficient2!$A$28:$B$31,2,FALSE))","v":0.29534929999999998},0.2081692]
[31511,3,1,5,1,1,11,{"$f":"IF(B1352=1,\"0\",VLOOKUP(B1352,coefficient2!$A$4:$B$7,2,FALSE))","v":8.6562899999999998E-2},{"$f":"IF(C1352=1,\"0\",VLOOKUP(C1352,coefficient2!$A$10:$B$13,2,FALSE))","v":"0"},{"$f":"IF(D1352=1,\"0\",VLOOKUP(D1352,coefficient2!$A$16:$B$19,2,FALSE))","v":0.248331},{"$f":"IF(E1352=1,\"0\",VLOOKUP(E1352,coefficient2!$A$22:$B$25,2,FALSE))","v":"0"},{"$f":"IF(F1352=1,\"0\",VLOOKUP(F1352,coefficient2!$A$28:$B$31,2,FALSE))","v":"0"},0.66510610000000003]
[31512,3,1,5,1,2,12,{"$f":"IF(B1353=1,\"0\",VLOOKUP(B1353,coefficient2!$A$4:$B$7,2,FALSE))","v":8.6562899999999998E-2},{"$f":"IF(C1353=1,\"0\",VLOOKUP(C1353,coefficient2!$A$10:$B$13,2,FALSE))","v":"0"},{"$f":"IF(D1353=1,\"0\",VLOOKUP(D1353,coefficient2!$A$16:$B$19,2,FALSE))","v":0.248331},{"$f":"IF(E1353=1,\"0\",VLOOKUP(E1353,coefficient2!$A$22:$B$25,2,FALSE))","v":"0"},{"$f":"IF(F1353=1,\"0\",VLOOKUP(F1353,coefficient2!$A$28:$B$31,2,FALSE))","v":5.8085699999999997E-2},0.60702040000000002]
[31513,3,1,5,1,3,13,{"$f":"IF(B1354=1,\"0\",VLOOKUP(B1354,coefficient2!$A$4:$B$7,2,FALSE))","v":8.6562899999999998E-2},{"$f":"IF(C1354=1,\"0\",VLOOKUP(C1354,coefficient2!$A$10:$B$13,2,FALSE))","v":"0"},{"$f":"IF(D1354=1,\"0\",VLOOKUP(D1354,coefficient2!$A$16:$B$19,2,FALSE))","v":0.248331},{"$f":"IF(E1354=1,\"0\",VLOOKUP(E1354,coefficient2!$A$22:$B$25,2,FALSE))","v":"0"},{"$f":"IF(F1354=1,\"0\",VLOOKUP(F1354,coefficient2!$A$28:$B$31,2,FALSE))","v":9.5753900000000003E-2},0.56935219999999997]
[31514,3,1,5,1,4,14,{"$f":"IF(B1355=1,\"0\",VLOOKUP(B1355,coefficient2!$A$4:$B$7,2,FALSE))","v":8.6562899999999998E-2},{"$f":"IF(C1355=1,\"0\",VLOOKUP(C1355,coefficient2!$A$10:$B$13,2,FALSE))","v":"0"},{"$f":"IF(D1355=1,\"0\",VLOOKUP(D1355,coefficient2!$A$16:$B$19,2,FALSE))","v":0.248331},{"$f":"IF(E1355=1,\"0\",VLOOKUP(E1355,coefficient2!$A$22:$B$25,2,FALSE))","v":"0"},{"$f":"IF(F1355=1,\"0\",VLOOKUP(F1355,coefficient2!$A$28:$B$31,2,FALSE))","v":0.23270360000000001},0.43240250000000002]
[31515,3,1,5,1,5,15,{"$f":"IF(B1356=1,\"0\",VLOOKUP(B1356,coefficient2!$A$4:$B$7,2,FALSE))","v":8.6562899999999998E-2},{"$f":"IF(C1356=1,\"0\",VLOOKUP(C1356,coefficient2!$A$10:$B$13,2,FALSE))","v":"0"},{"$f":"IF(D1356=1,\"0\",VLOOKUP(D1356,coefficient2!$A$16:$B$19,2,FALSE))","v":0.248331},{"$f":"IF(E1356=1,\"0\",VLOOKUP(E1356,coefficient2!$A$22:$B$25,2,FALSE))","v":"0"},{"$f":"IF(F1356=1,\"0\",VLOOKUP(F1356,coefficient2!$A$28:$B$31,2,FALSE))","v":0.29534929999999998},0.36975680000000005]
[31521,3,1,5,2,1,12,{"$f":"IF(B1357=1,\"0\",VLOOKUP(B1357,coefficient2!$A$4:$B$7,2,FALSE))","v":8.6562899999999998E-2},{"$f":"IF(C1357=1,\"0\",VLOOKUP(C1357,coefficient2!$A$10:$B$13,2,FALSE))","v":"0"},{"$f":"IF(D1357=1,\"0\",VLOOKUP(D1357,coefficient2!$A$16:$B$19,2,FALSE))","v":0.248331},{"$f":"IF(E1357=1,\"0\",VLOOKUP(E1357,coefficient2!$A$22:$B$25,2,FALSE))","v":5.63998E-2},{"$f":"IF(F1357=1,\"0\",VLOOKUP(F1357,coefficient2!$A$28:$B$31,2,FALSE))","v":"0"},0.60870630000000003]
[31522,3,1,5,2,2,13,{"$f":"IF(B1358=1,\"0\",VLOOKUP(B1358,coefficient2!$A$4:$B$7,2,FALSE))","v":8.6562899999999998E-2},{"$f":"IF(C1358=1,\"0\",VLOOKUP(C1358,coefficient2!$A$10:$B$13,2,FALSE))","v":"0"},{"$f":"IF(D1358=1,\"0\",VLOOKUP(D1358,coefficient2!$A$16:$B$19,2,FALSE))","v":0.248331},{"$f":"IF(E1358=1,\"0\",VLOOKUP(E1358,coefficient2!$A$22:$B$25,2,FALSE))","v":5.63998E-2},{"$f":"IF(F1358=1,\"0\",VLOOKUP(F1358,coefficient2!$A$28:$B$31,2,FALSE))","v":5.8085699999999997E-2},0.55062060000000002]
[31523,3,1,5,2,3,14,{"$f":"IF(B1359=1,\"0\",VLOOKUP(B1359,coefficient2!$A$4:$B$7,2,FALSE))","v":8.6562899999999998E-2},{"$f":"IF(C1359=1,\"0\",VLOOKUP(C1359,coefficient2!$A$10:$B$13,2,FALSE))","v":"0"},{"$f":"IF(D1359=1,\"0\",VLOOKUP(D1359,coefficient2!$A$16:$B$19,2,FALSE))","v":0.248331},{"$f":"IF(E1359=1,\"0\",VLOOKUP(E1359,coefficient2!$A$22:$B$25,2,FALSE))","v":5.63998E-2},{"$f":"IF(F1359=1,\"0\",VLOOKUP(F1359,coefficient2!$A$28:$B$31,2,FALSE))","v":9.5753900000000003E-2},0.51295240000000009]
[31524,3,1,5,2,4,15,{"$f":"IF(B1360=1,\"0\",VLOOKUP(B1360,coefficient2!$A$4:$B$7,2,FALSE))","v":8.6562899999999998E-2},{"$f":"IF(C1360=1,\"0\",VLOOKUP(C1360,coefficient2!$A$10:$B$13,2,FALSE))","v":"0"},{"$f":"IF(D1360=1,\"0\",VLOOKUP(D1360,coefficient2!$A$16:$B$19,2,FALSE))","v":0.248331},{"$f":"IF(E1360=1,\"0\",VLOOKUP(E1360,coefficient2!$A$22:$B$25,2,FALSE))","v":5.63998E-2},{"$f":"IF(F1360=1,\"0\",VLOOKUP(F1360,coefficient2!$A$28:$B$31,2,FALSE))","v":0.23270360000000001},0.37600270000000002]
[31525,3,1,5,2,5,16,{"$f":"IF(B1361=1,\"0\",VLOOKUP(B1361,coefficient2!$A$4:$B$7,2,FALSE))","v":8.6562899999999998E-2},{"$f":"IF(C1361=1,\"0\",VLOOKUP(C1361,coefficient2!$A$10:$B$13,2,FALSE))","v":"0"},{"$f":"IF(D1361=1,\"0\",VLOOKUP(D1361,coefficient2!$A$16:$B$19,2,FALSE))","v":0.248331},{"$f":"IF(E1361=1,\"0\",VLOOKUP(E1361,coefficient2!$A$22:$B$25,2,FALSE))","v":5.63998E-2},{"$f":"IF(F1361=1,\"0\",VLOOKUP(F1361,coefficient2!$A$28:$B$31,2,FALSE))","v":0.29534929999999998},0.31335700000000005]
[31531,3,1,5,3,1,13,{"$f":"IF(B1362=1,\"0\",VLOOKUP(B1362,coefficient2!$A$4:$B$7,2,FALSE))","v":8.6562899999999998E-2},{"$f":"IF(C1362=1,\"0\",VLOOKUP(C1362,coefficient2!$A$10:$B$13,2,FALSE))","v":"0"},{"$f":"IF(D1362=1,\"0\",VLOOKUP(D1362,coefficient2!$A$16:$B$19,2,FALSE))","v":0.248331},{"$f":"IF(E1362=1,\"0\",VLOOKUP(E1362,coefficient2!$A$22:$B$25,2,FALSE))","v":6.6492200000000001E-2},{"$f":"IF(F1362=1,\"0\",VLOOKUP(F1362,coefficient2!$A$28:$B$31,2,FALSE))","v":"0"},0.59861390000000003]
[31532,3,1,5,3,2,14,{"$f":"IF(B1363=1,\"0\",VLOOKUP(B1363,coefficient2!$A$4:$B$7,2,FALSE))","v":8.6562899999999998E-2},{"$f":"IF(C1363=1,\"0\",VLOOKUP(C1363,coefficient2!$A$10:$B$13,2,FALSE))","v":"0"},{"$f":"IF(D1363=1,\"0\",VLOOKUP(D1363,coefficient2!$A$16:$B$19,2,FALSE))","v":0.248331},{"$f":"IF(E1363=1,\"0\",VLOOKUP(E1363,coefficient2!$A$22:$B$25,2,FALSE))","v":6.6492200000000001E-2},{"$f":"IF(F1363=1,\"0\",VLOOKUP(F1363,coefficient2!$A$28:$B$31,2,FALSE))","v":5.8085699999999997E-2},0.54052820000000001]
[31533,3,1,5,3,3,15,{"$f":"IF(B1364=1,\"0\",VLOOKUP(B1364,coefficient2!$A$4:$B$7,2,FALSE))","v":8.6562899999999998E-2},{"$f":"IF(C1364=1,\"0\",VLOOKUP(C1364,coefficient2!$A$10:$B$13,2,FALSE))","v":"0"},{"$f":"IF(D1364=1,\"0\",VLOOKUP(D1364,coefficient2!$A$16:$B$19,2,FALSE))","v":0.248331},{"$f":"IF(E1364=1,\"0\",VLOOKUP(E1364,coefficient2!$A$22:$B$25,2,FALSE))","v":6.6492200000000001E-2},{"$f":"IF(F1364=1,\"0\",VLOOKUP(F1364,coefficient2!$A$28:$B$31,2,FALSE))","v":9.5753900000000003E-2},0.50286000000000008]
[31534,3,1,5,3,4,16,{"$f":"IF(B1365=1,\"0\",VLOOKUP(B1365,coefficient2!$A$4:$B$7,2,FALSE))","v":8.6562899999999998E-2},{"$f":"IF(C1365=1,\"0\",VLOOKUP(C1365,coefficient2!$A$10:$B$13,2,FALSE))","v":"0"},{"$f":"IF(D1365=1,\"0\",VLOOKUP(D1365,coefficient2!$A$16:$B$19,2,FALSE))","v":0.248331},{"$f":"IF(E1365=1,\"0\",VLOOKUP(E1365,coefficient2!$A$22:$B$25,2,FALSE))","v":6.6492200000000001E-2},{"$f":"IF(F1365=1,\"0\",VLOOKUP(F1365,coefficient2!$A$28:$B$31,2,FALSE))","v":0.23270360000000001},0.36591030000000002]
[31535,3,1,5,3,5,17,{"$f":"IF(B1366=1,\"0\",VLOOKUP(B1366,coefficient2!$A$4:$B$7,2,FALSE))","v":8.6562899999999998E-2},{"$f":"IF(C1366=1,\"0\",VLOOKUP(C1366,coefficient2!$A$10:$B$13,2,FALSE))","v":"0"},{"$f":"IF(D1366=1,\"0\",VLOOKUP(D1366,coefficient2!$A$16:$B$19,2,FALSE))","v":0.248331},{"$f":"IF(E1366=1,\"0\",VLOOKUP(E1366,coefficient2!$A$22:$B$25,2,FALSE))","v":6.6492200000000001E-2},{"$f":"IF(F1366=1,\"0\",VLOOKUP(F1366,coefficient2!$A$28:$B$31,2,FALSE))","v":0.29534929999999998},0.30326460000000005]
[31541,3,1,5,4,1,14,{"$f":"IF(B1367=1,\"0\",VLOOKUP(B1367,coefficient2!$A$4:$B$7,2,FALSE))","v":8.6562899999999998E-2},{"$f":"IF(C1367=1,\"0\",VLOOKUP(C1367,coefficient2!$A$10:$B$13,2,FALSE))","v":"0"},{"$f":"IF(D1367=1,\"0\",VLOOKUP(D1367,coefficient2!$A$16:$B$19,2,FALSE))","v":0.248331},{"$f":"IF(E1367=1,\"0\",VLOOKUP(E1367,coefficient2!$A$22:$B$25,2,FALSE))","v":0.2068864},{"$f":"IF(F1367=1,\"0\",VLOOKUP(F1367,coefficient2!$A$28:$B$31,2,FALSE))","v":"0"},0.45821970000000001]
[31542,3,1,5,4,2,15,{"$f":"IF(B1368=1,\"0\",VLOOKUP(B1368,coefficient2!$A$4:$B$7,2,FALSE))","v":8.6562899999999998E-2},{"$f":"IF(C1368=1,\"0\",VLOOKUP(C1368,coefficient2!$A$10:$B$13,2,FALSE))","v":"0"},{"$f":"IF(D1368=1,\"0\",VLOOKUP(D1368,coefficient2!$A$16:$B$19,2,FALSE))","v":0.248331},{"$f":"IF(E1368=1,\"0\",VLOOKUP(E1368,coefficient2!$A$22:$B$25,2,FALSE))","v":0.2068864},{"$f":"IF(F1368=1,\"0\",VLOOKUP(F1368,coefficient2!$A$28:$B$31,2,FALSE))","v":5.8085699999999997E-2},0.40013399999999999]
[31543,3,1,5,4,3,16,{"$f":"IF(B1369=1,\"0\",VLOOKUP(B1369,coefficient2!$A$4:$B$7,2,FALSE))","v":8.6562899999999998E-2},{"$f":"IF(C1369=1,\"0\",VLOOKUP(C1369,coefficient2!$A$10:$B$13,2,FALSE))","v":"0"},{"$f":"IF(D1369=1,\"0\",VLOOKUP(D1369,coefficient2!$A$16:$B$19,2,FALSE))","v":0.248331},{"$f":"IF(E1369=1,\"0\",VLOOKUP(E1369,coefficient2!$A$22:$B$25,2,FALSE))","v":0.2068864},{"$f":"IF(F1369=1,\"0\",VLOOKUP(F1369,coefficient2!$A$28:$B$31,2,FALSE))","v":9.5753900000000003E-2},0.3624658]
[31544,3,1,5,4,4,17,{"$f":"IF(B1370=1,\"0\",VLOOKUP(B1370,coefficient2!$A$4:$B$7,2,FALSE))","v":8.6562899999999998E-2},{"$f":"IF(C1370=1,\"0\",VLOOKUP(C1370,coefficient2!$A$10:$B$13,2,FALSE))","v":"0"},{"$f":"IF(D1370=1,\"0\",VLOOKUP(D1370,coefficient2!$A$16:$B$19,2,FALSE))","v":0.248331},{"$f":"IF(E1370=1,\"0\",VLOOKUP(E1370,coefficient2!$A$22:$B$25,2,FALSE))","v":0.2068864},{"$f":"IF(F1370=1,\"0\",VLOOKUP(F1370,coefficient2!$A$28:$B$31,2,FALSE))","v":0.23270360000000001},0.2255161]
[31545,3,1,5,4,5,18,{"$f":"IF(B1371=1,\"0\",VLOOKUP(B1371,coefficient2!$A$4:$B$7,2,FALSE))","v":8.6562899999999998E-2},{"$f":"IF(C1371=1,\"0\",VLOOKUP(C1371,coefficient2!$A$10:$B$13,2,FALSE))","v":"0"},{"$f":"IF(D1371=1,\"0\",VLOOKUP(D1371,coefficient2!$A$16:$B$19,2,FALSE))","v":0.248331},{"$f":"IF(E1371=1,\"0\",VLOOKUP(E1371,coefficient2!$A$22:$B$25,2,FALSE))","v":0.2068864},{"$f":"IF(F1371=1,\"0\",VLOOKUP(F1371,coefficient2!$A$28:$B$31,2,FALSE))","v":0.29534929999999998},0.16287040000000003]
[31551,3,1,5,5,1,15,{"$f":"IF(B1372=1,\"0\",VLOOKUP(B1372,coefficient2!$A$4:$B$7,2,FALSE))","v":8.6562899999999998E-2},{"$f":"IF(C1372=1,\"0\",VLOOKUP(C1372,coefficient2!$A$10:$B$13,2,FALSE))","v":"0"},{"$f":"IF(D1372=1,\"0\",VLOOKUP(D1372,coefficient2!$A$16:$B$19,2,FALSE))","v":0.248331},{"$f":"IF(E1372=1,\"0\",VLOOKUP(E1372,coefficient2!$A$22:$B$25,2,FALSE))","v":0.25643310000000002},{"$f":"IF(F1372=1,\"0\",VLOOKUP(F1372,coefficient2!$A$28:$B$31,2,FALSE))","v":"0"},0.40867300000000001]
[31552,3,1,5,5,2,16,{"$f":"IF(B1373=1,\"0\",VLOOKUP(B1373,coefficient2!$A$4:$B$7,2,FALSE))","v":8.6562899999999998E-2},{"$f":"IF(C1373=1,\"0\",VLOOKUP(C1373,coefficient2!$A$10:$B$13,2,FALSE))","v":"0"},{"$f":"IF(D1373=1,\"0\",VLOOKUP(D1373,coefficient2!$A$16:$B$19,2,FALSE))","v":0.248331},{"$f":"IF(E1373=1,\"0\",VLOOKUP(E1373,coefficient2!$A$22:$B$25,2,FALSE))","v":0.25643310000000002},{"$f":"IF(F1373=1,\"0\",VLOOKUP(F1373,coefficient2!$A$28:$B$31,2,FALSE))","v":5.8085699999999997E-2},0.35058729999999999]
[31553,3,1,5,5,3,17,{"$f":"IF(B1374=1,\"0\",VLOOKUP(B1374,coefficient2!$A$4:$B$7,2,FALSE))","v":8.6562899999999998E-2},{"$f":"IF(C1374=1,\"0\",VLOOKUP(C1374,coefficient2!$A$10:$B$13,2,FALSE))","v":"0"},{"$f":"IF(D1374=1,\"0\",VLOOKUP(D1374,coefficient2!$A$16:$B$19,2,FALSE))","v":0.248331},{"$f":"IF(E1374=1,\"0\",VLOOKUP(E1374,coefficient2!$A$22:$B$25,2,FALSE))","v":0.25643310000000002},{"$f":"IF(F1374=1,\"0\",VLOOKUP(F1374,coefficient2!$A$28:$B$31,2,FALSE))","v":9.5753900000000003E-2},0.31291910000000001]
[31554,3,1,5,5,4,18,{"$f":"IF(B1375=1,\"0\",VLOOKUP(B1375,coefficient2!$A$4:$B$7,2,FALSE))","v":8.6562899999999998E-2},{"$f":"IF(C1375=1,\"0\",VLOOKUP(C1375,coefficient2!$A$10:$B$13,2,FALSE))","v":"0"},{"$f":"IF(D1375=1,\"0\",VLOOKUP(D1375,coefficient2!$A$16:$B$19,2,FALSE))","v":0.248331},{"$f":"IF(E1375=1,\"0\",VLOOKUP(E1375,coefficient2!$A$22:$B$25,2,FALSE))","v":0.25643310000000002},{"$f":"IF(F1375=1,\"0\",VLOOKUP(F1375,coefficient2!$A$28:$B$31,2,FALSE))","v":0.23270360000000001},0.1759694]
[31555,3,1,5,5,5,19,{"$f":"IF(B1376=1,\"0\",VLOOKUP(B1376,coefficient2!$A$4:$B$7,2,FALSE))","v":8.6562899999999998E-2},{"$f":"IF(C1376=1,\"0\",VLOOKUP(C1376,coefficient2!$A$10:$B$13,2,FALSE))","v":"0"},{"$f":"IF(D1376=1,\"0\",VLOOKUP(D1376,coefficient2!$A$16:$B$19,2,FALSE))","v":0.248331},{"$f":"IF(E1376=1,\"0\",VLOOKUP(E1376,coefficient2!$A$22:$B$25,2,FALSE))","v":0.25643310000000002},{"$f":"IF(F1376=1,\"0\",VLOOKUP(F1376,coefficient2!$A$28:$B$31,2,FALSE))","v":0.29534929999999998},0.11332370000000003]
[32111,3,2,1,1,1,8,{"$f":"IF(B1377=1,\"0\",VLOOKUP(B1377,coefficient2!$A$4:$B$7,2,FALSE))","v":8.6562899999999998E-2},{"$f":"IF(C1377=1,\"0\",VLOOKUP(C1377,coefficient2!$A$10:$B$13,2,FALSE))","v":5.8129300000000002E-2},{"$f":"IF(D1377=1,\"0\",VLOOKUP(D1377,coefficient2!$A$16:$B$19,2,FALSE))","v":"0"},{"$f":"IF(E1377=1,\"0\",VLOOKUP(E1377,coefficient2!$A$22:$B$25,2,FALSE))","v":"0"},{"$f":"IF(F1377=1,\"0\",VLOOKUP(F1377,coefficient2!$A$28:$B$31,2,FALSE))","v":"0"},0.85530779999999995]
[32112,3,2,1,1,2,9,{"$f":"IF(B1378=1,\"0\",VLOOKUP(B1378,coefficient2!$A$4:$B$7,2,FALSE))","v":8.6562899999999998E-2},{"$f":"IF(C1378=1,\"0\",VLOOKUP(C1378,coefficient2!$A$10:$B$13,2,FALSE))","v":5.8129300000000002E-2},{"$f":"IF(D1378=1,\"0\",VLOOKUP(D1378,coefficient2!$A$16:$B$19,2,FALSE))","v":"0"},{"$f":"IF(E1378=1,\"0\",VLOOKUP(E1378,coefficient2!$A$22:$B$25,2,FALSE))","v":"0"},{"$f":"IF(F1378=1,\"0\",VLOOKUP(F1378,coefficient2!$A$28:$B$31,2,FALSE))","v":5.8085699999999997E-2},0.79722209999999993]
[32113,3,2,1,1,3,10,{"$f":"IF(B1379=1,\"0\",VLOOKUP(B1379,coefficient2!$A$4:$B$7,2,FALSE))","v":8.6562899999999998E-2},{"$f":"IF(C1379=1,\"0\",VLOOKUP(C1379,coefficient2!$A$10:$B$13,2,FALSE))","v":5.8129300000000002E-2},{"$f":"IF(D1379=1,\"0\",VLOOKUP(D1379,coefficient2!$A$16:$B$19,2,FALSE))","v":"0"},{"$f":"IF(E1379=1,\"0\",VLOOKUP(E1379,coefficient2!$A$22:$B$25,2,FALSE))","v":"0"},{"$f":"IF(F1379=1,\"0\",VLOOKUP(F1379,coefficient2!$A$28:$B$31,2,FALSE))","v":9.5753900000000003E-2},0.7595539]
[32114,3,2,1,1,4,11,{"$f":"IF(B1380=1,\"0\",VLOOKUP(B1380,coefficient2!$A$4:$B$7,2,FALSE))","v":8.6562899999999998E-2},{"$f":"IF(C1380=1,\"0\",VLOOKUP(C1380,coefficient2!$A$10:$B$13,2,FALSE))","v":5.8129300000000002E-2},{"$f":"IF(D1380=1,\"0\",VLOOKUP(D1380,coefficient2!$A$16:$B$19,2,FALSE))","v":"0"},{"$f":"IF(E1380=1,\"0\",VLOOKUP(E1380,coefficient2!$A$22:$B$25,2,FALSE))","v":"0"},{"$f":"IF(F1380=1,\"0\",VLOOKUP(F1380,coefficient2!$A$28:$B$31,2,FALSE))","v":0.23270360000000001},0.62260419999999994]
[32115,3,2,1,1,5,12,{"$f":"IF(B1381=1,\"0\",VLOOKUP(B1381,coefficient2!$A$4:$B$7,2,FALSE))","v":8.6562899999999998E-2},{"$f":"IF(C1381=1,\"0\",VLOOKUP(C1381,coefficient2!$A$10:$B$13,2,FALSE))","v":5.8129300000000002E-2},{"$f":"IF(D1381=1,\"0\",VLOOKUP(D1381,coefficient2!$A$16:$B$19,2,FALSE))","v":"0"},{"$f":"IF(E1381=1,\"0\",VLOOKUP(E1381,coefficient2!$A$22:$B$25,2,FALSE))","v":"0"},{"$f":"IF(F1381=1,\"0\",VLOOKUP(F1381,coefficient2!$A$28:$B$31,2,FALSE))","v":0.29534929999999998},0.55995850000000003]
[32121,3,2,1,2,1,9,{"$f":"IF(B1382=1,\"0\",VLOOKUP(B1382,coefficient2!$A$4:$B$7,2,FALSE))","v":8.6562899999999998E-2},{"$f":"IF(C1382=1,\"0\",VLOOKUP(C1382,coefficient2!$A$10:$B$13,2,FALSE))","v":5.8129300000000002E-2},{"$f":"IF(D1382=1,\"0\",VLOOKUP(D1382,coefficient2!$A$16:$B$19,2,FALSE))","v":"0"},{"$f":"IF(E1382=1,\"0\",VLOOKUP(E1382,coefficient2!$A$22:$B$25,2,FALSE))","v":5.63998E-2},{"$f":"IF(F1382=1,\"0\",VLOOKUP(F1382,coefficient2!$A$28:$B$31,2,FALSE))","v":"0"},0.79890799999999995]
[32122,3,2,1,2,2,10,{"$f":"IF(B1383=1,\"0\",VLOOKUP(B1383,coefficient2!$A$4:$B$7,2,FALSE))","v":8.6562899999999998E-2},{"$f":"IF(C1383=1,\"0\",VLOOKUP(C1383,coefficient2!$A$10:$B$13,2,FALSE))","v":5.8129300000000002E-2},{"$f":"IF(D1383=1,\"0\",VLOOKUP(D1383,coefficient2!$A$16:$B$19,2,FALSE))","v":"0"},{"$f":"IF(E1383=1,\"0\",VLOOKUP(E1383,coefficient2!$A$22:$B$25,2,FALSE))","v":5.63998E-2},{"$f":"IF(F1383=1,\"0\",VLOOKUP(F1383,coefficient2!$A$28:$B$31,2,FALSE))","v":5.8085699999999997E-2},0.74082229999999993]
[32123,3,2,1,2,3,11,{"$f":"IF(B1384=1,\"0\",VLOOKUP(B1384,coefficient2!$A$4:$B$7,2,FALSE))","v":8.6562899999999998E-2},{"$f":"IF(C1384=1,\"0\",VLOOKUP(C1384,coefficient2!$A$10:$B$13,2,FALSE))","v":5.8129300000000002E-2},{"$f":"IF(D1384=1,\"0\",VLOOKUP(D1384,coefficient2!$A$16:$B$19,2,FALSE))","v":"0"},{"$f":"IF(E1384=1,\"0\",VLOOKUP(E1384,coefficient2!$A$22:$B$25,2,FALSE))","v":5.63998E-2},{"$f":"IF(F1384=1,\"0\",VLOOKUP(F1384,coefficient2!$A$28:$B$31,2,FALSE))","v":9.5753900000000003E-2},0.70315409999999989]
[32124,3,2,1,2,4,12,{"$f":"IF(B1385=1,\"0\",VLOOKUP(B1385,coefficient2!$A$4:$B$7,2,FALSE))","v":8.6562899999999998E-2},{"$f":"IF(C1385=1,\"0\",VLOOKUP(C1385,coefficient2!$A$10:$B$13,2,FALSE))","v":5.8129300000000002E-2},{"$f":"IF(D1385=1,\"0\",VLOOKUP(D1385,coefficient2!$A$16:$B$19,2,FALSE))","v":"0"},{"$f":"IF(E1385=1,\"0\",VLOOKUP(E1385,coefficient2!$A$22:$B$25,2,FALSE))","v":5.63998E-2},{"$f":"IF(F1385=1,\"0\",VLOOKUP(F1385,coefficient2!$A$28:$B$31,2,FALSE))","v":0.23270360000000001},0.56620439999999994]
[32125,3,2,1,2,5,13,{"$f":"IF(B1386=1,\"0\",VLOOKUP(B1386,coefficient2!$A$4:$B$7,2,FALSE))","v":8.6562899999999998E-2},{"$f":"IF(C1386=1,\"0\",VLOOKUP(C1386,coefficient2!$A$10:$B$13,2,FALSE))","v":5.8129300000000002E-2},{"$f":"IF(D1386=1,\"0\",VLOOKUP(D1386,coefficient2!$A$16:$B$19,2,FALSE))","v":"0"},{"$f":"IF(E1386=1,\"0\",VLOOKUP(E1386,coefficient2!$A$22:$B$25,2,FALSE))","v":5.63998E-2},{"$f":"IF(F1386=1,\"0\",VLOOKUP(F1386,coefficient2!$A$28:$B$31,2,FALSE))","v":0.29534929999999998},0.50355869999999991]
[32131,3,2,1,3,1,10,{"$f":"IF(B1387=1,\"0\",VLOOKUP(B1387,coefficient2!$A$4:$B$7,2,FALSE))","v":8.6562899999999998E-2},{"$f":"IF(C1387=1,\"0\",VLOOKUP(C1387,coefficient2!$A$10:$B$13,2,FALSE))","v":5.8129300000000002E-2},{"$f":"IF(D1387=1,\"0\",VLOOKUP(D1387,coefficient2!$A$16:$B$19,2,FALSE))","v":"0"},{"$f":"IF(E1387=1,\"0\",VLOOKUP(E1387,coefficient2!$A$22:$B$25,2,FALSE))","v":6.6492200000000001E-2},{"$f":"IF(F1387=1,\"0\",VLOOKUP(F1387,coefficient2!$A$28:$B$31,2,FALSE))","v":"0"},0.78881559999999995]
[32132,3,2,1,3,2,11,{"$f":"IF(B1388=1,\"0\",VLOOKUP(B1388,coefficient2!$A$4:$B$7,2,FALSE))","v":8.6562899999999998E-2},{"$f":"IF(C1388=1,\"0\",VLOOKUP(C1388,coefficient2!$A$10:$B$13,2,FALSE))","v":5.8129300000000002E-2},{"$f":"IF(D1388=1,\"0\",VLOOKUP(D1388,coefficient2!$A$16:$B$19,2,FALSE))","v":"0"},{"$f":"IF(E1388=1,\"0\",VLOOKUP(E1388,coefficient2!$A$22:$B$25,2,FALSE))","v":6.6492200000000001E-2},{"$f":"IF(F1388=1,\"0\",VLOOKUP(F1388,coefficient2!$A$28:$B$31,2,FALSE))","v":5.8085699999999997E-2},0.73072989999999993]
[32133,3,2,1,3,3,12,{"$f":"IF(B1389=1,\"0\",VLOOKUP(B1389,coefficient2!$A$4:$B$7,2,FALSE))","v":8.6562899999999998E-2},{"$f":"IF(C1389=1,\"0\",VLOOKUP(C1389,coefficient2!$A$10:$B$13,2,FALSE))","v":5.8129300000000002E-2},{"$f":"IF(D1389=1,\"0\",VLOOKUP(D1389,coefficient2!$A$16:$B$19,2,FALSE))","v":"0"},{"$f":"IF(E1389=1,\"0\",VLOOKUP(E1389,coefficient2!$A$22:$B$25,2,FALSE))","v":6.6492200000000001E-2},{"$f":"IF(F1389=1,\"0\",VLOOKUP(F1389,coefficient2!$A$28:$B$31,2,FALSE))","v":9.5753900000000003E-2},0.69306169999999989]
[32134,3,2,1,3,4,13,{"$f":"IF(B1390=1,\"0\",VLOOKUP(B1390,coefficient2!$A$4:$B$7,2,FALSE))","v":8.6562899999999998E-2},{"$f":"IF(C1390=1,\"0\",VLOOKUP(C1390,coefficient2!$A$10:$B$13,2,FALSE))","v":5.8129300000000002E-2},{"$f":"IF(D1390=1,\"0\",VLOOKUP(D1390,coefficient2!$A$16:$B$19,2,FALSE))","v":"0"},{"$f":"IF(E1390=1,\"0\",VLOOKUP(E1390,coefficient2!$A$22:$B$25,2,FALSE))","v":6.6492200000000001E-2},{"$f":"IF(F1390=1,\"0\",VLOOKUP(F1390,coefficient2!$A$28:$B$31,2,FALSE))","v":0.23270360000000001},0.55611199999999994]
[32135,3,2,1,3,5,14,{"$f":"IF(B1391=1,\"0\",VLOOKUP(B1391,coefficient2!$A$4:$B$7,2,FALSE))","v":8.6562899999999998E-2},{"$f":"IF(C1391=1,\"0\",VLOOKUP(C1391,coefficient2!$A$10:$B$13,2,FALSE))","v":5.8129300000000002E-2},{"$f":"IF(D1391=1,\"0\",VLOOKUP(D1391,coefficient2!$A$16:$B$19,2,FALSE))","v":"0"},{"$f":"IF(E1391=1,\"0\",VLOOKUP(E1391,coefficient2!$A$22:$B$25,2,FALSE))","v":6.6492200000000001E-2},{"$f":"IF(F1391=1,\"0\",VLOOKUP(F1391,coefficient2!$A$28:$B$31,2,FALSE))","v":0.29534929999999998},0.49346629999999997]
[32141,3,2,1,4,1,11,{"$f":"IF(B1392=1,\"0\",VLOOKUP(B1392,coefficient2!$A$4:$B$7,2,FALSE))","v":8.6562899999999998E-2},{"$f":"IF(C1392=1,\"0\",VLOOKUP(C1392,coefficient2!$A$10:$B$13,2,FALSE))","v":5.8129300000000002E-2},{"$f":"IF(D1392=1,\"0\",VLOOKUP(D1392,coefficient2!$A$16:$B$19,2,FALSE))","v":"0"},{"$f":"IF(E1392=1,\"0\",VLOOKUP(E1392,coefficient2!$A$22:$B$25,2,FALSE))","v":0.2068864},{"$f":"IF(F1392=1,\"0\",VLOOKUP(F1392,coefficient2!$A$28:$B$31,2,FALSE))","v":"0"},0.64842139999999993]
[32142,3,2,1,4,2,12,{"$f":"IF(B1393=1,\"0\",VLOOKUP(B1393,coefficient2!$A$4:$B$7,2,FALSE))","v":8.6562899999999998E-2},{"$f":"IF(C1393=1,\"0\",VLOOKUP(C1393,coefficient2!$A$10:$B$13,2,FALSE))","v":5.8129300000000002E-2},{"$f":"IF(D1393=1,\"0\",VLOOKUP(D1393,coefficient2!$A$16:$B$19,2,FALSE))","v":"0"},{"$f":"IF(E1393=1,\"0\",VLOOKUP(E1393,coefficient2!$A$22:$B$25,2,FALSE))","v":0.2068864},{"$f":"IF(F1393=1,\"0\",VLOOKUP(F1393,coefficient2!$A$28:$B$31,2,FALSE))","v":5.8085699999999997E-2},0.59033569999999991]
[32143,3,2,1,4,3,13,{"$f":"IF(B1394=1,\"0\",VLOOKUP(B1394,coefficient2!$A$4:$B$7,2,FALSE))","v":8.6562899999999998E-2},{"$f":"IF(C1394=1,\"0\",VLOOKUP(C1394,coefficient2!$A$10:$B$13,2,FALSE))","v":5.8129300000000002E-2},{"$f":"IF(D1394=1,\"0\",VLOOKUP(D1394,coefficient2!$A$16:$B$19,2,FALSE))","v":"0"},{"$f":"IF(E1394=1,\"0\",VLOOKUP(E1394,coefficient2!$A$22:$B$25,2,FALSE))","v":0.2068864},{"$f":"IF(F1394=1,\"0\",VLOOKUP(F1394,coefficient2!$A$28:$B$31,2,FALSE))","v":9.5753900000000003E-2},0.55266749999999987]
[32144,3,2,1,4,4,14,{"$f":"IF(B1395=1,\"0\",VLOOKUP(B1395,coefficient2!$A$4:$B$7,2,FALSE))","v":8.6562899999999998E-2},{"$f":"IF(C1395=1,\"0\",VLOOKUP(C1395,coefficient2!$A$10:$B$13,2,FALSE))","v":5.8129300000000002E-2},{"$f":"IF(D1395=1,\"0\",VLOOKUP(D1395,coefficient2!$A$16:$B$19,2,FALSE))","v":"0"},{"$f":"IF(E1395=1,\"0\",VLOOKUP(E1395,coefficient2!$A$22:$B$25,2,FALSE))","v":0.2068864},{"$f":"IF(F1395=1,\"0\",VLOOKUP(F1395,coefficient2!$A$28:$B$31,2,FALSE))","v":0.23270360000000001},0.41571779999999992]
[32145,3,2,1,4,5,15,{"$f":"IF(B1396=1,\"0\",VLOOKUP(B1396,coefficient2!$A$4:$B$7,2,FALSE))","v":8.6562899999999998E-2},{"$f":"IF(C1396=1,\"0\",VLOOKUP(C1396,coefficient2!$A$10:$B$13,2,FALSE))","v":5.8129300000000002E-2},{"$f":"IF(D1396=1,\"0\",VLOOKUP(D1396,coefficient2!$A$16:$B$19,2,FALSE))","v":"0"},{"$f":"IF(E1396=1,\"0\",VLOOKUP(E1396,coefficient2!$A$22:$B$25,2,FALSE))","v":0.2068864},{"$f":"IF(F1396=1,\"0\",VLOOKUP(F1396,coefficient2!$A$28:$B$31,2,FALSE))","v":0.29534929999999998},0.35307209999999994]
[32151,3,2,1,5,1,12,{"$f":"IF(B1397=1,\"0\",VLOOKUP(B1397,coefficient2!$A$4:$B$7,2,FALSE))","v":8.6562899999999998E-2},{"$f":"IF(C1397=1,\"0\",VLOOKUP(C1397,coefficient2!$A$10:$B$13,2,FALSE))","v":5.8129300000000002E-2},{"$f":"IF(D1397=1,\"0\",VLOOKUP(D1397,coefficient2!$A$16:$B$19,2,FALSE))","v":"0"},{"$f":"IF(E1397=1,\"0\",VLOOKUP(E1397,coefficient2!$A$22:$B$25,2,FALSE))","v":0.25643310000000002},{"$f":"IF(F1397=1,\"0\",VLOOKUP(F1397,coefficient2!$A$28:$B$31,2,FALSE))","v":"0"},0.59887469999999987]
[32152,3,2,1,5,2,13,{"$f":"IF(B1398=1,\"0\",VLOOKUP(B1398,coefficient2!$A$4:$B$7,2,FALSE))","v":8.6562899999999998E-2},{"$f":"IF(C1398=1,\"0\",VLOOKUP(C1398,coefficient2!$A$10:$B$13,2,FALSE))","v":5.8129300000000002E-2},{"$f":"IF(D1398=1,\"0\",VLOOKUP(D1398,coefficient2!$A$16:$B$19,2,FALSE))","v":"0"},{"$f":"IF(E1398=1,\"0\",VLOOKUP(E1398,coefficient2!$A$22:$B$25,2,FALSE))","v":0.25643310000000002},{"$f":"IF(F1398=1,\"0\",VLOOKUP(F1398,coefficient2!$A$28:$B$31,2,FALSE))","v":5.8085699999999997E-2},0.54078899999999985]
[32153,3,2,1,5,3,14,{"$f":"IF(B1399=1,\"0\",VLOOKUP(B1399,coefficient2!$A$4:$B$7,2,FALSE))","v":8.6562899999999998E-2},{"$f":"IF(C1399=1,\"0\",VLOOKUP(C1399,coefficient2!$A$10:$B$13,2,FALSE))","v":5.8129300000000002E-2},{"$f":"IF(D1399=1,\"0\",VLOOKUP(D1399,coefficient2!$A$16:$B$19,2,FALSE))","v":"0"},{"$f":"IF(E1399=1,\"0\",VLOOKUP(E1399,coefficient2!$A$22:$B$25,2,FALSE))","v":0.25643310000000002},{"$f":"IF(F1399=1,\"0\",VLOOKUP(F1399,coefficient2!$A$28:$B$31,2,FALSE))","v":9.5753900000000003E-2},0.50312079999999981]
[32154,3,2,1,5,4,15,{"$f":"IF(B1400=1,\"0\",VLOOKUP(B1400,coefficient2!$A$4:$B$7,2,FALSE))","v":8.6562899999999998E-2},{"$f":"IF(C1400=1,\"0\",VLOOKUP(C1400,coefficient2!$A$10:$B$13,2,FALSE))","v":5.8129300000000002E-2},{"$f":"IF(D1400=1,\"0\",VLOOKUP(D1400,coefficient2!$A$16:$B$19,2,FALSE))","v":"0"},{"$f":"IF(E1400=1,\"0\",VLOOKUP(E1400,coefficient2!$A$22:$B$25,2,FALSE))","v":0.25643310000000002},{"$f":"IF(F1400=1,\"0\",VLOOKUP(F1400,coefficient2!$A$28:$B$31,2,FALSE))","v":0.23270360000000001},0.36617109999999986]
[32155,3,2,1,5,5,16,{"$f":"IF(B1401=1,\"0\",VLOOKUP(B1401,coefficient2!$A$4:$B$7,2,FALSE))","v":8.6562899999999998E-2},{"$f":"IF(C1401=1,\"0\",VLOOKUP(C1401,coefficient2!$A$10:$B$13,2,FALSE))","v":5.8129300000000002E-2},{"$f":"IF(D1401=1,\"0\",VLOOKUP(D1401,coefficient2!$A$16:$B$19,2,FALSE))","v":"0"},{"$f":"IF(E1401=1,\"0\",VLOOKUP(E1401,coefficient2!$A$22:$B$25,2,FALSE))","v":0.25643310000000002},{"$f":"IF(F1401=1,\"0\",VLOOKUP(F1401,coefficient2!$A$28:$B$31,2,FALSE))","v":0.29534929999999998},0.30352539999999989]
[32211,3,2,2,1,1,9,{"$f":"IF(B1402=1,\"0\",VLOOKUP(B1402,coefficient2!$A$4:$B$7,2,FALSE))","v":8.6562899999999998E-2},{"$f":"IF(C1402=1,\"0\",VLOOKUP(C1402,coefficient2!$A$10:$B$13,2,FALSE))","v":5.8129300000000002E-2},{"$f":"IF(D1402=1,\"0\",VLOOKUP(D1402,coefficient2!$A$16:$B$19,2,FALSE))","v":5.8254399999999998E-2},{"$f":"IF(E1402=1,\"0\",VLOOKUP(E1402,coefficient2!$A$22:$B$25,2,FALSE))","v":"0"},{"$f":"IF(F1402=1,\"0\",VLOOKUP(F1402,coefficient2!$A$28:$B$31,2,FALSE))","v":"0"},0.79705339999999991]
[32212,3,2,2,1,2,10,{"$f":"IF(B1403=1,\"0\",VLOOKUP(B1403,coefficient2!$A$4:$B$7,2,FALSE))","v":8.6562899999999998E-2},{"$f":"IF(C1403=1,\"0\",VLOOKUP(C1403,coefficient2!$A$10:$B$13,2,FALSE))","v":5.8129300000000002E-2},{"$f":"IF(D1403=1,\"0\",VLOOKUP(D1403,coefficient2!$A$16:$B$19,2,FALSE))","v":5.8254399999999998E-2},{"$f":"IF(E1403=1,\"0\",VLOOKUP(E1403,coefficient2!$A$22:$B$25,2,FALSE))","v":"0"},{"$f":"IF(F1403=1,\"0\",VLOOKUP(F1403,coefficient2!$A$28:$B$31,2,FALSE))","v":5.8085699999999997E-2},0.73896769999999989]
[32213,3,2,2,1,3,11,{"$f":"IF(B1404=1,\"0\",VLOOKUP(B1404,coefficient2!$A$4:$B$7,2,FALSE))","v":8.6562899999999998E-2},{"$f":"IF(C1404=1,\"0\",VLOOKUP(C1404,coefficient2!$A$10:$B$13,2,FALSE))","v":5.8129300000000002E-2},{"$f":"IF(D1404=1,\"0\",VLOOKUP(D1404,coefficient2!$A$16:$B$19,2,FALSE))","v":5.8254399999999998E-2},{"$f":"IF(E1404=1,\"0\",VLOOKUP(E1404,coefficient2!$A$22:$B$25,2,FALSE))","v":"0"},{"$f":"IF(F1404=1,\"0\",VLOOKUP(F1404,coefficient2!$A$28:$B$31,2,FALSE))","v":9.5753900000000003E-2},0.70129949999999996]
[32214,3,2,2,1,4,12,{"$f":"IF(B1405=1,\"0\",VLOOKUP(B1405,coefficient2!$A$4:$B$7,2,FALSE))","v":8.6562899999999998E-2},{"$f":"IF(C1405=1,\"0\",VLOOKUP(C1405,coefficient2!$A$10:$B$13,2,FALSE))","v":5.8129300000000002E-2},{"$f":"IF(D1405=1,\"0\",VLOOKUP(D1405,coefficient2!$A$16:$B$19,2,FALSE))","v":5.8254399999999998E-2},{"$f":"IF(E1405=1,\"0\",VLOOKUP(E1405,coefficient2!$A$22:$B$25,2,FALSE))","v":"0"},{"$f":"IF(F1405=1,\"0\",VLOOKUP(F1405,coefficient2!$A$28:$B$31,2,FALSE))","v":0.23270360000000001},0.5643497999999999]
[32215,3,2,2,1,5,13,{"$f":"IF(B1406=1,\"0\",VLOOKUP(B1406,coefficient2!$A$4:$B$7,2,FALSE))","v":8.6562899999999998E-2},{"$f":"IF(C1406=1,\"0\",VLOOKUP(C1406,coefficient2!$A$10:$B$13,2,FALSE))","v":5.8129300000000002E-2},{"$f":"IF(D1406=1,\"0\",VLOOKUP(D1406,coefficient2!$A$16:$B$19,2,FALSE))","v":5.8254399999999998E-2},{"$f":"IF(E1406=1,\"0\",VLOOKUP(E1406,coefficient2!$A$22:$B$25,2,FALSE))","v":"0"},{"$f":"IF(F1406=1,\"0\",VLOOKUP(F1406,coefficient2!$A$28:$B$31,2,FALSE))","v":0.29534929999999998},0.50170409999999999]
[32221,3,2,2,2,1,10,{"$f":"IF(B1407=1,\"0\",VLOOKUP(B1407,coefficient2!$A$4:$B$7,2,FALSE))","v":8.6562899999999998E-2},{"$f":"IF(C1407=1,\"0\",VLOOKUP(C1407,coefficient2!$A$10:$B$13,2,FALSE))","v":5.8129300000000002E-2},{"$f":"IF(D1407=1,\"0\",VLOOKUP(D1407,coefficient2!$A$16:$B$19,2,FALSE))","v":5.8254399999999998E-2},{"$f":"IF(E1407=1,\"0\",VLOOKUP(E1407,coefficient2!$A$22:$B$25,2,FALSE))","v":5.63998E-2},{"$f":"IF(F1407=1,\"0\",VLOOKUP(F1407,coefficient2!$A$28:$B$31,2,FALSE))","v":"0"},0.74065359999999991]
[32222,3,2,2,2,2,11,{"$f":"IF(B1408=1,\"0\",VLOOKUP(B1408,coefficient2!$A$4:$B$7,2,FALSE))","v":8.6562899999999998E-2},{"$f":"IF(C1408=1,\"0\",VLOOKUP(C1408,coefficient2!$A$10:$B$13,2,FALSE))","v":5.8129300000000002E-2},{"$f":"IF(D1408=1,\"0\",VLOOKUP(D1408,coefficient2!$A$16:$B$19,2,FALSE))","v":5.8254399999999998E-2},{"$f":"IF(E1408=1,\"0\",VLOOKUP(E1408,coefficient2!$A$22:$B$25,2,FALSE))","v":5.63998E-2},{"$f":"IF(F1408=1,\"0\",VLOOKUP(F1408,coefficient2!$A$28:$B$31,2,FALSE))","v":5.8085699999999997E-2},0.68256789999999989]
[32223,3,2,2,2,3,12,{"$f":"IF(B1409=1,\"0\",VLOOKUP(B1409,coefficient2!$A$4:$B$7,2,FALSE))","v":8.6562899999999998E-2},{"$f":"IF(C1409=1,\"0\",VLOOKUP(C1409,coefficient2!$A$10:$B$13,2,FALSE))","v":5.8129300000000002E-2},{"$f":"IF(D1409=1,\"0\",VLOOKUP(D1409,coefficient2!$A$16:$B$19,2,FALSE))","v":5.8254399999999998E-2},{"$f":"IF(E1409=1,\"0\",VLOOKUP(E1409,coefficient2!$A$22:$B$25,2,FALSE))","v":5.63998E-2},{"$f":"IF(F1409=1,\"0\",VLOOKUP(F1409,coefficient2!$A$28:$B$31,2,FALSE))","v":9.5753900000000003E-2},0.64489969999999985]
[32224,3,2,2,2,4,13,{"$f":"IF(B1410=1,\"0\",VLOOKUP(B1410,coefficient2!$A$4:$B$7,2,FALSE))","v":8.6562899999999998E-2},{"$f":"IF(C1410=1,\"0\",VLOOKUP(C1410,coefficient2!$A$10:$B$13,2,FALSE))","v":5.8129300000000002E-2},{"$f":"IF(D1410=1,\"0\",VLOOKUP(D1410,coefficient2!$A$16:$B$19,2,FALSE))","v":5.8254399999999998E-2},{"$f":"IF(E1410=1,\"0\",VLOOKUP(E1410,coefficient2!$A$22:$B$25,2,FALSE))","v":5.63998E-2},{"$f":"IF(F1410=1,\"0\",VLOOKUP(F1410,coefficient2!$A$28:$B$31,2,FALSE))","v":0.23270360000000001},{"$f":"1-H1410-I1410-J1410-K1410-L1410","v":0.5079499999999999}]
[32225,{"$f":"INT(LEFT(A1411,1))","v":3},{"$f":"INT(MID(A1411,2,1))","v":2},{"$f":"INT(MID(A1411,3,1))","v":2},{"$f":"INT(MID(A1411,4,1))","v":2},{"$f":"INT(RIGHT(A1411,1))","v":5},{"$f":"SUM(B1411:F1411)","v":14},{"$f":"IF(B1411=1,\"0\",VLOOKUP(B1411,coefficient2!$A$4:$B$7,2,FALSE))","v":8.6562899999999998E-2},{"$f":"IF(C1411=1,\"0\",VLOOKUP(C1411,coefficient2!$A$10:$B$13,2,FALSE))","v":5.8129300000000002E-2},{"$f":"IF(D1411=1,\"0\",VLOOKUP(D1411,coefficient2!$A$16:$B$19,2,FALSE))","v":5.8254399999999998E-2},{"$f":"IF(E1411=1,\"0\",VLOOKUP(E1411,coefficient2!$A$22:$B$25,2,FALSE))","v":5.63998E-2},{"$f":"IF(F1411=1,\"0\",VLOOKUP(F1411,coefficient2!$A$28:$B$31,2,FALSE))","v":0.29534929999999998},0.44530429999999993]
[32231,3,2,2,3,1,11,{"$f":"IF(B1412=1,\"0\",VLOOKUP(B1412,coefficient2!$A$4:$B$7,2,FALSE))","v":8.6562899999999998E-2},{"$f":"IF(C1412=1,\"0\",VLOOKUP(C1412,coefficient2!$A$10:$B$13,2,FALSE))","v":5.8129300000000002E-2},{"$f":"IF(D1412=1,\"0\",VLOOKUP(D1412,coefficient2!$A$16:$B$19,2,FALSE))","v":5.8254399999999998E-2},{"$f":"IF(E1412=1,\"0\",VLOOKUP(E1412,coefficient2!$A$22:$B$25,2,FALSE))","v":6.6492200000000001E-2},{"$f":"IF(F1412=1,\"0\",VLOOKUP(F1412,coefficient2!$A$28:$B$31,2,FALSE))","v":"0"},0.73056119999999991]
[32232,3,2,2,3,2,12,{"$f":"IF(B1413=1,\"0\",VLOOKUP(B1413,coefficient2!$A$4:$B$7,2,FALSE))","v":8.6562899999999998E-2},{"$f":"IF(C1413=1,\"0\",VLOOKUP(C1413,coefficient2!$A$10:$B$13,2,FALSE))","v":5.8129300000000002E-2},{"$f":"IF(D1413=1,\"0\",VLOOKUP(D1413,coefficient2!$A$16:$B$19,2,FALSE))","v":5.8254399999999998E-2},{"$f":"IF(E1413=1,\"0\",VLOOKUP(E1413,coefficient2!$A$22:$B$25,2,FALSE))","v":6.6492200000000001E-2},{"$f":"IF(F1413=1,\"0\",VLOOKUP(F1413,coefficient2!$A$28:$B$31,2,FALSE))","v":5.8085699999999997E-2},0.67247549999999989]
[32233,3,2,2,3,3,13,{"$f":"IF(B1414=1,\"0\",VLOOKUP(B1414,coefficient2!$A$4:$B$7,2,FALSE))","v":8.6562899999999998E-2},{"$f":"IF(C1414=1,\"0\",VLOOKUP(C1414,coefficient2!$A$10:$B$13,2,FALSE))","v":5.8129300000000002E-2},{"$f":"IF(D1414=1,\"0\",VLOOKUP(D1414,coefficient2!$A$16:$B$19,2,FALSE))","v":5.8254399999999998E-2},{"$f":"IF(E1414=1,\"0\",VLOOKUP(E1414,coefficient2!$A$22:$B$25,2,FALSE))","v":6.6492200000000001E-2},{"$f":"IF(F1414=1,\"0\",VLOOKUP(F1414,coefficient2!$A$28:$B$31,2,FALSE))","v":9.5753900000000003E-2},0.63480729999999985]
[32234,3,2,2,3,4,14,{"$f":"IF(B1415=1,\"0\",VLOOKUP(B1415,coefficient2!$A$4:$B$7,2,FALSE))","v":8.6562899999999998E-2},{"$f":"IF(C1415=1,\"0\",VLOOKUP(C1415,coefficient2!$A$10:$B$13,2,FALSE))","v":5.8129300000000002E-2},{"$f":"IF(D1415=1,\"0\",VLOOKUP(D1415,coefficient2!$A$16:$B$19,2,FALSE))","v":5.8254399999999998E-2},{"$f":"IF(E1415=1,\"0\",VLOOKUP(E1415,coefficient2!$A$22:$B$25,2,FALSE))","v":6.6492200000000001E-2},{"$f":"IF(F1415=1,\"0\",VLOOKUP(F1415,coefficient2!$A$28:$B$31,2,FALSE))","v":0.23270360000000001},0.4978575999999999]
[32235,3,2,2,3,5,15,{"$f":"IF(B1416=1,\"0\",VLOOKUP(B1416,coefficient2!$A$4:$B$7,2,FALSE))","v":8.6562899999999998E-2},{"$f":"IF(C1416=1,\"0\",VLOOKUP(C1416,coefficient2!$A$10:$B$13,2,FALSE))","v":5.8129300000000002E-2},{"$f":"IF(D1416=1,\"0\",VLOOKUP(D1416,coefficient2!$A$16:$B$19,2,FALSE))","v":5.8254399999999998E-2},{"$f":"IF(E1416=1,\"0\",VLOOKUP(E1416,coefficient2!$A$22:$B$25,2,FALSE))","v":6.6492200000000001E-2},{"$f":"IF(F1416=1,\"0\",VLOOKUP(F1416,coefficient2!$A$28:$B$31,2,FALSE))","v":0.29534929999999998},0.43521189999999993]
[32241,3,2,2,4,1,12,{"$f":"IF(B1417=1,\"0\",VLOOKUP(B1417,coefficient2!$A$4:$B$7,2,FALSE))","v":8.6562899999999998E-2},{"$f":"IF(C1417=1,\"0\",VLOOKUP(C1417,coefficient2!$A$10:$B$13,2,FALSE))","v":5.8129300000000002E-2},{"$f":"IF(D1417=1,\"0\",VLOOKUP(D1417,coefficient2!$A$16:$B$19,2,FALSE))","v":5.8254399999999998E-2},{"$f":"IF(E1417=1,\"0\",VLOOKUP(E1417,coefficient2!$A$22:$B$25,2,FALSE))","v":0.2068864},{"$f":"IF(F1417=1,\"0\",VLOOKUP(F1417,coefficient2!$A$28:$B$31,2,FALSE))","v":"0"},0.59016699999999989]
[32242,3,2,2,4,2,13,{"$f":"IF(B1418=1,\"0\",VLOOKUP(B1418,coefficient2!$A$4:$B$7,2,FALSE))","v":8.6562899999999998E-2},{"$f":"IF(C1418=1,\"0\",VLOOKUP(C1418,coefficient2!$A$10:$B$13,2,FALSE))","v":5.8129300000000002E-2},{"$f":"IF(D1418=1,\"0\",VLOOKUP(D1418,coefficient2!$A$16:$B$19,2,FALSE))","v":5.8254399999999998E-2},{"$f":"IF(E1418=1,\"0\",VLOOKUP(E1418,coefficient2!$A$22:$B$25,2,FALSE))","v":0.2068864},{"$f":"IF(F1418=1,\"0\",VLOOKUP(F1418,coefficient2!$A$28:$B$31,2,FALSE))","v":5.8085699999999997E-2},0.53208129999999987]
[32243,3,2,2,4,3,14,{"$f":"IF(B1419=1,\"0\",VLOOKUP(B1419,coefficient2!$A$4:$B$7,2,FALSE))","v":8.6562899999999998E-2},{"$f":"IF(C1419=1,\"0\",VLOOKUP(C1419,coefficient2!$A$10:$B$13,2,FALSE))","v":5.8129300000000002E-2},{"$f":"IF(D1419=1,\"0\",VLOOKUP(D1419,coefficient2!$A$16:$B$19,2,FALSE))","v":5.8254399999999998E-2},{"$f":"IF(E1419=1,\"0\",VLOOKUP(E1419,coefficient2!$A$22:$B$25,2,FALSE))","v":0.2068864},{"$f":"IF(F1419=1,\"0\",VLOOKUP(F1419,coefficient2!$A$28:$B$31,2,FALSE))","v":9.5753900000000003E-2},0.49441309999999988]
[32244,3,2,2,4,4,15,{"$f":"IF(B1420=1,\"0\",VLOOKUP(B1420,coefficient2!$A$4:$B$7,2,FALSE))","v":8.6562899999999998E-2},{"$f":"IF(C1420=1,\"0\",VLOOKUP(C1420,coefficient2!$A$10:$B$13,2,FALSE))","v":5.8129300000000002E-2},{"$f":"IF(D1420=1,\"0\",VLOOKUP(D1420,coefficient2!$A$16:$B$19,2,FALSE))","v":5.8254399999999998E-2},{"$f":"IF(E1420=1,\"0\",VLOOKUP(E1420,coefficient2!$A$22:$B$25,2,FALSE))","v":0.2068864},{"$f":"IF(F1420=1,\"0\",VLOOKUP(F1420,coefficient2!$A$28:$B$31,2,FALSE))","v":0.23270360000000001},0.35746339999999988]
[32245,3,2,2,4,5,16,{"$f":"IF(B1421=1,\"0\",VLOOKUP(B1421,coefficient2!$A$4:$B$7,2,FALSE))","v":8.6562899999999998E-2},{"$f":"IF(C1421=1,\"0\",VLOOKUP(C1421,coefficient2!$A$10:$B$13,2,FALSE))","v":5.8129300000000002E-2},{"$f":"IF(D1421=1,\"0\",VLOOKUP(D1421,coefficient2!$A$16:$B$19,2,FALSE))","v":5.8254399999999998E-2},{"$f":"IF(E1421=1,\"0\",VLOOKUP(E1421,coefficient2!$A$22:$B$25,2,FALSE))","v":0.2068864},{"$f":"IF(F1421=1,\"0\",VLOOKUP(F1421,coefficient2!$A$28:$B$31,2,FALSE))","v":0.29534929999999998},0.2948176999999999]
[32251,3,2,2,5,1,13,{"$f":"IF(B1422=1,\"0\",VLOOKUP(B1422,coefficient2!$A$4:$B$7,2,FALSE))","v":8.6562899999999998E-2},{"$f":"IF(C1422=1,\"0\",VLOOKUP(C1422,coefficient2!$A$10:$B$13,2,FALSE))","v":5.8129300000000002E-2},{"$f":"IF(D1422=1,\"0\",VLOOKUP(D1422,coefficient2!$A$16:$B$19,2,FALSE))","v":5.8254399999999998E-2},{"$f":"IF(E1422=1,\"0\",VLOOKUP(E1422,coefficient2!$A$22:$B$25,2,FALSE))","v":0.25643310000000002},{"$f":"IF(F1422=1,\"0\",VLOOKUP(F1422,coefficient2!$A$28:$B$31,2,FALSE))","v":"0"},0.54062029999999983]
[32252,3,2,2,5,2,14,{"$f":"IF(B1423=1,\"0\",VLOOKUP(B1423,coefficient2!$A$4:$B$7,2,FALSE))","v":8.6562899999999998E-2},{"$f":"IF(C1423=1,\"0\",VLOOKUP(C1423,coefficient2!$A$10:$B$13,2,FALSE))","v":5.8129300000000002E-2},{"$f":"IF(D1423=1,\"0\",VLOOKUP(D1423,coefficient2!$A$16:$B$19,2,FALSE))","v":5.8254399999999998E-2},{"$f":"IF(E1423=1,\"0\",VLOOKUP(E1423,coefficient2!$A$22:$B$25,2,FALSE))","v":0.25643310000000002},{"$f":"IF(F1423=1,\"0\",VLOOKUP(F1423,coefficient2!$A$28:$B$31,2,FALSE))","v":5.8085699999999997E-2},0.48253459999999981]
[32253,3,2,2,5,3,15,{"$f":"IF(B1424=1,\"0\",VLOOKUP(B1424,coefficient2!$A$4:$B$7,2,FALSE))","v":8.6562899999999998E-2},{"$f":"IF(C1424=1,\"0\",VLOOKUP(C1424,coefficient2!$A$10:$B$13,2,FALSE))","v":5.8129300000000002E-2},{"$f":"IF(D1424=1,\"0\",VLOOKUP(D1424,coefficient2!$A$16:$B$19,2,FALSE))","v":5.8254399999999998E-2},{"$f":"IF(E1424=1,\"0\",VLOOKUP(E1424,coefficient2!$A$22:$B$25,2,FALSE))","v":0.25643310000000002},{"$f":"IF(F1424=1,\"0\",VLOOKUP(F1424,coefficient2!$A$28:$B$31,2,FALSE))","v":9.5753900000000003E-2},0.44486639999999983]
[32254,3,2,2,5,4,16,{"$f":"IF(B1425=1,\"0\",VLOOKUP(B1425,coefficient2!$A$4:$B$7,2,FALSE))","v":8.6562899999999998E-2},{"$f":"IF(C1425=1,\"0\",VLOOKUP(C1425,coefficient2!$A$10:$B$13,2,FALSE))","v":5.8129300000000002E-2},{"$f":"IF(D1425=1,\"0\",VLOOKUP(D1425,coefficient2!$A$16:$B$19,2,FALSE))","v":5.8254399999999998E-2},{"$f":"IF(E1425=1,\"0\",VLOOKUP(E1425,coefficient2!$A$22:$B$25,2,FALSE))","v":0.25643310000000002},{"$f":"IF(F1425=1,\"0\",VLOOKUP(F1425,coefficient2!$A$28:$B$31,2,FALSE))","v":0.23270360000000001},0.30791669999999982]
[32255,3,2,2,5,5,17,{"$f":"IF(B1426=1,\"0\",VLOOKUP(B1426,coefficient2!$A$4:$B$7,2,FALSE))","v":8.6562899999999998E-2},{"$f":"IF(C1426=1,\"0\",VLOOKUP(C1426,coefficient2!$A$10:$B$13,2,FALSE))","v":5.8129300000000002E-2},{"$f":"IF(D1426=1,\"0\",VLOOKUP(D1426,coefficient2!$A$16:$B$19,2,FALSE))","v":5.8254399999999998E-2},{"$f":"IF(E1426=1,\"0\",VLOOKUP(E1426,coefficient2!$A$22:$B$25,2,FALSE))","v":0.25643310000000002},{"$f":"IF(F1426=1,\"0\",VLOOKUP(F1426,coefficient2!$A$28:$B$31,2,FALSE))","v":0.29534929999999998},0.24527099999999985]
[32311,3,2,3,1,1,10,{"$f":"IF(B1427=1,\"0\",VLOOKUP(B1427,coefficient2!$A$4:$B$7,2,FALSE))","v":8.6562899999999998E-2},{"$f":"IF(C1427=1,\"0\",VLOOKUP(C1427,coefficient2!$A$10:$B$13,2,FALSE))","v":5.8129300000000002E-2},{"$f":"IF(D1427=1,\"0\",VLOOKUP(D1427,coefficient2!$A$16:$B$19,2,FALSE))","v":7.1197399999999994E-2},{"$f":"IF(E1427=1,\"0\",VLOOKUP(E1427,coefficient2!$A$22:$B$25,2,FALSE))","v":"0"},{"$f":"IF(F1427=1,\"0\",VLOOKUP(F1427,coefficient2!$A$28:$B$31,2,FALSE))","v":"0"},0.78411039999999999]
[32312,3,2,3,1,2,11,{"$f":"IF(B1428=1,\"0\",VLOOKUP(B1428,coefficient2!$A$4:$B$7,2,FALSE))","v":8.6562899999999998E-2},{"$f":"IF(C1428=1,\"0\",VLOOKUP(C1428,coefficient2!$A$10:$B$13,2,FALSE))","v":5.8129300000000002E-2},{"$f":"IF(D1428=1,\"0\",VLOOKUP(D1428,coefficient2!$A$16:$B$19,2,FALSE))","v":7.1197399999999994E-2},{"$f":"IF(E1428=1,\"0\",VLOOKUP(E1428,coefficient2!$A$22:$B$25,2,FALSE))","v":"0"},{"$f":"IF(F1428=1,\"0\",VLOOKUP(F1428,coefficient2!$A$28:$B$31,2,FALSE))","v":5.8085699999999997E-2},0.72602469999999997]
[32313,3,2,3,1,3,12,{"$f":"IF(B1429=1,\"0\",VLOOKUP(B1429,coefficient2!$A$4:$B$7,2,FALSE))","v":8.6562899999999998E-2},{"$f":"IF(C1429=1,\"0\",VLOOKUP(C1429,coefficient2!$A$10:$B$13,2,FALSE))","v":5.8129300000000002E-2},{"$f":"IF(D1429=1,\"0\",VLOOKUP(D1429,coefficient2!$A$16:$B$19,2,FALSE))","v":7.1197399999999994E-2},{"$f":"IF(E1429=1,\"0\",VLOOKUP(E1429,coefficient2!$A$22:$B$25,2,FALSE))","v":"0"},{"$f":"IF(F1429=1,\"0\",VLOOKUP(F1429,coefficient2!$A$28:$B$31,2,FALSE))","v":9.5753900000000003E-2},0.68835650000000004]
[32314,3,2,3,1,4,13,{"$f":"IF(B1430=1,\"0\",VLOOKUP(B1430,coefficient2!$A$4:$B$7,2,FALSE))","v":8.6562899999999998E-2},{"$f":"IF(C1430=1,\"0\",VLOOKUP(C1430,coefficient2!$A$10:$B$13,2,FALSE))","v":5.8129300000000002E-2},{"$f":"IF(D1430=1,\"0\",VLOOKUP(D1430,coefficient2!$A$16:$B$19,2,FALSE))","v":7.1197399999999994E-2},{"$f":"IF(E1430=1,\"0\",VLOOKUP(E1430,coefficient2!$A$22:$B$25,2,FALSE))","v":"0"},{"$f":"IF(F1430=1,\"0\",VLOOKUP(F1430,coefficient2!$A$28:$B$31,2,FALSE))","v":0.23270360000000001},0.55140679999999997]
[32315,3,2,3,1,5,14,{"$f":"IF(B1431=1,\"0\",VLOOKUP(B1431,coefficient2!$A$4:$B$7,2,FALSE))","v":8.6562899999999998E-2},{"$f":"IF(C1431=1,\"0\",VLOOKUP(C1431,coefficient2!$A$10:$B$13,2,FALSE))","v":5.8129300000000002E-2},{"$f":"IF(D1431=1,\"0\",VLOOKUP(D1431,coefficient2!$A$16:$B$19,2,FALSE))","v":7.1197399999999994E-2},{"$f":"IF(E1431=1,\"0\",VLOOKUP(E1431,coefficient2!$A$22:$B$25,2,FALSE))","v":"0"},{"$f":"IF(F1431=1,\"0\",VLOOKUP(F1431,coefficient2!$A$28:$B$31,2,FALSE))","v":0.29534929999999998},0.4887611]
[32321,3,2,3,2,1,11,{"$f":"IF(B1432=1,\"0\",VLOOKUP(B1432,coefficient2!$A$4:$B$7,2,FALSE))","v":8.6562899999999998E-2},{"$f":"IF(C1432=1,\"0\",VLOOKUP(C1432,coefficient2!$A$10:$B$13,2,FALSE))","v":5.8129300000000002E-2},{"$f":"IF(D1432=1,\"0\",VLOOKUP(D1432,coefficient2!$A$16:$B$19,2,FALSE))","v":7.1197399999999994E-2},{"$f":"IF(E1432=1,\"0\",VLOOKUP(E1432,coefficient2!$A$22:$B$25,2,FALSE))","v":5.63998E-2},{"$f":"IF(F1432=1,\"0\",VLOOKUP(F1432,coefficient2!$A$28:$B$31,2,FALSE))","v":"0"},0.72771059999999999]
[32322,3,2,3,2,2,12,{"$f":"IF(B1433=1,\"0\",VLOOKUP(B1433,coefficient2!$A$4:$B$7,2,FALSE))","v":8.6562899999999998E-2},{"$f":"IF(C1433=1,\"0\",VLOOKUP(C1433,coefficient2!$A$10:$B$13,2,FALSE))","v":5.8129300000000002E-2},{"$f":"IF(D1433=1,\"0\",VLOOKUP(D1433,coefficient2!$A$16:$B$19,2,FALSE))","v":7.1197399999999994E-2},{"$f":"IF(E1433=1,\"0\",VLOOKUP(E1433,coefficient2!$A$22:$B$25,2,FALSE))","v":5.63998E-2},{"$f":"IF(F1433=1,\"0\",VLOOKUP(F1433,coefficient2!$A$28:$B$31,2,FALSE))","v":5.8085699999999997E-2},0.66962489999999997]
[32323,3,2,3,2,3,13,{"$f":"IF(B1434=1,\"0\",VLOOKUP(B1434,coefficient2!$A$4:$B$7,2,FALSE))","v":8.6562899999999998E-2},{"$f":"IF(C1434=1,\"0\",VLOOKUP(C1434,coefficient2!$A$10:$B$13,2,FALSE))","v":5.8129300000000002E-2},{"$f":"IF(D1434=1,\"0\",VLOOKUP(D1434,coefficient2!$A$16:$B$19,2,FALSE))","v":7.1197399999999994E-2},{"$f":"IF(E1434=1,\"0\",VLOOKUP(E1434,coefficient2!$A$22:$B$25,2,FALSE))","v":5.63998E-2},{"$f":"IF(F1434=1,\"0\",VLOOKUP(F1434,coefficient2!$A$28:$B$31,2,FALSE))","v":9.5753900000000003E-2},0.63195669999999993]
[32324,3,2,3,2,4,14,{"$f":"IF(B1435=1,\"0\",VLOOKUP(B1435,coefficient2!$A$4:$B$7,2,FALSE))","v":8.6562899999999998E-2},{"$f":"IF(C1435=1,\"0\",VLOOKUP(C1435,coefficient2!$A$10:$B$13,2,FALSE))","v":5.8129300000000002E-2},{"$f":"IF(D1435=1,\"0\",VLOOKUP(D1435,coefficient2!$A$16:$B$19,2,FALSE))","v":7.1197399999999994E-2},{"$f":"IF(E1435=1,\"0\",VLOOKUP(E1435,coefficient2!$A$22:$B$25,2,FALSE))","v":5.63998E-2},{"$f":"IF(F1435=1,\"0\",VLOOKUP(F1435,coefficient2!$A$28:$B$31,2,FALSE))","v":0.23270360000000001},0.49500699999999997]
[32325,3,2,3,2,5,15,{"$f":"IF(B1436=1,\"0\",VLOOKUP(B1436,coefficient2!$A$4:$B$7,2,FALSE))","v":8.6562899999999998E-2},{"$f":"IF(C1436=1,\"0\",VLOOKUP(C1436,coefficient2!$A$10:$B$13,2,FALSE))","v":5.8129300000000002E-2},{"$f":"IF(D1436=1,\"0\",VLOOKUP(D1436,coefficient2!$A$16:$B$19,2,FALSE))","v":7.1197399999999994E-2},{"$f":"IF(E1436=1,\"0\",VLOOKUP(E1436,coefficient2!$A$22:$B$25,2,FALSE))","v":5.63998E-2},{"$f":"IF(F1436=1,\"0\",VLOOKUP(F1436,coefficient2!$A$28:$B$31,2,FALSE))","v":0.29534929999999998},0.4323613]
[32331,3,2,3,3,1,12,{"$f":"IF(B1437=1,\"0\",VLOOKUP(B1437,coefficient2!$A$4:$B$7,2,FALSE))","v":8.6562899999999998E-2},{"$f":"IF(C1437=1,\"0\",VLOOKUP(C1437,coefficient2!$A$10:$B$13,2,FALSE))","v":5.8129300000000002E-2},{"$f":"IF(D1437=1,\"0\",VLOOKUP(D1437,coefficient2!$A$16:$B$19,2,FALSE))","v":7.1197399999999994E-2},{"$f":"IF(E1437=1,\"0\",VLOOKUP(E1437,coefficient2!$A$22:$B$25,2,FALSE))","v":6.6492200000000001E-2},{"$f":"IF(F1437=1,\"0\",VLOOKUP(F1437,coefficient2!$A$28:$B$31,2,FALSE))","v":"0"},0.71761819999999998]
[32332,3,2,3,3,2,13,{"$f":"IF(B1438=1,\"0\",VLOOKUP(B1438,coefficient2!$A$4:$B$7,2,FALSE))","v":8.6562899999999998E-2},{"$f":"IF(C1438=1,\"0\",VLOOKUP(C1438,coefficient2!$A$10:$B$13,2,FALSE))","v":5.8129300000000002E-2},{"$f":"IF(D1438=1,\"0\",VLOOKUP(D1438,coefficient2!$A$16:$B$19,2,FALSE))","v":7.1197399999999994E-2},{"$f":"IF(E1438=1,\"0\",VLOOKUP(E1438,coefficient2!$A$22:$B$25,2,FALSE))","v":6.6492200000000001E-2},{"$f":"IF(F1438=1,\"0\",VLOOKUP(F1438,coefficient2!$A$28:$B$31,2,FALSE))","v":5.8085699999999997E-2},0.65953249999999997]
[32333,3,2,3,3,3,14,{"$f":"IF(B1439=1,\"0\",VLOOKUP(B1439,coefficient2!$A$4:$B$7,2,FALSE))","v":8.6562899999999998E-2},{"$f":"IF(C1439=1,\"0\",VLOOKUP(C1439,coefficient2!$A$10:$B$13,2,FALSE))","v":5.8129300000000002E-2},{"$f":"IF(D1439=1,\"0\",VLOOKUP(D1439,coefficient2!$A$16:$B$19,2,FALSE))","v":7.1197399999999994E-2},{"$f":"IF(E1439=1,\"0\",VLOOKUP(E1439,coefficient2!$A$22:$B$25,2,FALSE))","v":6.6492200000000001E-2},{"$f":"IF(F1439=1,\"0\",VLOOKUP(F1439,coefficient2!$A$28:$B$31,2,FALSE))","v":9.5753900000000003E-2},0.62186429999999993]
[32334,3,2,3,3,4,15,{"$f":"IF(B1440=1,\"0\",VLOOKUP(B1440,coefficient2!$A$4:$B$7,2,FALSE))","v":8.6562899999999998E-2},{"$f":"IF(C1440=1,\"0\",VLOOKUP(C1440,coefficient2!$A$10:$B$13,2,FALSE))","v":5.8129300000000002E-2},{"$f":"IF(D1440=1,\"0\",VLOOKUP(D1440,coefficient2!$A$16:$B$19,2,FALSE))","v":7.1197399999999994E-2},{"$f":"IF(E1440=1,\"0\",VLOOKUP(E1440,coefficient2!$A$22:$B$25,2,FALSE))","v":6.6492200000000001E-2},{"$f":"IF(F1440=1,\"0\",VLOOKUP(F1440,coefficient2!$A$28:$B$31,2,FALSE))","v":0.23270360000000001},0.48491459999999997]
[32335,3,2,3,3,5,16,{"$f":"IF(B1441=1,\"0\",VLOOKUP(B1441,coefficient2!$A$4:$B$7,2,FALSE))","v":8.6562899999999998E-2},{"$f":"IF(C1441=1,\"0\",VLOOKUP(C1441,coefficient2!$A$10:$B$13,2,FALSE))","v":5.8129300000000002E-2},{"$f":"IF(D1441=1,\"0\",VLOOKUP(D1441,coefficient2!$A$16:$B$19,2,FALSE))","v":7.1197399999999994E-2},{"$f":"IF(E1441=1,\"0\",VLOOKUP(E1441,coefficient2!$A$22:$B$25,2,FALSE))","v":6.6492200000000001E-2},{"$f":"IF(F1441=1,\"0\",VLOOKUP(F1441,coefficient2!$A$28:$B$31,2,FALSE))","v":0.29534929999999998},0.4222689]
[32341,3,2,3,4,1,13,{"$f":"IF(B1442=1,\"0\",VLOOKUP(B1442,coefficient2!$A$4:$B$7,2,FALSE))","v":8.6562899999999998E-2},{"$f":"IF(C1442=1,\"0\",VLOOKUP(C1442,coefficient2!$A$10:$B$13,2,FALSE))","v":5.8129300000000002E-2},{"$f":"IF(D1442=1,\"0\",VLOOKUP(D1442,coefficient2!$A$16:$B$19,2,FALSE))","v":7.1197399999999994E-2},{"$f":"IF(E1442=1,\"0\",VLOOKUP(E1442,coefficient2!$A$22:$B$25,2,FALSE))","v":0.2068864},{"$f":"IF(F1442=1,\"0\",VLOOKUP(F1442,coefficient2!$A$28:$B$31,2,FALSE))","v":"0"},0.57722399999999996]
[32342,3,2,3,4,2,14,{"$f":"IF(B1443=1,\"0\",VLOOKUP(B1443,coefficient2!$A$4:$B$7,2,FALSE))","v":8.6562899999999998E-2},{"$f":"IF(C1443=1,\"0\",VLOOKUP(C1443,coefficient2!$A$10:$B$13,2,FALSE))","v":5.8129300000000002E-2},{"$f":"IF(D1443=1,\"0\",VLOOKUP(D1443,coefficient2!$A$16:$B$19,2,FALSE))","v":7.1197399999999994E-2},{"$f":"IF(E1443=1,\"0\",VLOOKUP(E1443,coefficient2!$A$22:$B$25,2,FALSE))","v":0.2068864},{"$f":"IF(F1443=1,\"0\",VLOOKUP(F1443,coefficient2!$A$28:$B$31,2,FALSE))","v":5.8085699999999997E-2},0.51913829999999994]
[32343,3,2,3,4,3,15,{"$f":"IF(B1444=1,\"0\",VLOOKUP(B1444,coefficient2!$A$4:$B$7,2,FALSE))","v":8.6562899999999998E-2},{"$f":"IF(C1444=1,\"0\",VLOOKUP(C1444,coefficient2!$A$10:$B$13,2,FALSE))","v":5.8129300000000002E-2},{"$f":"IF(D1444=1,\"0\",VLOOKUP(D1444,coefficient2!$A$16:$B$19,2,FALSE))","v":7.1197399999999994E-2},{"$f":"IF(E1444=1,\"0\",VLOOKUP(E1444,coefficient2!$A$22:$B$25,2,FALSE))","v":0.2068864},{"$f":"IF(F1444=1,\"0\",VLOOKUP(F1444,coefficient2!$A$28:$B$31,2,FALSE))","v":9.5753900000000003E-2},0.48147009999999996]
[32344,3,2,3,4,4,16,{"$f":"IF(B1445=1,\"0\",VLOOKUP(B1445,coefficient2!$A$4:$B$7,2,FALSE))","v":8.6562899999999998E-2},{"$f":"IF(C1445=1,\"0\",VLOOKUP(C1445,coefficient2!$A$10:$B$13,2,FALSE))","v":5.8129300000000002E-2},{"$f":"IF(D1445=1,\"0\",VLOOKUP(D1445,coefficient2!$A$16:$B$19,2,FALSE))","v":7.1197399999999994E-2},{"$f":"IF(E1445=1,\"0\",VLOOKUP(E1445,coefficient2!$A$22:$B$25,2,FALSE))","v":0.2068864},{"$f":"IF(F1445=1,\"0\",VLOOKUP(F1445,coefficient2!$A$28:$B$31,2,FALSE))","v":0.23270360000000001},0.34452039999999995]
[32345,3,2,3,4,5,17,{"$f":"IF(B1446=1,\"0\",VLOOKUP(B1446,coefficient2!$A$4:$B$7,2,FALSE))","v":8.6562899999999998E-2},{"$f":"IF(C1446=1,\"0\",VLOOKUP(C1446,coefficient2!$A$10:$B$13,2,FALSE))","v":5.8129300000000002E-2},{"$f":"IF(D1446=1,\"0\",VLOOKUP(D1446,coefficient2!$A$16:$B$19,2,FALSE))","v":7.1197399999999994E-2},{"$f":"IF(E1446=1,\"0\",VLOOKUP(E1446,coefficient2!$A$22:$B$25,2,FALSE))","v":0.2068864},{"$f":"IF(F1446=1,\"0\",VLOOKUP(F1446,coefficient2!$A$28:$B$31,2,FALSE))","v":0.29534929999999998},0.28187469999999998]
[32351,3,2,3,5,1,14,{"$f":"IF(B1447=1,\"0\",VLOOKUP(B1447,coefficient2!$A$4:$B$7,2,FALSE))","v":8.6562899999999998E-2},{"$f":"IF(C1447=1,\"0\",VLOOKUP(C1447,coefficient2!$A$10:$B$13,2,FALSE))","v":5.8129300000000002E-2},{"$f":"IF(D1447=1,\"0\",VLOOKUP(D1447,coefficient2!$A$16:$B$19,2,FALSE))","v":7.1197399999999994E-2},{"$f":"IF(E1447=1,\"0\",VLOOKUP(E1447,coefficient2!$A$22:$B$25,2,FALSE))","v":0.25643310000000002},{"$f":"IF(F1447=1,\"0\",VLOOKUP(F1447,coefficient2!$A$28:$B$31,2,FALSE))","v":"0"},0.5276772999999999]
[32352,3,2,3,5,2,15,{"$f":"IF(B1448=1,\"0\",VLOOKUP(B1448,coefficient2!$A$4:$B$7,2,FALSE))","v":8.6562899999999998E-2},{"$f":"IF(C1448=1,\"0\",VLOOKUP(C1448,coefficient2!$A$10:$B$13,2,FALSE))","v":5.8129300000000002E-2},{"$f":"IF(D1448=1,\"0\",VLOOKUP(D1448,coefficient2!$A$16:$B$19,2,FALSE))","v":7.1197399999999994E-2},{"$f":"IF(E1448=1,\"0\",VLOOKUP(E1448,coefficient2!$A$22:$B$25,2,FALSE))","v":0.25643310000000002},{"$f":"IF(F1448=1,\"0\",VLOOKUP(F1448,coefficient2!$A$28:$B$31,2,FALSE))","v":5.8085699999999997E-2},0.46959159999999989]
[32353,3,2,3,5,3,16,{"$f":"IF(B1449=1,\"0\",VLOOKUP(B1449,coefficient2!$A$4:$B$7,2,FALSE))","v":8.6562899999999998E-2},{"$f":"IF(C1449=1,\"0\",VLOOKUP(C1449,coefficient2!$A$10:$B$13,2,FALSE))","v":5.8129300000000002E-2},{"$f":"IF(D1449=1,\"0\",VLOOKUP(D1449,coefficient2!$A$16:$B$19,2,FALSE))","v":7.1197399999999994E-2},{"$f":"IF(E1449=1,\"0\",VLOOKUP(E1449,coefficient2!$A$22:$B$25,2,FALSE))","v":0.25643310000000002},{"$f":"IF(F1449=1,\"0\",VLOOKUP(F1449,coefficient2!$A$28:$B$31,2,FALSE))","v":9.5753900000000003E-2},0.4319233999999999]
[32354,3,2,3,5,4,17,{"$f":"IF(B1450=1,\"0\",VLOOKUP(B1450,coefficient2!$A$4:$B$7,2,FALSE))","v":8.6562899999999998E-2},{"$f":"IF(C1450=1,\"0\",VLOOKUP(C1450,coefficient2!$A$10:$B$13,2,FALSE))","v":5.8129300000000002E-2},{"$f":"IF(D1450=1,\"0\",VLOOKUP(D1450,coefficient2!$A$16:$B$19,2,FALSE))","v":7.1197399999999994E-2},{"$f":"IF(E1450=1,\"0\",VLOOKUP(E1450,coefficient2!$A$22:$B$25,2,FALSE))","v":0.25643310000000002},{"$f":"IF(F1450=1,\"0\",VLOOKUP(F1450,coefficient2!$A$28:$B$31,2,FALSE))","v":0.23270360000000001},0.29497369999999989]
[32355,3,2,3,5,5,18,{"$f":"IF(B1451=1,\"0\",VLOOKUP(B1451,coefficient2!$A$4:$B$7,2,FALSE))","v":8.6562899999999998E-2},{"$f":"IF(C1451=1,\"0\",VLOOKUP(C1451,coefficient2!$A$10:$B$13,2,FALSE))","v":5.8129300000000002E-2},{"$f":"IF(D1451=1,\"0\",VLOOKUP(D1451,coefficient2!$A$16:$B$19,2,FALSE))","v":7.1197399999999994E-2},{"$f":"IF(E1451=1,\"0\",VLOOKUP(E1451,coefficient2!$A$22:$B$25,2,FALSE))","v":0.25643310000000002},{"$f":"IF(F1451=1,\"0\",VLOOKUP(F1451,coefficient2!$A$28:$B$31,2,FALSE))","v":0.29534929999999998},0.23232799999999992]
[32411,3,2,4,1,1,11,{"$f":"IF(B1452=1,\"0\",VLOOKUP(B1452,coefficient2!$A$4:$B$7,2,FALSE))","v":8.6562899999999998E-2},{"$f":"IF(C1452=1,\"0\",VLOOKUP(C1452,coefficient2!$A$10:$B$13,2,FALSE))","v":5.8129300000000002E-2},{"$f":"IF(D1452=1,\"0\",VLOOKUP(D1452,coefficient2!$A$16:$B$19,2,FALSE))","v":0.1534855},{"$f":"IF(E1452=1,\"0\",VLOOKUP(E1452,coefficient2!$A$22:$B$25,2,FALSE))","v":"0"},{"$f":"IF(F1452=1,\"0\",VLOOKUP(F1452,coefficient2!$A$28:$B$31,2,FALSE))","v":"0"},0.7018222999999999]
[32412,3,2,4,1,2,12,{"$f":"IF(B1453=1,\"0\",VLOOKUP(B1453,coefficient2!$A$4:$B$7,2,FALSE))","v":8.6562899999999998E-2},{"$f":"IF(C1453=1,\"0\",VLOOKUP(C1453,coefficient2!$A$10:$B$13,2,FALSE))","v":5.8129300000000002E-2},{"$f":"IF(D1453=1,\"0\",VLOOKUP(D1453,coefficient2!$A$16:$B$19,2,FALSE))","v":0.1534855},{"$f":"IF(E1453=1,\"0\",VLOOKUP(E1453,coefficient2!$A$22:$B$25,2,FALSE))","v":"0"},{"$f":"IF(F1453=1,\"0\",VLOOKUP(F1453,coefficient2!$A$28:$B$31,2,FALSE))","v":5.8085699999999997E-2},0.64373659999999988]
[32413,3,2,4,1,3,13,{"$f":"IF(B1454=1,\"0\",VLOOKUP(B1454,coefficient2!$A$4:$B$7,2,FALSE))","v":8.6562899999999998E-2},{"$f":"IF(C1454=1,\"0\",VLOOKUP(C1454,coefficient2!$A$10:$B$13,2,FALSE))","v":5.8129300000000002E-2},{"$f":"IF(D1454=1,\"0\",VLOOKUP(D1454,coefficient2!$A$16:$B$19,2,FALSE))","v":0.1534855},{"$f":"IF(E1454=1,\"0\",VLOOKUP(E1454,coefficient2!$A$22:$B$25,2,FALSE))","v":"0"},{"$f":"IF(F1454=1,\"0\",VLOOKUP(F1454,coefficient2!$A$28:$B$31,2,FALSE))","v":9.5753900000000003E-2},0.60606839999999984]
[32414,3,2,4,1,4,14,{"$f":"IF(B1455=1,\"0\",VLOOKUP(B1455,coefficient2!$A$4:$B$7,2,FALSE))","v":8.6562899999999998E-2},{"$f":"IF(C1455=1,\"0\",VLOOKUP(C1455,coefficient2!$A$10:$B$13,2,FALSE))","v":5.8129300000000002E-2},{"$f":"IF(D1455=1,\"0\",VLOOKUP(D1455,coefficient2!$A$16:$B$19,2,FALSE))","v":0.1534855},{"$f":"IF(E1455=1,\"0\",VLOOKUP(E1455,coefficient2!$A$22:$B$25,2,FALSE))","v":"0"},{"$f":"IF(F1455=1,\"0\",VLOOKUP(F1455,coefficient2!$A$28:$B$31,2,FALSE))","v":0.23270360000000001},0.46911869999999989]
[32415,3,2,4,1,5,15,{"$f":"IF(B1456=1,\"0\",VLOOKUP(B1456,coefficient2!$A$4:$B$7,2,FALSE))","v":8.6562899999999998E-2},{"$f":"IF(C1456=1,\"0\",VLOOKUP(C1456,coefficient2!$A$10:$B$13,2,FALSE))","v":5.8129300000000002E-2},{"$f":"IF(D1456=1,\"0\",VLOOKUP(D1456,coefficient2!$A$16:$B$19,2,FALSE))","v":0.1534855},{"$f":"IF(E1456=1,\"0\",VLOOKUP(E1456,coefficient2!$A$22:$B$25,2,FALSE))","v":"0"},{"$f":"IF(F1456=1,\"0\",VLOOKUP(F1456,coefficient2!$A$28:$B$31,2,FALSE))","v":0.29534929999999998},0.40647299999999992]
[32421,3,2,4,2,1,12,{"$f":"IF(B1457=1,\"0\",VLOOKUP(B1457,coefficient2!$A$4:$B$7,2,FALSE))","v":8.6562899999999998E-2},{"$f":"IF(C1457=1,\"0\",VLOOKUP(C1457,coefficient2!$A$10:$B$13,2,FALSE))","v":5.8129300000000002E-2},{"$f":"IF(D1457=1,\"0\",VLOOKUP(D1457,coefficient2!$A$16:$B$19,2,FALSE))","v":0.1534855},{"$f":"IF(E1457=1,\"0\",VLOOKUP(E1457,coefficient2!$A$22:$B$25,2,FALSE))","v":5.63998E-2},{"$f":"IF(F1457=1,\"0\",VLOOKUP(F1457,coefficient2!$A$28:$B$31,2,FALSE))","v":"0"},0.6454224999999999]
[32422,3,2,4,2,2,13,{"$f":"IF(B1458=1,\"0\",VLOOKUP(B1458,coefficient2!$A$4:$B$7,2,FALSE))","v":8.6562899999999998E-2},{"$f":"IF(C1458=1,\"0\",VLOOKUP(C1458,coefficient2!$A$10:$B$13,2,FALSE))","v":5.8129300000000002E-2},{"$f":"IF(D1458=1,\"0\",VLOOKUP(D1458,coefficient2!$A$16:$B$19,2,FALSE))","v":0.1534855},{"$f":"IF(E1458=1,\"0\",VLOOKUP(E1458,coefficient2!$A$22:$B$25,2,FALSE))","v":5.63998E-2},{"$f":"IF(F1458=1,\"0\",VLOOKUP(F1458,coefficient2!$A$28:$B$31,2,FALSE))","v":5.8085699999999997E-2},0.58733679999999988]
[32423,3,2,4,2,3,14,{"$f":"IF(B1459=1,\"0\",VLOOKUP(B1459,coefficient2!$A$4:$B$7,2,FALSE))","v":8.6562899999999998E-2},{"$f":"IF(C1459=1,\"0\",VLOOKUP(C1459,coefficient2!$A$10:$B$13,2,FALSE))","v":5.8129300000000002E-2},{"$f":"IF(D1459=1,\"0\",VLOOKUP(D1459,coefficient2!$A$16:$B$19,2,FALSE))","v":0.1534855},{"$f":"IF(E1459=1,\"0\",VLOOKUP(E1459,coefficient2!$A$22:$B$25,2,FALSE))","v":5.63998E-2},{"$f":"IF(F1459=1,\"0\",VLOOKUP(F1459,coefficient2!$A$28:$B$31,2,FALSE))","v":9.5753900000000003E-2},0.54966859999999995]
[32424,3,2,4,2,4,15,{"$f":"IF(B1460=1,\"0\",VLOOKUP(B1460,coefficient2!$A$4:$B$7,2,FALSE))","v":8.6562899999999998E-2},{"$f":"IF(C1460=1,\"0\",VLOOKUP(C1460,coefficient2!$A$10:$B$13,2,FALSE))","v":5.8129300000000002E-2},{"$f":"IF(D1460=1,\"0\",VLOOKUP(D1460,coefficient2!$A$16:$B$19,2,FALSE))","v":0.1534855},{"$f":"IF(E1460=1,\"0\",VLOOKUP(E1460,coefficient2!$A$22:$B$25,2,FALSE))","v":5.63998E-2},{"$f":"IF(F1460=1,\"0\",VLOOKUP(F1460,coefficient2!$A$28:$B$31,2,FALSE))","v":0.23270360000000001},0.41271889999999989]
[32425,3,2,4,2,5,16,{"$f":"IF(B1461=1,\"0\",VLOOKUP(B1461,coefficient2!$A$4:$B$7,2,FALSE))","v":8.6562899999999998E-2},{"$f":"IF(C1461=1,\"0\",VLOOKUP(C1461,coefficient2!$A$10:$B$13,2,FALSE))","v":5.8129300000000002E-2},{"$f":"IF(D1461=1,\"0\",VLOOKUP(D1461,coefficient2!$A$16:$B$19,2,FALSE))","v":0.1534855},{"$f":"IF(E1461=1,\"0\",VLOOKUP(E1461,coefficient2!$A$22:$B$25,2,FALSE))","v":5.63998E-2},{"$f":"IF(F1461=1,\"0\",VLOOKUP(F1461,coefficient2!$A$28:$B$31,2,FALSE))","v":0.29534929999999998},0.35007319999999992]
[32431,3,2,4,3,1,13,{"$f":"IF(B1462=1,\"0\",VLOOKUP(B1462,coefficient2!$A$4:$B$7,2,FALSE))","v":8.6562899999999998E-2},{"$f":"IF(C1462=1,\"0\",VLOOKUP(C1462,coefficient2!$A$10:$B$13,2,FALSE))","v":5.8129300000000002E-2},{"$f":"IF(D1462=1,\"0\",VLOOKUP(D1462,coefficient2!$A$16:$B$19,2,FALSE))","v":0.1534855},{"$f":"IF(E1462=1,\"0\",VLOOKUP(E1462,coefficient2!$A$22:$B$25,2,FALSE))","v":6.6492200000000001E-2},{"$f":"IF(F1462=1,\"0\",VLOOKUP(F1462,coefficient2!$A$28:$B$31,2,FALSE))","v":"0"},0.6353300999999999]
[32432,3,2,4,3,2,14,{"$f":"IF(B1463=1,\"0\",VLOOKUP(B1463,coefficient2!$A$4:$B$7,2,FALSE))","v":8.6562899999999998E-2},{"$f":"IF(C1463=1,\"0\",VLOOKUP(C1463,coefficient2!$A$10:$B$13,2,FALSE))","v":5.8129300000000002E-2},{"$f":"IF(D1463=1,\"0\",VLOOKUP(D1463,coefficient2!$A$16:$B$19,2,FALSE))","v":0.1534855},{"$f":"IF(E1463=1,\"0\",VLOOKUP(E1463,coefficient2!$A$22:$B$25,2,FALSE))","v":6.6492200000000001E-2},{"$f":"IF(F1463=1,\"0\",VLOOKUP(F1463,coefficient2!$A$28:$B$31,2,FALSE))","v":5.8085699999999997E-2},0.57724439999999988]
[32433,3,2,4,3,3,15,{"$f":"IF(B1464=1,\"0\",VLOOKUP(B1464,coefficient2!$A$4:$B$7,2,FALSE))","v":8.6562899999999998E-2},{"$f":"IF(C1464=1,\"0\",VLOOKUP(C1464,coefficient2!$A$10:$B$13,2,FALSE))","v":5.8129300000000002E-2},{"$f":"IF(D1464=1,\"0\",VLOOKUP(D1464,coefficient2!$A$16:$B$19,2,FALSE))","v":0.1534855},{"$f":"IF(E1464=1,\"0\",VLOOKUP(E1464,coefficient2!$A$22:$B$25,2,FALSE))","v":6.6492200000000001E-2},{"$f":"IF(F1464=1,\"0\",VLOOKUP(F1464,coefficient2!$A$28:$B$31,2,FALSE))","v":9.5753900000000003E-2},0.53957619999999995]
[32434,3,2,4,3,4,16,{"$f":"IF(B1465=1,\"0\",VLOOKUP(B1465,coefficient2!$A$4:$B$7,2,FALSE))","v":8.6562899999999998E-2},{"$f":"IF(C1465=1,\"0\",VLOOKUP(C1465,coefficient2!$A$10:$B$13,2,FALSE))","v":5.8129300000000002E-2},{"$f":"IF(D1465=1,\"0\",VLOOKUP(D1465,coefficient2!$A$16:$B$19,2,FALSE))","v":0.1534855},{"$f":"IF(E1465=1,\"0\",VLOOKUP(E1465,coefficient2!$A$22:$B$25,2,FALSE))","v":6.6492200000000001E-2},{"$f":"IF(F1465=1,\"0\",VLOOKUP(F1465,coefficient2!$A$28:$B$31,2,FALSE))","v":0.23270360000000001},0.40262649999999989]
[32435,3,2,4,3,5,17,{"$f":"IF(B1466=1,\"0\",VLOOKUP(B1466,coefficient2!$A$4:$B$7,2,FALSE))","v":8.6562899999999998E-2},{"$f":"IF(C1466=1,\"0\",VLOOKUP(C1466,coefficient2!$A$10:$B$13,2,FALSE))","v":5.8129300000000002E-2},{"$f":"IF(D1466=1,\"0\",VLOOKUP(D1466,coefficient2!$A$16:$B$19,2,FALSE))","v":0.1534855},{"$f":"IF(E1466=1,\"0\",VLOOKUP(E1466,coefficient2!$A$22:$B$25,2,FALSE))","v":6.6492200000000001E-2},{"$f":"IF(F1466=1,\"0\",VLOOKUP(F1466,coefficient2!$A$28:$B$31,2,FALSE))","v":0.29534929999999998},0.33998079999999992]
[32441,3,2,4,4,1,14,{"$f":"IF(B1467=1,\"0\",VLOOKUP(B1467,coefficient2!$A$4:$B$7,2,FALSE))","v":8.6562899999999998E-2},{"$f":"IF(C1467=1,\"0\",VLOOKUP(C1467,coefficient2!$A$10:$B$13,2,FALSE))","v":5.8129300000000002E-2},{"$f":"IF(D1467=1,\"0\",VLOOKUP(D1467,coefficient2!$A$16:$B$19,2,FALSE))","v":0.1534855},{"$f":"IF(E1467=1,\"0\",VLOOKUP(E1467,coefficient2!$A$22:$B$25,2,FALSE))","v":0.2068864},{"$f":"IF(F1467=1,\"0\",VLOOKUP(F1467,coefficient2!$A$28:$B$31,2,FALSE))","v":"0"},0.49493589999999987]
[32442,3,2,4,4,2,15,{"$f":"IF(B1468=1,\"0\",VLOOKUP(B1468,coefficient2!$A$4:$B$7,2,FALSE))","v":8.6562899999999998E-2},{"$f":"IF(C1468=1,\"0\",VLOOKUP(C1468,coefficient2!$A$10:$B$13,2,FALSE))","v":5.8129300000000002E-2},{"$f":"IF(D1468=1,\"0\",VLOOKUP(D1468,coefficient2!$A$16:$B$19,2,FALSE))","v":0.1534855},{"$f":"IF(E1468=1,\"0\",VLOOKUP(E1468,coefficient2!$A$22:$B$25,2,FALSE))","v":0.2068864},{"$f":"IF(F1468=1,\"0\",VLOOKUP(F1468,coefficient2!$A$28:$B$31,2,FALSE))","v":5.8085699999999997E-2},0.43685019999999986]
[32443,3,2,4,4,3,16,{"$f":"IF(B1469=1,\"0\",VLOOKUP(B1469,coefficient2!$A$4:$B$7,2,FALSE))","v":8.6562899999999998E-2},{"$f":"IF(C1469=1,\"0\",VLOOKUP(C1469,coefficient2!$A$10:$B$13,2,FALSE))","v":5.8129300000000002E-2},{"$f":"IF(D1469=1,\"0\",VLOOKUP(D1469,coefficient2!$A$16:$B$19,2,FALSE))","v":0.1534855},{"$f":"IF(E1469=1,\"0\",VLOOKUP(E1469,coefficient2!$A$22:$B$25,2,FALSE))","v":0.2068864},{"$f":"IF(F1469=1,\"0\",VLOOKUP(F1469,coefficient2!$A$28:$B$31,2,FALSE))","v":9.5753900000000003E-2},0.39918199999999987]
[32444,3,2,4,4,4,17,{"$f":"IF(B1470=1,\"0\",VLOOKUP(B1470,coefficient2!$A$4:$B$7,2,FALSE))","v":8.6562899999999998E-2},{"$f":"IF(C1470=1,\"0\",VLOOKUP(C1470,coefficient2!$A$10:$B$13,2,FALSE))","v":5.8129300000000002E-2},{"$f":"IF(D1470=1,\"0\",VLOOKUP(D1470,coefficient2!$A$16:$B$19,2,FALSE))","v":0.1534855},{"$f":"IF(E1470=1,\"0\",VLOOKUP(E1470,coefficient2!$A$22:$B$25,2,FALSE))","v":0.2068864},{"$f":"IF(F1470=1,\"0\",VLOOKUP(F1470,coefficient2!$A$28:$B$31,2,FALSE))","v":0.23270360000000001},0.26223229999999986]
[32445,3,2,4,4,5,18,{"$f":"IF(B1471=1,\"0\",VLOOKUP(B1471,coefficient2!$A$4:$B$7,2,FALSE))","v":8.6562899999999998E-2},{"$f":"IF(C1471=1,\"0\",VLOOKUP(C1471,coefficient2!$A$10:$B$13,2,FALSE))","v":5.8129300000000002E-2},{"$f":"IF(D1471=1,\"0\",VLOOKUP(D1471,coefficient2!$A$16:$B$19,2,FALSE))","v":0.1534855},{"$f":"IF(E1471=1,\"0\",VLOOKUP(E1471,coefficient2!$A$22:$B$25,2,FALSE))","v":0.2068864},{"$f":"IF(F1471=1,\"0\",VLOOKUP(F1471,coefficient2!$A$28:$B$31,2,FALSE))","v":0.29534929999999998},0.19958659999999989]
[32451,3,2,4,5,1,15,{"$f":"IF(B1472=1,\"0\",VLOOKUP(B1472,coefficient2!$A$4:$B$7,2,FALSE))","v":8.6562899999999998E-2},{"$f":"IF(C1472=1,\"0\",VLOOKUP(C1472,coefficient2!$A$10:$B$13,2,FALSE))","v":5.8129300000000002E-2},{"$f":"IF(D1472=1,\"0\",VLOOKUP(D1472,coefficient2!$A$16:$B$19,2,FALSE))","v":0.1534855},{"$f":"IF(E1472=1,\"0\",VLOOKUP(E1472,coefficient2!$A$22:$B$25,2,FALSE))","v":0.25643310000000002},{"$f":"IF(F1472=1,\"0\",VLOOKUP(F1472,coefficient2!$A$28:$B$31,2,FALSE))","v":"0"},0.44538919999999987]
[32452,3,2,4,5,2,16,{"$f":"IF(B1473=1,\"0\",VLOOKUP(B1473,coefficient2!$A$4:$B$7,2,FALSE))","v":8.6562899999999998E-2},{"$f":"IF(C1473=1,\"0\",VLOOKUP(C1473,coefficient2!$A$10:$B$13,2,FALSE))","v":5.8129300000000002E-2},{"$f":"IF(D1473=1,\"0\",VLOOKUP(D1473,coefficient2!$A$16:$B$19,2,FALSE))","v":0.1534855},{"$f":"IF(E1473=1,\"0\",VLOOKUP(E1473,coefficient2!$A$22:$B$25,2,FALSE))","v":0.25643310000000002},{"$f":"IF(F1473=1,\"0\",VLOOKUP(F1473,coefficient2!$A$28:$B$31,2,FALSE))","v":5.8085699999999997E-2},0.38730349999999986]
[32453,3,2,4,5,3,17,{"$f":"IF(B1474=1,\"0\",VLOOKUP(B1474,coefficient2!$A$4:$B$7,2,FALSE))","v":8.6562899999999998E-2},{"$f":"IF(C1474=1,\"0\",VLOOKUP(C1474,coefficient2!$A$10:$B$13,2,FALSE))","v":5.8129300000000002E-2},{"$f":"IF(D1474=1,\"0\",VLOOKUP(D1474,coefficient2!$A$16:$B$19,2,FALSE))","v":0.1534855},{"$f":"IF(E1474=1,\"0\",VLOOKUP(E1474,coefficient2!$A$22:$B$25,2,FALSE))","v":0.25643310000000002},{"$f":"IF(F1474=1,\"0\",VLOOKUP(F1474,coefficient2!$A$28:$B$31,2,FALSE))","v":9.5753900000000003E-2},{"$f":"1-H1474-I1474-J1474-K1474-L1474","v":0.34963529999999987}]
[32454,{"$f":"INT(LEFT(A1475,1))","v":3},{"$f":"INT(MID(A1475,2,1))","v":2},{"$f":"INT(MID(A1475,3,1))","v":4},{"$f":"INT(MID(A1475,4,1))","v":5},{"$f":"INT(RIGHT(A1475,1))","v":4},{"$f":"SUM(B1475:F1475)","v":18},{"$f":"IF(B1475=1,\"0\",VLOOKUP(B1475,coefficient2!$A$4:$B$7,2,FALSE))","v":8.6562899999999998E-2},{"$f":"IF(C1475=1,\"0\",VLOOKUP(C1475,coefficient2!$A$10:$B$13,2,FALSE))","v":5.8129300000000002E-2},{"$f":"IF(D1475=1,\"0\",VLOOKUP(D1475,coefficient2!$A$16:$B$19,2,FALSE))","v":0.1534855},{"$f":"IF(E1475=1,\"0\",VLOOKUP(E1475,coefficient2!$A$22:$B$25,2,FALSE))","v":0.25643310000000002},{"$f":"IF(F1475=1,\"0\",VLOOKUP(F1475,coefficient2!$A$28:$B$31,2,FALSE))","v":0.23270360000000001},0.21268559999999986]
[32455,3,2,4,5,5,19,{"$f":"IF(B1476=1,\"0\",VLOOKUP(B1476,coefficient2!$A$4:$B$7,2,FALSE))","v":8.6562899999999998E-2},{"$f":"IF(C1476=1,\"0\",VLOOKUP(C1476,coefficient2!$A$10:$B$13,2,FALSE))","v":5.8129300000000002E-2},{"$f":"IF(D1476=1,\"0\",VLOOKUP(D1476,coefficient2!$A$16:$B$19,2,FALSE))","v":0.1534855},{"$f":"IF(E1476=1,\"0\",VLOOKUP(E1476,coefficient2!$A$22:$B$25,2,FALSE))","v":0.25643310000000002},{"$f":"IF(F1476=1,\"0\",VLOOKUP(F1476,coefficient2!$A$28:$B$31,2,FALSE))","v":0.29534929999999998},0.15003989999999989]
[32511,3,2,5,1,1,12,{"$f":"IF(B1477=1,\"0\",VLOOKUP(B1477,coefficient2!$A$4:$B$7,2,FALSE))","v":8.6562899999999998E-2},{"$f":"IF(C1477=1,\"0\",VLOOKUP(C1477,coefficient2!$A$10:$B$13,2,FALSE))","v":5.8129300000000002E-2},{"$f":"IF(D1477=1,\"0\",VLOOKUP(D1477,coefficient2!$A$16:$B$19,2,FALSE))","v":0.248331},{"$f":"IF(E1477=1,\"0\",VLOOKUP(E1477,coefficient2!$A$22:$B$25,2,FALSE))","v":"0"},{"$f":"IF(F1477=1,\"0\",VLOOKUP(F1477,coefficient2!$A$28:$B$31,2,FALSE))","v":"0"},0.60697679999999998]
[32512,3,2,5,1,2,13,{"$f":"IF(B1478=1,\"0\",VLOOKUP(B1478,coefficient2!$A$4:$B$7,2,FALSE))","v":8.6562899999999998E-2},{"$f":"IF(C1478=1,\"0\",VLOOKUP(C1478,coefficient2!$A$10:$B$13,2,FALSE))","v":5.8129300000000002E-2},{"$f":"IF(D1478=1,\"0\",VLOOKUP(D1478,coefficient2!$A$16:$B$19,2,FALSE))","v":0.248331},{"$f":"IF(E1478=1,\"0\",VLOOKUP(E1478,coefficient2!$A$22:$B$25,2,FALSE))","v":"0"},{"$f":"IF(F1478=1,\"0\",VLOOKUP(F1478,coefficient2!$A$28:$B$31,2,FALSE))","v":5.8085699999999997E-2},0.54889109999999997]
[32513,3,2,5,1,3,14,{"$f":"IF(B1479=1,\"0\",VLOOKUP(B1479,coefficient2!$A$4:$B$7,2,FALSE))","v":8.6562899999999998E-2},{"$f":"IF(C1479=1,\"0\",VLOOKUP(C1479,coefficient2!$A$10:$B$13,2,FALSE))","v":5.8129300000000002E-2},{"$f":"IF(D1479=1,\"0\",VLOOKUP(D1479,coefficient2!$A$16:$B$19,2,FALSE))","v":0.248331},{"$f":"IF(E1479=1,\"0\",VLOOKUP(E1479,coefficient2!$A$22:$B$25,2,FALSE))","v":"0"},{"$f":"IF(F1479=1,\"0\",VLOOKUP(F1479,coefficient2!$A$28:$B$31,2,FALSE))","v":9.5753900000000003E-2},0.51122289999999992]
[32514,3,2,5,1,4,15,{"$f":"IF(B1480=1,\"0\",VLOOKUP(B1480,coefficient2!$A$4:$B$7,2,FALSE))","v":8.6562899999999998E-2},{"$f":"IF(C1480=1,\"0\",VLOOKUP(C1480,coefficient2!$A$10:$B$13,2,FALSE))","v":5.8129300000000002E-2},{"$f":"IF(D1480=1,\"0\",VLOOKUP(D1480,coefficient2!$A$16:$B$19,2,FALSE))","v":0.248331},{"$f":"IF(E1480=1,\"0\",VLOOKUP(E1480,coefficient2!$A$22:$B$25,2,FALSE))","v":"0"},{"$f":"IF(F1480=1,\"0\",VLOOKUP(F1480,coefficient2!$A$28:$B$31,2,FALSE))","v":0.23270360000000001},0.37427319999999997]
[32515,3,2,5,1,5,16,{"$f":"IF(B1481=1,\"0\",VLOOKUP(B1481,coefficient2!$A$4:$B$7,2,FALSE))","v":8.6562899999999998E-2},{"$f":"IF(C1481=1,\"0\",VLOOKUP(C1481,coefficient2!$A$10:$B$13,2,FALSE))","v":5.8129300000000002E-2},{"$f":"IF(D1481=1,\"0\",VLOOKUP(D1481,coefficient2!$A$16:$B$19,2,FALSE))","v":0.248331},{"$f":"IF(E1481=1,\"0\",VLOOKUP(E1481,coefficient2!$A$22:$B$25,2,FALSE))","v":"0"},{"$f":"IF(F1481=1,\"0\",VLOOKUP(F1481,coefficient2!$A$28:$B$31,2,FALSE))","v":0.29534929999999998},0.3116275]
[32521,3,2,5,2,1,13,{"$f":"IF(B1482=1,\"0\",VLOOKUP(B1482,coefficient2!$A$4:$B$7,2,FALSE))","v":8.6562899999999998E-2},{"$f":"IF(C1482=1,\"0\",VLOOKUP(C1482,coefficient2!$A$10:$B$13,2,FALSE))","v":5.8129300000000002E-2},{"$f":"IF(D1482=1,\"0\",VLOOKUP(D1482,coefficient2!$A$16:$B$19,2,FALSE))","v":0.248331},{"$f":"IF(E1482=1,\"0\",VLOOKUP(E1482,coefficient2!$A$22:$B$25,2,FALSE))","v":5.63998E-2},{"$f":"IF(F1482=1,\"0\",VLOOKUP(F1482,coefficient2!$A$28:$B$31,2,FALSE))","v":"0"},0.55057699999999998]
[32522,3,2,5,2,2,14,{"$f":"IF(B1483=1,\"0\",VLOOKUP(B1483,coefficient2!$A$4:$B$7,2,FALSE))","v":8.6562899999999998E-2},{"$f":"IF(C1483=1,\"0\",VLOOKUP(C1483,coefficient2!$A$10:$B$13,2,FALSE))","v":5.8129300000000002E-2},{"$f":"IF(D1483=1,\"0\",VLOOKUP(D1483,coefficient2!$A$16:$B$19,2,FALSE))","v":0.248331},{"$f":"IF(E1483=1,\"0\",VLOOKUP(E1483,coefficient2!$A$22:$B$25,2,FALSE))","v":5.63998E-2},{"$f":"IF(F1483=1,\"0\",VLOOKUP(F1483,coefficient2!$A$28:$B$31,2,FALSE))","v":5.8085699999999997E-2},0.49249129999999997]
[32523,3,2,5,2,3,15,{"$f":"IF(B1484=1,\"0\",VLOOKUP(B1484,coefficient2!$A$4:$B$7,2,FALSE))","v":8.6562899999999998E-2},{"$f":"IF(C1484=1,\"0\",VLOOKUP(C1484,coefficient2!$A$10:$B$13,2,FALSE))","v":5.8129300000000002E-2},{"$f":"IF(D1484=1,\"0\",VLOOKUP(D1484,coefficient2!$A$16:$B$19,2,FALSE))","v":0.248331},{"$f":"IF(E1484=1,\"0\",VLOOKUP(E1484,coefficient2!$A$22:$B$25,2,FALSE))","v":5.63998E-2},{"$f":"IF(F1484=1,\"0\",VLOOKUP(F1484,coefficient2!$A$28:$B$31,2,FALSE))","v":9.5753900000000003E-2},0.45482309999999998]
[32524,3,2,5,2,4,16,{"$f":"IF(B1485=1,\"0\",VLOOKUP(B1485,coefficient2!$A$4:$B$7,2,FALSE))","v":8.6562899999999998E-2},{"$f":"IF(C1485=1,\"0\",VLOOKUP(C1485,coefficient2!$A$10:$B$13,2,FALSE))","v":5.8129300000000002E-2},{"$f":"IF(D1485=1,\"0\",VLOOKUP(D1485,coefficient2!$A$16:$B$19,2,FALSE))","v":0.248331},{"$f":"IF(E1485=1,\"0\",VLOOKUP(E1485,coefficient2!$A$22:$B$25,2,FALSE))","v":5.63998E-2},{"$f":"IF(F1485=1,\"0\",VLOOKUP(F1485,coefficient2!$A$28:$B$31,2,FALSE))","v":0.23270360000000001},0.31787339999999997]
[32525,3,2,5,2,5,17,{"$f":"IF(B1486=1,\"0\",VLOOKUP(B1486,coefficient2!$A$4:$B$7,2,FALSE))","v":8.6562899999999998E-2},{"$f":"IF(C1486=1,\"0\",VLOOKUP(C1486,coefficient2!$A$10:$B$13,2,FALSE))","v":5.8129300000000002E-2},{"$f":"IF(D1486=1,\"0\",VLOOKUP(D1486,coefficient2!$A$16:$B$19,2,FALSE))","v":0.248331},{"$f":"IF(E1486=1,\"0\",VLOOKUP(E1486,coefficient2!$A$22:$B$25,2,FALSE))","v":5.63998E-2},{"$f":"IF(F1486=1,\"0\",VLOOKUP(F1486,coefficient2!$A$28:$B$31,2,FALSE))","v":0.29534929999999998},0.2552277]
[32531,3,2,5,3,1,14,{"$f":"IF(B1487=1,\"0\",VLOOKUP(B1487,coefficient2!$A$4:$B$7,2,FALSE))","v":8.6562899999999998E-2},{"$f":"IF(C1487=1,\"0\",VLOOKUP(C1487,coefficient2!$A$10:$B$13,2,FALSE))","v":5.8129300000000002E-2},{"$f":"IF(D1487=1,\"0\",VLOOKUP(D1487,coefficient2!$A$16:$B$19,2,FALSE))","v":0.248331},{"$f":"IF(E1487=1,\"0\",VLOOKUP(E1487,coefficient2!$A$22:$B$25,2,FALSE))","v":6.6492200000000001E-2},{"$f":"IF(F1487=1,\"0\",VLOOKUP(F1487,coefficient2!$A$28:$B$31,2,FALSE))","v":"0"},0.54048459999999998]
[32532,3,2,5,3,2,15,{"$f":"IF(B1488=1,\"0\",VLOOKUP(B1488,coefficient2!$A$4:$B$7,2,FALSE))","v":8.6562899999999998E-2},{"$f":"IF(C1488=1,\"0\",VLOOKUP(C1488,coefficient2!$A$10:$B$13,2,FALSE))","v":5.8129300000000002E-2},{"$f":"IF(D1488=1,\"0\",VLOOKUP(D1488,coefficient2!$A$16:$B$19,2,FALSE))","v":0.248331},{"$f":"IF(E1488=1,\"0\",VLOOKUP(E1488,coefficient2!$A$22:$B$25,2,FALSE))","v":6.6492200000000001E-2},{"$f":"IF(F1488=1,\"0\",VLOOKUP(F1488,coefficient2!$A$28:$B$31,2,FALSE))","v":5.8085699999999997E-2},0.48239889999999996]
[32533,3,2,5,3,3,16,{"$f":"IF(B1489=1,\"0\",VLOOKUP(B1489,coefficient2!$A$4:$B$7,2,FALSE))","v":8.6562899999999998E-2},{"$f":"IF(C1489=1,\"0\",VLOOKUP(C1489,coefficient2!$A$10:$B$13,2,FALSE))","v":5.8129300000000002E-2},{"$f":"IF(D1489=1,\"0\",VLOOKUP(D1489,coefficient2!$A$16:$B$19,2,FALSE))","v":0.248331},{"$f":"IF(E1489=1,\"0\",VLOOKUP(E1489,coefficient2!$A$22:$B$25,2,FALSE))","v":6.6492200000000001E-2},{"$f":"IF(F1489=1,\"0\",VLOOKUP(F1489,coefficient2!$A$28:$B$31,2,FALSE))","v":9.5753900000000003E-2},0.44473069999999998]
[32534,3,2,5,3,4,17,{"$f":"IF(B1490=1,\"0\",VLOOKUP(B1490,coefficient2!$A$4:$B$7,2,FALSE))","v":8.6562899999999998E-2},{"$f":"IF(C1490=1,\"0\",VLOOKUP(C1490,coefficient2!$A$10:$B$13,2,FALSE))","v":5.8129300000000002E-2},{"$f":"IF(D1490=1,\"0\",VLOOKUP(D1490,coefficient2!$A$16:$B$19,2,FALSE))","v":0.248331},{"$f":"IF(E1490=1,\"0\",VLOOKUP(E1490,coefficient2!$A$22:$B$25,2,FALSE))","v":6.6492200000000001E-2},{"$f":"IF(F1490=1,\"0\",VLOOKUP(F1490,coefficient2!$A$28:$B$31,2,FALSE))","v":0.23270360000000001},0.30778099999999997]
[32535,3,2,5,3,5,18,{"$f":"IF(B1491=1,\"0\",VLOOKUP(B1491,coefficient2!$A$4:$B$7,2,FALSE))","v":8.6562899999999998E-2},{"$f":"IF(C1491=1,\"0\",VLOOKUP(C1491,coefficient2!$A$10:$B$13,2,FALSE))","v":5.8129300000000002E-2},{"$f":"IF(D1491=1,\"0\",VLOOKUP(D1491,coefficient2!$A$16:$B$19,2,FALSE))","v":0.248331},{"$f":"IF(E1491=1,\"0\",VLOOKUP(E1491,coefficient2!$A$22:$B$25,2,FALSE))","v":6.6492200000000001E-2},{"$f":"IF(F1491=1,\"0\",VLOOKUP(F1491,coefficient2!$A$28:$B$31,2,FALSE))","v":0.29534929999999998},0.2451353]
[32541,3,2,5,4,1,15,{"$f":"IF(B1492=1,\"0\",VLOOKUP(B1492,coefficient2!$A$4:$B$7,2,FALSE))","v":8.6562899999999998E-2},{"$f":"IF(C1492=1,\"0\",VLOOKUP(C1492,coefficient2!$A$10:$B$13,2,FALSE))","v":5.8129300000000002E-2},{"$f":"IF(D1492=1,\"0\",VLOOKUP(D1492,coefficient2!$A$16:$B$19,2,FALSE))","v":0.248331},{"$f":"IF(E1492=1,\"0\",VLOOKUP(E1492,coefficient2!$A$22:$B$25,2,FALSE))","v":0.2068864},{"$f":"IF(F1492=1,\"0\",VLOOKUP(F1492,coefficient2!$A$28:$B$31,2,FALSE))","v":"0"},0.40009039999999996]
[32542,3,2,5,4,2,16,{"$f":"IF(B1493=1,\"0\",VLOOKUP(B1493,coefficient2!$A$4:$B$7,2,FALSE))","v":8.6562899999999998E-2},{"$f":"IF(C1493=1,\"0\",VLOOKUP(C1493,coefficient2!$A$10:$B$13,2,FALSE))","v":5.8129300000000002E-2},{"$f":"IF(D1493=1,\"0\",VLOOKUP(D1493,coefficient2!$A$16:$B$19,2,FALSE))","v":0.248331},{"$f":"IF(E1493=1,\"0\",VLOOKUP(E1493,coefficient2!$A$22:$B$25,2,FALSE))","v":0.2068864},{"$f":"IF(F1493=1,\"0\",VLOOKUP(F1493,coefficient2!$A$28:$B$31,2,FALSE))","v":5.8085699999999997E-2},0.34200469999999994]
[32543,3,2,5,4,3,17,{"$f":"IF(B1494=1,\"0\",VLOOKUP(B1494,coefficient2!$A$4:$B$7,2,FALSE))","v":8.6562899999999998E-2},{"$f":"IF(C1494=1,\"0\",VLOOKUP(C1494,coefficient2!$A$10:$B$13,2,FALSE))","v":5.8129300000000002E-2},{"$f":"IF(D1494=1,\"0\",VLOOKUP(D1494,coefficient2!$A$16:$B$19,2,FALSE))","v":0.248331},{"$f":"IF(E1494=1,\"0\",VLOOKUP(E1494,coefficient2!$A$22:$B$25,2,FALSE))","v":0.2068864},{"$f":"IF(F1494=1,\"0\",VLOOKUP(F1494,coefficient2!$A$28:$B$31,2,FALSE))","v":9.5753900000000003E-2},0.30433649999999995]
[32544,3,2,5,4,4,18,{"$f":"IF(B1495=1,\"0\",VLOOKUP(B1495,coefficient2!$A$4:$B$7,2,FALSE))","v":8.6562899999999998E-2},{"$f":"IF(C1495=1,\"0\",VLOOKUP(C1495,coefficient2!$A$10:$B$13,2,FALSE))","v":5.8129300000000002E-2},{"$f":"IF(D1495=1,\"0\",VLOOKUP(D1495,coefficient2!$A$16:$B$19,2,FALSE))","v":0.248331},{"$f":"IF(E1495=1,\"0\",VLOOKUP(E1495,coefficient2!$A$22:$B$25,2,FALSE))","v":0.2068864},{"$f":"IF(F1495=1,\"0\",VLOOKUP(F1495,coefficient2!$A$28:$B$31,2,FALSE))","v":0.23270360000000001},0.16738679999999995]
[32545,3,2,5,4,5,19,{"$f":"IF(B1496=1,\"0\",VLOOKUP(B1496,coefficient2!$A$4:$B$7,2,FALSE))","v":8.6562899999999998E-2},{"$f":"IF(C1496=1,\"0\",VLOOKUP(C1496,coefficient2!$A$10:$B$13,2,FALSE))","v":5.8129300000000002E-2},{"$f":"IF(D1496=1,\"0\",VLOOKUP(D1496,coefficient2!$A$16:$B$19,2,FALSE))","v":0.248331},{"$f":"IF(E1496=1,\"0\",VLOOKUP(E1496,coefficient2!$A$22:$B$25,2,FALSE))","v":0.2068864},{"$f":"IF(F1496=1,\"0\",VLOOKUP(F1496,coefficient2!$A$28:$B$31,2,FALSE))","v":0.29534929999999998},0.10474109999999998]
[32551,3,2,5,5,1,16,{"$f":"IF(B1497=1,\"0\",VLOOKUP(B1497,coefficient2!$A$4:$B$7,2,FALSE))","v":8.6562899999999998E-2},{"$f":"IF(C1497=1,\"0\",VLOOKUP(C1497,coefficient2!$A$10:$B$13,2,FALSE))","v":5.8129300000000002E-2},{"$f":"IF(D1497=1,\"0\",VLOOKUP(D1497,coefficient2!$A$16:$B$19,2,FALSE))","v":0.248331},{"$f":"IF(E1497=1,\"0\",VLOOKUP(E1497,coefficient2!$A$22:$B$25,2,FALSE))","v":0.25643310000000002},{"$f":"IF(F1497=1,\"0\",VLOOKUP(F1497,coefficient2!$A$28:$B$31,2,FALSE))","v":"0"},0.35054369999999996]
[32552,3,2,5,5,2,17,{"$f":"IF(B1498=1,\"0\",VLOOKUP(B1498,coefficient2!$A$4:$B$7,2,FALSE))","v":8.6562899999999998E-2},{"$f":"IF(C1498=1,\"0\",VLOOKUP(C1498,coefficient2!$A$10:$B$13,2,FALSE))","v":5.8129300000000002E-2},{"$f":"IF(D1498=1,\"0\",VLOOKUP(D1498,coefficient2!$A$16:$B$19,2,FALSE))","v":0.248331},{"$f":"IF(E1498=1,\"0\",VLOOKUP(E1498,coefficient2!$A$22:$B$25,2,FALSE))","v":0.25643310000000002},{"$f":"IF(F1498=1,\"0\",VLOOKUP(F1498,coefficient2!$A$28:$B$31,2,FALSE))","v":5.8085699999999997E-2},0.29245799999999994]
[32553,3,2,5,5,3,18,{"$f":"IF(B1499=1,\"0\",VLOOKUP(B1499,coefficient2!$A$4:$B$7,2,FALSE))","v":8.6562899999999998E-2},{"$f":"IF(C1499=1,\"0\",VLOOKUP(C1499,coefficient2!$A$10:$B$13,2,FALSE))","v":5.8129300000000002E-2},{"$f":"IF(D1499=1,\"0\",VLOOKUP(D1499,coefficient2!$A$16:$B$19,2,FALSE))","v":0.248331},{"$f":"IF(E1499=1,\"0\",VLOOKUP(E1499,coefficient2!$A$22:$B$25,2,FALSE))","v":0.25643310000000002},{"$f":"IF(F1499=1,\"0\",VLOOKUP(F1499,coefficient2!$A$28:$B$31,2,FALSE))","v":9.5753900000000003E-2},0.25478979999999996]
[32554,3,2,5,5,4,19,{"$f":"IF(B1500=1,\"0\",VLOOKUP(B1500,coefficient2!$A$4:$B$7,2,FALSE))","v":8.6562899999999998E-2},{"$f":"IF(C1500=1,\"0\",VLOOKUP(C1500,coefficient2!$A$10:$B$13,2,FALSE))","v":5.8129300000000002E-2},{"$f":"IF(D1500=1,\"0\",VLOOKUP(D1500,coefficient2!$A$16:$B$19,2,FALSE))","v":0.248331},{"$f":"IF(E1500=1,\"0\",VLOOKUP(E1500,coefficient2!$A$22:$B$25,2,FALSE))","v":0.25643310000000002},{"$f":"IF(F1500=1,\"0\",VLOOKUP(F1500,coefficient2!$A$28:$B$31,2,FALSE))","v":0.23270360000000001},0.11784009999999995]
[32555,3,2,5,5,5,20,{"$f":"IF(B1501=1,\"0\",VLOOKUP(B1501,coefficient2!$A$4:$B$7,2,FALSE))","v":8.6562899999999998E-2},{"$f":"IF(C1501=1,\"0\",VLOOKUP(C1501,coefficient2!$A$10:$B$13,2,FALSE))","v":5.8129300000000002E-2},{"$f":"IF(D1501=1,\"0\",VLOOKUP(D1501,coefficient2!$A$16:$B$19,2,FALSE))","v":0.248331},{"$f":"IF(E1501=1,\"0\",VLOOKUP(E1501,coefficient2!$A$22:$B$25,2,FALSE))","v":0.25643310000000002},{"$f":"IF(F1501=1,\"0\",VLOOKUP(F1501,coefficient2!$A$28:$B$31,2,FALSE))","v":0.29534929999999998},5.5194399999999977E-2]
[33111,3,3,1,1,1,9,{"$f":"IF(B1502=1,\"0\",VLOOKUP(B1502,coefficient2!$A$4:$B$7,2,FALSE))","v":8.6562899999999998E-2},{"$f":"IF(C1502=1,\"0\",VLOOKUP(C1502,coefficient2!$A$10:$B$13,2,FALSE))","v":7.0631200000000005E-2},{"$f":"IF(D1502=1,\"0\",VLOOKUP(D1502,coefficient2!$A$16:$B$19,2,FALSE))","v":"0"},{"$f":"IF(E1502=1,\"0\",VLOOKUP(E1502,coefficient2!$A$22:$B$25,2,FALSE))","v":"0"},{"$f":"IF(F1502=1,\"0\",VLOOKUP(F1502,coefficient2!$A$28:$B$31,2,FALSE))","v":"0"},0.8428059]
[33112,3,3,1,1,2,10,{"$f":"IF(B1503=1,\"0\",VLOOKUP(B1503,coefficient2!$A$4:$B$7,2,FALSE))","v":8.6562899999999998E-2},{"$f":"IF(C1503=1,\"0\",VLOOKUP(C1503,coefficient2!$A$10:$B$13,2,FALSE))","v":7.0631200000000005E-2},{"$f":"IF(D1503=1,\"0\",VLOOKUP(D1503,coefficient2!$A$16:$B$19,2,FALSE))","v":"0"},{"$f":"IF(E1503=1,\"0\",VLOOKUP(E1503,coefficient2!$A$22:$B$25,2,FALSE))","v":"0"},{"$f":"IF(F1503=1,\"0\",VLOOKUP(F1503,coefficient2!$A$28:$B$31,2,FALSE))","v":5.8085699999999997E-2},0.78472019999999998]
[33113,3,3,1,1,3,11,{"$f":"IF(B1504=1,\"0\",VLOOKUP(B1504,coefficient2!$A$4:$B$7,2,FALSE))","v":8.6562899999999998E-2},{"$f":"IF(C1504=1,\"0\",VLOOKUP(C1504,coefficient2!$A$10:$B$13,2,FALSE))","v":7.0631200000000005E-2},{"$f":"IF(D1504=1,\"0\",VLOOKUP(D1504,coefficient2!$A$16:$B$19,2,FALSE))","v":"0"},{"$f":"IF(E1504=1,\"0\",VLOOKUP(E1504,coefficient2!$A$22:$B$25,2,FALSE))","v":"0"},{"$f":"IF(F1504=1,\"0\",VLOOKUP(F1504,coefficient2!$A$28:$B$31,2,FALSE))","v":9.5753900000000003E-2},0.74705200000000005]
[33114,3,3,1,1,4,12,{"$f":"IF(B1505=1,\"0\",VLOOKUP(B1505,coefficient2!$A$4:$B$7,2,FALSE))","v":8.6562899999999998E-2},{"$f":"IF(C1505=1,\"0\",VLOOKUP(C1505,coefficient2!$A$10:$B$13,2,FALSE))","v":7.0631200000000005E-2},{"$f":"IF(D1505=1,\"0\",VLOOKUP(D1505,coefficient2!$A$16:$B$19,2,FALSE))","v":"0"},{"$f":"IF(E1505=1,\"0\",VLOOKUP(E1505,coefficient2!$A$22:$B$25,2,FALSE))","v":"0"},{"$f":"IF(F1505=1,\"0\",VLOOKUP(F1505,coefficient2!$A$28:$B$31,2,FALSE))","v":0.23270360000000001},0.61010229999999999]
[33115,3,3,1,1,5,13,{"$f":"IF(B1506=1,\"0\",VLOOKUP(B1506,coefficient2!$A$4:$B$7,2,FALSE))","v":8.6562899999999998E-2},{"$f":"IF(C1506=1,\"0\",VLOOKUP(C1506,coefficient2!$A$10:$B$13,2,FALSE))","v":7.0631200000000005E-2},{"$f":"IF(D1506=1,\"0\",VLOOKUP(D1506,coefficient2!$A$16:$B$19,2,FALSE))","v":"0"},{"$f":"IF(E1506=1,\"0\",VLOOKUP(E1506,coefficient2!$A$22:$B$25,2,FALSE))","v":"0"},{"$f":"IF(F1506=1,\"0\",VLOOKUP(F1506,coefficient2!$A$28:$B$31,2,FALSE))","v":0.29534929999999998},0.54745660000000007]
[33121,3,3,1,2,1,10,{"$f":"IF(B1507=1,\"0\",VLOOKUP(B1507,coefficient2!$A$4:$B$7,2,FALSE))","v":8.6562899999999998E-2},{"$f":"IF(C1507=1,\"0\",VLOOKUP(C1507,coefficient2!$A$10:$B$13,2,FALSE))","v":7.0631200000000005E-2},{"$f":"IF(D1507=1,\"0\",VLOOKUP(D1507,coefficient2!$A$16:$B$19,2,FALSE))","v":"0"},{"$f":"IF(E1507=1,\"0\",VLOOKUP(E1507,coefficient2!$A$22:$B$25,2,FALSE))","v":5.63998E-2},{"$f":"IF(F1507=1,\"0\",VLOOKUP(F1507,coefficient2!$A$28:$B$31,2,FALSE))","v":"0"},0.7864061]
[33122,3,3,1,2,2,11,{"$f":"IF(B1508=1,\"0\",VLOOKUP(B1508,coefficient2!$A$4:$B$7,2,FALSE))","v":8.6562899999999998E-2},{"$f":"IF(C1508=1,\"0\",VLOOKUP(C1508,coefficient2!$A$10:$B$13,2,FALSE))","v":7.0631200000000005E-2},{"$f":"IF(D1508=1,\"0\",VLOOKUP(D1508,coefficient2!$A$16:$B$19,2,FALSE))","v":"0"},{"$f":"IF(E1508=1,\"0\",VLOOKUP(E1508,coefficient2!$A$22:$B$25,2,FALSE))","v":5.63998E-2},{"$f":"IF(F1508=1,\"0\",VLOOKUP(F1508,coefficient2!$A$28:$B$31,2,FALSE))","v":5.8085699999999997E-2},0.72832039999999998]
[33123,3,3,1,2,3,12,{"$f":"IF(B1509=1,\"0\",VLOOKUP(B1509,coefficient2!$A$4:$B$7,2,FALSE))","v":8.6562899999999998E-2},{"$f":"IF(C1509=1,\"0\",VLOOKUP(C1509,coefficient2!$A$10:$B$13,2,FALSE))","v":7.0631200000000005E-2},{"$f":"IF(D1509=1,\"0\",VLOOKUP(D1509,coefficient2!$A$16:$B$19,2,FALSE))","v":"0"},{"$f":"IF(E1509=1,\"0\",VLOOKUP(E1509,coefficient2!$A$22:$B$25,2,FALSE))","v":5.63998E-2},{"$f":"IF(F1509=1,\"0\",VLOOKUP(F1509,coefficient2!$A$28:$B$31,2,FALSE))","v":9.5753900000000003E-2},0.69065219999999994]
[33124,3,3,1,2,4,13,{"$f":"IF(B1510=1,\"0\",VLOOKUP(B1510,coefficient2!$A$4:$B$7,2,FALSE))","v":8.6562899999999998E-2},{"$f":"IF(C1510=1,\"0\",VLOOKUP(C1510,coefficient2!$A$10:$B$13,2,FALSE))","v":7.0631200000000005E-2},{"$f":"IF(D1510=1,\"0\",VLOOKUP(D1510,coefficient2!$A$16:$B$19,2,FALSE))","v":"0"},{"$f":"IF(E1510=1,\"0\",VLOOKUP(E1510,coefficient2!$A$22:$B$25,2,FALSE))","v":5.63998E-2},{"$f":"IF(F1510=1,\"0\",VLOOKUP(F1510,coefficient2!$A$28:$B$31,2,FALSE))","v":0.23270360000000001},0.55370249999999999]
[33125,3,3,1,2,5,14,{"$f":"IF(B1511=1,\"0\",VLOOKUP(B1511,coefficient2!$A$4:$B$7,2,FALSE))","v":8.6562899999999998E-2},{"$f":"IF(C1511=1,\"0\",VLOOKUP(C1511,coefficient2!$A$10:$B$13,2,FALSE))","v":7.0631200000000005E-2},{"$f":"IF(D1511=1,\"0\",VLOOKUP(D1511,coefficient2!$A$16:$B$19,2,FALSE))","v":"0"},{"$f":"IF(E1511=1,\"0\",VLOOKUP(E1511,coefficient2!$A$22:$B$25,2,FALSE))","v":5.63998E-2},{"$f":"IF(F1511=1,\"0\",VLOOKUP(F1511,coefficient2!$A$28:$B$31,2,FALSE))","v":0.29534929999999998},0.49105680000000002]
[33131,3,3,1,3,1,11,{"$f":"IF(B1512=1,\"0\",VLOOKUP(B1512,coefficient2!$A$4:$B$7,2,FALSE))","v":8.6562899999999998E-2},{"$f":"IF(C1512=1,\"0\",VLOOKUP(C1512,coefficient2!$A$10:$B$13,2,FALSE))","v":7.0631200000000005E-2},{"$f":"IF(D1512=1,\"0\",VLOOKUP(D1512,coefficient2!$A$16:$B$19,2,FALSE))","v":"0"},{"$f":"IF(E1512=1,\"0\",VLOOKUP(E1512,coefficient2!$A$22:$B$25,2,FALSE))","v":6.6492200000000001E-2},{"$f":"IF(F1512=1,\"0\",VLOOKUP(F1512,coefficient2!$A$28:$B$31,2,FALSE))","v":"0"},0.7763137]
[33132,3,3,1,3,2,12,{"$f":"IF(B1513=1,\"0\",VLOOKUP(B1513,coefficient2!$A$4:$B$7,2,FALSE))","v":8.6562899999999998E-2},{"$f":"IF(C1513=1,\"0\",VLOOKUP(C1513,coefficient2!$A$10:$B$13,2,FALSE))","v":7.0631200000000005E-2},{"$f":"IF(D1513=1,\"0\",VLOOKUP(D1513,coefficient2!$A$16:$B$19,2,FALSE))","v":"0"},{"$f":"IF(E1513=1,\"0\",VLOOKUP(E1513,coefficient2!$A$22:$B$25,2,FALSE))","v":6.6492200000000001E-2},{"$f":"IF(F1513=1,\"0\",VLOOKUP(F1513,coefficient2!$A$28:$B$31,2,FALSE))","v":5.8085699999999997E-2},0.71822799999999998]
[33133,3,3,1,3,3,13,{"$f":"IF(B1514=1,\"0\",VLOOKUP(B1514,coefficient2!$A$4:$B$7,2,FALSE))","v":8.6562899999999998E-2},{"$f":"IF(C1514=1,\"0\",VLOOKUP(C1514,coefficient2!$A$10:$B$13,2,FALSE))","v":7.0631200000000005E-2},{"$f":"IF(D1514=1,\"0\",VLOOKUP(D1514,coefficient2!$A$16:$B$19,2,FALSE))","v":"0"},{"$f":"IF(E1514=1,\"0\",VLOOKUP(E1514,coefficient2!$A$22:$B$25,2,FALSE))","v":6.6492200000000001E-2},{"$f":"IF(F1514=1,\"0\",VLOOKUP(F1514,coefficient2!$A$28:$B$31,2,FALSE))","v":9.5753900000000003E-2},0.68055979999999994]
[33134,3,3,1,3,4,14,{"$f":"IF(B1515=1,\"0\",VLOOKUP(B1515,coefficient2!$A$4:$B$7,2,FALSE))","v":8.6562899999999998E-2},{"$f":"IF(C1515=1,\"0\",VLOOKUP(C1515,coefficient2!$A$10:$B$13,2,FALSE))","v":7.0631200000000005E-2},{"$f":"IF(D1515=1,\"0\",VLOOKUP(D1515,coefficient2!$A$16:$B$19,2,FALSE))","v":"0"},{"$f":"IF(E1515=1,\"0\",VLOOKUP(E1515,coefficient2!$A$22:$B$25,2,FALSE))","v":6.6492200000000001E-2},{"$f":"IF(F1515=1,\"0\",VLOOKUP(F1515,coefficient2!$A$28:$B$31,2,FALSE))","v":0.23270360000000001},0.54361009999999998]
[33135,3,3,1,3,5,15,{"$f":"IF(B1516=1,\"0\",VLOOKUP(B1516,coefficient2!$A$4:$B$7,2,FALSE))","v":8.6562899999999998E-2},{"$f":"IF(C1516=1,\"0\",VLOOKUP(C1516,coefficient2!$A$10:$B$13,2,FALSE))","v":7.0631200000000005E-2},{"$f":"IF(D1516=1,\"0\",VLOOKUP(D1516,coefficient2!$A$16:$B$19,2,FALSE))","v":"0"},{"$f":"IF(E1516=1,\"0\",VLOOKUP(E1516,coefficient2!$A$22:$B$25,2,FALSE))","v":6.6492200000000001E-2},{"$f":"IF(F1516=1,\"0\",VLOOKUP(F1516,coefficient2!$A$28:$B$31,2,FALSE))","v":0.29534929999999998},0.48096440000000001]
[33141,3,3,1,4,1,12,{"$f":"IF(B1517=1,\"0\",VLOOKUP(B1517,coefficient2!$A$4:$B$7,2,FALSE))","v":8.6562899999999998E-2},{"$f":"IF(C1517=1,\"0\",VLOOKUP(C1517,coefficient2!$A$10:$B$13,2,FALSE))","v":7.0631200000000005E-2},{"$f":"IF(D1517=1,\"0\",VLOOKUP(D1517,coefficient2!$A$16:$B$19,2,FALSE))","v":"0"},{"$f":"IF(E1517=1,\"0\",VLOOKUP(E1517,coefficient2!$A$22:$B$25,2,FALSE))","v":0.2068864},{"$f":"IF(F1517=1,\"0\",VLOOKUP(F1517,coefficient2!$A$28:$B$31,2,FALSE))","v":"0"},0.63591949999999997]
[33142,3,3,1,4,2,13,{"$f":"IF(B1518=1,\"0\",VLOOKUP(B1518,coefficient2!$A$4:$B$7,2,FALSE))","v":8.6562899999999998E-2},{"$f":"IF(C1518=1,\"0\",VLOOKUP(C1518,coefficient2!$A$10:$B$13,2,FALSE))","v":7.0631200000000005E-2},{"$f":"IF(D1518=1,\"0\",VLOOKUP(D1518,coefficient2!$A$16:$B$19,2,FALSE))","v":"0"},{"$f":"IF(E1518=1,\"0\",VLOOKUP(E1518,coefficient2!$A$22:$B$25,2,FALSE))","v":0.2068864},{"$f":"IF(F1518=1,\"0\",VLOOKUP(F1518,coefficient2!$A$28:$B$31,2,FALSE))","v":5.8085699999999997E-2},0.57783379999999995]
[33143,3,3,1,4,3,14,{"$f":"IF(B1519=1,\"0\",VLOOKUP(B1519,coefficient2!$A$4:$B$7,2,FALSE))","v":8.6562899999999998E-2},{"$f":"IF(C1519=1,\"0\",VLOOKUP(C1519,coefficient2!$A$10:$B$13,2,FALSE))","v":7.0631200000000005E-2},{"$f":"IF(D1519=1,\"0\",VLOOKUP(D1519,coefficient2!$A$16:$B$19,2,FALSE))","v":"0"},{"$f":"IF(E1519=1,\"0\",VLOOKUP(E1519,coefficient2!$A$22:$B$25,2,FALSE))","v":0.2068864},{"$f":"IF(F1519=1,\"0\",VLOOKUP(F1519,coefficient2!$A$28:$B$31,2,FALSE))","v":9.5753900000000003E-2},0.54016559999999991]
[33144,3,3,1,4,4,15,{"$f":"IF(B1520=1,\"0\",VLOOKUP(B1520,coefficient2!$A$4:$B$7,2,FALSE))","v":8.6562899999999998E-2},{"$f":"IF(C1520=1,\"0\",VLOOKUP(C1520,coefficient2!$A$10:$B$13,2,FALSE))","v":7.0631200000000005E-2},{"$f":"IF(D1520=1,\"0\",VLOOKUP(D1520,coefficient2!$A$16:$B$19,2,FALSE))","v":"0"},{"$f":"IF(E1520=1,\"0\",VLOOKUP(E1520,coefficient2!$A$22:$B$25,2,FALSE))","v":0.2068864},{"$f":"IF(F1520=1,\"0\",VLOOKUP(F1520,coefficient2!$A$28:$B$31,2,FALSE))","v":0.23270360000000001},0.40321589999999996]
[33145,3,3,1,4,5,16,{"$f":"IF(B1521=1,\"0\",VLOOKUP(B1521,coefficient2!$A$4:$B$7,2,FALSE))","v":8.6562899999999998E-2},{"$f":"IF(C1521=1,\"0\",VLOOKUP(C1521,coefficient2!$A$10:$B$13,2,FALSE))","v":7.0631200000000005E-2},{"$f":"IF(D1521=1,\"0\",VLOOKUP(D1521,coefficient2!$A$16:$B$19,2,FALSE))","v":"0"},{"$f":"IF(E1521=1,\"0\",VLOOKUP(E1521,coefficient2!$A$22:$B$25,2,FALSE))","v":0.2068864},{"$f":"IF(F1521=1,\"0\",VLOOKUP(F1521,coefficient2!$A$28:$B$31,2,FALSE))","v":0.29534929999999998},0.34057019999999999]
[33151,3,3,1,5,1,13,{"$f":"IF(B1522=1,\"0\",VLOOKUP(B1522,coefficient2!$A$4:$B$7,2,FALSE))","v":8.6562899999999998E-2},{"$f":"IF(C1522=1,\"0\",VLOOKUP(C1522,coefficient2!$A$10:$B$13,2,FALSE))","v":7.0631200000000005E-2},{"$f":"IF(D1522=1,\"0\",VLOOKUP(D1522,coefficient2!$A$16:$B$19,2,FALSE))","v":"0"},{"$f":"IF(E1522=1,\"0\",VLOOKUP(E1522,coefficient2!$A$22:$B$25,2,FALSE))","v":0.25643310000000002},{"$f":"IF(F1522=1,\"0\",VLOOKUP(F1522,coefficient2!$A$28:$B$31,2,FALSE))","v":"0"},0.58637279999999992]
[33152,3,3,1,5,2,14,{"$f":"IF(B1523=1,\"0\",VLOOKUP(B1523,coefficient2!$A$4:$B$7,2,FALSE))","v":8.6562899999999998E-2},{"$f":"IF(C1523=1,\"0\",VLOOKUP(C1523,coefficient2!$A$10:$B$13,2,FALSE))","v":7.0631200000000005E-2},{"$f":"IF(D1523=1,\"0\",VLOOKUP(D1523,coefficient2!$A$16:$B$19,2,FALSE))","v":"0"},{"$f":"IF(E1523=1,\"0\",VLOOKUP(E1523,coefficient2!$A$22:$B$25,2,FALSE))","v":0.25643310000000002},{"$f":"IF(F1523=1,\"0\",VLOOKUP(F1523,coefficient2!$A$28:$B$31,2,FALSE))","v":5.8085699999999997E-2},0.5282870999999999]
[33153,3,3,1,5,3,15,{"$f":"IF(B1524=1,\"0\",VLOOKUP(B1524,coefficient2!$A$4:$B$7,2,FALSE))","v":8.6562899999999998E-2},{"$f":"IF(C1524=1,\"0\",VLOOKUP(C1524,coefficient2!$A$10:$B$13,2,FALSE))","v":7.0631200000000005E-2},{"$f":"IF(D1524=1,\"0\",VLOOKUP(D1524,coefficient2!$A$16:$B$19,2,FALSE))","v":"0"},{"$f":"IF(E1524=1,\"0\",VLOOKUP(E1524,coefficient2!$A$22:$B$25,2,FALSE))","v":0.25643310000000002},{"$f":"IF(F1524=1,\"0\",VLOOKUP(F1524,coefficient2!$A$28:$B$31,2,FALSE))","v":9.5753900000000003E-2},0.49061889999999991]
[33154,3,3,1,5,4,16,{"$f":"IF(B1525=1,\"0\",VLOOKUP(B1525,coefficient2!$A$4:$B$7,2,FALSE))","v":8.6562899999999998E-2},{"$f":"IF(C1525=1,\"0\",VLOOKUP(C1525,coefficient2!$A$10:$B$13,2,FALSE))","v":7.0631200000000005E-2},{"$f":"IF(D1525=1,\"0\",VLOOKUP(D1525,coefficient2!$A$16:$B$19,2,FALSE))","v":"0"},{"$f":"IF(E1525=1,\"0\",VLOOKUP(E1525,coefficient2!$A$22:$B$25,2,FALSE))","v":0.25643310000000002},{"$f":"IF(F1525=1,\"0\",VLOOKUP(F1525,coefficient2!$A$28:$B$31,2,FALSE))","v":0.23270360000000001},0.35366919999999991]
[33155,3,3,1,5,5,17,{"$f":"IF(B1526=1,\"0\",VLOOKUP(B1526,coefficient2!$A$4:$B$7,2,FALSE))","v":8.6562899999999998E-2},{"$f":"IF(C1526=1,\"0\",VLOOKUP(C1526,coefficient2!$A$10:$B$13,2,FALSE))","v":7.0631200000000005E-2},{"$f":"IF(D1526=1,\"0\",VLOOKUP(D1526,coefficient2!$A$16:$B$19,2,FALSE))","v":"0"},{"$f":"IF(E1526=1,\"0\",VLOOKUP(E1526,coefficient2!$A$22:$B$25,2,FALSE))","v":0.25643310000000002},{"$f":"IF(F1526=1,\"0\",VLOOKUP(F1526,coefficient2!$A$28:$B$31,2,FALSE))","v":0.29534929999999998},0.29102349999999994]
[33211,3,3,2,1,1,10,{"$f":"IF(B1527=1,\"0\",VLOOKUP(B1527,coefficient2!$A$4:$B$7,2,FALSE))","v":8.6562899999999998E-2},{"$f":"IF(C1527=1,\"0\",VLOOKUP(C1527,coefficient2!$A$10:$B$13,2,FALSE))","v":7.0631200000000005E-2},{"$f":"IF(D1527=1,\"0\",VLOOKUP(D1527,coefficient2!$A$16:$B$19,2,FALSE))","v":5.8254399999999998E-2},{"$f":"IF(E1527=1,\"0\",VLOOKUP(E1527,coefficient2!$A$22:$B$25,2,FALSE))","v":"0"},{"$f":"IF(F1527=1,\"0\",VLOOKUP(F1527,coefficient2!$A$28:$B$31,2,FALSE))","v":"0"},0.78455149999999996]
[33212,3,3,2,1,2,11,{"$f":"IF(B1528=1,\"0\",VLOOKUP(B1528,coefficient2!$A$4:$B$7,2,FALSE))","v":8.6562899999999998E-2},{"$f":"IF(C1528=1,\"0\",VLOOKUP(C1528,coefficient2!$A$10:$B$13,2,FALSE))","v":7.0631200000000005E-2},{"$f":"IF(D1528=1,\"0\",VLOOKUP(D1528,coefficient2!$A$16:$B$19,2,FALSE))","v":5.8254399999999998E-2},{"$f":"IF(E1528=1,\"0\",VLOOKUP(E1528,coefficient2!$A$22:$B$25,2,FALSE))","v":"0"},{"$f":"IF(F1528=1,\"0\",VLOOKUP(F1528,coefficient2!$A$28:$B$31,2,FALSE))","v":5.8085699999999997E-2},0.72646579999999994]
[33213,3,3,2,1,3,12,{"$f":"IF(B1529=1,\"0\",VLOOKUP(B1529,coefficient2!$A$4:$B$7,2,FALSE))","v":8.6562899999999998E-2},{"$f":"IF(C1529=1,\"0\",VLOOKUP(C1529,coefficient2!$A$10:$B$13,2,FALSE))","v":7.0631200000000005E-2},{"$f":"IF(D1529=1,\"0\",VLOOKUP(D1529,coefficient2!$A$16:$B$19,2,FALSE))","v":5.8254399999999998E-2},{"$f":"IF(E1529=1,\"0\",VLOOKUP(E1529,coefficient2!$A$22:$B$25,2,FALSE))","v":"0"},{"$f":"IF(F1529=1,\"0\",VLOOKUP(F1529,coefficient2!$A$28:$B$31,2,FALSE))","v":9.5753900000000003E-2},0.68879760000000001]
[33214,3,3,2,1,4,13,{"$f":"IF(B1530=1,\"0\",VLOOKUP(B1530,coefficient2!$A$4:$B$7,2,FALSE))","v":8.6562899999999998E-2},{"$f":"IF(C1530=1,\"0\",VLOOKUP(C1530,coefficient2!$A$10:$B$13,2,FALSE))","v":7.0631200000000005E-2},{"$f":"IF(D1530=1,\"0\",VLOOKUP(D1530,coefficient2!$A$16:$B$19,2,FALSE))","v":5.8254399999999998E-2},{"$f":"IF(E1530=1,\"0\",VLOOKUP(E1530,coefficient2!$A$22:$B$25,2,FALSE))","v":"0"},{"$f":"IF(F1530=1,\"0\",VLOOKUP(F1530,coefficient2!$A$28:$B$31,2,FALSE))","v":0.23270360000000001},0.55184789999999995]
[33215,3,3,2,1,5,14,{"$f":"IF(B1531=1,\"0\",VLOOKUP(B1531,coefficient2!$A$4:$B$7,2,FALSE))","v":8.6562899999999998E-2},{"$f":"IF(C1531=1,\"0\",VLOOKUP(C1531,coefficient2!$A$10:$B$13,2,FALSE))","v":7.0631200000000005E-2},{"$f":"IF(D1531=1,\"0\",VLOOKUP(D1531,coefficient2!$A$16:$B$19,2,FALSE))","v":5.8254399999999998E-2},{"$f":"IF(E1531=1,\"0\",VLOOKUP(E1531,coefficient2!$A$22:$B$25,2,FALSE))","v":"0"},{"$f":"IF(F1531=1,\"0\",VLOOKUP(F1531,coefficient2!$A$28:$B$31,2,FALSE))","v":0.29534929999999998},0.48920219999999998]
[33221,3,3,2,2,1,11,{"$f":"IF(B1532=1,\"0\",VLOOKUP(B1532,coefficient2!$A$4:$B$7,2,FALSE))","v":8.6562899999999998E-2},{"$f":"IF(C1532=1,\"0\",VLOOKUP(C1532,coefficient2!$A$10:$B$13,2,FALSE))","v":7.0631200000000005E-2},{"$f":"IF(D1532=1,\"0\",VLOOKUP(D1532,coefficient2!$A$16:$B$19,2,FALSE))","v":5.8254399999999998E-2},{"$f":"IF(E1532=1,\"0\",VLOOKUP(E1532,coefficient2!$A$22:$B$25,2,FALSE))","v":5.63998E-2},{"$f":"IF(F1532=1,\"0\",VLOOKUP(F1532,coefficient2!$A$28:$B$31,2,FALSE))","v":"0"},0.72815169999999996]
[33222,3,3,2,2,2,12,{"$f":"IF(B1533=1,\"0\",VLOOKUP(B1533,coefficient2!$A$4:$B$7,2,FALSE))","v":8.6562899999999998E-2},{"$f":"IF(C1533=1,\"0\",VLOOKUP(C1533,coefficient2!$A$10:$B$13,2,FALSE))","v":7.0631200000000005E-2},{"$f":"IF(D1533=1,\"0\",VLOOKUP(D1533,coefficient2!$A$16:$B$19,2,FALSE))","v":5.8254399999999998E-2},{"$f":"IF(E1533=1,\"0\",VLOOKUP(E1533,coefficient2!$A$22:$B$25,2,FALSE))","v":5.63998E-2},{"$f":"IF(F1533=1,\"0\",VLOOKUP(F1533,coefficient2!$A$28:$B$31,2,FALSE))","v":5.8085699999999997E-2},0.67006599999999994]
[33223,3,3,2,2,3,13,{"$f":"IF(B1534=1,\"0\",VLOOKUP(B1534,coefficient2!$A$4:$B$7,2,FALSE))","v":8.6562899999999998E-2},{"$f":"IF(C1534=1,\"0\",VLOOKUP(C1534,coefficient2!$A$10:$B$13,2,FALSE))","v":7.0631200000000005E-2},{"$f":"IF(D1534=1,\"0\",VLOOKUP(D1534,coefficient2!$A$16:$B$19,2,FALSE))","v":5.8254399999999998E-2},{"$f":"IF(E1534=1,\"0\",VLOOKUP(E1534,coefficient2!$A$22:$B$25,2,FALSE))","v":5.63998E-2},{"$f":"IF(F1534=1,\"0\",VLOOKUP(F1534,coefficient2!$A$28:$B$31,2,FALSE))","v":9.5753900000000003E-2},0.6323977999999999]
[33224,3,3,2,2,4,14,{"$f":"IF(B1535=1,\"0\",VLOOKUP(B1535,coefficient2!$A$4:$B$7,2,FALSE))","v":8.6562899999999998E-2},{"$f":"IF(C1535=1,\"0\",VLOOKUP(C1535,coefficient2!$A$10:$B$13,2,FALSE))","v":7.0631200000000005E-2},{"$f":"IF(D1535=1,\"0\",VLOOKUP(D1535,coefficient2!$A$16:$B$19,2,FALSE))","v":5.8254399999999998E-2},{"$f":"IF(E1535=1,\"0\",VLOOKUP(E1535,coefficient2!$A$22:$B$25,2,FALSE))","v":5.63998E-2},{"$f":"IF(F1535=1,\"0\",VLOOKUP(F1535,coefficient2!$A$28:$B$31,2,FALSE))","v":0.23270360000000001},0.49544809999999995]
[33225,3,3,2,2,5,15,{"$f":"IF(B1536=1,\"0\",VLOOKUP(B1536,coefficient2!$A$4:$B$7,2,FALSE))","v":8.6562899999999998E-2},{"$f":"IF(C1536=1,\"0\",VLOOKUP(C1536,coefficient2!$A$10:$B$13,2,FALSE))","v":7.0631200000000005E-2},{"$f":"IF(D1536=1,\"0\",VLOOKUP(D1536,coefficient2!$A$16:$B$19,2,FALSE))","v":5.8254399999999998E-2},{"$f":"IF(E1536=1,\"0\",VLOOKUP(E1536,coefficient2!$A$22:$B$25,2,FALSE))","v":5.63998E-2},{"$f":"IF(F1536=1,\"0\",VLOOKUP(F1536,coefficient2!$A$28:$B$31,2,FALSE))","v":0.29534929999999998},0.43280239999999998]
[33231,3,3,2,3,1,12,{"$f":"IF(B1537=1,\"0\",VLOOKUP(B1537,coefficient2!$A$4:$B$7,2,FALSE))","v":8.6562899999999998E-2},{"$f":"IF(C1537=1,\"0\",VLOOKUP(C1537,coefficient2!$A$10:$B$13,2,FALSE))","v":7.0631200000000005E-2},{"$f":"IF(D1537=1,\"0\",VLOOKUP(D1537,coefficient2!$A$16:$B$19,2,FALSE))","v":5.8254399999999998E-2},{"$f":"IF(E1537=1,\"0\",VLOOKUP(E1537,coefficient2!$A$22:$B$25,2,FALSE))","v":6.6492200000000001E-2},{"$f":"IF(F1537=1,\"0\",VLOOKUP(F1537,coefficient2!$A$28:$B$31,2,FALSE))","v":"0"},0.71805929999999996]
[33232,3,3,2,3,2,13,{"$f":"IF(B1538=1,\"0\",VLOOKUP(B1538,coefficient2!$A$4:$B$7,2,FALSE))","v":8.6562899999999998E-2},{"$f":"IF(C1538=1,\"0\",VLOOKUP(C1538,coefficient2!$A$10:$B$13,2,FALSE))","v":7.0631200000000005E-2},{"$f":"IF(D1538=1,\"0\",VLOOKUP(D1538,coefficient2!$A$16:$B$19,2,FALSE))","v":5.8254399999999998E-2},{"$f":"IF(E1538=1,\"0\",VLOOKUP(E1538,coefficient2!$A$22:$B$25,2,FALSE))","v":6.6492200000000001E-2},{"$f":"IF(F1538=1,\"0\",VLOOKUP(F1538,coefficient2!$A$28:$B$31,2,FALSE))","v":5.8085699999999997E-2},{"$f":"1-H1538-I1538-J1538-K1538-L1538","v":0.65997359999999994}]
[33233,{"$f":"INT(LEFT(A1539,1))","v":3},{"$f":"INT(MID(A1539,2,1))","v":3},{"$f":"INT(MID(A1539,3,1))","v":2},{"$f":"INT(MID(A1539,4,1))","v":3},{"$f":"INT(RIGHT(A1539,1))","v":3},{"$f":"SUM(B1539:F1539)","v":14},{"$f":"IF(B1539=1,\"0\",VLOOKUP(B1539,coefficient2!$A$4:$B$7,2,FALSE))","v":8.6562899999999998E-2},{"$f":"IF(C1539=1,\"0\",VLOOKUP(C1539,coefficient2!$A$10:$B$13,2,FALSE))","v":7.0631200000000005E-2},{"$f":"IF(D1539=1,\"0\",VLOOKUP(D1539,coefficient2!$A$16:$B$19,2,FALSE))","v":5.8254399999999998E-2},{"$f":"IF(E1539=1,\"0\",VLOOKUP(E1539,coefficient2!$A$22:$B$25,2,FALSE))","v":6.6492200000000001E-2},{"$f":"IF(F1539=1,\"0\",VLOOKUP(F1539,coefficient2!$A$28:$B$31,2,FALSE))","v":9.5753900000000003E-2},0.6223053999999999]
[33234,3,3,2,3,4,15,{"$f":"IF(B1540=1,\"0\",VLOOKUP(B1540,coefficient2!$A$4:$B$7,2,FALSE))","v":8.6562899999999998E-2},{"$f":"IF(C1540=1,\"0\",VLOOKUP(C1540,coefficient2!$A$10:$B$13,2,FALSE))","v":7.0631200000000005E-2},{"$f":"IF(D1540=1,\"0\",VLOOKUP(D1540,coefficient2!$A$16:$B$19,2,FALSE))","v":5.8254399999999998E-2},{"$f":"IF(E1540=1,\"0\",VLOOKUP(E1540,coefficient2!$A$22:$B$25,2,FALSE))","v":6.6492200000000001E-2},{"$f":"IF(F1540=1,\"0\",VLOOKUP(F1540,coefficient2!$A$28:$B$31,2,FALSE))","v":0.23270360000000001},0.48535569999999995]
[33235,3,3,2,3,5,16,{"$f":"IF(B1541=1,\"0\",VLOOKUP(B1541,coefficient2!$A$4:$B$7,2,FALSE))","v":8.6562899999999998E-2},{"$f":"IF(C1541=1,\"0\",VLOOKUP(C1541,coefficient2!$A$10:$B$13,2,FALSE))","v":7.0631200000000005E-2},{"$f":"IF(D1541=1,\"0\",VLOOKUP(D1541,coefficient2!$A$16:$B$19,2,FALSE))","v":5.8254399999999998E-2},{"$f":"IF(E1541=1,\"0\",VLOOKUP(E1541,coefficient2!$A$22:$B$25,2,FALSE))","v":6.6492200000000001E-2},{"$f":"IF(F1541=1,\"0\",VLOOKUP(F1541,coefficient2!$A$28:$B$31,2,FALSE))","v":0.29534929999999998},0.42270999999999997]
[33241,3,3,2,4,1,13,{"$f":"IF(B1542=1,\"0\",VLOOKUP(B1542,coefficient2!$A$4:$B$7,2,FALSE))","v":8.6562899999999998E-2},{"$f":"IF(C1542=1,\"0\",VLOOKUP(C1542,coefficient2!$A$10:$B$13,2,FALSE))","v":7.0631200000000005E-2},{"$f":"IF(D1542=1,\"0\",VLOOKUP(D1542,coefficient2!$A$16:$B$19,2,FALSE))","v":5.8254399999999998E-2},{"$f":"IF(E1542=1,\"0\",VLOOKUP(E1542,coefficient2!$A$22:$B$25,2,FALSE))","v":0.2068864},{"$f":"IF(F1542=1,\"0\",VLOOKUP(F1542,coefficient2!$A$28:$B$31,2,FALSE))","v":"0"},0.57766509999999993]
[33242,3,3,2,4,2,14,{"$f":"IF(B1543=1,\"0\",VLOOKUP(B1543,coefficient2!$A$4:$B$7,2,FALSE))","v":8.6562899999999998E-2},{"$f":"IF(C1543=1,\"0\",VLOOKUP(C1543,coefficient2!$A$10:$B$13,2,FALSE))","v":7.0631200000000005E-2},{"$f":"IF(D1543=1,\"0\",VLOOKUP(D1543,coefficient2!$A$16:$B$19,2,FALSE))","v":5.8254399999999998E-2},{"$f":"IF(E1543=1,\"0\",VLOOKUP(E1543,coefficient2!$A$22:$B$25,2,FALSE))","v":0.2068864},{"$f":"IF(F1543=1,\"0\",VLOOKUP(F1543,coefficient2!$A$28:$B$31,2,FALSE))","v":5.8085699999999997E-2},0.51957939999999991]
[33243,3,3,2,4,3,15,{"$f":"IF(B1544=1,\"0\",VLOOKUP(B1544,coefficient2!$A$4:$B$7,2,FALSE))","v":8.6562899999999998E-2},{"$f":"IF(C1544=1,\"0\",VLOOKUP(C1544,coefficient2!$A$10:$B$13,2,FALSE))","v":7.0631200000000005E-2},{"$f":"IF(D1544=1,\"0\",VLOOKUP(D1544,coefficient2!$A$16:$B$19,2,FALSE))","v":5.8254399999999998E-2},{"$f":"IF(E1544=1,\"0\",VLOOKUP(E1544,coefficient2!$A$22:$B$25,2,FALSE))","v":0.2068864},{"$f":"IF(F1544=1,\"0\",VLOOKUP(F1544,coefficient2!$A$28:$B$31,2,FALSE))","v":9.5753900000000003E-2},0.48191119999999993]
[33244,3,3,2,4,4,16,{"$f":"IF(B1545=1,\"0\",VLOOKUP(B1545,coefficient2!$A$4:$B$7,2,FALSE))","v":8.6562899999999998E-2},{"$f":"IF(C1545=1,\"0\",VLOOKUP(C1545,coefficient2!$A$10:$B$13,2,FALSE))","v":7.0631200000000005E-2},{"$f":"IF(D1545=1,\"0\",VLOOKUP(D1545,coefficient2!$A$16:$B$19,2,FALSE))","v":5.8254399999999998E-2},{"$f":"IF(E1545=1,\"0\",VLOOKUP(E1545,coefficient2!$A$22:$B$25,2,FALSE))","v":0.2068864},{"$f":"IF(F1545=1,\"0\",VLOOKUP(F1545,coefficient2!$A$28:$B$31,2,FALSE))","v":0.23270360000000001},0.34496149999999992]
[33245,3,3,2,4,5,17,{"$f":"IF(B1546=1,\"0\",VLOOKUP(B1546,coefficient2!$A$4:$B$7,2,FALSE))","v":8.6562899999999998E-2},{"$f":"IF(C1546=1,\"0\",VLOOKUP(C1546,coefficient2!$A$10:$B$13,2,FALSE))","v":7.0631200000000005E-2},{"$f":"IF(D1546=1,\"0\",VLOOKUP(D1546,coefficient2!$A$16:$B$19,2,FALSE))","v":5.8254399999999998E-2},{"$f":"IF(E1546=1,\"0\",VLOOKUP(E1546,coefficient2!$A$22:$B$25,2,FALSE))","v":0.2068864},{"$f":"IF(F1546=1,\"0\",VLOOKUP(F1546,coefficient2!$A$28:$B$31,2,FALSE))","v":0.29534929999999998},0.28231579999999995]
[33251,3,3,2,5,1,14,{"$f":"IF(B1547=1,\"0\",VLOOKUP(B1547,coefficient2!$A$4:$B$7,2,FALSE))","v":8.6562899999999998E-2},{"$f":"IF(C1547=1,\"0\",VLOOKUP(C1547,coefficient2!$A$10:$B$13,2,FALSE))","v":7.0631200000000005E-2},{"$f":"IF(D1547=1,\"0\",VLOOKUP(D1547,coefficient2!$A$16:$B$19,2,FALSE))","v":5.8254399999999998E-2},{"$f":"IF(E1547=1,\"0\",VLOOKUP(E1547,coefficient2!$A$22:$B$25,2,FALSE))","v":0.25643310000000002},{"$f":"IF(F1547=1,\"0\",VLOOKUP(F1547,coefficient2!$A$28:$B$31,2,FALSE))","v":"0"},0.52811839999999988]
[33252,3,3,2,5,2,15,{"$f":"IF(B1548=1,\"0\",VLOOKUP(B1548,coefficient2!$A$4:$B$7,2,FALSE))","v":8.6562899999999998E-2},{"$f":"IF(C1548=1,\"0\",VLOOKUP(C1548,coefficient2!$A$10:$B$13,2,FALSE))","v":7.0631200000000005E-2},{"$f":"IF(D1548=1,\"0\",VLOOKUP(D1548,coefficient2!$A$16:$B$19,2,FALSE))","v":5.8254399999999998E-2},{"$f":"IF(E1548=1,\"0\",VLOOKUP(E1548,coefficient2!$A$22:$B$25,2,FALSE))","v":0.25643310000000002},{"$f":"IF(F1548=1,\"0\",VLOOKUP(F1548,coefficient2!$A$28:$B$31,2,FALSE))","v":5.8085699999999997E-2},0.47003269999999986]
[33253,3,3,2,5,3,16,{"$f":"IF(B1549=1,\"0\",VLOOKUP(B1549,coefficient2!$A$4:$B$7,2,FALSE))","v":8.6562899999999998E-2},{"$f":"IF(C1549=1,\"0\",VLOOKUP(C1549,coefficient2!$A$10:$B$13,2,FALSE))","v":7.0631200000000005E-2},{"$f":"IF(D1549=1,\"0\",VLOOKUP(D1549,coefficient2!$A$16:$B$19,2,FALSE))","v":5.8254399999999998E-2},{"$f":"IF(E1549=1,\"0\",VLOOKUP(E1549,coefficient2!$A$22:$B$25,2,FALSE))","v":0.25643310000000002},{"$f":"IF(F1549=1,\"0\",VLOOKUP(F1549,coefficient2!$A$28:$B$31,2,FALSE))","v":9.5753900000000003E-2},0.43236449999999987]
[33254,3,3,2,5,4,17,{"$f":"IF(B1550=1,\"0\",VLOOKUP(B1550,coefficient2!$A$4:$B$7,2,FALSE))","v":8.6562899999999998E-2},{"$f":"IF(C1550=1,\"0\",VLOOKUP(C1550,coefficient2!$A$10:$B$13,2,FALSE))","v":7.0631200000000005E-2},{"$f":"IF(D1550=1,\"0\",VLOOKUP(D1550,coefficient2!$A$16:$B$19,2,FALSE))","v":5.8254399999999998E-2},{"$f":"IF(E1550=1,\"0\",VLOOKUP(E1550,coefficient2!$A$22:$B$25,2,FALSE))","v":0.25643310000000002},{"$f":"IF(F1550=1,\"0\",VLOOKUP(F1550,coefficient2!$A$28:$B$31,2,FALSE))","v":0.23270360000000001},0.29541479999999987]
[33255,3,3,2,5,5,18,{"$f":"IF(B1551=1,\"0\",VLOOKUP(B1551,coefficient2!$A$4:$B$7,2,FALSE))","v":8.6562899999999998E-2},{"$f":"IF(C1551=1,\"0\",VLOOKUP(C1551,coefficient2!$A$10:$B$13,2,FALSE))","v":7.0631200000000005E-2},{"$f":"IF(D1551=1,\"0\",VLOOKUP(D1551,coefficient2!$A$16:$B$19,2,FALSE))","v":5.8254399999999998E-2},{"$f":"IF(E1551=1,\"0\",VLOOKUP(E1551,coefficient2!$A$22:$B$25,2,FALSE))","v":0.25643310000000002},{"$f":"IF(F1551=1,\"0\",VLOOKUP(F1551,coefficient2!$A$28:$B$31,2,FALSE))","v":0.29534929999999998},0.2327690999999999]
[33311,3,3,3,1,1,11,{"$f":"IF(B1552=1,\"0\",VLOOKUP(B1552,coefficient2!$A$4:$B$7,2,FALSE))","v":8.6562899999999998E-2},{"$f":"IF(C1552=1,\"0\",VLOOKUP(C1552,coefficient2!$A$10:$B$13,2,FALSE))","v":7.0631200000000005E-2},{"$f":"IF(D1552=1,\"0\",VLOOKUP(D1552,coefficient2!$A$16:$B$19,2,FALSE))","v":7.1197399999999994E-2},{"$f":"IF(E1552=1,\"0\",VLOOKUP(E1552,coefficient2!$A$22:$B$25,2,FALSE))","v":"0"},{"$f":"IF(F1552=1,\"0\",VLOOKUP(F1552,coefficient2!$A$28:$B$31,2,FALSE))","v":"0"},0.77160850000000003]
[33312,3,3,3,1,2,12,{"$f":"IF(B1553=1,\"0\",VLOOKUP(B1553,coefficient2!$A$4:$B$7,2,FALSE))","v":8.6562899999999998E-2},{"$f":"IF(C1553=1,\"0\",VLOOKUP(C1553,coefficient2!$A$10:$B$13,2,FALSE))","v":7.0631200000000005E-2},{"$f":"IF(D1553=1,\"0\",VLOOKUP(D1553,coefficient2!$A$16:$B$19,2,FALSE))","v":7.1197399999999994E-2},{"$f":"IF(E1553=1,\"0\",VLOOKUP(E1553,coefficient2!$A$22:$B$25,2,FALSE))","v":"0"},{"$f":"IF(F1553=1,\"0\",VLOOKUP(F1553,coefficient2!$A$28:$B$31,2,FALSE))","v":5.8085699999999997E-2},0.71352280000000001]
[33313,3,3,3,1,3,13,{"$f":"IF(B1554=1,\"0\",VLOOKUP(B1554,coefficient2!$A$4:$B$7,2,FALSE))","v":8.6562899999999998E-2},{"$f":"IF(C1554=1,\"0\",VLOOKUP(C1554,coefficient2!$A$10:$B$13,2,FALSE))","v":7.0631200000000005E-2},{"$f":"IF(D1554=1,\"0\",VLOOKUP(D1554,coefficient2!$A$16:$B$19,2,FALSE))","v":7.1197399999999994E-2},{"$f":"IF(E1554=1,\"0\",VLOOKUP(E1554,coefficient2!$A$22:$B$25,2,FALSE))","v":"0"},{"$f":"IF(F1554=1,\"0\",VLOOKUP(F1554,coefficient2!$A$28:$B$31,2,FALSE))","v":9.5753900000000003E-2},0.67585460000000008]
[33314,3,3,3,1,4,14,{"$f":"IF(B1555=1,\"0\",VLOOKUP(B1555,coefficient2!$A$4:$B$7,2,FALSE))","v":8.6562899999999998E-2},{"$f":"IF(C1555=1,\"0\",VLOOKUP(C1555,coefficient2!$A$10:$B$13,2,FALSE))","v":7.0631200000000005E-2},{"$f":"IF(D1555=1,\"0\",VLOOKUP(D1555,coefficient2!$A$16:$B$19,2,FALSE))","v":7.1197399999999994E-2},{"$f":"IF(E1555=1,\"0\",VLOOKUP(E1555,coefficient2!$A$22:$B$25,2,FALSE))","v":"0"},{"$f":"IF(F1555=1,\"0\",VLOOKUP(F1555,coefficient2!$A$28:$B$31,2,FALSE))","v":0.23270360000000001},0.53890490000000002]
[33315,3,3,3,1,5,15,{"$f":"IF(B1556=1,\"0\",VLOOKUP(B1556,coefficient2!$A$4:$B$7,2,FALSE))","v":8.6562899999999998E-2},{"$f":"IF(C1556=1,\"0\",VLOOKUP(C1556,coefficient2!$A$10:$B$13,2,FALSE))","v":7.0631200000000005E-2},{"$f":"IF(D1556=1,\"0\",VLOOKUP(D1556,coefficient2!$A$16:$B$19,2,FALSE))","v":7.1197399999999994E-2},{"$f":"IF(E1556=1,\"0\",VLOOKUP(E1556,coefficient2!$A$22:$B$25,2,FALSE))","v":"0"},{"$f":"IF(F1556=1,\"0\",VLOOKUP(F1556,coefficient2!$A$28:$B$31,2,FALSE))","v":0.29534929999999998},0.47625920000000005]
[33321,3,3,3,2,1,12,{"$f":"IF(B1557=1,\"0\",VLOOKUP(B1557,coefficient2!$A$4:$B$7,2,FALSE))","v":8.6562899999999998E-2},{"$f":"IF(C1557=1,\"0\",VLOOKUP(C1557,coefficient2!$A$10:$B$13,2,FALSE))","v":7.0631200000000005E-2},{"$f":"IF(D1557=1,\"0\",VLOOKUP(D1557,coefficient2!$A$16:$B$19,2,FALSE))","v":7.1197399999999994E-2},{"$f":"IF(E1557=1,\"0\",VLOOKUP(E1557,coefficient2!$A$22:$B$25,2,FALSE))","v":5.63998E-2},{"$f":"IF(F1557=1,\"0\",VLOOKUP(F1557,coefficient2!$A$28:$B$31,2,FALSE))","v":"0"},0.71520870000000003]
[33322,3,3,3,2,2,13,{"$f":"IF(B1558=1,\"0\",VLOOKUP(B1558,coefficient2!$A$4:$B$7,2,FALSE))","v":8.6562899999999998E-2},{"$f":"IF(C1558=1,\"0\",VLOOKUP(C1558,coefficient2!$A$10:$B$13,2,FALSE))","v":7.0631200000000005E-2},{"$f":"IF(D1558=1,\"0\",VLOOKUP(D1558,coefficient2!$A$16:$B$19,2,FALSE))","v":7.1197399999999994E-2},{"$f":"IF(E1558=1,\"0\",VLOOKUP(E1558,coefficient2!$A$22:$B$25,2,FALSE))","v":5.63998E-2},{"$f":"IF(F1558=1,\"0\",VLOOKUP(F1558,coefficient2!$A$28:$B$31,2,FALSE))","v":5.8085699999999997E-2},0.65712300000000001]
[33323,3,3,3,2,3,14,{"$f":"IF(B1559=1,\"0\",VLOOKUP(B1559,coefficient2!$A$4:$B$7,2,FALSE))","v":8.6562899999999998E-2},{"$f":"IF(C1559=1,\"0\",VLOOKUP(C1559,coefficient2!$A$10:$B$13,2,FALSE))","v":7.0631200000000005E-2},{"$f":"IF(D1559=1,\"0\",VLOOKUP(D1559,coefficient2!$A$16:$B$19,2,FALSE))","v":7.1197399999999994E-2},{"$f":"IF(E1559=1,\"0\",VLOOKUP(E1559,coefficient2!$A$22:$B$25,2,FALSE))","v":5.63998E-2},{"$f":"IF(F1559=1,\"0\",VLOOKUP(F1559,coefficient2!$A$28:$B$31,2,FALSE))","v":9.5753900000000003E-2},0.61945479999999997]
[33324,3,3,3,2,4,15,{"$f":"IF(B1560=1,\"0\",VLOOKUP(B1560,coefficient2!$A$4:$B$7,2,FALSE))","v":8.6562899999999998E-2},{"$f":"IF(C1560=1,\"0\",VLOOKUP(C1560,coefficient2!$A$10:$B$13,2,FALSE))","v":7.0631200000000005E-2},{"$f":"IF(D1560=1,\"0\",VLOOKUP(D1560,coefficient2!$A$16:$B$19,2,FALSE))","v":7.1197399999999994E-2},{"$f":"IF(E1560=1,\"0\",VLOOKUP(E1560,coefficient2!$A$22:$B$25,2,FALSE))","v":5.63998E-2},{"$f":"IF(F1560=1,\"0\",VLOOKUP(F1560,coefficient2!$A$28:$B$31,2,FALSE))","v":0.23270360000000001},0.48250510000000002]
[33325,3,3,3,2,5,16,{"$f":"IF(B1561=1,\"0\",VLOOKUP(B1561,coefficient2!$A$4:$B$7,2,FALSE))","v":8.6562899999999998E-2},{"$f":"IF(C1561=1,\"0\",VLOOKUP(C1561,coefficient2!$A$10:$B$13,2,FALSE))","v":7.0631200000000005E-2},{"$f":"IF(D1561=1,\"0\",VLOOKUP(D1561,coefficient2!$A$16:$B$19,2,FALSE))","v":7.1197399999999994E-2},{"$f":"IF(E1561=1,\"0\",VLOOKUP(E1561,coefficient2!$A$22:$B$25,2,FALSE))","v":5.63998E-2},{"$f":"IF(F1561=1,\"0\",VLOOKUP(F1561,coefficient2!$A$28:$B$31,2,FALSE))","v":0.29534929999999998},0.41985940000000005]
[33331,3,3,3,3,1,13,{"$f":"IF(B1562=1,\"0\",VLOOKUP(B1562,coefficient2!$A$4:$B$7,2,FALSE))","v":8.6562899999999998E-2},{"$f":"IF(C1562=1,\"0\",VLOOKUP(C1562,coefficient2!$A$10:$B$13,2,FALSE))","v":7.0631200000000005E-2},{"$f":"IF(D1562=1,\"0\",VLOOKUP(D1562,coefficient2!$A$16:$B$19,2,FALSE))","v":7.1197399999999994E-2},{"$f":"IF(E1562=1,\"0\",VLOOKUP(E1562,coefficient2!$A$22:$B$25,2,FALSE))","v":6.6492200000000001E-2},{"$f":"IF(F1562=1,\"0\",VLOOKUP(F1562,coefficient2!$A$28:$B$31,2,FALSE))","v":"0"},0.70511630000000003]
[33332,3,3,3,3,2,14,{"$f":"IF(B1563=1,\"0\",VLOOKUP(B1563,coefficient2!$A$4:$B$7,2,FALSE))","v":8.6562899999999998E-2},{"$f":"IF(C1563=1,\"0\",VLOOKUP(C1563,coefficient2!$A$10:$B$13,2,FALSE))","v":7.0631200000000005E-2},{"$f":"IF(D1563=1,\"0\",VLOOKUP(D1563,coefficient2!$A$16:$B$19,2,FALSE))","v":7.1197399999999994E-2},{"$f":"IF(E1563=1,\"0\",VLOOKUP(E1563,coefficient2!$A$22:$B$25,2,FALSE))","v":6.6492200000000001E-2},{"$f":"IF(F1563=1,\"0\",VLOOKUP(F1563,coefficient2!$A$28:$B$31,2,FALSE))","v":5.8085699999999997E-2},0.64703060000000001]
[33333,3,3,3,3,3,15,{"$f":"IF(B1564=1,\"0\",VLOOKUP(B1564,coefficient2!$A$4:$B$7,2,FALSE))","v":8.6562899999999998E-2},{"$f":"IF(C1564=1,\"0\",VLOOKUP(C1564,coefficient2!$A$10:$B$13,2,FALSE))","v":7.0631200000000005E-2},{"$f":"IF(D1564=1,\"0\",VLOOKUP(D1564,coefficient2!$A$16:$B$19,2,FALSE))","v":7.1197399999999994E-2},{"$f":"IF(E1564=1,\"0\",VLOOKUP(E1564,coefficient2!$A$22:$B$25,2,FALSE))","v":6.6492200000000001E-2},{"$f":"IF(F1564=1,\"0\",VLOOKUP(F1564,coefficient2!$A$28:$B$31,2,FALSE))","v":9.5753900000000003E-2},0.60936239999999997]
[33334,3,3,3,3,4,16,{"$f":"IF(B1565=1,\"0\",VLOOKUP(B1565,coefficient2!$A$4:$B$7,2,FALSE))","v":8.6562899999999998E-2},{"$f":"IF(C1565=1,\"0\",VLOOKUP(C1565,coefficient2!$A$10:$B$13,2,FALSE))","v":7.0631200000000005E-2},{"$f":"IF(D1565=1,\"0\",VLOOKUP(D1565,coefficient2!$A$16:$B$19,2,FALSE))","v":7.1197399999999994E-2},{"$f":"IF(E1565=1,\"0\",VLOOKUP(E1565,coefficient2!$A$22:$B$25,2,FALSE))","v":6.6492200000000001E-2},{"$f":"IF(F1565=1,\"0\",VLOOKUP(F1565,coefficient2!$A$28:$B$31,2,FALSE))","v":0.23270360000000001},0.47241270000000002]
[33335,3,3,3,3,5,17,{"$f":"IF(B1566=1,\"0\",VLOOKUP(B1566,coefficient2!$A$4:$B$7,2,FALSE))","v":8.6562899999999998E-2},{"$f":"IF(C1566=1,\"0\",VLOOKUP(C1566,coefficient2!$A$10:$B$13,2,FALSE))","v":7.0631200000000005E-2},{"$f":"IF(D1566=1,\"0\",VLOOKUP(D1566,coefficient2!$A$16:$B$19,2,FALSE))","v":7.1197399999999994E-2},{"$f":"IF(E1566=1,\"0\",VLOOKUP(E1566,coefficient2!$A$22:$B$25,2,FALSE))","v":6.6492200000000001E-2},{"$f":"IF(F1566=1,\"0\",VLOOKUP(F1566,coefficient2!$A$28:$B$31,2,FALSE))","v":0.29534929999999998},0.40976700000000005]
[33341,3,3,3,4,1,14,{"$f":"IF(B1567=1,\"0\",VLOOKUP(B1567,coefficient2!$A$4:$B$7,2,FALSE))","v":8.6562899999999998E-2},{"$f":"IF(C1567=1,\"0\",VLOOKUP(C1567,coefficient2!$A$10:$B$13,2,FALSE))","v":7.0631200000000005E-2},{"$f":"IF(D1567=1,\"0\",VLOOKUP(D1567,coefficient2!$A$16:$B$19,2,FALSE))","v":7.1197399999999994E-2},{"$f":"IF(E1567=1,\"0\",VLOOKUP(E1567,coefficient2!$A$22:$B$25,2,FALSE))","v":0.2068864},{"$f":"IF(F1567=1,\"0\",VLOOKUP(F1567,coefficient2!$A$28:$B$31,2,FALSE))","v":"0"},0.5647221]
[33342,3,3,3,4,2,15,{"$f":"IF(B1568=1,\"0\",VLOOKUP(B1568,coefficient2!$A$4:$B$7,2,FALSE))","v":8.6562899999999998E-2},{"$f":"IF(C1568=1,\"0\",VLOOKUP(C1568,coefficient2!$A$10:$B$13,2,FALSE))","v":7.0631200000000005E-2},{"$f":"IF(D1568=1,\"0\",VLOOKUP(D1568,coefficient2!$A$16:$B$19,2,FALSE))","v":7.1197399999999994E-2},{"$f":"IF(E1568=1,\"0\",VLOOKUP(E1568,coefficient2!$A$22:$B$25,2,FALSE))","v":0.2068864},{"$f":"IF(F1568=1,\"0\",VLOOKUP(F1568,coefficient2!$A$28:$B$31,2,FALSE))","v":5.8085699999999997E-2},0.50663639999999999]
[33343,3,3,3,4,3,16,{"$f":"IF(B1569=1,\"0\",VLOOKUP(B1569,coefficient2!$A$4:$B$7,2,FALSE))","v":8.6562899999999998E-2},{"$f":"IF(C1569=1,\"0\",VLOOKUP(C1569,coefficient2!$A$10:$B$13,2,FALSE))","v":7.0631200000000005E-2},{"$f":"IF(D1569=1,\"0\",VLOOKUP(D1569,coefficient2!$A$16:$B$19,2,FALSE))","v":7.1197399999999994E-2},{"$f":"IF(E1569=1,\"0\",VLOOKUP(E1569,coefficient2!$A$22:$B$25,2,FALSE))","v":0.2068864},{"$f":"IF(F1569=1,\"0\",VLOOKUP(F1569,coefficient2!$A$28:$B$31,2,FALSE))","v":9.5753900000000003E-2},0.4689682]
[33344,3,3,3,4,4,17,{"$f":"IF(B1570=1,\"0\",VLOOKUP(B1570,coefficient2!$A$4:$B$7,2,FALSE))","v":8.6562899999999998E-2},{"$f":"IF(C1570=1,\"0\",VLOOKUP(C1570,coefficient2!$A$10:$B$13,2,FALSE))","v":7.0631200000000005E-2},{"$f":"IF(D1570=1,\"0\",VLOOKUP(D1570,coefficient2!$A$16:$B$19,2,FALSE))","v":7.1197399999999994E-2},{"$f":"IF(E1570=1,\"0\",VLOOKUP(E1570,coefficient2!$A$22:$B$25,2,FALSE))","v":0.2068864},{"$f":"IF(F1570=1,\"0\",VLOOKUP(F1570,coefficient2!$A$28:$B$31,2,FALSE))","v":0.23270360000000001},0.33201849999999999]
[33345,3,3,3,4,5,18,{"$f":"IF(B1571=1,\"0\",VLOOKUP(B1571,coefficient2!$A$4:$B$7,2,FALSE))","v":8.6562899999999998E-2},{"$f":"IF(C1571=1,\"0\",VLOOKUP(C1571,coefficient2!$A$10:$B$13,2,FALSE))","v":7.0631200000000005E-2},{"$f":"IF(D1571=1,\"0\",VLOOKUP(D1571,coefficient2!$A$16:$B$19,2,FALSE))","v":7.1197399999999994E-2},{"$f":"IF(E1571=1,\"0\",VLOOKUP(E1571,coefficient2!$A$22:$B$25,2,FALSE))","v":0.2068864},{"$f":"IF(F1571=1,\"0\",VLOOKUP(F1571,coefficient2!$A$28:$B$31,2,FALSE))","v":0.29534929999999998},0.26937280000000002]
[33351,3,3,3,5,1,15,{"$f":"IF(B1572=1,\"0\",VLOOKUP(B1572,coefficient2!$A$4:$B$7,2,FALSE))","v":8.6562899999999998E-2},{"$f":"IF(C1572=1,\"0\",VLOOKUP(C1572,coefficient2!$A$10:$B$13,2,FALSE))","v":7.0631200000000005E-2},{"$f":"IF(D1572=1,\"0\",VLOOKUP(D1572,coefficient2!$A$16:$B$19,2,FALSE))","v":7.1197399999999994E-2},{"$f":"IF(E1572=1,\"0\",VLOOKUP(E1572,coefficient2!$A$22:$B$25,2,FALSE))","v":0.25643310000000002},{"$f":"IF(F1572=1,\"0\",VLOOKUP(F1572,coefficient2!$A$28:$B$31,2,FALSE))","v":"0"},0.51517539999999995]
[33352,3,3,3,5,2,16,{"$f":"IF(B1573=1,\"0\",VLOOKUP(B1573,coefficient2!$A$4:$B$7,2,FALSE))","v":8.6562899999999998E-2},{"$f":"IF(C1573=1,\"0\",VLOOKUP(C1573,coefficient2!$A$10:$B$13,2,FALSE))","v":7.0631200000000005E-2},{"$f":"IF(D1573=1,\"0\",VLOOKUP(D1573,coefficient2!$A$16:$B$19,2,FALSE))","v":7.1197399999999994E-2},{"$f":"IF(E1573=1,\"0\",VLOOKUP(E1573,coefficient2!$A$22:$B$25,2,FALSE))","v":0.25643310000000002},{"$f":"IF(F1573=1,\"0\",VLOOKUP(F1573,coefficient2!$A$28:$B$31,2,FALSE))","v":5.8085699999999997E-2},0.45708969999999993]
[33353,3,3,3,5,3,17,{"$f":"IF(B1574=1,\"0\",VLOOKUP(B1574,coefficient2!$A$4:$B$7,2,FALSE))","v":8.6562899999999998E-2},{"$f":"IF(C1574=1,\"0\",VLOOKUP(C1574,coefficient2!$A$10:$B$13,2,FALSE))","v":7.0631200000000005E-2},{"$f":"IF(D1574=1,\"0\",VLOOKUP(D1574,coefficient2!$A$16:$B$19,2,FALSE))","v":7.1197399999999994E-2},{"$f":"IF(E1574=1,\"0\",VLOOKUP(E1574,coefficient2!$A$22:$B$25,2,FALSE))","v":0.25643310000000002},{"$f":"IF(F1574=1,\"0\",VLOOKUP(F1574,coefficient2!$A$28:$B$31,2,FALSE))","v":9.5753900000000003E-2},0.41942149999999995]
[33354,3,3,3,5,4,18,{"$f":"IF(B1575=1,\"0\",VLOOKUP(B1575,coefficient2!$A$4:$B$7,2,FALSE))","v":8.6562899999999998E-2},{"$f":"IF(C1575=1,\"0\",VLOOKUP(C1575,coefficient2!$A$10:$B$13,2,FALSE))","v":7.0631200000000005E-2},{"$f":"IF(D1575=1,\"0\",VLOOKUP(D1575,coefficient2!$A$16:$B$19,2,FALSE))","v":7.1197399999999994E-2},{"$f":"IF(E1575=1,\"0\",VLOOKUP(E1575,coefficient2!$A$22:$B$25,2,FALSE))","v":0.25643310000000002},{"$f":"IF(F1575=1,\"0\",VLOOKUP(F1575,coefficient2!$A$28:$B$31,2,FALSE))","v":0.23270360000000001},0.28247179999999994]
[33355,3,3,3,5,5,19,{"$f":"IF(B1576=1,\"0\",VLOOKUP(B1576,coefficient2!$A$4:$B$7,2,FALSE))","v":8.6562899999999998E-2},{"$f":"IF(C1576=1,\"0\",VLOOKUP(C1576,coefficient2!$A$10:$B$13,2,FALSE))","v":7.0631200000000005E-2},{"$f":"IF(D1576=1,\"0\",VLOOKUP(D1576,coefficient2!$A$16:$B$19,2,FALSE))","v":7.1197399999999994E-2},{"$f":"IF(E1576=1,\"0\",VLOOKUP(E1576,coefficient2!$A$22:$B$25,2,FALSE))","v":0.25643310000000002},{"$f":"IF(F1576=1,\"0\",VLOOKUP(F1576,coefficient2!$A$28:$B$31,2,FALSE))","v":0.29534929999999998},0.21982609999999997]
[33411,3,3,4,1,1,12,{"$f":"IF(B1577=1,\"0\",VLOOKUP(B1577,coefficient2!$A$4:$B$7,2,FALSE))","v":8.6562899999999998E-2},{"$f":"IF(C1577=1,\"0\",VLOOKUP(C1577,coefficient2!$A$10:$B$13,2,FALSE))","v":7.0631200000000005E-2},{"$f":"IF(D1577=1,\"0\",VLOOKUP(D1577,coefficient2!$A$16:$B$19,2,FALSE))","v":0.1534855},{"$f":"IF(E1577=1,\"0\",VLOOKUP(E1577,coefficient2!$A$22:$B$25,2,FALSE))","v":"0"},{"$f":"IF(F1577=1,\"0\",VLOOKUP(F1577,coefficient2!$A$28:$B$31,2,FALSE))","v":"0"},0.68932039999999994]
[33412,3,3,4,1,2,13,{"$f":"IF(B1578=1,\"0\",VLOOKUP(B1578,coefficient2!$A$4:$B$7,2,FALSE))","v":8.6562899999999998E-2},{"$f":"IF(C1578=1,\"0\",VLOOKUP(C1578,coefficient2!$A$10:$B$13,2,FALSE))","v":7.0631200000000005E-2},{"$f":"IF(D1578=1,\"0\",VLOOKUP(D1578,coefficient2!$A$16:$B$19,2,FALSE))","v":0.1534855},{"$f":"IF(E1578=1,\"0\",VLOOKUP(E1578,coefficient2!$A$22:$B$25,2,FALSE))","v":"0"},{"$f":"IF(F1578=1,\"0\",VLOOKUP(F1578,coefficient2!$A$28:$B$31,2,FALSE))","v":5.8085699999999997E-2},0.63123469999999993]
[33413,3,3,4,1,3,14,{"$f":"IF(B1579=1,\"0\",VLOOKUP(B1579,coefficient2!$A$4:$B$7,2,FALSE))","v":8.6562899999999998E-2},{"$f":"IF(C1579=1,\"0\",VLOOKUP(C1579,coefficient2!$A$10:$B$13,2,FALSE))","v":7.0631200000000005E-2},{"$f":"IF(D1579=1,\"0\",VLOOKUP(D1579,coefficient2!$A$16:$B$19,2,FALSE))","v":0.1534855},{"$f":"IF(E1579=1,\"0\",VLOOKUP(E1579,coefficient2!$A$22:$B$25,2,FALSE))","v":"0"},{"$f":"IF(F1579=1,\"0\",VLOOKUP(F1579,coefficient2!$A$28:$B$31,2,FALSE))","v":9.5753900000000003E-2},0.59356649999999989]
[33414,3,3,4,1,4,15,{"$f":"IF(B1580=1,\"0\",VLOOKUP(B1580,coefficient2!$A$4:$B$7,2,FALSE))","v":8.6562899999999998E-2},{"$f":"IF(C1580=1,\"0\",VLOOKUP(C1580,coefficient2!$A$10:$B$13,2,FALSE))","v":7.0631200000000005E-2},{"$f":"IF(D1580=1,\"0\",VLOOKUP(D1580,coefficient2!$A$16:$B$19,2,FALSE))","v":0.1534855},{"$f":"IF(E1580=1,\"0\",VLOOKUP(E1580,coefficient2!$A$22:$B$25,2,FALSE))","v":"0"},{"$f":"IF(F1580=1,\"0\",VLOOKUP(F1580,coefficient2!$A$28:$B$31,2,FALSE))","v":0.23270360000000001},0.45661679999999993]
[33415,3,3,4,1,5,16,{"$f":"IF(B1581=1,\"0\",VLOOKUP(B1581,coefficient2!$A$4:$B$7,2,FALSE))","v":8.6562899999999998E-2},{"$f":"IF(C1581=1,\"0\",VLOOKUP(C1581,coefficient2!$A$10:$B$13,2,FALSE))","v":7.0631200000000005E-2},{"$f":"IF(D1581=1,\"0\",VLOOKUP(D1581,coefficient2!$A$16:$B$19,2,FALSE))","v":0.1534855},{"$f":"IF(E1581=1,\"0\",VLOOKUP(E1581,coefficient2!$A$22:$B$25,2,FALSE))","v":"0"},{"$f":"IF(F1581=1,\"0\",VLOOKUP(F1581,coefficient2!$A$28:$B$31,2,FALSE))","v":0.29534929999999998},0.39397109999999996]
[33421,3,3,4,2,1,13,{"$f":"IF(B1582=1,\"0\",VLOOKUP(B1582,coefficient2!$A$4:$B$7,2,FALSE))","v":8.6562899999999998E-2},{"$f":"IF(C1582=1,\"0\",VLOOKUP(C1582,coefficient2!$A$10:$B$13,2,FALSE))","v":7.0631200000000005E-2},{"$f":"IF(D1582=1,\"0\",VLOOKUP(D1582,coefficient2!$A$16:$B$19,2,FALSE))","v":0.1534855},{"$f":"IF(E1582=1,\"0\",VLOOKUP(E1582,coefficient2!$A$22:$B$25,2,FALSE))","v":5.63998E-2},{"$f":"IF(F1582=1,\"0\",VLOOKUP(F1582,coefficient2!$A$28:$B$31,2,FALSE))","v":"0"},0.63292059999999994]
[33422,3,3,4,2,2,14,{"$f":"IF(B1583=1,\"0\",VLOOKUP(B1583,coefficient2!$A$4:$B$7,2,FALSE))","v":8.6562899999999998E-2},{"$f":"IF(C1583=1,\"0\",VLOOKUP(C1583,coefficient2!$A$10:$B$13,2,FALSE))","v":7.0631200000000005E-2},{"$f":"IF(D1583=1,\"0\",VLOOKUP(D1583,coefficient2!$A$16:$B$19,2,FALSE))","v":0.1534855},{"$f":"IF(E1583=1,\"0\",VLOOKUP(E1583,coefficient2!$A$22:$B$25,2,FALSE))","v":5.63998E-2},{"$f":"IF(F1583=1,\"0\",VLOOKUP(F1583,coefficient2!$A$28:$B$31,2,FALSE))","v":5.8085699999999997E-2},0.57483489999999993]
[33423,3,3,4,2,3,15,{"$f":"IF(B1584=1,\"0\",VLOOKUP(B1584,coefficient2!$A$4:$B$7,2,FALSE))","v":8.6562899999999998E-2},{"$f":"IF(C1584=1,\"0\",VLOOKUP(C1584,coefficient2!$A$10:$B$13,2,FALSE))","v":7.0631200000000005E-2},{"$f":"IF(D1584=1,\"0\",VLOOKUP(D1584,coefficient2!$A$16:$B$19,2,FALSE))","v":0.1534855},{"$f":"IF(E1584=1,\"0\",VLOOKUP(E1584,coefficient2!$A$22:$B$25,2,FALSE))","v":5.63998E-2},{"$f":"IF(F1584=1,\"0\",VLOOKUP(F1584,coefficient2!$A$28:$B$31,2,FALSE))","v":9.5753900000000003E-2},0.5371667]
[33424,3,3,4,2,4,16,{"$f":"IF(B1585=1,\"0\",VLOOKUP(B1585,coefficient2!$A$4:$B$7,2,FALSE))","v":8.6562899999999998E-2},{"$f":"IF(C1585=1,\"0\",VLOOKUP(C1585,coefficient2!$A$10:$B$13,2,FALSE))","v":7.0631200000000005E-2},{"$f":"IF(D1585=1,\"0\",VLOOKUP(D1585,coefficient2!$A$16:$B$19,2,FALSE))","v":0.1534855},{"$f":"IF(E1585=1,\"0\",VLOOKUP(E1585,coefficient2!$A$22:$B$25,2,FALSE))","v":5.63998E-2},{"$f":"IF(F1585=1,\"0\",VLOOKUP(F1585,coefficient2!$A$28:$B$31,2,FALSE))","v":0.23270360000000001},0.40021699999999993]
[33425,3,3,4,2,5,17,{"$f":"IF(B1586=1,\"0\",VLOOKUP(B1586,coefficient2!$A$4:$B$7,2,FALSE))","v":8.6562899999999998E-2},{"$f":"IF(C1586=1,\"0\",VLOOKUP(C1586,coefficient2!$A$10:$B$13,2,FALSE))","v":7.0631200000000005E-2},{"$f":"IF(D1586=1,\"0\",VLOOKUP(D1586,coefficient2!$A$16:$B$19,2,FALSE))","v":0.1534855},{"$f":"IF(E1586=1,\"0\",VLOOKUP(E1586,coefficient2!$A$22:$B$25,2,FALSE))","v":5.63998E-2},{"$f":"IF(F1586=1,\"0\",VLOOKUP(F1586,coefficient2!$A$28:$B$31,2,FALSE))","v":0.29534929999999998},0.33757129999999996]
[33431,3,3,4,3,1,14,{"$f":"IF(B1587=1,\"0\",VLOOKUP(B1587,coefficient2!$A$4:$B$7,2,FALSE))","v":8.6562899999999998E-2},{"$f":"IF(C1587=1,\"0\",VLOOKUP(C1587,coefficient2!$A$10:$B$13,2,FALSE))","v":7.0631200000000005E-2},{"$f":"IF(D1587=1,\"0\",VLOOKUP(D1587,coefficient2!$A$16:$B$19,2,FALSE))","v":0.1534855},{"$f":"IF(E1587=1,\"0\",VLOOKUP(E1587,coefficient2!$A$22:$B$25,2,FALSE))","v":6.6492200000000001E-2},{"$f":"IF(F1587=1,\"0\",VLOOKUP(F1587,coefficient2!$A$28:$B$31,2,FALSE))","v":"0"},0.62282819999999994]
[33432,3,3,4,3,2,15,{"$f":"IF(B1588=1,\"0\",VLOOKUP(B1588,coefficient2!$A$4:$B$7,2,FALSE))","v":8.6562899999999998E-2},{"$f":"IF(C1588=1,\"0\",VLOOKUP(C1588,coefficient2!$A$10:$B$13,2,FALSE))","v":7.0631200000000005E-2},{"$f":"IF(D1588=1,\"0\",VLOOKUP(D1588,coefficient2!$A$16:$B$19,2,FALSE))","v":0.1534855},{"$f":"IF(E1588=1,\"0\",VLOOKUP(E1588,coefficient2!$A$22:$B$25,2,FALSE))","v":6.6492200000000001E-2},{"$f":"IF(F1588=1,\"0\",VLOOKUP(F1588,coefficient2!$A$28:$B$31,2,FALSE))","v":5.8085699999999997E-2},0.56474249999999993]
[33433,3,3,4,3,3,16,{"$f":"IF(B1589=1,\"0\",VLOOKUP(B1589,coefficient2!$A$4:$B$7,2,FALSE))","v":8.6562899999999998E-2},{"$f":"IF(C1589=1,\"0\",VLOOKUP(C1589,coefficient2!$A$10:$B$13,2,FALSE))","v":7.0631200000000005E-2},{"$f":"IF(D1589=1,\"0\",VLOOKUP(D1589,coefficient2!$A$16:$B$19,2,FALSE))","v":0.1534855},{"$f":"IF(E1589=1,\"0\",VLOOKUP(E1589,coefficient2!$A$22:$B$25,2,FALSE))","v":6.6492200000000001E-2},{"$f":"IF(F1589=1,\"0\",VLOOKUP(F1589,coefficient2!$A$28:$B$31,2,FALSE))","v":9.5753900000000003E-2},0.5270743]
[33434,3,3,4,3,4,17,{"$f":"IF(B1590=1,\"0\",VLOOKUP(B1590,coefficient2!$A$4:$B$7,2,FALSE))","v":8.6562899999999998E-2},{"$f":"IF(C1590=1,\"0\",VLOOKUP(C1590,coefficient2!$A$10:$B$13,2,FALSE))","v":7.0631200000000005E-2},{"$f":"IF(D1590=1,\"0\",VLOOKUP(D1590,coefficient2!$A$16:$B$19,2,FALSE))","v":0.1534855},{"$f":"IF(E1590=1,\"0\",VLOOKUP(E1590,coefficient2!$A$22:$B$25,2,FALSE))","v":6.6492200000000001E-2},{"$f":"IF(F1590=1,\"0\",VLOOKUP(F1590,coefficient2!$A$28:$B$31,2,FALSE))","v":0.23270360000000001},0.39012459999999993]
[33435,3,3,4,3,5,18,{"$f":"IF(B1591=1,\"0\",VLOOKUP(B1591,coefficient2!$A$4:$B$7,2,FALSE))","v":8.6562899999999998E-2},{"$f":"IF(C1591=1,\"0\",VLOOKUP(C1591,coefficient2!$A$10:$B$13,2,FALSE))","v":7.0631200000000005E-2},{"$f":"IF(D1591=1,\"0\",VLOOKUP(D1591,coefficient2!$A$16:$B$19,2,FALSE))","v":0.1534855},{"$f":"IF(E1591=1,\"0\",VLOOKUP(E1591,coefficient2!$A$22:$B$25,2,FALSE))","v":6.6492200000000001E-2},{"$f":"IF(F1591=1,\"0\",VLOOKUP(F1591,coefficient2!$A$28:$B$31,2,FALSE))","v":0.29534929999999998},0.32747889999999996]
[33441,3,3,4,4,1,15,{"$f":"IF(B1592=1,\"0\",VLOOKUP(B1592,coefficient2!$A$4:$B$7,2,FALSE))","v":8.6562899999999998E-2},{"$f":"IF(C1592=1,\"0\",VLOOKUP(C1592,coefficient2!$A$10:$B$13,2,FALSE))","v":7.0631200000000005E-2},{"$f":"IF(D1592=1,\"0\",VLOOKUP(D1592,coefficient2!$A$16:$B$19,2,FALSE))","v":0.1534855},{"$f":"IF(E1592=1,\"0\",VLOOKUP(E1592,coefficient2!$A$22:$B$25,2,FALSE))","v":0.2068864},{"$f":"IF(F1592=1,\"0\",VLOOKUP(F1592,coefficient2!$A$28:$B$31,2,FALSE))","v":"0"},0.48243399999999992]
[33442,3,3,4,4,2,16,{"$f":"IF(B1593=1,\"0\",VLOOKUP(B1593,coefficient2!$A$4:$B$7,2,FALSE))","v":8.6562899999999998E-2},{"$f":"IF(C1593=1,\"0\",VLOOKUP(C1593,coefficient2!$A$10:$B$13,2,FALSE))","v":7.0631200000000005E-2},{"$f":"IF(D1593=1,\"0\",VLOOKUP(D1593,coefficient2!$A$16:$B$19,2,FALSE))","v":0.1534855},{"$f":"IF(E1593=1,\"0\",VLOOKUP(E1593,coefficient2!$A$22:$B$25,2,FALSE))","v":0.2068864},{"$f":"IF(F1593=1,\"0\",VLOOKUP(F1593,coefficient2!$A$28:$B$31,2,FALSE))","v":5.8085699999999997E-2},0.4243482999999999]
[33443,3,3,4,4,3,17,{"$f":"IF(B1594=1,\"0\",VLOOKUP(B1594,coefficient2!$A$4:$B$7,2,FALSE))","v":8.6562899999999998E-2},{"$f":"IF(C1594=1,\"0\",VLOOKUP(C1594,coefficient2!$A$10:$B$13,2,FALSE))","v":7.0631200000000005E-2},{"$f":"IF(D1594=1,\"0\",VLOOKUP(D1594,coefficient2!$A$16:$B$19,2,FALSE))","v":0.1534855},{"$f":"IF(E1594=1,\"0\",VLOOKUP(E1594,coefficient2!$A$22:$B$25,2,FALSE))","v":0.2068864},{"$f":"IF(F1594=1,\"0\",VLOOKUP(F1594,coefficient2!$A$28:$B$31,2,FALSE))","v":9.5753900000000003E-2},0.38668009999999992]
[33444,3,3,4,4,4,18,{"$f":"IF(B1595=1,\"0\",VLOOKUP(B1595,coefficient2!$A$4:$B$7,2,FALSE))","v":8.6562899999999998E-2},{"$f":"IF(C1595=1,\"0\",VLOOKUP(C1595,coefficient2!$A$10:$B$13,2,FALSE))","v":7.0631200000000005E-2},{"$f":"IF(D1595=1,\"0\",VLOOKUP(D1595,coefficient2!$A$16:$B$19,2,FALSE))","v":0.1534855},{"$f":"IF(E1595=1,\"0\",VLOOKUP(E1595,coefficient2!$A$22:$B$25,2,FALSE))","v":0.2068864},{"$f":"IF(F1595=1,\"0\",VLOOKUP(F1595,coefficient2!$A$28:$B$31,2,FALSE))","v":0.23270360000000001},0.24973039999999991]
[33445,3,3,4,4,5,19,{"$f":"IF(B1596=1,\"0\",VLOOKUP(B1596,coefficient2!$A$4:$B$7,2,FALSE))","v":8.6562899999999998E-2},{"$f":"IF(C1596=1,\"0\",VLOOKUP(C1596,coefficient2!$A$10:$B$13,2,FALSE))","v":7.0631200000000005E-2},{"$f":"IF(D1596=1,\"0\",VLOOKUP(D1596,coefficient2!$A$16:$B$19,2,FALSE))","v":0.1534855},{"$f":"IF(E1596=1,\"0\",VLOOKUP(E1596,coefficient2!$A$22:$B$25,2,FALSE))","v":0.2068864},{"$f":"IF(F1596=1,\"0\",VLOOKUP(F1596,coefficient2!$A$28:$B$31,2,FALSE))","v":0.29534929999999998},0.18708469999999994]
[33451,3,3,4,5,1,16,{"$f":"IF(B1597=1,\"0\",VLOOKUP(B1597,coefficient2!$A$4:$B$7,2,FALSE))","v":8.6562899999999998E-2},{"$f":"IF(C1597=1,\"0\",VLOOKUP(C1597,coefficient2!$A$10:$B$13,2,FALSE))","v":7.0631200000000005E-2},{"$f":"IF(D1597=1,\"0\",VLOOKUP(D1597,coefficient2!$A$16:$B$19,2,FALSE))","v":0.1534855},{"$f":"IF(E1597=1,\"0\",VLOOKUP(E1597,coefficient2!$A$22:$B$25,2,FALSE))","v":0.25643310000000002},{"$f":"IF(F1597=1,\"0\",VLOOKUP(F1597,coefficient2!$A$28:$B$31,2,FALSE))","v":"0"},0.43288729999999992]
[33452,3,3,4,5,2,17,{"$f":"IF(B1598=1,\"0\",VLOOKUP(B1598,coefficient2!$A$4:$B$7,2,FALSE))","v":8.6562899999999998E-2},{"$f":"IF(C1598=1,\"0\",VLOOKUP(C1598,coefficient2!$A$10:$B$13,2,FALSE))","v":7.0631200000000005E-2},{"$f":"IF(D1598=1,\"0\",VLOOKUP(D1598,coefficient2!$A$16:$B$19,2,FALSE))","v":0.1534855},{"$f":"IF(E1598=1,\"0\",VLOOKUP(E1598,coefficient2!$A$22:$B$25,2,FALSE))","v":0.25643310000000002},{"$f":"IF(F1598=1,\"0\",VLOOKUP(F1598,coefficient2!$A$28:$B$31,2,FALSE))","v":5.8085699999999997E-2},0.3748015999999999]
[33453,3,3,4,5,3,18,{"$f":"IF(B1599=1,\"0\",VLOOKUP(B1599,coefficient2!$A$4:$B$7,2,FALSE))","v":8.6562899999999998E-2},{"$f":"IF(C1599=1,\"0\",VLOOKUP(C1599,coefficient2!$A$10:$B$13,2,FALSE))","v":7.0631200000000005E-2},{"$f":"IF(D1599=1,\"0\",VLOOKUP(D1599,coefficient2!$A$16:$B$19,2,FALSE))","v":0.1534855},{"$f":"IF(E1599=1,\"0\",VLOOKUP(E1599,coefficient2!$A$22:$B$25,2,FALSE))","v":0.25643310000000002},{"$f":"IF(F1599=1,\"0\",VLOOKUP(F1599,coefficient2!$A$28:$B$31,2,FALSE))","v":9.5753900000000003E-2},0.33713339999999992]
[33454,3,3,4,5,4,19,{"$f":"IF(B1600=1,\"0\",VLOOKUP(B1600,coefficient2!$A$4:$B$7,2,FALSE))","v":8.6562899999999998E-2},{"$f":"IF(C1600=1,\"0\",VLOOKUP(C1600,coefficient2!$A$10:$B$13,2,FALSE))","v":7.0631200000000005E-2},{"$f":"IF(D1600=1,\"0\",VLOOKUP(D1600,coefficient2!$A$16:$B$19,2,FALSE))","v":0.1534855},{"$f":"IF(E1600=1,\"0\",VLOOKUP(E1600,coefficient2!$A$22:$B$25,2,FALSE))","v":0.25643310000000002},{"$f":"IF(F1600=1,\"0\",VLOOKUP(F1600,coefficient2!$A$28:$B$31,2,FALSE))","v":0.23270360000000001},0.20018369999999991]
[33455,3,3,4,5,5,20,{"$f":"IF(B1601=1,\"0\",VLOOKUP(B1601,coefficient2!$A$4:$B$7,2,FALSE))","v":8.6562899999999998E-2},{"$f":"IF(C1601=1,\"0\",VLOOKUP(C1601,coefficient2!$A$10:$B$13,2,FALSE))","v":7.0631200000000005E-2},{"$f":"IF(D1601=1,\"0\",VLOOKUP(D1601,coefficient2!$A$16:$B$19,2,FALSE))","v":0.1534855},{"$f":"IF(E1601=1,\"0\",VLOOKUP(E1601,coefficient2!$A$22:$B$25,2,FALSE))","v":0.25643310000000002},{"$f":"IF(F1601=1,\"0\",VLOOKUP(F1601,coefficient2!$A$28:$B$31,2,FALSE))","v":0.29534929999999998},0.13753799999999994]
[33511,3,3,5,1,1,13,{"$f":"IF(B1602=1,\"0\",VLOOKUP(B1602,coefficient2!$A$4:$B$7,2,FALSE))","v":8.6562899999999998E-2},{"$f":"IF(C1602=1,\"0\",VLOOKUP(C1602,coefficient2!$A$10:$B$13,2,FALSE))","v":7.0631200000000005E-2},{"$f":"IF(D1602=1,\"0\",VLOOKUP(D1602,coefficient2!$A$16:$B$19,2,FALSE))","v":0.248331},{"$f":"IF(E1602=1,\"0\",VLOOKUP(E1602,coefficient2!$A$22:$B$25,2,FALSE))","v":"0"},{"$f":"IF(F1602=1,\"0\",VLOOKUP(F1602,coefficient2!$A$28:$B$31,2,FALSE))","v":"0"},{"$f":"1-H1602-I1602-J1602-K1602-L1602","v":0.59447490000000003}]
[33512,{"$f":"INT(LEFT(A1603,1))","v":3},{"$f":"INT(MID(A1603,2,1))","v":3},{"$f":"INT(MID(A1603,3,1))","v":5},{"$f":"INT(MID(A1603,4,1))","v":1},{"$f":"INT(RIGHT(A1603,1))","v":2},{"$f":"SUM(B1603:F1603)","v":14},{"$f":"IF(B1603=1,\"0\",VLOOKUP(B1603,coefficient2!$A$4:$B$7,2,FALSE))","v":8.6562899999999998E-2},{"$f":"IF(C1603=1,\"0\",VLOOKUP(C1603,coefficient2!$A$10:$B$13,2,FALSE))","v":7.0631200000000005E-2},{"$f":"IF(D1603=1,\"0\",VLOOKUP(D1603,coefficient2!$A$16:$B$19,2,FALSE))","v":0.248331},{"$f":"IF(E1603=1,\"0\",VLOOKUP(E1603,coefficient2!$A$22:$B$25,2,FALSE))","v":"0"},{"$f":"IF(F1603=1,\"0\",VLOOKUP(F1603,coefficient2!$A$28:$B$31,2,FALSE))","v":5.8085699999999997E-2},0.53638920000000001]
[33513,3,3,5,1,3,15,{"$f":"IF(B1604=1,\"0\",VLOOKUP(B1604,coefficient2!$A$4:$B$7,2,FALSE))","v":8.6562899999999998E-2},{"$f":"IF(C1604=1,\"0\",VLOOKUP(C1604,coefficient2!$A$10:$B$13,2,FALSE))","v":7.0631200000000005E-2},{"$f":"IF(D1604=1,\"0\",VLOOKUP(D1604,coefficient2!$A$16:$B$19,2,FALSE))","v":0.248331},{"$f":"IF(E1604=1,\"0\",VLOOKUP(E1604,coefficient2!$A$22:$B$25,2,FALSE))","v":"0"},{"$f":"IF(F1604=1,\"0\",VLOOKUP(F1604,coefficient2!$A$28:$B$31,2,FALSE))","v":9.5753900000000003E-2},0.49872100000000003]
[33514,3,3,5,1,4,16,{"$f":"IF(B1605=1,\"0\",VLOOKUP(B1605,coefficient2!$A$4:$B$7,2,FALSE))","v":8.6562899999999998E-2},{"$f":"IF(C1605=1,\"0\",VLOOKUP(C1605,coefficient2!$A$10:$B$13,2,FALSE))","v":7.0631200000000005E-2},{"$f":"IF(D1605=1,\"0\",VLOOKUP(D1605,coefficient2!$A$16:$B$19,2,FALSE))","v":0.248331},{"$f":"IF(E1605=1,\"0\",VLOOKUP(E1605,coefficient2!$A$22:$B$25,2,FALSE))","v":"0"},{"$f":"IF(F1605=1,\"0\",VLOOKUP(F1605,coefficient2!$A$28:$B$31,2,FALSE))","v":0.23270360000000001},0.36177130000000002]
[33515,3,3,5,1,5,17,{"$f":"IF(B1606=1,\"0\",VLOOKUP(B1606,coefficient2!$A$4:$B$7,2,FALSE))","v":8.6562899999999998E-2},{"$f":"IF(C1606=1,\"0\",VLOOKUP(C1606,coefficient2!$A$10:$B$13,2,FALSE))","v":7.0631200000000005E-2},{"$f":"IF(D1606=1,\"0\",VLOOKUP(D1606,coefficient2!$A$16:$B$19,2,FALSE))","v":0.248331},{"$f":"IF(E1606=1,\"0\",VLOOKUP(E1606,coefficient2!$A$22:$B$25,2,FALSE))","v":"0"},{"$f":"IF(F1606=1,\"0\",VLOOKUP(F1606,coefficient2!$A$28:$B$31,2,FALSE))","v":0.29534929999999998},0.29912560000000005]
[33521,3,3,5,2,1,14,{"$f":"IF(B1607=1,\"0\",VLOOKUP(B1607,coefficient2!$A$4:$B$7,2,FALSE))","v":8.6562899999999998E-2},{"$f":"IF(C1607=1,\"0\",VLOOKUP(C1607,coefficient2!$A$10:$B$13,2,FALSE))","v":7.0631200000000005E-2},{"$f":"IF(D1607=1,\"0\",VLOOKUP(D1607,coefficient2!$A$16:$B$19,2,FALSE))","v":0.248331},{"$f":"IF(E1607=1,\"0\",VLOOKUP(E1607,coefficient2!$A$22:$B$25,2,FALSE))","v":5.63998E-2},{"$f":"IF(F1607=1,\"0\",VLOOKUP(F1607,coefficient2!$A$28:$B$31,2,FALSE))","v":"0"},0.53807510000000003]
[33522,3,3,5,2,2,15,{"$f":"IF(B1608=1,\"0\",VLOOKUP(B1608,coefficient2!$A$4:$B$7,2,FALSE))","v":8.6562899999999998E-2},{"$f":"IF(C1608=1,\"0\",VLOOKUP(C1608,coefficient2!$A$10:$B$13,2,FALSE))","v":7.0631200000000005E-2},{"$f":"IF(D1608=1,\"0\",VLOOKUP(D1608,coefficient2!$A$16:$B$19,2,FALSE))","v":0.248331},{"$f":"IF(E1608=1,\"0\",VLOOKUP(E1608,coefficient2!$A$22:$B$25,2,FALSE))","v":5.63998E-2},{"$f":"IF(F1608=1,\"0\",VLOOKUP(F1608,coefficient2!$A$28:$B$31,2,FALSE))","v":5.8085699999999997E-2},0.47998940000000001]
[33523,3,3,5,2,3,16,{"$f":"IF(B1609=1,\"0\",VLOOKUP(B1609,coefficient2!$A$4:$B$7,2,FALSE))","v":8.6562899999999998E-2},{"$f":"IF(C1609=1,\"0\",VLOOKUP(C1609,coefficient2!$A$10:$B$13,2,FALSE))","v":7.0631200000000005E-2},{"$f":"IF(D1609=1,\"0\",VLOOKUP(D1609,coefficient2!$A$16:$B$19,2,FALSE))","v":0.248331},{"$f":"IF(E1609=1,\"0\",VLOOKUP(E1609,coefficient2!$A$22:$B$25,2,FALSE))","v":5.63998E-2},{"$f":"IF(F1609=1,\"0\",VLOOKUP(F1609,coefficient2!$A$28:$B$31,2,FALSE))","v":9.5753900000000003E-2},0.44232120000000003]
[33524,3,3,5,2,4,17,{"$f":"IF(B1610=1,\"0\",VLOOKUP(B1610,coefficient2!$A$4:$B$7,2,FALSE))","v":8.6562899999999998E-2},{"$f":"IF(C1610=1,\"0\",VLOOKUP(C1610,coefficient2!$A$10:$B$13,2,FALSE))","v":7.0631200000000005E-2},{"$f":"IF(D1610=1,\"0\",VLOOKUP(D1610,coefficient2!$A$16:$B$19,2,FALSE))","v":0.248331},{"$f":"IF(E1610=1,\"0\",VLOOKUP(E1610,coefficient2!$A$22:$B$25,2,FALSE))","v":5.63998E-2},{"$f":"IF(F1610=1,\"0\",VLOOKUP(F1610,coefficient2!$A$28:$B$31,2,FALSE))","v":0.23270360000000001},0.30537150000000002]
[33525,3,3,5,2,5,18,{"$f":"IF(B1611=1,\"0\",VLOOKUP(B1611,coefficient2!$A$4:$B$7,2,FALSE))","v":8.6562899999999998E-2},{"$f":"IF(C1611=1,\"0\",VLOOKUP(C1611,coefficient2!$A$10:$B$13,2,FALSE))","v":7.0631200000000005E-2},{"$f":"IF(D1611=1,\"0\",VLOOKUP(D1611,coefficient2!$A$16:$B$19,2,FALSE))","v":0.248331},{"$f":"IF(E1611=1,\"0\",VLOOKUP(E1611,coefficient2!$A$22:$B$25,2,FALSE))","v":5.63998E-2},{"$f":"IF(F1611=1,\"0\",VLOOKUP(F1611,coefficient2!$A$28:$B$31,2,FALSE))","v":0.29534929999999998},0.24272580000000005]
[33531,3,3,5,3,1,15,{"$f":"IF(B1612=1,\"0\",VLOOKUP(B1612,coefficient2!$A$4:$B$7,2,FALSE))","v":8.6562899999999998E-2},{"$f":"IF(C1612=1,\"0\",VLOOKUP(C1612,coefficient2!$A$10:$B$13,2,FALSE))","v":7.0631200000000005E-2},{"$f":"IF(D1612=1,\"0\",VLOOKUP(D1612,coefficient2!$A$16:$B$19,2,FALSE))","v":0.248331},{"$f":"IF(E1612=1,\"0\",VLOOKUP(E1612,coefficient2!$A$22:$B$25,2,FALSE))","v":6.6492200000000001E-2},{"$f":"IF(F1612=1,\"0\",VLOOKUP(F1612,coefficient2!$A$28:$B$31,2,FALSE))","v":"0"},0.52798270000000003]
[33532,3,3,5,3,2,16,{"$f":"IF(B1613=1,\"0\",VLOOKUP(B1613,coefficient2!$A$4:$B$7,2,FALSE))","v":8.6562899999999998E-2},{"$f":"IF(C1613=1,\"0\",VLOOKUP(C1613,coefficient2!$A$10:$B$13,2,FALSE))","v":7.0631200000000005E-2},{"$f":"IF(D1613=1,\"0\",VLOOKUP(D1613,coefficient2!$A$16:$B$19,2,FALSE))","v":0.248331},{"$f":"IF(E1613=1,\"0\",VLOOKUP(E1613,coefficient2!$A$22:$B$25,2,FALSE))","v":6.6492200000000001E-2},{"$f":"IF(F1613=1,\"0\",VLOOKUP(F1613,coefficient2!$A$28:$B$31,2,FALSE))","v":5.8085699999999997E-2},0.46989700000000001]
[33533,3,3,5,3,3,17,{"$f":"IF(B1614=1,\"0\",VLOOKUP(B1614,coefficient2!$A$4:$B$7,2,FALSE))","v":8.6562899999999998E-2},{"$f":"IF(C1614=1,\"0\",VLOOKUP(C1614,coefficient2!$A$10:$B$13,2,FALSE))","v":7.0631200000000005E-2},{"$f":"IF(D1614=1,\"0\",VLOOKUP(D1614,coefficient2!$A$16:$B$19,2,FALSE))","v":0.248331},{"$f":"IF(E1614=1,\"0\",VLOOKUP(E1614,coefficient2!$A$22:$B$25,2,FALSE))","v":6.6492200000000001E-2},{"$f":"IF(F1614=1,\"0\",VLOOKUP(F1614,coefficient2!$A$28:$B$31,2,FALSE))","v":9.5753900000000003E-2},0.43222880000000002]
[33534,3,3,5,3,4,18,{"$f":"IF(B1615=1,\"0\",VLOOKUP(B1615,coefficient2!$A$4:$B$7,2,FALSE))","v":8.6562899999999998E-2},{"$f":"IF(C1615=1,\"0\",VLOOKUP(C1615,coefficient2!$A$10:$B$13,2,FALSE))","v":7.0631200000000005E-2},{"$f":"IF(D1615=1,\"0\",VLOOKUP(D1615,coefficient2!$A$16:$B$19,2,FALSE))","v":0.248331},{"$f":"IF(E1615=1,\"0\",VLOOKUP(E1615,coefficient2!$A$22:$B$25,2,FALSE))","v":6.6492200000000001E-2},{"$f":"IF(F1615=1,\"0\",VLOOKUP(F1615,coefficient2!$A$28:$B$31,2,FALSE))","v":0.23270360000000001},0.29527910000000002]
[33535,3,3,5,3,5,19,{"$f":"IF(B1616=1,\"0\",VLOOKUP(B1616,coefficient2!$A$4:$B$7,2,FALSE))","v":8.6562899999999998E-2},{"$f":"IF(C1616=1,\"0\",VLOOKUP(C1616,coefficient2!$A$10:$B$13,2,FALSE))","v":7.0631200000000005E-2},{"$f":"IF(D1616=1,\"0\",VLOOKUP(D1616,coefficient2!$A$16:$B$19,2,FALSE))","v":0.248331},{"$f":"IF(E1616=1,\"0\",VLOOKUP(E1616,coefficient2!$A$22:$B$25,2,FALSE))","v":6.6492200000000001E-2},{"$f":"IF(F1616=1,\"0\",VLOOKUP(F1616,coefficient2!$A$28:$B$31,2,FALSE))","v":0.29534929999999998},0.23263340000000005]
[33541,3,3,5,4,1,16,{"$f":"IF(B1617=1,\"0\",VLOOKUP(B1617,coefficient2!$A$4:$B$7,2,FALSE))","v":8.6562899999999998E-2},{"$f":"IF(C1617=1,\"0\",VLOOKUP(C1617,coefficient2!$A$10:$B$13,2,FALSE))","v":7.0631200000000005E-2},{"$f":"IF(D1617=1,\"0\",VLOOKUP(D1617,coefficient2!$A$16:$B$19,2,FALSE))","v":0.248331},{"$f":"IF(E1617=1,\"0\",VLOOKUP(E1617,coefficient2!$A$22:$B$25,2,FALSE))","v":0.2068864},{"$f":"IF(F1617=1,\"0\",VLOOKUP(F1617,coefficient2!$A$28:$B$31,2,FALSE))","v":"0"},0.3875885]
[33542,3,3,5,4,2,17,{"$f":"IF(B1618=1,\"0\",VLOOKUP(B1618,coefficient2!$A$4:$B$7,2,FALSE))","v":8.6562899999999998E-2},{"$f":"IF(C1618=1,\"0\",VLOOKUP(C1618,coefficient2!$A$10:$B$13,2,FALSE))","v":7.0631200000000005E-2},{"$f":"IF(D1618=1,\"0\",VLOOKUP(D1618,coefficient2!$A$16:$B$19,2,FALSE))","v":0.248331},{"$f":"IF(E1618=1,\"0\",VLOOKUP(E1618,coefficient2!$A$22:$B$25,2,FALSE))","v":0.2068864},{"$f":"IF(F1618=1,\"0\",VLOOKUP(F1618,coefficient2!$A$28:$B$31,2,FALSE))","v":5.8085699999999997E-2},0.32950279999999998]
[33543,3,3,5,4,3,18,{"$f":"IF(B1619=1,\"0\",VLOOKUP(B1619,coefficient2!$A$4:$B$7,2,FALSE))","v":8.6562899999999998E-2},{"$f":"IF(C1619=1,\"0\",VLOOKUP(C1619,coefficient2!$A$10:$B$13,2,FALSE))","v":7.0631200000000005E-2},{"$f":"IF(D1619=1,\"0\",VLOOKUP(D1619,coefficient2!$A$16:$B$19,2,FALSE))","v":0.248331},{"$f":"IF(E1619=1,\"0\",VLOOKUP(E1619,coefficient2!$A$22:$B$25,2,FALSE))","v":0.2068864},{"$f":"IF(F1619=1,\"0\",VLOOKUP(F1619,coefficient2!$A$28:$B$31,2,FALSE))","v":9.5753900000000003E-2},0.2918346]
[33544,3,3,5,4,4,19,{"$f":"IF(B1620=1,\"0\",VLOOKUP(B1620,coefficient2!$A$4:$B$7,2,FALSE))","v":8.6562899999999998E-2},{"$f":"IF(C1620=1,\"0\",VLOOKUP(C1620,coefficient2!$A$10:$B$13,2,FALSE))","v":7.0631200000000005E-2},{"$f":"IF(D1620=1,\"0\",VLOOKUP(D1620,coefficient2!$A$16:$B$19,2,FALSE))","v":0.248331},{"$f":"IF(E1620=1,\"0\",VLOOKUP(E1620,coefficient2!$A$22:$B$25,2,FALSE))","v":0.2068864},{"$f":"IF(F1620=1,\"0\",VLOOKUP(F1620,coefficient2!$A$28:$B$31,2,FALSE))","v":0.23270360000000001},0.15488489999999999]
[33545,3,3,5,4,5,20,{"$f":"IF(B1621=1,\"0\",VLOOKUP(B1621,coefficient2!$A$4:$B$7,2,FALSE))","v":8.6562899999999998E-2},{"$f":"IF(C1621=1,\"0\",VLOOKUP(C1621,coefficient2!$A$10:$B$13,2,FALSE))","v":7.0631200000000005E-2},{"$f":"IF(D1621=1,\"0\",VLOOKUP(D1621,coefficient2!$A$16:$B$19,2,FALSE))","v":0.248331},{"$f":"IF(E1621=1,\"0\",VLOOKUP(E1621,coefficient2!$A$22:$B$25,2,FALSE))","v":0.2068864},{"$f":"IF(F1621=1,\"0\",VLOOKUP(F1621,coefficient2!$A$28:$B$31,2,FALSE))","v":0.29534929999999998},9.2239200000000021E-2]
[33551,3,3,5,5,1,17,{"$f":"IF(B1622=1,\"0\",VLOOKUP(B1622,coefficient2!$A$4:$B$7,2,FALSE))","v":8.6562899999999998E-2},{"$f":"IF(C1622=1,\"0\",VLOOKUP(C1622,coefficient2!$A$10:$B$13,2,FALSE))","v":7.0631200000000005E-2},{"$f":"IF(D1622=1,\"0\",VLOOKUP(D1622,coefficient2!$A$16:$B$19,2,FALSE))","v":0.248331},{"$f":"IF(E1622=1,\"0\",VLOOKUP(E1622,coefficient2!$A$22:$B$25,2,FALSE))","v":0.25643310000000002},{"$f":"IF(F1622=1,\"0\",VLOOKUP(F1622,coefficient2!$A$28:$B$31,2,FALSE))","v":"0"},0.3380418]
[33552,3,3,5,5,2,18,{"$f":"IF(B1623=1,\"0\",VLOOKUP(B1623,coefficient2!$A$4:$B$7,2,FALSE))","v":8.6562899999999998E-2},{"$f":"IF(C1623=1,\"0\",VLOOKUP(C1623,coefficient2!$A$10:$B$13,2,FALSE))","v":7.0631200000000005E-2},{"$f":"IF(D1623=1,\"0\",VLOOKUP(D1623,coefficient2!$A$16:$B$19,2,FALSE))","v":0.248331},{"$f":"IF(E1623=1,\"0\",VLOOKUP(E1623,coefficient2!$A$22:$B$25,2,FALSE))","v":0.25643310000000002},{"$f":"IF(F1623=1,\"0\",VLOOKUP(F1623,coefficient2!$A$28:$B$31,2,FALSE))","v":5.8085699999999997E-2},0.27995609999999999]
[33553,3,3,5,5,3,19,{"$f":"IF(B1624=1,\"0\",VLOOKUP(B1624,coefficient2!$A$4:$B$7,2,FALSE))","v":8.6562899999999998E-2},{"$f":"IF(C1624=1,\"0\",VLOOKUP(C1624,coefficient2!$A$10:$B$13,2,FALSE))","v":7.0631200000000005E-2},{"$f":"IF(D1624=1,\"0\",VLOOKUP(D1624,coefficient2!$A$16:$B$19,2,FALSE))","v":0.248331},{"$f":"IF(E1624=1,\"0\",VLOOKUP(E1624,coefficient2!$A$22:$B$25,2,FALSE))","v":0.25643310000000002},{"$f":"IF(F1624=1,\"0\",VLOOKUP(F1624,coefficient2!$A$28:$B$31,2,FALSE))","v":9.5753900000000003E-2},0.2422879]
[33554,3,3,5,5,4,20,{"$f":"IF(B1625=1,\"0\",VLOOKUP(B1625,coefficient2!$A$4:$B$7,2,FALSE))","v":8.6562899999999998E-2},{"$f":"IF(C1625=1,\"0\",VLOOKUP(C1625,coefficient2!$A$10:$B$13,2,FALSE))","v":7.0631200000000005E-2},{"$f":"IF(D1625=1,\"0\",VLOOKUP(D1625,coefficient2!$A$16:$B$19,2,FALSE))","v":0.248331},{"$f":"IF(E1625=1,\"0\",VLOOKUP(E1625,coefficient2!$A$22:$B$25,2,FALSE))","v":0.25643310000000002},{"$f":"IF(F1625=1,\"0\",VLOOKUP(F1625,coefficient2!$A$28:$B$31,2,FALSE))","v":0.23270360000000001},0.10533819999999999]
[33555,3,3,5,5,5,21,{"$f":"IF(B1626=1,\"0\",VLOOKUP(B1626,coefficient2!$A$4:$B$7,2,FALSE))","v":8.6562899999999998E-2},{"$f":"IF(C1626=1,\"0\",VLOOKUP(C1626,coefficient2!$A$10:$B$13,2,FALSE))","v":7.0631200000000005E-2},{"$f":"IF(D1626=1,\"0\",VLOOKUP(D1626,coefficient2!$A$16:$B$19,2,FALSE))","v":0.248331},{"$f":"IF(E1626=1,\"0\",VLOOKUP(E1626,coefficient2!$A$22:$B$25,2,FALSE))","v":0.25643310000000002},{"$f":"IF(F1626=1,\"0\",VLOOKUP(F1626,coefficient2!$A$28:$B$31,2,FALSE))","v":0.29534929999999998},4.2692500000000022E-2]
[34111,3,4,1,1,1,10,{"$f":"IF(B1627=1,\"0\",VLOOKUP(B1627,coefficient2!$A$4:$B$7,2,FALSE))","v":8.6562899999999998E-2},{"$f":"IF(C1627=1,\"0\",VLOOKUP(C1627,coefficient2!$A$10:$B$13,2,FALSE))","v":0.19249050000000001},{"$f":"IF(D1627=1,\"0\",VLOOKUP(D1627,coefficient2!$A$16:$B$19,2,FALSE))","v":"0"},{"$f":"IF(E1627=1,\"0\",VLOOKUP(E1627,coefficient2!$A$22:$B$25,2,FALSE))","v":"0"},{"$f":"IF(F1627=1,\"0\",VLOOKUP(F1627,coefficient2!$A$28:$B$31,2,FALSE))","v":"0"},0.72094659999999999]
[34112,3,4,1,1,2,11,{"$f":"IF(B1628=1,\"0\",VLOOKUP(B1628,coefficient2!$A$4:$B$7,2,FALSE))","v":8.6562899999999998E-2},{"$f":"IF(C1628=1,\"0\",VLOOKUP(C1628,coefficient2!$A$10:$B$13,2,FALSE))","v":0.19249050000000001},{"$f":"IF(D1628=1,\"0\",VLOOKUP(D1628,coefficient2!$A$16:$B$19,2,FALSE))","v":"0"},{"$f":"IF(E1628=1,\"0\",VLOOKUP(E1628,coefficient2!$A$22:$B$25,2,FALSE))","v":"0"},{"$f":"IF(F1628=1,\"0\",VLOOKUP(F1628,coefficient2!$A$28:$B$31,2,FALSE))","v":5.8085699999999997E-2},0.66286089999999998]
[34113,3,4,1,1,3,12,{"$f":"IF(B1629=1,\"0\",VLOOKUP(B1629,coefficient2!$A$4:$B$7,2,FALSE))","v":8.6562899999999998E-2},{"$f":"IF(C1629=1,\"0\",VLOOKUP(C1629,coefficient2!$A$10:$B$13,2,FALSE))","v":0.19249050000000001},{"$f":"IF(D1629=1,\"0\",VLOOKUP(D1629,coefficient2!$A$16:$B$19,2,FALSE))","v":"0"},{"$f":"IF(E1629=1,\"0\",VLOOKUP(E1629,coefficient2!$A$22:$B$25,2,FALSE))","v":"0"},{"$f":"IF(F1629=1,\"0\",VLOOKUP(F1629,coefficient2!$A$28:$B$31,2,FALSE))","v":9.5753900000000003E-2},0.62519269999999993]
[34114,3,4,1,1,4,13,{"$f":"IF(B1630=1,\"0\",VLOOKUP(B1630,coefficient2!$A$4:$B$7,2,FALSE))","v":8.6562899999999998E-2},{"$f":"IF(C1630=1,\"0\",VLOOKUP(C1630,coefficient2!$A$10:$B$13,2,FALSE))","v":0.19249050000000001},{"$f":"IF(D1630=1,\"0\",VLOOKUP(D1630,coefficient2!$A$16:$B$19,2,FALSE))","v":"0"},{"$f":"IF(E1630=1,\"0\",VLOOKUP(E1630,coefficient2!$A$22:$B$25,2,FALSE))","v":"0"},{"$f":"IF(F1630=1,\"0\",VLOOKUP(F1630,coefficient2!$A$28:$B$31,2,FALSE))","v":0.23270360000000001},0.48824299999999998]
[34115,3,4,1,1,5,14,{"$f":"IF(B1631=1,\"0\",VLOOKUP(B1631,coefficient2!$A$4:$B$7,2,FALSE))","v":8.6562899999999998E-2},{"$f":"IF(C1631=1,\"0\",VLOOKUP(C1631,coefficient2!$A$10:$B$13,2,FALSE))","v":0.19249050000000001},{"$f":"IF(D1631=1,\"0\",VLOOKUP(D1631,coefficient2!$A$16:$B$19,2,FALSE))","v":"0"},{"$f":"IF(E1631=1,\"0\",VLOOKUP(E1631,coefficient2!$A$22:$B$25,2,FALSE))","v":"0"},{"$f":"IF(F1631=1,\"0\",VLOOKUP(F1631,coefficient2!$A$28:$B$31,2,FALSE))","v":0.29534929999999998},0.42559730000000001]
[34121,3,4,1,2,1,11,{"$f":"IF(B1632=1,\"0\",VLOOKUP(B1632,coefficient2!$A$4:$B$7,2,FALSE))","v":8.6562899999999998E-2},{"$f":"IF(C1632=1,\"0\",VLOOKUP(C1632,coefficient2!$A$10:$B$13,2,FALSE))","v":0.19249050000000001},{"$f":"IF(D1632=1,\"0\",VLOOKUP(D1632,coefficient2!$A$16:$B$19,2,FALSE))","v":"0"},{"$f":"IF(E1632=1,\"0\",VLOOKUP(E1632,coefficient2!$A$22:$B$25,2,FALSE))","v":5.63998E-2},{"$f":"IF(F1632=1,\"0\",VLOOKUP(F1632,coefficient2!$A$28:$B$31,2,FALSE))","v":"0"},0.66454679999999999]
[34122,3,4,1,2,2,12,{"$f":"IF(B1633=1,\"0\",VLOOKUP(B1633,coefficient2!$A$4:$B$7,2,FALSE))","v":8.6562899999999998E-2},{"$f":"IF(C1633=1,\"0\",VLOOKUP(C1633,coefficient2!$A$10:$B$13,2,FALSE))","v":0.19249050000000001},{"$f":"IF(D1633=1,\"0\",VLOOKUP(D1633,coefficient2!$A$16:$B$19,2,FALSE))","v":"0"},{"$f":"IF(E1633=1,\"0\",VLOOKUP(E1633,coefficient2!$A$22:$B$25,2,FALSE))","v":5.63998E-2},{"$f":"IF(F1633=1,\"0\",VLOOKUP(F1633,coefficient2!$A$28:$B$31,2,FALSE))","v":5.8085699999999997E-2},0.60646109999999998]
[34123,3,4,1,2,3,13,{"$f":"IF(B1634=1,\"0\",VLOOKUP(B1634,coefficient2!$A$4:$B$7,2,FALSE))","v":8.6562899999999998E-2},{"$f":"IF(C1634=1,\"0\",VLOOKUP(C1634,coefficient2!$A$10:$B$13,2,FALSE))","v":0.19249050000000001},{"$f":"IF(D1634=1,\"0\",VLOOKUP(D1634,coefficient2!$A$16:$B$19,2,FALSE))","v":"0"},{"$f":"IF(E1634=1,\"0\",VLOOKUP(E1634,coefficient2!$A$22:$B$25,2,FALSE))","v":5.63998E-2},{"$f":"IF(F1634=1,\"0\",VLOOKUP(F1634,coefficient2!$A$28:$B$31,2,FALSE))","v":9.5753900000000003E-2},0.56879290000000005]
[34124,3,4,1,2,4,14,{"$f":"IF(B1635=1,\"0\",VLOOKUP(B1635,coefficient2!$A$4:$B$7,2,FALSE))","v":8.6562899999999998E-2},{"$f":"IF(C1635=1,\"0\",VLOOKUP(C1635,coefficient2!$A$10:$B$13,2,FALSE))","v":0.19249050000000001},{"$f":"IF(D1635=1,\"0\",VLOOKUP(D1635,coefficient2!$A$16:$B$19,2,FALSE))","v":"0"},{"$f":"IF(E1635=1,\"0\",VLOOKUP(E1635,coefficient2!$A$22:$B$25,2,FALSE))","v":5.63998E-2},{"$f":"IF(F1635=1,\"0\",VLOOKUP(F1635,coefficient2!$A$28:$B$31,2,FALSE))","v":0.23270360000000001},0.43184319999999998]
[34125,3,4,1,2,5,15,{"$f":"IF(B1636=1,\"0\",VLOOKUP(B1636,coefficient2!$A$4:$B$7,2,FALSE))","v":8.6562899999999998E-2},{"$f":"IF(C1636=1,\"0\",VLOOKUP(C1636,coefficient2!$A$10:$B$13,2,FALSE))","v":0.19249050000000001},{"$f":"IF(D1636=1,\"0\",VLOOKUP(D1636,coefficient2!$A$16:$B$19,2,FALSE))","v":"0"},{"$f":"IF(E1636=1,\"0\",VLOOKUP(E1636,coefficient2!$A$22:$B$25,2,FALSE))","v":5.63998E-2},{"$f":"IF(F1636=1,\"0\",VLOOKUP(F1636,coefficient2!$A$28:$B$31,2,FALSE))","v":0.29534929999999998},0.36919750000000001]
[34131,3,4,1,3,1,12,{"$f":"IF(B1637=1,\"0\",VLOOKUP(B1637,coefficient2!$A$4:$B$7,2,FALSE))","v":8.6562899999999998E-2},{"$f":"IF(C1637=1,\"0\",VLOOKUP(C1637,coefficient2!$A$10:$B$13,2,FALSE))","v":0.19249050000000001},{"$f":"IF(D1637=1,\"0\",VLOOKUP(D1637,coefficient2!$A$16:$B$19,2,FALSE))","v":"0"},{"$f":"IF(E1637=1,\"0\",VLOOKUP(E1637,coefficient2!$A$22:$B$25,2,FALSE))","v":6.6492200000000001E-2},{"$f":"IF(F1637=1,\"0\",VLOOKUP(F1637,coefficient2!$A$28:$B$31,2,FALSE))","v":"0"},0.65445439999999999]
[34132,3,4,1,3,2,13,{"$f":"IF(B1638=1,\"0\",VLOOKUP(B1638,coefficient2!$A$4:$B$7,2,FALSE))","v":8.6562899999999998E-2},{"$f":"IF(C1638=1,\"0\",VLOOKUP(C1638,coefficient2!$A$10:$B$13,2,FALSE))","v":0.19249050000000001},{"$f":"IF(D1638=1,\"0\",VLOOKUP(D1638,coefficient2!$A$16:$B$19,2,FALSE))","v":"0"},{"$f":"IF(E1638=1,\"0\",VLOOKUP(E1638,coefficient2!$A$22:$B$25,2,FALSE))","v":6.6492200000000001E-2},{"$f":"IF(F1638=1,\"0\",VLOOKUP(F1638,coefficient2!$A$28:$B$31,2,FALSE))","v":5.8085699999999997E-2},0.59636869999999997]
[34133,3,4,1,3,3,14,{"$f":"IF(B1639=1,\"0\",VLOOKUP(B1639,coefficient2!$A$4:$B$7,2,FALSE))","v":8.6562899999999998E-2},{"$f":"IF(C1639=1,\"0\",VLOOKUP(C1639,coefficient2!$A$10:$B$13,2,FALSE))","v":0.19249050000000001},{"$f":"IF(D1639=1,\"0\",VLOOKUP(D1639,coefficient2!$A$16:$B$19,2,FALSE))","v":"0"},{"$f":"IF(E1639=1,\"0\",VLOOKUP(E1639,coefficient2!$A$22:$B$25,2,FALSE))","v":6.6492200000000001E-2},{"$f":"IF(F1639=1,\"0\",VLOOKUP(F1639,coefficient2!$A$28:$B$31,2,FALSE))","v":9.5753900000000003E-2},0.55870050000000004]
[34134,3,4,1,3,4,15,{"$f":"IF(B1640=1,\"0\",VLOOKUP(B1640,coefficient2!$A$4:$B$7,2,FALSE))","v":8.6562899999999998E-2},{"$f":"IF(C1640=1,\"0\",VLOOKUP(C1640,coefficient2!$A$10:$B$13,2,FALSE))","v":0.19249050000000001},{"$f":"IF(D1640=1,\"0\",VLOOKUP(D1640,coefficient2!$A$16:$B$19,2,FALSE))","v":"0"},{"$f":"IF(E1640=1,\"0\",VLOOKUP(E1640,coefficient2!$A$22:$B$25,2,FALSE))","v":6.6492200000000001E-2},{"$f":"IF(F1640=1,\"0\",VLOOKUP(F1640,coefficient2!$A$28:$B$31,2,FALSE))","v":0.23270360000000001},0.42175079999999998]
[34135,3,4,1,3,5,16,{"$f":"IF(B1641=1,\"0\",VLOOKUP(B1641,coefficient2!$A$4:$B$7,2,FALSE))","v":8.6562899999999998E-2},{"$f":"IF(C1641=1,\"0\",VLOOKUP(C1641,coefficient2!$A$10:$B$13,2,FALSE))","v":0.19249050000000001},{"$f":"IF(D1641=1,\"0\",VLOOKUP(D1641,coefficient2!$A$16:$B$19,2,FALSE))","v":"0"},{"$f":"IF(E1641=1,\"0\",VLOOKUP(E1641,coefficient2!$A$22:$B$25,2,FALSE))","v":6.6492200000000001E-2},{"$f":"IF(F1641=1,\"0\",VLOOKUP(F1641,coefficient2!$A$28:$B$31,2,FALSE))","v":0.29534929999999998},0.35910510000000001]
[34141,3,4,1,4,1,13,{"$f":"IF(B1642=1,\"0\",VLOOKUP(B1642,coefficient2!$A$4:$B$7,2,FALSE))","v":8.6562899999999998E-2},{"$f":"IF(C1642=1,\"0\",VLOOKUP(C1642,coefficient2!$A$10:$B$13,2,FALSE))","v":0.19249050000000001},{"$f":"IF(D1642=1,\"0\",VLOOKUP(D1642,coefficient2!$A$16:$B$19,2,FALSE))","v":"0"},{"$f":"IF(E1642=1,\"0\",VLOOKUP(E1642,coefficient2!$A$22:$B$25,2,FALSE))","v":0.2068864},{"$f":"IF(F1642=1,\"0\",VLOOKUP(F1642,coefficient2!$A$28:$B$31,2,FALSE))","v":"0"},0.51406019999999997]
[34142,3,4,1,4,2,14,{"$f":"IF(B1643=1,\"0\",VLOOKUP(B1643,coefficient2!$A$4:$B$7,2,FALSE))","v":8.6562899999999998E-2},{"$f":"IF(C1643=1,\"0\",VLOOKUP(C1643,coefficient2!$A$10:$B$13,2,FALSE))","v":0.19249050000000001},{"$f":"IF(D1643=1,\"0\",VLOOKUP(D1643,coefficient2!$A$16:$B$19,2,FALSE))","v":"0"},{"$f":"IF(E1643=1,\"0\",VLOOKUP(E1643,coefficient2!$A$22:$B$25,2,FALSE))","v":0.2068864},{"$f":"IF(F1643=1,\"0\",VLOOKUP(F1643,coefficient2!$A$28:$B$31,2,FALSE))","v":5.8085699999999997E-2},0.45597449999999995]
[34143,3,4,1,4,3,15,{"$f":"IF(B1644=1,\"0\",VLOOKUP(B1644,coefficient2!$A$4:$B$7,2,FALSE))","v":8.6562899999999998E-2},{"$f":"IF(C1644=1,\"0\",VLOOKUP(C1644,coefficient2!$A$10:$B$13,2,FALSE))","v":0.19249050000000001},{"$f":"IF(D1644=1,\"0\",VLOOKUP(D1644,coefficient2!$A$16:$B$19,2,FALSE))","v":"0"},{"$f":"IF(E1644=1,\"0\",VLOOKUP(E1644,coefficient2!$A$22:$B$25,2,FALSE))","v":0.2068864},{"$f":"IF(F1644=1,\"0\",VLOOKUP(F1644,coefficient2!$A$28:$B$31,2,FALSE))","v":9.5753900000000003E-2},0.41830629999999996]
[34144,3,4,1,4,4,16,{"$f":"IF(B1645=1,\"0\",VLOOKUP(B1645,coefficient2!$A$4:$B$7,2,FALSE))","v":8.6562899999999998E-2},{"$f":"IF(C1645=1,\"0\",VLOOKUP(C1645,coefficient2!$A$10:$B$13,2,FALSE))","v":0.19249050000000001},{"$f":"IF(D1645=1,\"0\",VLOOKUP(D1645,coefficient2!$A$16:$B$19,2,FALSE))","v":"0"},{"$f":"IF(E1645=1,\"0\",VLOOKUP(E1645,coefficient2!$A$22:$B$25,2,FALSE))","v":0.2068864},{"$f":"IF(F1645=1,\"0\",VLOOKUP(F1645,coefficient2!$A$28:$B$31,2,FALSE))","v":0.23270360000000001},0.28135659999999996]
[34145,3,4,1,4,5,17,{"$f":"IF(B1646=1,\"0\",VLOOKUP(B1646,coefficient2!$A$4:$B$7,2,FALSE))","v":8.6562899999999998E-2},{"$f":"IF(C1646=1,\"0\",VLOOKUP(C1646,coefficient2!$A$10:$B$13,2,FALSE))","v":0.19249050000000001},{"$f":"IF(D1646=1,\"0\",VLOOKUP(D1646,coefficient2!$A$16:$B$19,2,FALSE))","v":"0"},{"$f":"IF(E1646=1,\"0\",VLOOKUP(E1646,coefficient2!$A$22:$B$25,2,FALSE))","v":0.2068864},{"$f":"IF(F1646=1,\"0\",VLOOKUP(F1646,coefficient2!$A$28:$B$31,2,FALSE))","v":0.29534929999999998},0.21871089999999999]
[34151,3,4,1,5,1,14,{"$f":"IF(B1647=1,\"0\",VLOOKUP(B1647,coefficient2!$A$4:$B$7,2,FALSE))","v":8.6562899999999998E-2},{"$f":"IF(C1647=1,\"0\",VLOOKUP(C1647,coefficient2!$A$10:$B$13,2,FALSE))","v":0.19249050000000001},{"$f":"IF(D1647=1,\"0\",VLOOKUP(D1647,coefficient2!$A$16:$B$19,2,FALSE))","v":"0"},{"$f":"IF(E1647=1,\"0\",VLOOKUP(E1647,coefficient2!$A$22:$B$25,2,FALSE))","v":0.25643310000000002},{"$f":"IF(F1647=1,\"0\",VLOOKUP(F1647,coefficient2!$A$28:$B$31,2,FALSE))","v":"0"},0.46451349999999997]
[34152,3,4,1,5,2,15,{"$f":"IF(B1648=1,\"0\",VLOOKUP(B1648,coefficient2!$A$4:$B$7,2,FALSE))","v":8.6562899999999998E-2},{"$f":"IF(C1648=1,\"0\",VLOOKUP(C1648,coefficient2!$A$10:$B$13,2,FALSE))","v":0.19249050000000001},{"$f":"IF(D1648=1,\"0\",VLOOKUP(D1648,coefficient2!$A$16:$B$19,2,FALSE))","v":"0"},{"$f":"IF(E1648=1,\"0\",VLOOKUP(E1648,coefficient2!$A$22:$B$25,2,FALSE))","v":0.25643310000000002},{"$f":"IF(F1648=1,\"0\",VLOOKUP(F1648,coefficient2!$A$28:$B$31,2,FALSE))","v":5.8085699999999997E-2},0.40642779999999995]
[34153,3,4,1,5,3,16,{"$f":"IF(B1649=1,\"0\",VLOOKUP(B1649,coefficient2!$A$4:$B$7,2,FALSE))","v":8.6562899999999998E-2},{"$f":"IF(C1649=1,\"0\",VLOOKUP(C1649,coefficient2!$A$10:$B$13,2,FALSE))","v":0.19249050000000001},{"$f":"IF(D1649=1,\"0\",VLOOKUP(D1649,coefficient2!$A$16:$B$19,2,FALSE))","v":"0"},{"$f":"IF(E1649=1,\"0\",VLOOKUP(E1649,coefficient2!$A$22:$B$25,2,FALSE))","v":0.25643310000000002},{"$f":"IF(F1649=1,\"0\",VLOOKUP(F1649,coefficient2!$A$28:$B$31,2,FALSE))","v":9.5753900000000003E-2},0.36875959999999997]
[34154,3,4,1,5,4,17,{"$f":"IF(B1650=1,\"0\",VLOOKUP(B1650,coefficient2!$A$4:$B$7,2,FALSE))","v":8.6562899999999998E-2},{"$f":"IF(C1650=1,\"0\",VLOOKUP(C1650,coefficient2!$A$10:$B$13,2,FALSE))","v":0.19249050000000001},{"$f":"IF(D1650=1,\"0\",VLOOKUP(D1650,coefficient2!$A$16:$B$19,2,FALSE))","v":"0"},{"$f":"IF(E1650=1,\"0\",VLOOKUP(E1650,coefficient2!$A$22:$B$25,2,FALSE))","v":0.25643310000000002},{"$f":"IF(F1650=1,\"0\",VLOOKUP(F1650,coefficient2!$A$28:$B$31,2,FALSE))","v":0.23270360000000001},0.23180989999999996]
[34155,3,4,1,5,5,18,{"$f":"IF(B1651=1,\"0\",VLOOKUP(B1651,coefficient2!$A$4:$B$7,2,FALSE))","v":8.6562899999999998E-2},{"$f":"IF(C1651=1,\"0\",VLOOKUP(C1651,coefficient2!$A$10:$B$13,2,FALSE))","v":0.19249050000000001},{"$f":"IF(D1651=1,\"0\",VLOOKUP(D1651,coefficient2!$A$16:$B$19,2,FALSE))","v":"0"},{"$f":"IF(E1651=1,\"0\",VLOOKUP(E1651,coefficient2!$A$22:$B$25,2,FALSE))","v":0.25643310000000002},{"$f":"IF(F1651=1,\"0\",VLOOKUP(F1651,coefficient2!$A$28:$B$31,2,FALSE))","v":0.29534929999999998},0.16916419999999999]
[34211,3,4,2,1,1,11,{"$f":"IF(B1652=1,\"0\",VLOOKUP(B1652,coefficient2!$A$4:$B$7,2,FALSE))","v":8.6562899999999998E-2},{"$f":"IF(C1652=1,\"0\",VLOOKUP(C1652,coefficient2!$A$10:$B$13,2,FALSE))","v":0.19249050000000001},{"$f":"IF(D1652=1,\"0\",VLOOKUP(D1652,coefficient2!$A$16:$B$19,2,FALSE))","v":5.8254399999999998E-2},{"$f":"IF(E1652=1,\"0\",VLOOKUP(E1652,coefficient2!$A$22:$B$25,2,FALSE))","v":"0"},{"$f":"IF(F1652=1,\"0\",VLOOKUP(F1652,coefficient2!$A$28:$B$31,2,FALSE))","v":"0"},0.66269219999999995]
[34212,3,4,2,1,2,12,{"$f":"IF(B1653=1,\"0\",VLOOKUP(B1653,coefficient2!$A$4:$B$7,2,FALSE))","v":8.6562899999999998E-2},{"$f":"IF(C1653=1,\"0\",VLOOKUP(C1653,coefficient2!$A$10:$B$13,2,FALSE))","v":0.19249050000000001},{"$f":"IF(D1653=1,\"0\",VLOOKUP(D1653,coefficient2!$A$16:$B$19,2,FALSE))","v":5.8254399999999998E-2},{"$f":"IF(E1653=1,\"0\",VLOOKUP(E1653,coefficient2!$A$22:$B$25,2,FALSE))","v":"0"},{"$f":"IF(F1653=1,\"0\",VLOOKUP(F1653,coefficient2!$A$28:$B$31,2,FALSE))","v":5.8085699999999997E-2},0.60460649999999994]
[34213,3,4,2,1,3,13,{"$f":"IF(B1654=1,\"0\",VLOOKUP(B1654,coefficient2!$A$4:$B$7,2,FALSE))","v":8.6562899999999998E-2},{"$f":"IF(C1654=1,\"0\",VLOOKUP(C1654,coefficient2!$A$10:$B$13,2,FALSE))","v":0.19249050000000001},{"$f":"IF(D1654=1,\"0\",VLOOKUP(D1654,coefficient2!$A$16:$B$19,2,FALSE))","v":5.8254399999999998E-2},{"$f":"IF(E1654=1,\"0\",VLOOKUP(E1654,coefficient2!$A$22:$B$25,2,FALSE))","v":"0"},{"$f":"IF(F1654=1,\"0\",VLOOKUP(F1654,coefficient2!$A$28:$B$31,2,FALSE))","v":9.5753900000000003E-2},0.5669382999999999]
[34214,3,4,2,1,4,14,{"$f":"IF(B1655=1,\"0\",VLOOKUP(B1655,coefficient2!$A$4:$B$7,2,FALSE))","v":8.6562899999999998E-2},{"$f":"IF(C1655=1,\"0\",VLOOKUP(C1655,coefficient2!$A$10:$B$13,2,FALSE))","v":0.19249050000000001},{"$f":"IF(D1655=1,\"0\",VLOOKUP(D1655,coefficient2!$A$16:$B$19,2,FALSE))","v":5.8254399999999998E-2},{"$f":"IF(E1655=1,\"0\",VLOOKUP(E1655,coefficient2!$A$22:$B$25,2,FALSE))","v":"0"},{"$f":"IF(F1655=1,\"0\",VLOOKUP(F1655,coefficient2!$A$28:$B$31,2,FALSE))","v":0.23270360000000001},0.42998859999999994]
[34215,3,4,2,1,5,15,{"$f":"IF(B1656=1,\"0\",VLOOKUP(B1656,coefficient2!$A$4:$B$7,2,FALSE))","v":8.6562899999999998E-2},{"$f":"IF(C1656=1,\"0\",VLOOKUP(C1656,coefficient2!$A$10:$B$13,2,FALSE))","v":0.19249050000000001},{"$f":"IF(D1656=1,\"0\",VLOOKUP(D1656,coefficient2!$A$16:$B$19,2,FALSE))","v":5.8254399999999998E-2},{"$f":"IF(E1656=1,\"0\",VLOOKUP(E1656,coefficient2!$A$22:$B$25,2,FALSE))","v":"0"},{"$f":"IF(F1656=1,\"0\",VLOOKUP(F1656,coefficient2!$A$28:$B$31,2,FALSE))","v":0.29534929999999998},0.36734289999999997]
[34221,3,4,2,2,1,12,{"$f":"IF(B1657=1,\"0\",VLOOKUP(B1657,coefficient2!$A$4:$B$7,2,FALSE))","v":8.6562899999999998E-2},{"$f":"IF(C1657=1,\"0\",VLOOKUP(C1657,coefficient2!$A$10:$B$13,2,FALSE))","v":0.19249050000000001},{"$f":"IF(D1657=1,\"0\",VLOOKUP(D1657,coefficient2!$A$16:$B$19,2,FALSE))","v":5.8254399999999998E-2},{"$f":"IF(E1657=1,\"0\",VLOOKUP(E1657,coefficient2!$A$22:$B$25,2,FALSE))","v":5.63998E-2},{"$f":"IF(F1657=1,\"0\",VLOOKUP(F1657,coefficient2!$A$28:$B$31,2,FALSE))","v":"0"},0.60629239999999995]
[34222,3,4,2,2,2,13,{"$f":"IF(B1658=1,\"0\",VLOOKUP(B1658,coefficient2!$A$4:$B$7,2,FALSE))","v":8.6562899999999998E-2},{"$f":"IF(C1658=1,\"0\",VLOOKUP(C1658,coefficient2!$A$10:$B$13,2,FALSE))","v":0.19249050000000001},{"$f":"IF(D1658=1,\"0\",VLOOKUP(D1658,coefficient2!$A$16:$B$19,2,FALSE))","v":5.8254399999999998E-2},{"$f":"IF(E1658=1,\"0\",VLOOKUP(E1658,coefficient2!$A$22:$B$25,2,FALSE))","v":5.63998E-2},{"$f":"IF(F1658=1,\"0\",VLOOKUP(F1658,coefficient2!$A$28:$B$31,2,FALSE))","v":5.8085699999999997E-2},0.54820669999999994]
[34223,3,4,2,2,3,14,{"$f":"IF(B1659=1,\"0\",VLOOKUP(B1659,coefficient2!$A$4:$B$7,2,FALSE))","v":8.6562899999999998E-2},{"$f":"IF(C1659=1,\"0\",VLOOKUP(C1659,coefficient2!$A$10:$B$13,2,FALSE))","v":0.19249050000000001},{"$f":"IF(D1659=1,\"0\",VLOOKUP(D1659,coefficient2!$A$16:$B$19,2,FALSE))","v":5.8254399999999998E-2},{"$f":"IF(E1659=1,\"0\",VLOOKUP(E1659,coefficient2!$A$22:$B$25,2,FALSE))","v":5.63998E-2},{"$f":"IF(F1659=1,\"0\",VLOOKUP(F1659,coefficient2!$A$28:$B$31,2,FALSE))","v":9.5753900000000003E-2},0.51053850000000001]
[34224,3,4,2,2,4,15,{"$f":"IF(B1660=1,\"0\",VLOOKUP(B1660,coefficient2!$A$4:$B$7,2,FALSE))","v":8.6562899999999998E-2},{"$f":"IF(C1660=1,\"0\",VLOOKUP(C1660,coefficient2!$A$10:$B$13,2,FALSE))","v":0.19249050000000001},{"$f":"IF(D1660=1,\"0\",VLOOKUP(D1660,coefficient2!$A$16:$B$19,2,FALSE))","v":5.8254399999999998E-2},{"$f":"IF(E1660=1,\"0\",VLOOKUP(E1660,coefficient2!$A$22:$B$25,2,FALSE))","v":5.63998E-2},{"$f":"IF(F1660=1,\"0\",VLOOKUP(F1660,coefficient2!$A$28:$B$31,2,FALSE))","v":0.23270360000000001},0.37358879999999994]
[34225,3,4,2,2,5,16,{"$f":"IF(B1661=1,\"0\",VLOOKUP(B1661,coefficient2!$A$4:$B$7,2,FALSE))","v":8.6562899999999998E-2},{"$f":"IF(C1661=1,\"0\",VLOOKUP(C1661,coefficient2!$A$10:$B$13,2,FALSE))","v":0.19249050000000001},{"$f":"IF(D1661=1,\"0\",VLOOKUP(D1661,coefficient2!$A$16:$B$19,2,FALSE))","v":5.8254399999999998E-2},{"$f":"IF(E1661=1,\"0\",VLOOKUP(E1661,coefficient2!$A$22:$B$25,2,FALSE))","v":5.63998E-2},{"$f":"IF(F1661=1,\"0\",VLOOKUP(F1661,coefficient2!$A$28:$B$31,2,FALSE))","v":0.29534929999999998},0.31094309999999997]
[34231,3,4,2,3,1,13,{"$f":"IF(B1662=1,\"0\",VLOOKUP(B1662,coefficient2!$A$4:$B$7,2,FALSE))","v":8.6562899999999998E-2},{"$f":"IF(C1662=1,\"0\",VLOOKUP(C1662,coefficient2!$A$10:$B$13,2,FALSE))","v":0.19249050000000001},{"$f":"IF(D1662=1,\"0\",VLOOKUP(D1662,coefficient2!$A$16:$B$19,2,FALSE))","v":5.8254399999999998E-2},{"$f":"IF(E1662=1,\"0\",VLOOKUP(E1662,coefficient2!$A$22:$B$25,2,FALSE))","v":6.6492200000000001E-2},{"$f":"IF(F1662=1,\"0\",VLOOKUP(F1662,coefficient2!$A$28:$B$31,2,FALSE))","v":"0"},0.59619999999999995]
[34232,3,4,2,3,2,14,{"$f":"IF(B1663=1,\"0\",VLOOKUP(B1663,coefficient2!$A$4:$B$7,2,FALSE))","v":8.6562899999999998E-2},{"$f":"IF(C1663=1,\"0\",VLOOKUP(C1663,coefficient2!$A$10:$B$13,2,FALSE))","v":0.19249050000000001},{"$f":"IF(D1663=1,\"0\",VLOOKUP(D1663,coefficient2!$A$16:$B$19,2,FALSE))","v":5.8254399999999998E-2},{"$f":"IF(E1663=1,\"0\",VLOOKUP(E1663,coefficient2!$A$22:$B$25,2,FALSE))","v":6.6492200000000001E-2},{"$f":"IF(F1663=1,\"0\",VLOOKUP(F1663,coefficient2!$A$28:$B$31,2,FALSE))","v":5.8085699999999997E-2},0.53811429999999993]
[34233,3,4,2,3,3,15,{"$f":"IF(B1664=1,\"0\",VLOOKUP(B1664,coefficient2!$A$4:$B$7,2,FALSE))","v":8.6562899999999998E-2},{"$f":"IF(C1664=1,\"0\",VLOOKUP(C1664,coefficient2!$A$10:$B$13,2,FALSE))","v":0.19249050000000001},{"$f":"IF(D1664=1,\"0\",VLOOKUP(D1664,coefficient2!$A$16:$B$19,2,FALSE))","v":5.8254399999999998E-2},{"$f":"IF(E1664=1,\"0\",VLOOKUP(E1664,coefficient2!$A$22:$B$25,2,FALSE))","v":6.6492200000000001E-2},{"$f":"IF(F1664=1,\"0\",VLOOKUP(F1664,coefficient2!$A$28:$B$31,2,FALSE))","v":9.5753900000000003E-2},0.5004461]
[34234,3,4,2,3,4,16,{"$f":"IF(B1665=1,\"0\",VLOOKUP(B1665,coefficient2!$A$4:$B$7,2,FALSE))","v":8.6562899999999998E-2},{"$f":"IF(C1665=1,\"0\",VLOOKUP(C1665,coefficient2!$A$10:$B$13,2,FALSE))","v":0.19249050000000001},{"$f":"IF(D1665=1,\"0\",VLOOKUP(D1665,coefficient2!$A$16:$B$19,2,FALSE))","v":5.8254399999999998E-2},{"$f":"IF(E1665=1,\"0\",VLOOKUP(E1665,coefficient2!$A$22:$B$25,2,FALSE))","v":6.6492200000000001E-2},{"$f":"IF(F1665=1,\"0\",VLOOKUP(F1665,coefficient2!$A$28:$B$31,2,FALSE))","v":0.23270360000000001},0.36349639999999994]
[34235,3,4,2,3,5,17,{"$f":"IF(B1666=1,\"0\",VLOOKUP(B1666,coefficient2!$A$4:$B$7,2,FALSE))","v":8.6562899999999998E-2},{"$f":"IF(C1666=1,\"0\",VLOOKUP(C1666,coefficient2!$A$10:$B$13,2,FALSE))","v":0.19249050000000001},{"$f":"IF(D1666=1,\"0\",VLOOKUP(D1666,coefficient2!$A$16:$B$19,2,FALSE))","v":5.8254399999999998E-2},{"$f":"IF(E1666=1,\"0\",VLOOKUP(E1666,coefficient2!$A$22:$B$25,2,FALSE))","v":6.6492200000000001E-2},{"$f":"IF(F1666=1,\"0\",VLOOKUP(F1666,coefficient2!$A$28:$B$31,2,FALSE))","v":0.29534929999999998},{"$f":"1-H1666-I1666-J1666-K1666-L1666","v":0.30085069999999997}]
[34241,{"$f":"INT(LEFT(A1667,1))","v":3},{"$f":"INT(MID(A1667,2,1))","v":4},{"$f":"INT(MID(A1667,3,1))","v":2},{"$f":"INT(MID(A1667,4,1))","v":4},{"$f":"INT(RIGHT(A1667,1))","v":1},{"$f":"SUM(B1667:F1667)","v":14},{"$f":"IF(B1667=1,\"0\",VLOOKUP(B1667,coefficient2!$A$4:$B$7,2,FALSE))","v":8.6562899999999998E-2},{"$f":"IF(C1667=1,\"0\",VLOOKUP(C1667,coefficient2!$A$10:$B$13,2,FALSE))","v":0.19249050000000001},{"$f":"IF(D1667=1,\"0\",VLOOKUP(D1667,coefficient2!$A$16:$B$19,2,FALSE))","v":5.8254399999999998E-2},{"$f":"IF(E1667=1,\"0\",VLOOKUP(E1667,coefficient2!$A$22:$B$25,2,FALSE))","v":0.2068864},{"$f":"IF(F1667=1,\"0\",VLOOKUP(F1667,coefficient2!$A$28:$B$31,2,FALSE))","v":"0"},0.45580579999999993]
[34242,3,4,2,4,2,15,{"$f":"IF(B1668=1,\"0\",VLOOKUP(B1668,coefficient2!$A$4:$B$7,2,FALSE))","v":8.6562899999999998E-2},{"$f":"IF(C1668=1,\"0\",VLOOKUP(C1668,coefficient2!$A$10:$B$13,2,FALSE))","v":0.19249050000000001},{"$f":"IF(D1668=1,\"0\",VLOOKUP(D1668,coefficient2!$A$16:$B$19,2,FALSE))","v":5.8254399999999998E-2},{"$f":"IF(E1668=1,\"0\",VLOOKUP(E1668,coefficient2!$A$22:$B$25,2,FALSE))","v":0.2068864},{"$f":"IF(F1668=1,\"0\",VLOOKUP(F1668,coefficient2!$A$28:$B$31,2,FALSE))","v":5.8085699999999997E-2},0.39772009999999991]
[34243,3,4,2,4,3,16,{"$f":"IF(B1669=1,\"0\",VLOOKUP(B1669,coefficient2!$A$4:$B$7,2,FALSE))","v":8.6562899999999998E-2},{"$f":"IF(C1669=1,\"0\",VLOOKUP(C1669,coefficient2!$A$10:$B$13,2,FALSE))","v":0.19249050000000001},{"$f":"IF(D1669=1,\"0\",VLOOKUP(D1669,coefficient2!$A$16:$B$19,2,FALSE))","v":5.8254399999999998E-2},{"$f":"IF(E1669=1,\"0\",VLOOKUP(E1669,coefficient2!$A$22:$B$25,2,FALSE))","v":0.2068864},{"$f":"IF(F1669=1,\"0\",VLOOKUP(F1669,coefficient2!$A$28:$B$31,2,FALSE))","v":9.5753900000000003E-2},0.36005189999999992]
[34244,3,4,2,4,4,17,{"$f":"IF(B1670=1,\"0\",VLOOKUP(B1670,coefficient2!$A$4:$B$7,2,FALSE))","v":8.6562899999999998E-2},{"$f":"IF(C1670=1,\"0\",VLOOKUP(C1670,coefficient2!$A$10:$B$13,2,FALSE))","v":0.19249050000000001},{"$f":"IF(D1670=1,\"0\",VLOOKUP(D1670,coefficient2!$A$16:$B$19,2,FALSE))","v":5.8254399999999998E-2},{"$f":"IF(E1670=1,\"0\",VLOOKUP(E1670,coefficient2!$A$22:$B$25,2,FALSE))","v":0.2068864},{"$f":"IF(F1670=1,\"0\",VLOOKUP(F1670,coefficient2!$A$28:$B$31,2,FALSE))","v":0.23270360000000001},0.22310219999999992]
[34245,3,4,2,4,5,18,{"$f":"IF(B1671=1,\"0\",VLOOKUP(B1671,coefficient2!$A$4:$B$7,2,FALSE))","v":8.6562899999999998E-2},{"$f":"IF(C1671=1,\"0\",VLOOKUP(C1671,coefficient2!$A$10:$B$13,2,FALSE))","v":0.19249050000000001},{"$f":"IF(D1671=1,\"0\",VLOOKUP(D1671,coefficient2!$A$16:$B$19,2,FALSE))","v":5.8254399999999998E-2},{"$f":"IF(E1671=1,\"0\",VLOOKUP(E1671,coefficient2!$A$22:$B$25,2,FALSE))","v":0.2068864},{"$f":"IF(F1671=1,\"0\",VLOOKUP(F1671,coefficient2!$A$28:$B$31,2,FALSE))","v":0.29534929999999998},0.16045649999999995]
[34251,3,4,2,5,1,15,{"$f":"IF(B1672=1,\"0\",VLOOKUP(B1672,coefficient2!$A$4:$B$7,2,FALSE))","v":8.6562899999999998E-2},{"$f":"IF(C1672=1,\"0\",VLOOKUP(C1672,coefficient2!$A$10:$B$13,2,FALSE))","v":0.19249050000000001},{"$f":"IF(D1672=1,\"0\",VLOOKUP(D1672,coefficient2!$A$16:$B$19,2,FALSE))","v":5.8254399999999998E-2},{"$f":"IF(E1672=1,\"0\",VLOOKUP(E1672,coefficient2!$A$22:$B$25,2,FALSE))","v":0.25643310000000002},{"$f":"IF(F1672=1,\"0\",VLOOKUP(F1672,coefficient2!$A$28:$B$31,2,FALSE))","v":"0"},0.40625909999999993]
[34252,3,4,2,5,2,16,{"$f":"IF(B1673=1,\"0\",VLOOKUP(B1673,coefficient2!$A$4:$B$7,2,FALSE))","v":8.6562899999999998E-2},{"$f":"IF(C1673=1,\"0\",VLOOKUP(C1673,coefficient2!$A$10:$B$13,2,FALSE))","v":0.19249050000000001},{"$f":"IF(D1673=1,\"0\",VLOOKUP(D1673,coefficient2!$A$16:$B$19,2,FALSE))","v":5.8254399999999998E-2},{"$f":"IF(E1673=1,\"0\",VLOOKUP(E1673,coefficient2!$A$22:$B$25,2,FALSE))","v":0.25643310000000002},{"$f":"IF(F1673=1,\"0\",VLOOKUP(F1673,coefficient2!$A$28:$B$31,2,FALSE))","v":5.8085699999999997E-2},0.34817339999999991]
[34253,3,4,2,5,3,17,{"$f":"IF(B1674=1,\"0\",VLOOKUP(B1674,coefficient2!$A$4:$B$7,2,FALSE))","v":8.6562899999999998E-2},{"$f":"IF(C1674=1,\"0\",VLOOKUP(C1674,coefficient2!$A$10:$B$13,2,FALSE))","v":0.19249050000000001},{"$f":"IF(D1674=1,\"0\",VLOOKUP(D1674,coefficient2!$A$16:$B$19,2,FALSE))","v":5.8254399999999998E-2},{"$f":"IF(E1674=1,\"0\",VLOOKUP(E1674,coefficient2!$A$22:$B$25,2,FALSE))","v":0.25643310000000002},{"$f":"IF(F1674=1,\"0\",VLOOKUP(F1674,coefficient2!$A$28:$B$31,2,FALSE))","v":9.5753900000000003E-2},0.31050519999999993]
[34254,3,4,2,5,4,18,{"$f":"IF(B1675=1,\"0\",VLOOKUP(B1675,coefficient2!$A$4:$B$7,2,FALSE))","v":8.6562899999999998E-2},{"$f":"IF(C1675=1,\"0\",VLOOKUP(C1675,coefficient2!$A$10:$B$13,2,FALSE))","v":0.19249050000000001},{"$f":"IF(D1675=1,\"0\",VLOOKUP(D1675,coefficient2!$A$16:$B$19,2,FALSE))","v":5.8254399999999998E-2},{"$f":"IF(E1675=1,\"0\",VLOOKUP(E1675,coefficient2!$A$22:$B$25,2,FALSE))","v":0.25643310000000002},{"$f":"IF(F1675=1,\"0\",VLOOKUP(F1675,coefficient2!$A$28:$B$31,2,FALSE))","v":0.23270360000000001},0.17355549999999992]
[34255,3,4,2,5,5,19,{"$f":"IF(B1676=1,\"0\",VLOOKUP(B1676,coefficient2!$A$4:$B$7,2,FALSE))","v":8.6562899999999998E-2},{"$f":"IF(C1676=1,\"0\",VLOOKUP(C1676,coefficient2!$A$10:$B$13,2,FALSE))","v":0.19249050000000001},{"$f":"IF(D1676=1,\"0\",VLOOKUP(D1676,coefficient2!$A$16:$B$19,2,FALSE))","v":5.8254399999999998E-2},{"$f":"IF(E1676=1,\"0\",VLOOKUP(E1676,coefficient2!$A$22:$B$25,2,FALSE))","v":0.25643310000000002},{"$f":"IF(F1676=1,\"0\",VLOOKUP(F1676,coefficient2!$A$28:$B$31,2,FALSE))","v":0.29534929999999998},0.11090979999999995]
[34311,3,4,3,1,1,12,{"$f":"IF(B1677=1,\"0\",VLOOKUP(B1677,coefficient2!$A$4:$B$7,2,FALSE))","v":8.6562899999999998E-2},{"$f":"IF(C1677=1,\"0\",VLOOKUP(C1677,coefficient2!$A$10:$B$13,2,FALSE))","v":0.19249050000000001},{"$f":"IF(D1677=1,\"0\",VLOOKUP(D1677,coefficient2!$A$16:$B$19,2,FALSE))","v":7.1197399999999994E-2},{"$f":"IF(E1677=1,\"0\",VLOOKUP(E1677,coefficient2!$A$22:$B$25,2,FALSE))","v":"0"},{"$f":"IF(F1677=1,\"0\",VLOOKUP(F1677,coefficient2!$A$28:$B$31,2,FALSE))","v":"0"},0.64974920000000003]
[34312,3,4,3,1,2,13,{"$f":"IF(B1678=1,\"0\",VLOOKUP(B1678,coefficient2!$A$4:$B$7,2,FALSE))","v":8.6562899999999998E-2},{"$f":"IF(C1678=1,\"0\",VLOOKUP(C1678,coefficient2!$A$10:$B$13,2,FALSE))","v":0.19249050000000001},{"$f":"IF(D1678=1,\"0\",VLOOKUP(D1678,coefficient2!$A$16:$B$19,2,FALSE))","v":7.1197399999999994E-2},{"$f":"IF(E1678=1,\"0\",VLOOKUP(E1678,coefficient2!$A$22:$B$25,2,FALSE))","v":"0"},{"$f":"IF(F1678=1,\"0\",VLOOKUP(F1678,coefficient2!$A$28:$B$31,2,FALSE))","v":5.8085699999999997E-2},0.59166350000000001]
[34313,3,4,3,1,3,14,{"$f":"IF(B1679=1,\"0\",VLOOKUP(B1679,coefficient2!$A$4:$B$7,2,FALSE))","v":8.6562899999999998E-2},{"$f":"IF(C1679=1,\"0\",VLOOKUP(C1679,coefficient2!$A$10:$B$13,2,FALSE))","v":0.19249050000000001},{"$f":"IF(D1679=1,\"0\",VLOOKUP(D1679,coefficient2!$A$16:$B$19,2,FALSE))","v":7.1197399999999994E-2},{"$f":"IF(E1679=1,\"0\",VLOOKUP(E1679,coefficient2!$A$22:$B$25,2,FALSE))","v":"0"},{"$f":"IF(F1679=1,\"0\",VLOOKUP(F1679,coefficient2!$A$28:$B$31,2,FALSE))","v":9.5753900000000003E-2},0.55399529999999997]
[34314,3,4,3,1,4,15,{"$f":"IF(B1680=1,\"0\",VLOOKUP(B1680,coefficient2!$A$4:$B$7,2,FALSE))","v":8.6562899999999998E-2},{"$f":"IF(C1680=1,\"0\",VLOOKUP(C1680,coefficient2!$A$10:$B$13,2,FALSE))","v":0.19249050000000001},{"$f":"IF(D1680=1,\"0\",VLOOKUP(D1680,coefficient2!$A$16:$B$19,2,FALSE))","v":7.1197399999999994E-2},{"$f":"IF(E1680=1,\"0\",VLOOKUP(E1680,coefficient2!$A$22:$B$25,2,FALSE))","v":"0"},{"$f":"IF(F1680=1,\"0\",VLOOKUP(F1680,coefficient2!$A$28:$B$31,2,FALSE))","v":0.23270360000000001},0.41704560000000002]
[34315,3,4,3,1,5,16,{"$f":"IF(B1681=1,\"0\",VLOOKUP(B1681,coefficient2!$A$4:$B$7,2,FALSE))","v":8.6562899999999998E-2},{"$f":"IF(C1681=1,\"0\",VLOOKUP(C1681,coefficient2!$A$10:$B$13,2,FALSE))","v":0.19249050000000001},{"$f":"IF(D1681=1,\"0\",VLOOKUP(D1681,coefficient2!$A$16:$B$19,2,FALSE))","v":7.1197399999999994E-2},{"$f":"IF(E1681=1,\"0\",VLOOKUP(E1681,coefficient2!$A$22:$B$25,2,FALSE))","v":"0"},{"$f":"IF(F1681=1,\"0\",VLOOKUP(F1681,coefficient2!$A$28:$B$31,2,FALSE))","v":0.29534929999999998},0.35439990000000005]
[34321,3,4,3,2,1,13,{"$f":"IF(B1682=1,\"0\",VLOOKUP(B1682,coefficient2!$A$4:$B$7,2,FALSE))","v":8.6562899999999998E-2},{"$f":"IF(C1682=1,\"0\",VLOOKUP(C1682,coefficient2!$A$10:$B$13,2,FALSE))","v":0.19249050000000001},{"$f":"IF(D1682=1,\"0\",VLOOKUP(D1682,coefficient2!$A$16:$B$19,2,FALSE))","v":7.1197399999999994E-2},{"$f":"IF(E1682=1,\"0\",VLOOKUP(E1682,coefficient2!$A$22:$B$25,2,FALSE))","v":5.63998E-2},{"$f":"IF(F1682=1,\"0\",VLOOKUP(F1682,coefficient2!$A$28:$B$31,2,FALSE))","v":"0"},0.59334940000000003]
[34322,3,4,3,2,2,14,{"$f":"IF(B1683=1,\"0\",VLOOKUP(B1683,coefficient2!$A$4:$B$7,2,FALSE))","v":8.6562899999999998E-2},{"$f":"IF(C1683=1,\"0\",VLOOKUP(C1683,coefficient2!$A$10:$B$13,2,FALSE))","v":0.19249050000000001},{"$f":"IF(D1683=1,\"0\",VLOOKUP(D1683,coefficient2!$A$16:$B$19,2,FALSE))","v":7.1197399999999994E-2},{"$f":"IF(E1683=1,\"0\",VLOOKUP(E1683,coefficient2!$A$22:$B$25,2,FALSE))","v":5.63998E-2},{"$f":"IF(F1683=1,\"0\",VLOOKUP(F1683,coefficient2!$A$28:$B$31,2,FALSE))","v":5.8085699999999997E-2},0.53526370000000001]
[34323,3,4,3,2,3,15,{"$f":"IF(B1684=1,\"0\",VLOOKUP(B1684,coefficient2!$A$4:$B$7,2,FALSE))","v":8.6562899999999998E-2},{"$f":"IF(C1684=1,\"0\",VLOOKUP(C1684,coefficient2!$A$10:$B$13,2,FALSE))","v":0.19249050000000001},{"$f":"IF(D1684=1,\"0\",VLOOKUP(D1684,coefficient2!$A$16:$B$19,2,FALSE))","v":7.1197399999999994E-2},{"$f":"IF(E1684=1,\"0\",VLOOKUP(E1684,coefficient2!$A$22:$B$25,2,FALSE))","v":5.63998E-2},{"$f":"IF(F1684=1,\"0\",VLOOKUP(F1684,coefficient2!$A$28:$B$31,2,FALSE))","v":9.5753900000000003E-2},0.49759550000000002]
[34324,3,4,3,2,4,16,{"$f":"IF(B1685=1,\"0\",VLOOKUP(B1685,coefficient2!$A$4:$B$7,2,FALSE))","v":8.6562899999999998E-2},{"$f":"IF(C1685=1,\"0\",VLOOKUP(C1685,coefficient2!$A$10:$B$13,2,FALSE))","v":0.19249050000000001},{"$f":"IF(D1685=1,\"0\",VLOOKUP(D1685,coefficient2!$A$16:$B$19,2,FALSE))","v":7.1197399999999994E-2},{"$f":"IF(E1685=1,\"0\",VLOOKUP(E1685,coefficient2!$A$22:$B$25,2,FALSE))","v":5.63998E-2},{"$f":"IF(F1685=1,\"0\",VLOOKUP(F1685,coefficient2!$A$28:$B$31,2,FALSE))","v":0.23270360000000001},0.36064580000000002]
[34325,3,4,3,2,5,17,{"$f":"IF(B1686=1,\"0\",VLOOKUP(B1686,coefficient2!$A$4:$B$7,2,FALSE))","v":8.6562899999999998E-2},{"$f":"IF(C1686=1,\"0\",VLOOKUP(C1686,coefficient2!$A$10:$B$13,2,FALSE))","v":0.19249050000000001},{"$f":"IF(D1686=1,\"0\",VLOOKUP(D1686,coefficient2!$A$16:$B$19,2,FALSE))","v":7.1197399999999994E-2},{"$f":"IF(E1686=1,\"0\",VLOOKUP(E1686,coefficient2!$A$22:$B$25,2,FALSE))","v":5.63998E-2},{"$f":"IF(F1686=1,\"0\",VLOOKUP(F1686,coefficient2!$A$28:$B$31,2,FALSE))","v":0.29534929999999998},0.29800010000000005]
[34331,3,4,3,3,1,14,{"$f":"IF(B1687=1,\"0\",VLOOKUP(B1687,coefficient2!$A$4:$B$7,2,FALSE))","v":8.6562899999999998E-2},{"$f":"IF(C1687=1,\"0\",VLOOKUP(C1687,coefficient2!$A$10:$B$13,2,FALSE))","v":0.19249050000000001},{"$f":"IF(D1687=1,\"0\",VLOOKUP(D1687,coefficient2!$A$16:$B$19,2,FALSE))","v":7.1197399999999994E-2},{"$f":"IF(E1687=1,\"0\",VLOOKUP(E1687,coefficient2!$A$22:$B$25,2,FALSE))","v":6.6492200000000001E-2},{"$f":"IF(F1687=1,\"0\",VLOOKUP(F1687,coefficient2!$A$28:$B$31,2,FALSE))","v":"0"},0.58325700000000003]
[34332,3,4,3,3,2,15,{"$f":"IF(B1688=1,\"0\",VLOOKUP(B1688,coefficient2!$A$4:$B$7,2,FALSE))","v":8.6562899999999998E-2},{"$f":"IF(C1688=1,\"0\",VLOOKUP(C1688,coefficient2!$A$10:$B$13,2,FALSE))","v":0.19249050000000001},{"$f":"IF(D1688=1,\"0\",VLOOKUP(D1688,coefficient2!$A$16:$B$19,2,FALSE))","v":7.1197399999999994E-2},{"$f":"IF(E1688=1,\"0\",VLOOKUP(E1688,coefficient2!$A$22:$B$25,2,FALSE))","v":6.6492200000000001E-2},{"$f":"IF(F1688=1,\"0\",VLOOKUP(F1688,coefficient2!$A$28:$B$31,2,FALSE))","v":5.8085699999999997E-2},0.52517130000000001]
[34333,3,4,3,3,3,16,{"$f":"IF(B1689=1,\"0\",VLOOKUP(B1689,coefficient2!$A$4:$B$7,2,FALSE))","v":8.6562899999999998E-2},{"$f":"IF(C1689=1,\"0\",VLOOKUP(C1689,coefficient2!$A$10:$B$13,2,FALSE))","v":0.19249050000000001},{"$f":"IF(D1689=1,\"0\",VLOOKUP(D1689,coefficient2!$A$16:$B$19,2,FALSE))","v":7.1197399999999994E-2},{"$f":"IF(E1689=1,\"0\",VLOOKUP(E1689,coefficient2!$A$22:$B$25,2,FALSE))","v":6.6492200000000001E-2},{"$f":"IF(F1689=1,\"0\",VLOOKUP(F1689,coefficient2!$A$28:$B$31,2,FALSE))","v":9.5753900000000003E-2},0.48750310000000002]
[34334,3,4,3,3,4,17,{"$f":"IF(B1690=1,\"0\",VLOOKUP(B1690,coefficient2!$A$4:$B$7,2,FALSE))","v":8.6562899999999998E-2},{"$f":"IF(C1690=1,\"0\",VLOOKUP(C1690,coefficient2!$A$10:$B$13,2,FALSE))","v":0.19249050000000001},{"$f":"IF(D1690=1,\"0\",VLOOKUP(D1690,coefficient2!$A$16:$B$19,2,FALSE))","v":7.1197399999999994E-2},{"$f":"IF(E1690=1,\"0\",VLOOKUP(E1690,coefficient2!$A$22:$B$25,2,FALSE))","v":6.6492200000000001E-2},{"$f":"IF(F1690=1,\"0\",VLOOKUP(F1690,coefficient2!$A$28:$B$31,2,FALSE))","v":0.23270360000000001},0.35055340000000001]
[34335,3,4,3,3,5,18,{"$f":"IF(B1691=1,\"0\",VLOOKUP(B1691,coefficient2!$A$4:$B$7,2,FALSE))","v":8.6562899999999998E-2},{"$f":"IF(C1691=1,\"0\",VLOOKUP(C1691,coefficient2!$A$10:$B$13,2,FALSE))","v":0.19249050000000001},{"$f":"IF(D1691=1,\"0\",VLOOKUP(D1691,coefficient2!$A$16:$B$19,2,FALSE))","v":7.1197399999999994E-2},{"$f":"IF(E1691=1,\"0\",VLOOKUP(E1691,coefficient2!$A$22:$B$25,2,FALSE))","v":6.6492200000000001E-2},{"$f":"IF(F1691=1,\"0\",VLOOKUP(F1691,coefficient2!$A$28:$B$31,2,FALSE))","v":0.29534929999999998},0.28790770000000004]
[34341,3,4,3,4,1,15,{"$f":"IF(B1692=1,\"0\",VLOOKUP(B1692,coefficient2!$A$4:$B$7,2,FALSE))","v":8.6562899999999998E-2},{"$f":"IF(C1692=1,\"0\",VLOOKUP(C1692,coefficient2!$A$10:$B$13,2,FALSE))","v":0.19249050000000001},{"$f":"IF(D1692=1,\"0\",VLOOKUP(D1692,coefficient2!$A$16:$B$19,2,FALSE))","v":7.1197399999999994E-2},{"$f":"IF(E1692=1,\"0\",VLOOKUP(E1692,coefficient2!$A$22:$B$25,2,FALSE))","v":0.2068864},{"$f":"IF(F1692=1,\"0\",VLOOKUP(F1692,coefficient2!$A$28:$B$31,2,FALSE))","v":"0"},0.4428628]
[34342,3,4,3,4,2,16,{"$f":"IF(B1693=1,\"0\",VLOOKUP(B1693,coefficient2!$A$4:$B$7,2,FALSE))","v":8.6562899999999998E-2},{"$f":"IF(C1693=1,\"0\",VLOOKUP(C1693,coefficient2!$A$10:$B$13,2,FALSE))","v":0.19249050000000001},{"$f":"IF(D1693=1,\"0\",VLOOKUP(D1693,coefficient2!$A$16:$B$19,2,FALSE))","v":7.1197399999999994E-2},{"$f":"IF(E1693=1,\"0\",VLOOKUP(E1693,coefficient2!$A$22:$B$25,2,FALSE))","v":0.2068864},{"$f":"IF(F1693=1,\"0\",VLOOKUP(F1693,coefficient2!$A$28:$B$31,2,FALSE))","v":5.8085699999999997E-2},0.38477709999999998]
[34343,3,4,3,4,3,17,{"$f":"IF(B1694=1,\"0\",VLOOKUP(B1694,coefficient2!$A$4:$B$7,2,FALSE))","v":8.6562899999999998E-2},{"$f":"IF(C1694=1,\"0\",VLOOKUP(C1694,coefficient2!$A$10:$B$13,2,FALSE))","v":0.19249050000000001},{"$f":"IF(D1694=1,\"0\",VLOOKUP(D1694,coefficient2!$A$16:$B$19,2,FALSE))","v":7.1197399999999994E-2},{"$f":"IF(E1694=1,\"0\",VLOOKUP(E1694,coefficient2!$A$22:$B$25,2,FALSE))","v":0.2068864},{"$f":"IF(F1694=1,\"0\",VLOOKUP(F1694,coefficient2!$A$28:$B$31,2,FALSE))","v":9.5753900000000003E-2},0.3471089]
[34344,3,4,3,4,4,18,{"$f":"IF(B1695=1,\"0\",VLOOKUP(B1695,coefficient2!$A$4:$B$7,2,FALSE))","v":8.6562899999999998E-2},{"$f":"IF(C1695=1,\"0\",VLOOKUP(C1695,coefficient2!$A$10:$B$13,2,FALSE))","v":0.19249050000000001},{"$f":"IF(D1695=1,\"0\",VLOOKUP(D1695,coefficient2!$A$16:$B$19,2,FALSE))","v":7.1197399999999994E-2},{"$f":"IF(E1695=1,\"0\",VLOOKUP(E1695,coefficient2!$A$22:$B$25,2,FALSE))","v":0.2068864},{"$f":"IF(F1695=1,\"0\",VLOOKUP(F1695,coefficient2!$A$28:$B$31,2,FALSE))","v":0.23270360000000001},0.21015919999999999]
[34345,3,4,3,4,5,19,{"$f":"IF(B1696=1,\"0\",VLOOKUP(B1696,coefficient2!$A$4:$B$7,2,FALSE))","v":8.6562899999999998E-2},{"$f":"IF(C1696=1,\"0\",VLOOKUP(C1696,coefficient2!$A$10:$B$13,2,FALSE))","v":0.19249050000000001},{"$f":"IF(D1696=1,\"0\",VLOOKUP(D1696,coefficient2!$A$16:$B$19,2,FALSE))","v":7.1197399999999994E-2},{"$f":"IF(E1696=1,\"0\",VLOOKUP(E1696,coefficient2!$A$22:$B$25,2,FALSE))","v":0.2068864},{"$f":"IF(F1696=1,\"0\",VLOOKUP(F1696,coefficient2!$A$28:$B$31,2,FALSE))","v":0.29534929999999998},0.14751350000000002]
[34351,3,4,3,5,1,16,{"$f":"IF(B1697=1,\"0\",VLOOKUP(B1697,coefficient2!$A$4:$B$7,2,FALSE))","v":8.6562899999999998E-2},{"$f":"IF(C1697=1,\"0\",VLOOKUP(C1697,coefficient2!$A$10:$B$13,2,FALSE))","v":0.19249050000000001},{"$f":"IF(D1697=1,\"0\",VLOOKUP(D1697,coefficient2!$A$16:$B$19,2,FALSE))","v":7.1197399999999994E-2},{"$f":"IF(E1697=1,\"0\",VLOOKUP(E1697,coefficient2!$A$22:$B$25,2,FALSE))","v":0.25643310000000002},{"$f":"IF(F1697=1,\"0\",VLOOKUP(F1697,coefficient2!$A$28:$B$31,2,FALSE))","v":"0"},0.3933161]
[34352,3,4,3,5,2,17,{"$f":"IF(B1698=1,\"0\",VLOOKUP(B1698,coefficient2!$A$4:$B$7,2,FALSE))","v":8.6562899999999998E-2},{"$f":"IF(C1698=1,\"0\",VLOOKUP(C1698,coefficient2!$A$10:$B$13,2,FALSE))","v":0.19249050000000001},{"$f":"IF(D1698=1,\"0\",VLOOKUP(D1698,coefficient2!$A$16:$B$19,2,FALSE))","v":7.1197399999999994E-2},{"$f":"IF(E1698=1,\"0\",VLOOKUP(E1698,coefficient2!$A$22:$B$25,2,FALSE))","v":0.25643310000000002},{"$f":"IF(F1698=1,\"0\",VLOOKUP(F1698,coefficient2!$A$28:$B$31,2,FALSE))","v":5.8085699999999997E-2},0.33523039999999998]
[34353,3,4,3,5,3,18,{"$f":"IF(B1699=1,\"0\",VLOOKUP(B1699,coefficient2!$A$4:$B$7,2,FALSE))","v":8.6562899999999998E-2},{"$f":"IF(C1699=1,\"0\",VLOOKUP(C1699,coefficient2!$A$10:$B$13,2,FALSE))","v":0.19249050000000001},{"$f":"IF(D1699=1,\"0\",VLOOKUP(D1699,coefficient2!$A$16:$B$19,2,FALSE))","v":7.1197399999999994E-2},{"$f":"IF(E1699=1,\"0\",VLOOKUP(E1699,coefficient2!$A$22:$B$25,2,FALSE))","v":0.25643310000000002},{"$f":"IF(F1699=1,\"0\",VLOOKUP(F1699,coefficient2!$A$28:$B$31,2,FALSE))","v":9.5753900000000003E-2},0.2975622]
[34354,3,4,3,5,4,19,{"$f":"IF(B1700=1,\"0\",VLOOKUP(B1700,coefficient2!$A$4:$B$7,2,FALSE))","v":8.6562899999999998E-2},{"$f":"IF(C1700=1,\"0\",VLOOKUP(C1700,coefficient2!$A$10:$B$13,2,FALSE))","v":0.19249050000000001},{"$f":"IF(D1700=1,\"0\",VLOOKUP(D1700,coefficient2!$A$16:$B$19,2,FALSE))","v":7.1197399999999994E-2},{"$f":"IF(E1700=1,\"0\",VLOOKUP(E1700,coefficient2!$A$22:$B$25,2,FALSE))","v":0.25643310000000002},{"$f":"IF(F1700=1,\"0\",VLOOKUP(F1700,coefficient2!$A$28:$B$31,2,FALSE))","v":0.23270360000000001},0.16061249999999999]
[34355,3,4,3,5,5,20,{"$f":"IF(B1701=1,\"0\",VLOOKUP(B1701,coefficient2!$A$4:$B$7,2,FALSE))","v":8.6562899999999998E-2},{"$f":"IF(C1701=1,\"0\",VLOOKUP(C1701,coefficient2!$A$10:$B$13,2,FALSE))","v":0.19249050000000001},{"$f":"IF(D1701=1,\"0\",VLOOKUP(D1701,coefficient2!$A$16:$B$19,2,FALSE))","v":7.1197399999999994E-2},{"$f":"IF(E1701=1,\"0\",VLOOKUP(E1701,coefficient2!$A$22:$B$25,2,FALSE))","v":0.25643310000000002},{"$f":"IF(F1701=1,\"0\",VLOOKUP(F1701,coefficient2!$A$28:$B$31,2,FALSE))","v":0.29534929999999998},9.7966800000000021E-2]
[34411,3,4,4,1,1,13,{"$f":"IF(B1702=1,\"0\",VLOOKUP(B1702,coefficient2!$A$4:$B$7,2,FALSE))","v":8.6562899999999998E-2},{"$f":"IF(C1702=1,\"0\",VLOOKUP(C1702,coefficient2!$A$10:$B$13,2,FALSE))","v":0.19249050000000001},{"$f":"IF(D1702=1,\"0\",VLOOKUP(D1702,coefficient2!$A$16:$B$19,2,FALSE))","v":0.1534855},{"$f":"IF(E1702=1,\"0\",VLOOKUP(E1702,coefficient2!$A$22:$B$25,2,FALSE))","v":"0"},{"$f":"IF(F1702=1,\"0\",VLOOKUP(F1702,coefficient2!$A$28:$B$31,2,FALSE))","v":"0"},0.56746110000000005]
[34412,3,4,4,1,2,14,{"$f":"IF(B1703=1,\"0\",VLOOKUP(B1703,coefficient2!$A$4:$B$7,2,FALSE))","v":8.6562899999999998E-2},{"$f":"IF(C1703=1,\"0\",VLOOKUP(C1703,coefficient2!$A$10:$B$13,2,FALSE))","v":0.19249050000000001},{"$f":"IF(D1703=1,\"0\",VLOOKUP(D1703,coefficient2!$A$16:$B$19,2,FALSE))","v":0.1534855},{"$f":"IF(E1703=1,\"0\",VLOOKUP(E1703,coefficient2!$A$22:$B$25,2,FALSE))","v":"0"},{"$f":"IF(F1703=1,\"0\",VLOOKUP(F1703,coefficient2!$A$28:$B$31,2,FALSE))","v":5.8085699999999997E-2},0.50937540000000003]
[34413,3,4,4,1,3,15,{"$f":"IF(B1704=1,\"0\",VLOOKUP(B1704,coefficient2!$A$4:$B$7,2,FALSE))","v":8.6562899999999998E-2},{"$f":"IF(C1704=1,\"0\",VLOOKUP(C1704,coefficient2!$A$10:$B$13,2,FALSE))","v":0.19249050000000001},{"$f":"IF(D1704=1,\"0\",VLOOKUP(D1704,coefficient2!$A$16:$B$19,2,FALSE))","v":0.1534855},{"$f":"IF(E1704=1,\"0\",VLOOKUP(E1704,coefficient2!$A$22:$B$25,2,FALSE))","v":"0"},{"$f":"IF(F1704=1,\"0\",VLOOKUP(F1704,coefficient2!$A$28:$B$31,2,FALSE))","v":9.5753900000000003E-2},0.47170720000000005]
[34414,3,4,4,1,4,16,{"$f":"IF(B1705=1,\"0\",VLOOKUP(B1705,coefficient2!$A$4:$B$7,2,FALSE))","v":8.6562899999999998E-2},{"$f":"IF(C1705=1,\"0\",VLOOKUP(C1705,coefficient2!$A$10:$B$13,2,FALSE))","v":0.19249050000000001},{"$f":"IF(D1705=1,\"0\",VLOOKUP(D1705,coefficient2!$A$16:$B$19,2,FALSE))","v":0.1534855},{"$f":"IF(E1705=1,\"0\",VLOOKUP(E1705,coefficient2!$A$22:$B$25,2,FALSE))","v":"0"},{"$f":"IF(F1705=1,\"0\",VLOOKUP(F1705,coefficient2!$A$28:$B$31,2,FALSE))","v":0.23270360000000001},0.33475750000000004]
[34415,3,4,4,1,5,17,{"$f":"IF(B1706=1,\"0\",VLOOKUP(B1706,coefficient2!$A$4:$B$7,2,FALSE))","v":8.6562899999999998E-2},{"$f":"IF(C1706=1,\"0\",VLOOKUP(C1706,coefficient2!$A$10:$B$13,2,FALSE))","v":0.19249050000000001},{"$f":"IF(D1706=1,\"0\",VLOOKUP(D1706,coefficient2!$A$16:$B$19,2,FALSE))","v":0.1534855},{"$f":"IF(E1706=1,\"0\",VLOOKUP(E1706,coefficient2!$A$22:$B$25,2,FALSE))","v":"0"},{"$f":"IF(F1706=1,\"0\",VLOOKUP(F1706,coefficient2!$A$28:$B$31,2,FALSE))","v":0.29534929999999998},0.27211180000000007]
[34421,3,4,4,2,1,14,{"$f":"IF(B1707=1,\"0\",VLOOKUP(B1707,coefficient2!$A$4:$B$7,2,FALSE))","v":8.6562899999999998E-2},{"$f":"IF(C1707=1,\"0\",VLOOKUP(C1707,coefficient2!$A$10:$B$13,2,FALSE))","v":0.19249050000000001},{"$f":"IF(D1707=1,\"0\",VLOOKUP(D1707,coefficient2!$A$16:$B$19,2,FALSE))","v":0.1534855},{"$f":"IF(E1707=1,\"0\",VLOOKUP(E1707,coefficient2!$A$22:$B$25,2,FALSE))","v":5.63998E-2},{"$f":"IF(F1707=1,\"0\",VLOOKUP(F1707,coefficient2!$A$28:$B$31,2,FALSE))","v":"0"},0.51106130000000005]
[34422,3,4,4,2,2,15,{"$f":"IF(B1708=1,\"0\",VLOOKUP(B1708,coefficient2!$A$4:$B$7,2,FALSE))","v":8.6562899999999998E-2},{"$f":"IF(C1708=1,\"0\",VLOOKUP(C1708,coefficient2!$A$10:$B$13,2,FALSE))","v":0.19249050000000001},{"$f":"IF(D1708=1,\"0\",VLOOKUP(D1708,coefficient2!$A$16:$B$19,2,FALSE))","v":0.1534855},{"$f":"IF(E1708=1,\"0\",VLOOKUP(E1708,coefficient2!$A$22:$B$25,2,FALSE))","v":5.63998E-2},{"$f":"IF(F1708=1,\"0\",VLOOKUP(F1708,coefficient2!$A$28:$B$31,2,FALSE))","v":5.8085699999999997E-2},0.45297560000000003]
[34423,3,4,4,2,3,16,{"$f":"IF(B1709=1,\"0\",VLOOKUP(B1709,coefficient2!$A$4:$B$7,2,FALSE))","v":8.6562899999999998E-2},{"$f":"IF(C1709=1,\"0\",VLOOKUP(C1709,coefficient2!$A$10:$B$13,2,FALSE))","v":0.19249050000000001},{"$f":"IF(D1709=1,\"0\",VLOOKUP(D1709,coefficient2!$A$16:$B$19,2,FALSE))","v":0.1534855},{"$f":"IF(E1709=1,\"0\",VLOOKUP(E1709,coefficient2!$A$22:$B$25,2,FALSE))","v":5.63998E-2},{"$f":"IF(F1709=1,\"0\",VLOOKUP(F1709,coefficient2!$A$28:$B$31,2,FALSE))","v":9.5753900000000003E-2},0.41530740000000005]
[34424,3,4,4,2,4,17,{"$f":"IF(B1710=1,\"0\",VLOOKUP(B1710,coefficient2!$A$4:$B$7,2,FALSE))","v":8.6562899999999998E-2},{"$f":"IF(C1710=1,\"0\",VLOOKUP(C1710,coefficient2!$A$10:$B$13,2,FALSE))","v":0.19249050000000001},{"$f":"IF(D1710=1,\"0\",VLOOKUP(D1710,coefficient2!$A$16:$B$19,2,FALSE))","v":0.1534855},{"$f":"IF(E1710=1,\"0\",VLOOKUP(E1710,coefficient2!$A$22:$B$25,2,FALSE))","v":5.63998E-2},{"$f":"IF(F1710=1,\"0\",VLOOKUP(F1710,coefficient2!$A$28:$B$31,2,FALSE))","v":0.23270360000000001},0.27835770000000004]
[34425,3,4,4,2,5,18,{"$f":"IF(B1711=1,\"0\",VLOOKUP(B1711,coefficient2!$A$4:$B$7,2,FALSE))","v":8.6562899999999998E-2},{"$f":"IF(C1711=1,\"0\",VLOOKUP(C1711,coefficient2!$A$10:$B$13,2,FALSE))","v":0.19249050000000001},{"$f":"IF(D1711=1,\"0\",VLOOKUP(D1711,coefficient2!$A$16:$B$19,2,FALSE))","v":0.1534855},{"$f":"IF(E1711=1,\"0\",VLOOKUP(E1711,coefficient2!$A$22:$B$25,2,FALSE))","v":5.63998E-2},{"$f":"IF(F1711=1,\"0\",VLOOKUP(F1711,coefficient2!$A$28:$B$31,2,FALSE))","v":0.29534929999999998},0.21571200000000007]
[34431,3,4,4,3,1,15,{"$f":"IF(B1712=1,\"0\",VLOOKUP(B1712,coefficient2!$A$4:$B$7,2,FALSE))","v":8.6562899999999998E-2},{"$f":"IF(C1712=1,\"0\",VLOOKUP(C1712,coefficient2!$A$10:$B$13,2,FALSE))","v":0.19249050000000001},{"$f":"IF(D1712=1,\"0\",VLOOKUP(D1712,coefficient2!$A$16:$B$19,2,FALSE))","v":0.1534855},{"$f":"IF(E1712=1,\"0\",VLOOKUP(E1712,coefficient2!$A$22:$B$25,2,FALSE))","v":6.6492200000000001E-2},{"$f":"IF(F1712=1,\"0\",VLOOKUP(F1712,coefficient2!$A$28:$B$31,2,FALSE))","v":"0"},0.50096890000000005]
[34432,3,4,4,3,2,16,{"$f":"IF(B1713=1,\"0\",VLOOKUP(B1713,coefficient2!$A$4:$B$7,2,FALSE))","v":8.6562899999999998E-2},{"$f":"IF(C1713=1,\"0\",VLOOKUP(C1713,coefficient2!$A$10:$B$13,2,FALSE))","v":0.19249050000000001},{"$f":"IF(D1713=1,\"0\",VLOOKUP(D1713,coefficient2!$A$16:$B$19,2,FALSE))","v":0.1534855},{"$f":"IF(E1713=1,\"0\",VLOOKUP(E1713,coefficient2!$A$22:$B$25,2,FALSE))","v":6.6492200000000001E-2},{"$f":"IF(F1713=1,\"0\",VLOOKUP(F1713,coefficient2!$A$28:$B$31,2,FALSE))","v":5.8085699999999997E-2},0.44288320000000003]
[34433,3,4,4,3,3,17,{"$f":"IF(B1714=1,\"0\",VLOOKUP(B1714,coefficient2!$A$4:$B$7,2,FALSE))","v":8.6562899999999998E-2},{"$f":"IF(C1714=1,\"0\",VLOOKUP(C1714,coefficient2!$A$10:$B$13,2,FALSE))","v":0.19249050000000001},{"$f":"IF(D1714=1,\"0\",VLOOKUP(D1714,coefficient2!$A$16:$B$19,2,FALSE))","v":0.1534855},{"$f":"IF(E1714=1,\"0\",VLOOKUP(E1714,coefficient2!$A$22:$B$25,2,FALSE))","v":6.6492200000000001E-2},{"$f":"IF(F1714=1,\"0\",VLOOKUP(F1714,coefficient2!$A$28:$B$31,2,FALSE))","v":9.5753900000000003E-2},0.40521500000000005]
[34434,3,4,4,3,4,18,{"$f":"IF(B1715=1,\"0\",VLOOKUP(B1715,coefficient2!$A$4:$B$7,2,FALSE))","v":8.6562899999999998E-2},{"$f":"IF(C1715=1,\"0\",VLOOKUP(C1715,coefficient2!$A$10:$B$13,2,FALSE))","v":0.19249050000000001},{"$f":"IF(D1715=1,\"0\",VLOOKUP(D1715,coefficient2!$A$16:$B$19,2,FALSE))","v":0.1534855},{"$f":"IF(E1715=1,\"0\",VLOOKUP(E1715,coefficient2!$A$22:$B$25,2,FALSE))","v":6.6492200000000001E-2},{"$f":"IF(F1715=1,\"0\",VLOOKUP(F1715,coefficient2!$A$28:$B$31,2,FALSE))","v":0.23270360000000001},0.26826530000000004]
[34435,3,4,4,3,5,19,{"$f":"IF(B1716=1,\"0\",VLOOKUP(B1716,coefficient2!$A$4:$B$7,2,FALSE))","v":8.6562899999999998E-2},{"$f":"IF(C1716=1,\"0\",VLOOKUP(C1716,coefficient2!$A$10:$B$13,2,FALSE))","v":0.19249050000000001},{"$f":"IF(D1716=1,\"0\",VLOOKUP(D1716,coefficient2!$A$16:$B$19,2,FALSE))","v":0.1534855},{"$f":"IF(E1716=1,\"0\",VLOOKUP(E1716,coefficient2!$A$22:$B$25,2,FALSE))","v":6.6492200000000001E-2},{"$f":"IF(F1716=1,\"0\",VLOOKUP(F1716,coefficient2!$A$28:$B$31,2,FALSE))","v":0.29534929999999998},0.20561960000000007]
[34441,3,4,4,4,1,16,{"$f":"IF(B1717=1,\"0\",VLOOKUP(B1717,coefficient2!$A$4:$B$7,2,FALSE))","v":8.6562899999999998E-2},{"$f":"IF(C1717=1,\"0\",VLOOKUP(C1717,coefficient2!$A$10:$B$13,2,FALSE))","v":0.19249050000000001},{"$f":"IF(D1717=1,\"0\",VLOOKUP(D1717,coefficient2!$A$16:$B$19,2,FALSE))","v":0.1534855},{"$f":"IF(E1717=1,\"0\",VLOOKUP(E1717,coefficient2!$A$22:$B$25,2,FALSE))","v":0.2068864},{"$f":"IF(F1717=1,\"0\",VLOOKUP(F1717,coefficient2!$A$28:$B$31,2,FALSE))","v":"0"},0.36057470000000003]
[34442,3,4,4,4,2,17,{"$f":"IF(B1718=1,\"0\",VLOOKUP(B1718,coefficient2!$A$4:$B$7,2,FALSE))","v":8.6562899999999998E-2},{"$f":"IF(C1718=1,\"0\",VLOOKUP(C1718,coefficient2!$A$10:$B$13,2,FALSE))","v":0.19249050000000001},{"$f":"IF(D1718=1,\"0\",VLOOKUP(D1718,coefficient2!$A$16:$B$19,2,FALSE))","v":0.1534855},{"$f":"IF(E1718=1,\"0\",VLOOKUP(E1718,coefficient2!$A$22:$B$25,2,FALSE))","v":0.2068864},{"$f":"IF(F1718=1,\"0\",VLOOKUP(F1718,coefficient2!$A$28:$B$31,2,FALSE))","v":5.8085699999999997E-2},0.30248900000000001]
[34443,3,4,4,4,3,18,{"$f":"IF(B1719=1,\"0\",VLOOKUP(B1719,coefficient2!$A$4:$B$7,2,FALSE))","v":8.6562899999999998E-2},{"$f":"IF(C1719=1,\"0\",VLOOKUP(C1719,coefficient2!$A$10:$B$13,2,FALSE))","v":0.19249050000000001},{"$f":"IF(D1719=1,\"0\",VLOOKUP(D1719,coefficient2!$A$16:$B$19,2,FALSE))","v":0.1534855},{"$f":"IF(E1719=1,\"0\",VLOOKUP(E1719,coefficient2!$A$22:$B$25,2,FALSE))","v":0.2068864},{"$f":"IF(F1719=1,\"0\",VLOOKUP(F1719,coefficient2!$A$28:$B$31,2,FALSE))","v":9.5753900000000003E-2},0.26482080000000002]
[34444,3,4,4,4,4,19,{"$f":"IF(B1720=1,\"0\",VLOOKUP(B1720,coefficient2!$A$4:$B$7,2,FALSE))","v":8.6562899999999998E-2},{"$f":"IF(C1720=1,\"0\",VLOOKUP(C1720,coefficient2!$A$10:$B$13,2,FALSE))","v":0.19249050000000001},{"$f":"IF(D1720=1,\"0\",VLOOKUP(D1720,coefficient2!$A$16:$B$19,2,FALSE))","v":0.1534855},{"$f":"IF(E1720=1,\"0\",VLOOKUP(E1720,coefficient2!$A$22:$B$25,2,FALSE))","v":0.2068864},{"$f":"IF(F1720=1,\"0\",VLOOKUP(F1720,coefficient2!$A$28:$B$31,2,FALSE))","v":0.23270360000000001},0.12787110000000002]
[34445,3,4,4,4,5,20,{"$f":"IF(B1721=1,\"0\",VLOOKUP(B1721,coefficient2!$A$4:$B$7,2,FALSE))","v":8.6562899999999998E-2},{"$f":"IF(C1721=1,\"0\",VLOOKUP(C1721,coefficient2!$A$10:$B$13,2,FALSE))","v":0.19249050000000001},{"$f":"IF(D1721=1,\"0\",VLOOKUP(D1721,coefficient2!$A$16:$B$19,2,FALSE))","v":0.1534855},{"$f":"IF(E1721=1,\"0\",VLOOKUP(E1721,coefficient2!$A$22:$B$25,2,FALSE))","v":0.2068864},{"$f":"IF(F1721=1,\"0\",VLOOKUP(F1721,coefficient2!$A$28:$B$31,2,FALSE))","v":0.29534929999999998},6.5225400000000044E-2]
[34451,3,4,4,5,1,17,{"$f":"IF(B1722=1,\"0\",VLOOKUP(B1722,coefficient2!$A$4:$B$7,2,FALSE))","v":8.6562899999999998E-2},{"$f":"IF(C1722=1,\"0\",VLOOKUP(C1722,coefficient2!$A$10:$B$13,2,FALSE))","v":0.19249050000000001},{"$f":"IF(D1722=1,\"0\",VLOOKUP(D1722,coefficient2!$A$16:$B$19,2,FALSE))","v":0.1534855},{"$f":"IF(E1722=1,\"0\",VLOOKUP(E1722,coefficient2!$A$22:$B$25,2,FALSE))","v":0.25643310000000002},{"$f":"IF(F1722=1,\"0\",VLOOKUP(F1722,coefficient2!$A$28:$B$31,2,FALSE))","v":"0"},0.31102800000000003]
[34452,3,4,4,5,2,18,{"$f":"IF(B1723=1,\"0\",VLOOKUP(B1723,coefficient2!$A$4:$B$7,2,FALSE))","v":8.6562899999999998E-2},{"$f":"IF(C1723=1,\"0\",VLOOKUP(C1723,coefficient2!$A$10:$B$13,2,FALSE))","v":0.19249050000000001},{"$f":"IF(D1723=1,\"0\",VLOOKUP(D1723,coefficient2!$A$16:$B$19,2,FALSE))","v":0.1534855},{"$f":"IF(E1723=1,\"0\",VLOOKUP(E1723,coefficient2!$A$22:$B$25,2,FALSE))","v":0.25643310000000002},{"$f":"IF(F1723=1,\"0\",VLOOKUP(F1723,coefficient2!$A$28:$B$31,2,FALSE))","v":5.8085699999999997E-2},0.25294230000000001]
[34453,3,4,4,5,3,19,{"$f":"IF(B1724=1,\"0\",VLOOKUP(B1724,coefficient2!$A$4:$B$7,2,FALSE))","v":8.6562899999999998E-2},{"$f":"IF(C1724=1,\"0\",VLOOKUP(C1724,coefficient2!$A$10:$B$13,2,FALSE))","v":0.19249050000000001},{"$f":"IF(D1724=1,\"0\",VLOOKUP(D1724,coefficient2!$A$16:$B$19,2,FALSE))","v":0.1534855},{"$f":"IF(E1724=1,\"0\",VLOOKUP(E1724,coefficient2!$A$22:$B$25,2,FALSE))","v":0.25643310000000002},{"$f":"IF(F1724=1,\"0\",VLOOKUP(F1724,coefficient2!$A$28:$B$31,2,FALSE))","v":9.5753900000000003E-2},0.21527410000000002]
[34454,3,4,4,5,4,20,{"$f":"IF(B1725=1,\"0\",VLOOKUP(B1725,coefficient2!$A$4:$B$7,2,FALSE))","v":8.6562899999999998E-2},{"$f":"IF(C1725=1,\"0\",VLOOKUP(C1725,coefficient2!$A$10:$B$13,2,FALSE))","v":0.19249050000000001},{"$f":"IF(D1725=1,\"0\",VLOOKUP(D1725,coefficient2!$A$16:$B$19,2,FALSE))","v":0.1534855},{"$f":"IF(E1725=1,\"0\",VLOOKUP(E1725,coefficient2!$A$22:$B$25,2,FALSE))","v":0.25643310000000002},{"$f":"IF(F1725=1,\"0\",VLOOKUP(F1725,coefficient2!$A$28:$B$31,2,FALSE))","v":0.23270360000000001},7.8324400000000016E-2]
[34455,3,4,4,5,5,21,{"$f":"IF(B1726=1,\"0\",VLOOKUP(B1726,coefficient2!$A$4:$B$7,2,FALSE))","v":8.6562899999999998E-2},{"$f":"IF(C1726=1,\"0\",VLOOKUP(C1726,coefficient2!$A$10:$B$13,2,FALSE))","v":0.19249050000000001},{"$f":"IF(D1726=1,\"0\",VLOOKUP(D1726,coefficient2!$A$16:$B$19,2,FALSE))","v":0.1534855},{"$f":"IF(E1726=1,\"0\",VLOOKUP(E1726,coefficient2!$A$22:$B$25,2,FALSE))","v":0.25643310000000002},{"$f":"IF(F1726=1,\"0\",VLOOKUP(F1726,coefficient2!$A$28:$B$31,2,FALSE))","v":0.29534929999999998},1.5678700000000045E-2]
[34511,3,4,5,1,1,14,{"$f":"IF(B1727=1,\"0\",VLOOKUP(B1727,coefficient2!$A$4:$B$7,2,FALSE))","v":8.6562899999999998E-2},{"$f":"IF(C1727=1,\"0\",VLOOKUP(C1727,coefficient2!$A$10:$B$13,2,FALSE))","v":0.19249050000000001},{"$f":"IF(D1727=1,\"0\",VLOOKUP(D1727,coefficient2!$A$16:$B$19,2,FALSE))","v":0.248331},{"$f":"IF(E1727=1,\"0\",VLOOKUP(E1727,coefficient2!$A$22:$B$25,2,FALSE))","v":"0"},{"$f":"IF(F1727=1,\"0\",VLOOKUP(F1727,coefficient2!$A$28:$B$31,2,FALSE))","v":"0"},0.47261560000000002]
[34512,3,4,5,1,2,15,{"$f":"IF(B1728=1,\"0\",VLOOKUP(B1728,coefficient2!$A$4:$B$7,2,FALSE))","v":8.6562899999999998E-2},{"$f":"IF(C1728=1,\"0\",VLOOKUP(C1728,coefficient2!$A$10:$B$13,2,FALSE))","v":0.19249050000000001},{"$f":"IF(D1728=1,\"0\",VLOOKUP(D1728,coefficient2!$A$16:$B$19,2,FALSE))","v":0.248331},{"$f":"IF(E1728=1,\"0\",VLOOKUP(E1728,coefficient2!$A$22:$B$25,2,FALSE))","v":"0"},{"$f":"IF(F1728=1,\"0\",VLOOKUP(F1728,coefficient2!$A$28:$B$31,2,FALSE))","v":5.8085699999999997E-2},0.41452990000000001]
[34513,3,4,5,1,3,16,{"$f":"IF(B1729=1,\"0\",VLOOKUP(B1729,coefficient2!$A$4:$B$7,2,FALSE))","v":8.6562899999999998E-2},{"$f":"IF(C1729=1,\"0\",VLOOKUP(C1729,coefficient2!$A$10:$B$13,2,FALSE))","v":0.19249050000000001},{"$f":"IF(D1729=1,\"0\",VLOOKUP(D1729,coefficient2!$A$16:$B$19,2,FALSE))","v":0.248331},{"$f":"IF(E1729=1,\"0\",VLOOKUP(E1729,coefficient2!$A$22:$B$25,2,FALSE))","v":"0"},{"$f":"IF(F1729=1,\"0\",VLOOKUP(F1729,coefficient2!$A$28:$B$31,2,FALSE))","v":9.5753900000000003E-2},0.37686170000000002]
[34514,3,4,5,1,4,17,{"$f":"IF(B1730=1,\"0\",VLOOKUP(B1730,coefficient2!$A$4:$B$7,2,FALSE))","v":8.6562899999999998E-2},{"$f":"IF(C1730=1,\"0\",VLOOKUP(C1730,coefficient2!$A$10:$B$13,2,FALSE))","v":0.19249050000000001},{"$f":"IF(D1730=1,\"0\",VLOOKUP(D1730,coefficient2!$A$16:$B$19,2,FALSE))","v":0.248331},{"$f":"IF(E1730=1,\"0\",VLOOKUP(E1730,coefficient2!$A$22:$B$25,2,FALSE))","v":"0"},{"$f":"IF(F1730=1,\"0\",VLOOKUP(F1730,coefficient2!$A$28:$B$31,2,FALSE))","v":0.23270360000000001},{"$f":"1-H1730-I1730-J1730-K1730-L1730","v":0.23991200000000001}]
[34515,{"$f":"INT(LEFT(A1731,1))","v":3},{"$f":"INT(MID(A1731,2,1))","v":4},{"$f":"INT(MID(A1731,3,1))","v":5},{"$f":"INT(MID(A1731,4,1))","v":1},{"$f":"INT(RIGHT(A1731,1))","v":5},{"$f":"SUM(B1731:F1731)","v":18},{"$f":"IF(B1731=1,\"0\",VLOOKUP(B1731,coefficient2!$A$4:$B$7,2,FALSE))","v":8.6562899999999998E-2},{"$f":"IF(C1731=1,\"0\",VLOOKUP(C1731,coefficient2!$A$10:$B$13,2,FALSE))","v":0.19249050000000001},{"$f":"IF(D1731=1,\"0\",VLOOKUP(D1731,coefficient2!$A$16:$B$19,2,FALSE))","v":0.248331},{"$f":"IF(E1731=1,\"0\",VLOOKUP(E1731,coefficient2!$A$22:$B$25,2,FALSE))","v":"0"},{"$f":"IF(F1731=1,\"0\",VLOOKUP(F1731,coefficient2!$A$28:$B$31,2,FALSE))","v":0.29534929999999998},0.17726630000000004]
[34521,3,4,5,2,1,15,{"$f":"IF(B1732=1,\"0\",VLOOKUP(B1732,coefficient2!$A$4:$B$7,2,FALSE))","v":8.6562899999999998E-2},{"$f":"IF(C1732=1,\"0\",VLOOKUP(C1732,coefficient2!$A$10:$B$13,2,FALSE))","v":0.19249050000000001},{"$f":"IF(D1732=1,\"0\",VLOOKUP(D1732,coefficient2!$A$16:$B$19,2,FALSE))","v":0.248331},{"$f":"IF(E1732=1,\"0\",VLOOKUP(E1732,coefficient2!$A$22:$B$25,2,FALSE))","v":5.63998E-2},{"$f":"IF(F1732=1,\"0\",VLOOKUP(F1732,coefficient2!$A$28:$B$31,2,FALSE))","v":"0"},0.41621580000000002]
[34522,3,4,5,2,2,16,{"$f":"IF(B1733=1,\"0\",VLOOKUP(B1733,coefficient2!$A$4:$B$7,2,FALSE))","v":8.6562899999999998E-2},{"$f":"IF(C1733=1,\"0\",VLOOKUP(C1733,coefficient2!$A$10:$B$13,2,FALSE))","v":0.19249050000000001},{"$f":"IF(D1733=1,\"0\",VLOOKUP(D1733,coefficient2!$A$16:$B$19,2,FALSE))","v":0.248331},{"$f":"IF(E1733=1,\"0\",VLOOKUP(E1733,coefficient2!$A$22:$B$25,2,FALSE))","v":5.63998E-2},{"$f":"IF(F1733=1,\"0\",VLOOKUP(F1733,coefficient2!$A$28:$B$31,2,FALSE))","v":5.8085699999999997E-2},0.35813010000000001]
[34523,3,4,5,2,3,17,{"$f":"IF(B1734=1,\"0\",VLOOKUP(B1734,coefficient2!$A$4:$B$7,2,FALSE))","v":8.6562899999999998E-2},{"$f":"IF(C1734=1,\"0\",VLOOKUP(C1734,coefficient2!$A$10:$B$13,2,FALSE))","v":0.19249050000000001},{"$f":"IF(D1734=1,\"0\",VLOOKUP(D1734,coefficient2!$A$16:$B$19,2,FALSE))","v":0.248331},{"$f":"IF(E1734=1,\"0\",VLOOKUP(E1734,coefficient2!$A$22:$B$25,2,FALSE))","v":5.63998E-2},{"$f":"IF(F1734=1,\"0\",VLOOKUP(F1734,coefficient2!$A$28:$B$31,2,FALSE))","v":9.5753900000000003E-2},0.32046190000000002]
[34524,3,4,5,2,4,18,{"$f":"IF(B1735=1,\"0\",VLOOKUP(B1735,coefficient2!$A$4:$B$7,2,FALSE))","v":8.6562899999999998E-2},{"$f":"IF(C1735=1,\"0\",VLOOKUP(C1735,coefficient2!$A$10:$B$13,2,FALSE))","v":0.19249050000000001},{"$f":"IF(D1735=1,\"0\",VLOOKUP(D1735,coefficient2!$A$16:$B$19,2,FALSE))","v":0.248331},{"$f":"IF(E1735=1,\"0\",VLOOKUP(E1735,coefficient2!$A$22:$B$25,2,FALSE))","v":5.63998E-2},{"$f":"IF(F1735=1,\"0\",VLOOKUP(F1735,coefficient2!$A$28:$B$31,2,FALSE))","v":0.23270360000000001},0.18351220000000001]
[34525,3,4,5,2,5,19,{"$f":"IF(B1736=1,\"0\",VLOOKUP(B1736,coefficient2!$A$4:$B$7,2,FALSE))","v":8.6562899999999998E-2},{"$f":"IF(C1736=1,\"0\",VLOOKUP(C1736,coefficient2!$A$10:$B$13,2,FALSE))","v":0.19249050000000001},{"$f":"IF(D1736=1,\"0\",VLOOKUP(D1736,coefficient2!$A$16:$B$19,2,FALSE))","v":0.248331},{"$f":"IF(E1736=1,\"0\",VLOOKUP(E1736,coefficient2!$A$22:$B$25,2,FALSE))","v":5.63998E-2},{"$f":"IF(F1736=1,\"0\",VLOOKUP(F1736,coefficient2!$A$28:$B$31,2,FALSE))","v":0.29534929999999998},0.12086650000000004]
[34531,3,4,5,3,1,16,{"$f":"IF(B1737=1,\"0\",VLOOKUP(B1737,coefficient2!$A$4:$B$7,2,FALSE))","v":8.6562899999999998E-2},{"$f":"IF(C1737=1,\"0\",VLOOKUP(C1737,coefficient2!$A$10:$B$13,2,FALSE))","v":0.19249050000000001},{"$f":"IF(D1737=1,\"0\",VLOOKUP(D1737,coefficient2!$A$16:$B$19,2,FALSE))","v":0.248331},{"$f":"IF(E1737=1,\"0\",VLOOKUP(E1737,coefficient2!$A$22:$B$25,2,FALSE))","v":6.6492200000000001E-2},{"$f":"IF(F1737=1,\"0\",VLOOKUP(F1737,coefficient2!$A$28:$B$31,2,FALSE))","v":"0"},0.40612340000000002]
[34532,3,4,5,3,2,17,{"$f":"IF(B1738=1,\"0\",VLOOKUP(B1738,coefficient2!$A$4:$B$7,2,FALSE))","v":8.6562899999999998E-2},{"$f":"IF(C1738=1,\"0\",VLOOKUP(C1738,coefficient2!$A$10:$B$13,2,FALSE))","v":0.19249050000000001},{"$f":"IF(D1738=1,\"0\",VLOOKUP(D1738,coefficient2!$A$16:$B$19,2,FALSE))","v":0.248331},{"$f":"IF(E1738=1,\"0\",VLOOKUP(E1738,coefficient2!$A$22:$B$25,2,FALSE))","v":6.6492200000000001E-2},{"$f":"IF(F1738=1,\"0\",VLOOKUP(F1738,coefficient2!$A$28:$B$31,2,FALSE))","v":5.8085699999999997E-2},0.34803770000000001]
[34533,3,4,5,3,3,18,{"$f":"IF(B1739=1,\"0\",VLOOKUP(B1739,coefficient2!$A$4:$B$7,2,FALSE))","v":8.6562899999999998E-2},{"$f":"IF(C1739=1,\"0\",VLOOKUP(C1739,coefficient2!$A$10:$B$13,2,FALSE))","v":0.19249050000000001},{"$f":"IF(D1739=1,\"0\",VLOOKUP(D1739,coefficient2!$A$16:$B$19,2,FALSE))","v":0.248331},{"$f":"IF(E1739=1,\"0\",VLOOKUP(E1739,coefficient2!$A$22:$B$25,2,FALSE))","v":6.6492200000000001E-2},{"$f":"IF(F1739=1,\"0\",VLOOKUP(F1739,coefficient2!$A$28:$B$31,2,FALSE))","v":9.5753900000000003E-2},0.31036950000000002]
[34534,3,4,5,3,4,19,{"$f":"IF(B1740=1,\"0\",VLOOKUP(B1740,coefficient2!$A$4:$B$7,2,FALSE))","v":8.6562899999999998E-2},{"$f":"IF(C1740=1,\"0\",VLOOKUP(C1740,coefficient2!$A$10:$B$13,2,FALSE))","v":0.19249050000000001},{"$f":"IF(D1740=1,\"0\",VLOOKUP(D1740,coefficient2!$A$16:$B$19,2,FALSE))","v":0.248331},{"$f":"IF(E1740=1,\"0\",VLOOKUP(E1740,coefficient2!$A$22:$B$25,2,FALSE))","v":6.6492200000000001E-2},{"$f":"IF(F1740=1,\"0\",VLOOKUP(F1740,coefficient2!$A$28:$B$31,2,FALSE))","v":0.23270360000000001},0.17341980000000001]
[34535,3,4,5,3,5,20,{"$f":"IF(B1741=1,\"0\",VLOOKUP(B1741,coefficient2!$A$4:$B$7,2,FALSE))","v":8.6562899999999998E-2},{"$f":"IF(C1741=1,\"0\",VLOOKUP(C1741,coefficient2!$A$10:$B$13,2,FALSE))","v":0.19249050000000001},{"$f":"IF(D1741=1,\"0\",VLOOKUP(D1741,coefficient2!$A$16:$B$19,2,FALSE))","v":0.248331},{"$f":"IF(E1741=1,\"0\",VLOOKUP(E1741,coefficient2!$A$22:$B$25,2,FALSE))","v":6.6492200000000001E-2},{"$f":"IF(F1741=1,\"0\",VLOOKUP(F1741,coefficient2!$A$28:$B$31,2,FALSE))","v":0.29534929999999998},0.11077410000000004]
[34541,3,4,5,4,1,17,{"$f":"IF(B1742=1,\"0\",VLOOKUP(B1742,coefficient2!$A$4:$B$7,2,FALSE))","v":8.6562899999999998E-2},{"$f":"IF(C1742=1,\"0\",VLOOKUP(C1742,coefficient2!$A$10:$B$13,2,FALSE))","v":0.19249050000000001},{"$f":"IF(D1742=1,\"0\",VLOOKUP(D1742,coefficient2!$A$16:$B$19,2,FALSE))","v":0.248331},{"$f":"IF(E1742=1,\"0\",VLOOKUP(E1742,coefficient2!$A$22:$B$25,2,FALSE))","v":0.2068864},{"$f":"IF(F1742=1,\"0\",VLOOKUP(F1742,coefficient2!$A$28:$B$31,2,FALSE))","v":"0"},0.2657292]
[34542,3,4,5,4,2,18,{"$f":"IF(B1743=1,\"0\",VLOOKUP(B1743,coefficient2!$A$4:$B$7,2,FALSE))","v":8.6562899999999998E-2},{"$f":"IF(C1743=1,\"0\",VLOOKUP(C1743,coefficient2!$A$10:$B$13,2,FALSE))","v":0.19249050000000001},{"$f":"IF(D1743=1,\"0\",VLOOKUP(D1743,coefficient2!$A$16:$B$19,2,FALSE))","v":0.248331},{"$f":"IF(E1743=1,\"0\",VLOOKUP(E1743,coefficient2!$A$22:$B$25,2,FALSE))","v":0.2068864},{"$f":"IF(F1743=1,\"0\",VLOOKUP(F1743,coefficient2!$A$28:$B$31,2,FALSE))","v":5.8085699999999997E-2},0.20764350000000001]
[34543,3,4,5,4,3,19,{"$f":"IF(B1744=1,\"0\",VLOOKUP(B1744,coefficient2!$A$4:$B$7,2,FALSE))","v":8.6562899999999998E-2},{"$f":"IF(C1744=1,\"0\",VLOOKUP(C1744,coefficient2!$A$10:$B$13,2,FALSE))","v":0.19249050000000001},{"$f":"IF(D1744=1,\"0\",VLOOKUP(D1744,coefficient2!$A$16:$B$19,2,FALSE))","v":0.248331},{"$f":"IF(E1744=1,\"0\",VLOOKUP(E1744,coefficient2!$A$22:$B$25,2,FALSE))","v":0.2068864},{"$f":"IF(F1744=1,\"0\",VLOOKUP(F1744,coefficient2!$A$28:$B$31,2,FALSE))","v":9.5753900000000003E-2},0.1699753]
[34544,3,4,5,4,4,20,{"$f":"IF(B1745=1,\"0\",VLOOKUP(B1745,coefficient2!$A$4:$B$7,2,FALSE))","v":8.6562899999999998E-2},{"$f":"IF(C1745=1,\"0\",VLOOKUP(C1745,coefficient2!$A$10:$B$13,2,FALSE))","v":0.19249050000000001},{"$f":"IF(D1745=1,\"0\",VLOOKUP(D1745,coefficient2!$A$16:$B$19,2,FALSE))","v":0.248331},{"$f":"IF(E1745=1,\"0\",VLOOKUP(E1745,coefficient2!$A$22:$B$25,2,FALSE))","v":0.2068864},{"$f":"IF(F1745=1,\"0\",VLOOKUP(F1745,coefficient2!$A$28:$B$31,2,FALSE))","v":0.23270360000000001},3.3025599999999988E-2]
[34545,3,4,5,4,5,21,{"$f":"IF(B1746=1,\"0\",VLOOKUP(B1746,coefficient2!$A$4:$B$7,2,FALSE))","v":8.6562899999999998E-2},{"$f":"IF(C1746=1,\"0\",VLOOKUP(C1746,coefficient2!$A$10:$B$13,2,FALSE))","v":0.19249050000000001},{"$f":"IF(D1746=1,\"0\",VLOOKUP(D1746,coefficient2!$A$16:$B$19,2,FALSE))","v":0.248331},{"$f":"IF(E1746=1,\"0\",VLOOKUP(E1746,coefficient2!$A$22:$B$25,2,FALSE))","v":0.2068864},{"$f":"IF(F1746=1,\"0\",VLOOKUP(F1746,coefficient2!$A$28:$B$31,2,FALSE))","v":0.29534929999999998},-2.9620099999999983E-2]
[34551,3,4,5,5,1,18,{"$f":"IF(B1747=1,\"0\",VLOOKUP(B1747,coefficient2!$A$4:$B$7,2,FALSE))","v":8.6562899999999998E-2},{"$f":"IF(C1747=1,\"0\",VLOOKUP(C1747,coefficient2!$A$10:$B$13,2,FALSE))","v":0.19249050000000001},{"$f":"IF(D1747=1,\"0\",VLOOKUP(D1747,coefficient2!$A$16:$B$19,2,FALSE))","v":0.248331},{"$f":"IF(E1747=1,\"0\",VLOOKUP(E1747,coefficient2!$A$22:$B$25,2,FALSE))","v":0.25643310000000002},{"$f":"IF(F1747=1,\"0\",VLOOKUP(F1747,coefficient2!$A$28:$B$31,2,FALSE))","v":"0"},0.2161825]
[34552,3,4,5,5,2,19,{"$f":"IF(B1748=1,\"0\",VLOOKUP(B1748,coefficient2!$A$4:$B$7,2,FALSE))","v":8.6562899999999998E-2},{"$f":"IF(C1748=1,\"0\",VLOOKUP(C1748,coefficient2!$A$10:$B$13,2,FALSE))","v":0.19249050000000001},{"$f":"IF(D1748=1,\"0\",VLOOKUP(D1748,coefficient2!$A$16:$B$19,2,FALSE))","v":0.248331},{"$f":"IF(E1748=1,\"0\",VLOOKUP(E1748,coefficient2!$A$22:$B$25,2,FALSE))","v":0.25643310000000002},{"$f":"IF(F1748=1,\"0\",VLOOKUP(F1748,coefficient2!$A$28:$B$31,2,FALSE))","v":5.8085699999999997E-2},0.15809680000000001]
[34553,3,4,5,5,3,20,{"$f":"IF(B1749=1,\"0\",VLOOKUP(B1749,coefficient2!$A$4:$B$7,2,FALSE))","v":8.6562899999999998E-2},{"$f":"IF(C1749=1,\"0\",VLOOKUP(C1749,coefficient2!$A$10:$B$13,2,FALSE))","v":0.19249050000000001},{"$f":"IF(D1749=1,\"0\",VLOOKUP(D1749,coefficient2!$A$16:$B$19,2,FALSE))","v":0.248331},{"$f":"IF(E1749=1,\"0\",VLOOKUP(E1749,coefficient2!$A$22:$B$25,2,FALSE))","v":0.25643310000000002},{"$f":"IF(F1749=1,\"0\",VLOOKUP(F1749,coefficient2!$A$28:$B$31,2,FALSE))","v":9.5753900000000003E-2},0.1204286]
[34554,3,4,5,5,4,21,{"$f":"IF(B1750=1,\"0\",VLOOKUP(B1750,coefficient2!$A$4:$B$7,2,FALSE))","v":8.6562899999999998E-2},{"$f":"IF(C1750=1,\"0\",VLOOKUP(C1750,coefficient2!$A$10:$B$13,2,FALSE))","v":0.19249050000000001},{"$f":"IF(D1750=1,\"0\",VLOOKUP(D1750,coefficient2!$A$16:$B$19,2,FALSE))","v":0.248331},{"$f":"IF(E1750=1,\"0\",VLOOKUP(E1750,coefficient2!$A$22:$B$25,2,FALSE))","v":0.25643310000000002},{"$f":"IF(F1750=1,\"0\",VLOOKUP(F1750,coefficient2!$A$28:$B$31,2,FALSE))","v":0.23270360000000001},-1.6521100000000011E-2]
[34555,3,4,5,5,5,22,{"$f":"IF(B1751=1,\"0\",VLOOKUP(B1751,coefficient2!$A$4:$B$7,2,FALSE))","v":8.6562899999999998E-2},{"$f":"IF(C1751=1,\"0\",VLOOKUP(C1751,coefficient2!$A$10:$B$13,2,FALSE))","v":0.19249050000000001},{"$f":"IF(D1751=1,\"0\",VLOOKUP(D1751,coefficient2!$A$16:$B$19,2,FALSE))","v":0.248331},{"$f":"IF(E1751=1,\"0\",VLOOKUP(E1751,coefficient2!$A$22:$B$25,2,FALSE))","v":0.25643310000000002},{"$f":"IF(F1751=1,\"0\",VLOOKUP(F1751,coefficient2!$A$28:$B$31,2,FALSE))","v":0.29534929999999998},-7.9166799999999982E-2]
[35111,3,5,1,1,1,11,{"$f":"IF(B1752=1,\"0\",VLOOKUP(B1752,coefficient2!$A$4:$B$7,2,FALSE))","v":8.6562899999999998E-2},{"$f":"IF(C1752=1,\"0\",VLOOKUP(C1752,coefficient2!$A$10:$B$13,2,FALSE))","v":0.2498763},{"$f":"IF(D1752=1,\"0\",VLOOKUP(D1752,coefficient2!$A$16:$B$19,2,FALSE))","v":"0"},{"$f":"IF(E1752=1,\"0\",VLOOKUP(E1752,coefficient2!$A$22:$B$25,2,FALSE))","v":"0"},{"$f":"IF(F1752=1,\"0\",VLOOKUP(F1752,coefficient2!$A$28:$B$31,2,FALSE))","v":"0"},0.66356079999999995]
[35112,3,5,1,1,2,12,{"$f":"IF(B1753=1,\"0\",VLOOKUP(B1753,coefficient2!$A$4:$B$7,2,FALSE))","v":8.6562899999999998E-2},{"$f":"IF(C1753=1,\"0\",VLOOKUP(C1753,coefficient2!$A$10:$B$13,2,FALSE))","v":0.2498763},{"$f":"IF(D1753=1,\"0\",VLOOKUP(D1753,coefficient2!$A$16:$B$19,2,FALSE))","v":"0"},{"$f":"IF(E1753=1,\"0\",VLOOKUP(E1753,coefficient2!$A$22:$B$25,2,FALSE))","v":"0"},{"$f":"IF(F1753=1,\"0\",VLOOKUP(F1753,coefficient2!$A$28:$B$31,2,FALSE))","v":5.8085699999999997E-2},0.60547509999999993]
[35113,3,5,1,1,3,13,{"$f":"IF(B1754=1,\"0\",VLOOKUP(B1754,coefficient2!$A$4:$B$7,2,FALSE))","v":8.6562899999999998E-2},{"$f":"IF(C1754=1,\"0\",VLOOKUP(C1754,coefficient2!$A$10:$B$13,2,FALSE))","v":0.2498763},{"$f":"IF(D1754=1,\"0\",VLOOKUP(D1754,coefficient2!$A$16:$B$19,2,FALSE))","v":"0"},{"$f":"IF(E1754=1,\"0\",VLOOKUP(E1754,coefficient2!$A$22:$B$25,2,FALSE))","v":"0"},{"$f":"IF(F1754=1,\"0\",VLOOKUP(F1754,coefficient2!$A$28:$B$31,2,FALSE))","v":9.5753900000000003E-2},0.56780689999999989]
[35114,3,5,1,1,4,14,{"$f":"IF(B1755=1,\"0\",VLOOKUP(B1755,coefficient2!$A$4:$B$7,2,FALSE))","v":8.6562899999999998E-2},{"$f":"IF(C1755=1,\"0\",VLOOKUP(C1755,coefficient2!$A$10:$B$13,2,FALSE))","v":0.2498763},{"$f":"IF(D1755=1,\"0\",VLOOKUP(D1755,coefficient2!$A$16:$B$19,2,FALSE))","v":"0"},{"$f":"IF(E1755=1,\"0\",VLOOKUP(E1755,coefficient2!$A$22:$B$25,2,FALSE))","v":"0"},{"$f":"IF(F1755=1,\"0\",VLOOKUP(F1755,coefficient2!$A$28:$B$31,2,FALSE))","v":0.23270360000000001},0.43085719999999994]
[35115,3,5,1,1,5,15,{"$f":"IF(B1756=1,\"0\",VLOOKUP(B1756,coefficient2!$A$4:$B$7,2,FALSE))","v":8.6562899999999998E-2},{"$f":"IF(C1756=1,\"0\",VLOOKUP(C1756,coefficient2!$A$10:$B$13,2,FALSE))","v":0.2498763},{"$f":"IF(D1756=1,\"0\",VLOOKUP(D1756,coefficient2!$A$16:$B$19,2,FALSE))","v":"0"},{"$f":"IF(E1756=1,\"0\",VLOOKUP(E1756,coefficient2!$A$22:$B$25,2,FALSE))","v":"0"},{"$f":"IF(F1756=1,\"0\",VLOOKUP(F1756,coefficient2!$A$28:$B$31,2,FALSE))","v":0.29534929999999998},0.36821149999999997]
[35121,3,5,1,2,1,12,{"$f":"IF(B1757=1,\"0\",VLOOKUP(B1757,coefficient2!$A$4:$B$7,2,FALSE))","v":8.6562899999999998E-2},{"$f":"IF(C1757=1,\"0\",VLOOKUP(C1757,coefficient2!$A$10:$B$13,2,FALSE))","v":0.2498763},{"$f":"IF(D1757=1,\"0\",VLOOKUP(D1757,coefficient2!$A$16:$B$19,2,FALSE))","v":"0"},{"$f":"IF(E1757=1,\"0\",VLOOKUP(E1757,coefficient2!$A$22:$B$25,2,FALSE))","v":5.63998E-2},{"$f":"IF(F1757=1,\"0\",VLOOKUP(F1757,coefficient2!$A$28:$B$31,2,FALSE))","v":"0"},0.60716099999999995]
[35122,3,5,1,2,2,13,{"$f":"IF(B1758=1,\"0\",VLOOKUP(B1758,coefficient2!$A$4:$B$7,2,FALSE))","v":8.6562899999999998E-2},{"$f":"IF(C1758=1,\"0\",VLOOKUP(C1758,coefficient2!$A$10:$B$13,2,FALSE))","v":0.2498763},{"$f":"IF(D1758=1,\"0\",VLOOKUP(D1758,coefficient2!$A$16:$B$19,2,FALSE))","v":"0"},{"$f":"IF(E1758=1,\"0\",VLOOKUP(E1758,coefficient2!$A$22:$B$25,2,FALSE))","v":5.63998E-2},{"$f":"IF(F1758=1,\"0\",VLOOKUP(F1758,coefficient2!$A$28:$B$31,2,FALSE))","v":5.8085699999999997E-2},0.54907529999999993]
[35123,3,5,1,2,3,14,{"$f":"IF(B1759=1,\"0\",VLOOKUP(B1759,coefficient2!$A$4:$B$7,2,FALSE))","v":8.6562899999999998E-2},{"$f":"IF(C1759=1,\"0\",VLOOKUP(C1759,coefficient2!$A$10:$B$13,2,FALSE))","v":0.2498763},{"$f":"IF(D1759=1,\"0\",VLOOKUP(D1759,coefficient2!$A$16:$B$19,2,FALSE))","v":"0"},{"$f":"IF(E1759=1,\"0\",VLOOKUP(E1759,coefficient2!$A$22:$B$25,2,FALSE))","v":5.63998E-2},{"$f":"IF(F1759=1,\"0\",VLOOKUP(F1759,coefficient2!$A$28:$B$31,2,FALSE))","v":9.5753900000000003E-2},0.5114071]
[35124,3,5,1,2,4,15,{"$f":"IF(B1760=1,\"0\",VLOOKUP(B1760,coefficient2!$A$4:$B$7,2,FALSE))","v":8.6562899999999998E-2},{"$f":"IF(C1760=1,\"0\",VLOOKUP(C1760,coefficient2!$A$10:$B$13,2,FALSE))","v":0.2498763},{"$f":"IF(D1760=1,\"0\",VLOOKUP(D1760,coefficient2!$A$16:$B$19,2,FALSE))","v":"0"},{"$f":"IF(E1760=1,\"0\",VLOOKUP(E1760,coefficient2!$A$22:$B$25,2,FALSE))","v":5.63998E-2},{"$f":"IF(F1760=1,\"0\",VLOOKUP(F1760,coefficient2!$A$28:$B$31,2,FALSE))","v":0.23270360000000001},0.37445739999999994]
[35125,3,5,1,2,5,16,{"$f":"IF(B1761=1,\"0\",VLOOKUP(B1761,coefficient2!$A$4:$B$7,2,FALSE))","v":8.6562899999999998E-2},{"$f":"IF(C1761=1,\"0\",VLOOKUP(C1761,coefficient2!$A$10:$B$13,2,FALSE))","v":0.2498763},{"$f":"IF(D1761=1,\"0\",VLOOKUP(D1761,coefficient2!$A$16:$B$19,2,FALSE))","v":"0"},{"$f":"IF(E1761=1,\"0\",VLOOKUP(E1761,coefficient2!$A$22:$B$25,2,FALSE))","v":5.63998E-2},{"$f":"IF(F1761=1,\"0\",VLOOKUP(F1761,coefficient2!$A$28:$B$31,2,FALSE))","v":0.29534929999999998},0.31181169999999997]
[35131,3,5,1,3,1,13,{"$f":"IF(B1762=1,\"0\",VLOOKUP(B1762,coefficient2!$A$4:$B$7,2,FALSE))","v":8.6562899999999998E-2},{"$f":"IF(C1762=1,\"0\",VLOOKUP(C1762,coefficient2!$A$10:$B$13,2,FALSE))","v":0.2498763},{"$f":"IF(D1762=1,\"0\",VLOOKUP(D1762,coefficient2!$A$16:$B$19,2,FALSE))","v":"0"},{"$f":"IF(E1762=1,\"0\",VLOOKUP(E1762,coefficient2!$A$22:$B$25,2,FALSE))","v":6.6492200000000001E-2},{"$f":"IF(F1762=1,\"0\",VLOOKUP(F1762,coefficient2!$A$28:$B$31,2,FALSE))","v":"0"},0.59706859999999995]
[35132,3,5,1,3,2,14,{"$f":"IF(B1763=1,\"0\",VLOOKUP(B1763,coefficient2!$A$4:$B$7,2,FALSE))","v":8.6562899999999998E-2},{"$f":"IF(C1763=1,\"0\",VLOOKUP(C1763,coefficient2!$A$10:$B$13,2,FALSE))","v":0.2498763},{"$f":"IF(D1763=1,\"0\",VLOOKUP(D1763,coefficient2!$A$16:$B$19,2,FALSE))","v":"0"},{"$f":"IF(E1763=1,\"0\",VLOOKUP(E1763,coefficient2!$A$22:$B$25,2,FALSE))","v":6.6492200000000001E-2},{"$f":"IF(F1763=1,\"0\",VLOOKUP(F1763,coefficient2!$A$28:$B$31,2,FALSE))","v":5.8085699999999997E-2},0.53898289999999993]
[35133,3,5,1,3,3,15,{"$f":"IF(B1764=1,\"0\",VLOOKUP(B1764,coefficient2!$A$4:$B$7,2,FALSE))","v":8.6562899999999998E-2},{"$f":"IF(C1764=1,\"0\",VLOOKUP(C1764,coefficient2!$A$10:$B$13,2,FALSE))","v":0.2498763},{"$f":"IF(D1764=1,\"0\",VLOOKUP(D1764,coefficient2!$A$16:$B$19,2,FALSE))","v":"0"},{"$f":"IF(E1764=1,\"0\",VLOOKUP(E1764,coefficient2!$A$22:$B$25,2,FALSE))","v":6.6492200000000001E-2},{"$f":"IF(F1764=1,\"0\",VLOOKUP(F1764,coefficient2!$A$28:$B$31,2,FALSE))","v":9.5753900000000003E-2},0.5013147]
[35134,3,5,1,3,4,16,{"$f":"IF(B1765=1,\"0\",VLOOKUP(B1765,coefficient2!$A$4:$B$7,2,FALSE))","v":8.6562899999999998E-2},{"$f":"IF(C1765=1,\"0\",VLOOKUP(C1765,coefficient2!$A$10:$B$13,2,FALSE))","v":0.2498763},{"$f":"IF(D1765=1,\"0\",VLOOKUP(D1765,coefficient2!$A$16:$B$19,2,FALSE))","v":"0"},{"$f":"IF(E1765=1,\"0\",VLOOKUP(E1765,coefficient2!$A$22:$B$25,2,FALSE))","v":6.6492200000000001E-2},{"$f":"IF(F1765=1,\"0\",VLOOKUP(F1765,coefficient2!$A$28:$B$31,2,FALSE))","v":0.23270360000000001},0.36436499999999994]
[35135,3,5,1,3,5,17,{"$f":"IF(B1766=1,\"0\",VLOOKUP(B1766,coefficient2!$A$4:$B$7,2,FALSE))","v":8.6562899999999998E-2},{"$f":"IF(C1766=1,\"0\",VLOOKUP(C1766,coefficient2!$A$10:$B$13,2,FALSE))","v":0.2498763},{"$f":"IF(D1766=1,\"0\",VLOOKUP(D1766,coefficient2!$A$16:$B$19,2,FALSE))","v":"0"},{"$f":"IF(E1766=1,\"0\",VLOOKUP(E1766,coefficient2!$A$22:$B$25,2,FALSE))","v":6.6492200000000001E-2},{"$f":"IF(F1766=1,\"0\",VLOOKUP(F1766,coefficient2!$A$28:$B$31,2,FALSE))","v":0.29534929999999998},0.30171929999999997]
[35141,3,5,1,4,1,14,{"$f":"IF(B1767=1,\"0\",VLOOKUP(B1767,coefficient2!$A$4:$B$7,2,FALSE))","v":8.6562899999999998E-2},{"$f":"IF(C1767=1,\"0\",VLOOKUP(C1767,coefficient2!$A$10:$B$13,2,FALSE))","v":0.2498763},{"$f":"IF(D1767=1,\"0\",VLOOKUP(D1767,coefficient2!$A$16:$B$19,2,FALSE))","v":"0"},{"$f":"IF(E1767=1,\"0\",VLOOKUP(E1767,coefficient2!$A$22:$B$25,2,FALSE))","v":0.2068864},{"$f":"IF(F1767=1,\"0\",VLOOKUP(F1767,coefficient2!$A$28:$B$31,2,FALSE))","v":"0"},0.45667439999999992]
[35142,3,5,1,4,2,15,{"$f":"IF(B1768=1,\"0\",VLOOKUP(B1768,coefficient2!$A$4:$B$7,2,FALSE))","v":8.6562899999999998E-2},{"$f":"IF(C1768=1,\"0\",VLOOKUP(C1768,coefficient2!$A$10:$B$13,2,FALSE))","v":0.2498763},{"$f":"IF(D1768=1,\"0\",VLOOKUP(D1768,coefficient2!$A$16:$B$19,2,FALSE))","v":"0"},{"$f":"IF(E1768=1,\"0\",VLOOKUP(E1768,coefficient2!$A$22:$B$25,2,FALSE))","v":0.2068864},{"$f":"IF(F1768=1,\"0\",VLOOKUP(F1768,coefficient2!$A$28:$B$31,2,FALSE))","v":5.8085699999999997E-2},0.39858869999999991]
[35143,3,5,1,4,3,16,{"$f":"IF(B1769=1,\"0\",VLOOKUP(B1769,coefficient2!$A$4:$B$7,2,FALSE))","v":8.6562899999999998E-2},{"$f":"IF(C1769=1,\"0\",VLOOKUP(C1769,coefficient2!$A$10:$B$13,2,FALSE))","v":0.2498763},{"$f":"IF(D1769=1,\"0\",VLOOKUP(D1769,coefficient2!$A$16:$B$19,2,FALSE))","v":"0"},{"$f":"IF(E1769=1,\"0\",VLOOKUP(E1769,coefficient2!$A$22:$B$25,2,FALSE))","v":0.2068864},{"$f":"IF(F1769=1,\"0\",VLOOKUP(F1769,coefficient2!$A$28:$B$31,2,FALSE))","v":9.5753900000000003E-2},0.36092049999999992]
[35144,3,5,1,4,4,17,{"$f":"IF(B1770=1,\"0\",VLOOKUP(B1770,coefficient2!$A$4:$B$7,2,FALSE))","v":8.6562899999999998E-2},{"$f":"IF(C1770=1,\"0\",VLOOKUP(C1770,coefficient2!$A$10:$B$13,2,FALSE))","v":0.2498763},{"$f":"IF(D1770=1,\"0\",VLOOKUP(D1770,coefficient2!$A$16:$B$19,2,FALSE))","v":"0"},{"$f":"IF(E1770=1,\"0\",VLOOKUP(E1770,coefficient2!$A$22:$B$25,2,FALSE))","v":0.2068864},{"$f":"IF(F1770=1,\"0\",VLOOKUP(F1770,coefficient2!$A$28:$B$31,2,FALSE))","v":0.23270360000000001},0.22397079999999991]
[35145,3,5,1,4,5,18,{"$f":"IF(B1771=1,\"0\",VLOOKUP(B1771,coefficient2!$A$4:$B$7,2,FALSE))","v":8.6562899999999998E-2},{"$f":"IF(C1771=1,\"0\",VLOOKUP(C1771,coefficient2!$A$10:$B$13,2,FALSE))","v":0.2498763},{"$f":"IF(D1771=1,\"0\",VLOOKUP(D1771,coefficient2!$A$16:$B$19,2,FALSE))","v":"0"},{"$f":"IF(E1771=1,\"0\",VLOOKUP(E1771,coefficient2!$A$22:$B$25,2,FALSE))","v":0.2068864},{"$f":"IF(F1771=1,\"0\",VLOOKUP(F1771,coefficient2!$A$28:$B$31,2,FALSE))","v":0.29534929999999998},0.16132509999999994]
[35151,3,5,1,5,1,15,{"$f":"IF(B1772=1,\"0\",VLOOKUP(B1772,coefficient2!$A$4:$B$7,2,FALSE))","v":8.6562899999999998E-2},{"$f":"IF(C1772=1,\"0\",VLOOKUP(C1772,coefficient2!$A$10:$B$13,2,FALSE))","v":0.2498763},{"$f":"IF(D1772=1,\"0\",VLOOKUP(D1772,coefficient2!$A$16:$B$19,2,FALSE))","v":"0"},{"$f":"IF(E1772=1,\"0\",VLOOKUP(E1772,coefficient2!$A$22:$B$25,2,FALSE))","v":0.25643310000000002},{"$f":"IF(F1772=1,\"0\",VLOOKUP(F1772,coefficient2!$A$28:$B$31,2,FALSE))","v":"0"},0.40712769999999993]
[35152,3,5,1,5,2,16,{"$f":"IF(B1773=1,\"0\",VLOOKUP(B1773,coefficient2!$A$4:$B$7,2,FALSE))","v":8.6562899999999998E-2},{"$f":"IF(C1773=1,\"0\",VLOOKUP(C1773,coefficient2!$A$10:$B$13,2,FALSE))","v":0.2498763},{"$f":"IF(D1773=1,\"0\",VLOOKUP(D1773,coefficient2!$A$16:$B$19,2,FALSE))","v":"0"},{"$f":"IF(E1773=1,\"0\",VLOOKUP(E1773,coefficient2!$A$22:$B$25,2,FALSE))","v":0.25643310000000002},{"$f":"IF(F1773=1,\"0\",VLOOKUP(F1773,coefficient2!$A$28:$B$31,2,FALSE))","v":5.8085699999999997E-2},0.34904199999999991]
[35153,3,5,1,5,3,17,{"$f":"IF(B1774=1,\"0\",VLOOKUP(B1774,coefficient2!$A$4:$B$7,2,FALSE))","v":8.6562899999999998E-2},{"$f":"IF(C1774=1,\"0\",VLOOKUP(C1774,coefficient2!$A$10:$B$13,2,FALSE))","v":0.2498763},{"$f":"IF(D1774=1,\"0\",VLOOKUP(D1774,coefficient2!$A$16:$B$19,2,FALSE))","v":"0"},{"$f":"IF(E1774=1,\"0\",VLOOKUP(E1774,coefficient2!$A$22:$B$25,2,FALSE))","v":0.25643310000000002},{"$f":"IF(F1774=1,\"0\",VLOOKUP(F1774,coefficient2!$A$28:$B$31,2,FALSE))","v":9.5753900000000003E-2},0.31137379999999992]
[35154,3,5,1,5,4,18,{"$f":"IF(B1775=1,\"0\",VLOOKUP(B1775,coefficient2!$A$4:$B$7,2,FALSE))","v":8.6562899999999998E-2},{"$f":"IF(C1775=1,\"0\",VLOOKUP(C1775,coefficient2!$A$10:$B$13,2,FALSE))","v":0.2498763},{"$f":"IF(D1775=1,\"0\",VLOOKUP(D1775,coefficient2!$A$16:$B$19,2,FALSE))","v":"0"},{"$f":"IF(E1775=1,\"0\",VLOOKUP(E1775,coefficient2!$A$22:$B$25,2,FALSE))","v":0.25643310000000002},{"$f":"IF(F1775=1,\"0\",VLOOKUP(F1775,coefficient2!$A$28:$B$31,2,FALSE))","v":0.23270360000000001},0.17442409999999992]
[35155,3,5,1,5,5,19,{"$f":"IF(B1776=1,\"0\",VLOOKUP(B1776,coefficient2!$A$4:$B$7,2,FALSE))","v":8.6562899999999998E-2},{"$f":"IF(C1776=1,\"0\",VLOOKUP(C1776,coefficient2!$A$10:$B$13,2,FALSE))","v":0.2498763},{"$f":"IF(D1776=1,\"0\",VLOOKUP(D1776,coefficient2!$A$16:$B$19,2,FALSE))","v":"0"},{"$f":"IF(E1776=1,\"0\",VLOOKUP(E1776,coefficient2!$A$22:$B$25,2,FALSE))","v":0.25643310000000002},{"$f":"IF(F1776=1,\"0\",VLOOKUP(F1776,coefficient2!$A$28:$B$31,2,FALSE))","v":0.29534929999999998},0.11177839999999994]
[35211,3,5,2,1,1,12,{"$f":"IF(B1777=1,\"0\",VLOOKUP(B1777,coefficient2!$A$4:$B$7,2,FALSE))","v":8.6562899999999998E-2},{"$f":"IF(C1777=1,\"0\",VLOOKUP(C1777,coefficient2!$A$10:$B$13,2,FALSE))","v":0.2498763},{"$f":"IF(D1777=1,\"0\",VLOOKUP(D1777,coefficient2!$A$16:$B$19,2,FALSE))","v":5.8254399999999998E-2},{"$f":"IF(E1777=1,\"0\",VLOOKUP(E1777,coefficient2!$A$22:$B$25,2,FALSE))","v":"0"},{"$f":"IF(F1777=1,\"0\",VLOOKUP(F1777,coefficient2!$A$28:$B$31,2,FALSE))","v":"0"},0.60530639999999991]
[35212,3,5,2,1,2,13,{"$f":"IF(B1778=1,\"0\",VLOOKUP(B1778,coefficient2!$A$4:$B$7,2,FALSE))","v":8.6562899999999998E-2},{"$f":"IF(C1778=1,\"0\",VLOOKUP(C1778,coefficient2!$A$10:$B$13,2,FALSE))","v":0.2498763},{"$f":"IF(D1778=1,\"0\",VLOOKUP(D1778,coefficient2!$A$16:$B$19,2,FALSE))","v":5.8254399999999998E-2},{"$f":"IF(E1778=1,\"0\",VLOOKUP(E1778,coefficient2!$A$22:$B$25,2,FALSE))","v":"0"},{"$f":"IF(F1778=1,\"0\",VLOOKUP(F1778,coefficient2!$A$28:$B$31,2,FALSE))","v":5.8085699999999997E-2},0.54722069999999989]
[35213,3,5,2,1,3,14,{"$f":"IF(B1779=1,\"0\",VLOOKUP(B1779,coefficient2!$A$4:$B$7,2,FALSE))","v":8.6562899999999998E-2},{"$f":"IF(C1779=1,\"0\",VLOOKUP(C1779,coefficient2!$A$10:$B$13,2,FALSE))","v":0.2498763},{"$f":"IF(D1779=1,\"0\",VLOOKUP(D1779,coefficient2!$A$16:$B$19,2,FALSE))","v":5.8254399999999998E-2},{"$f":"IF(E1779=1,\"0\",VLOOKUP(E1779,coefficient2!$A$22:$B$25,2,FALSE))","v":"0"},{"$f":"IF(F1779=1,\"0\",VLOOKUP(F1779,coefficient2!$A$28:$B$31,2,FALSE))","v":9.5753900000000003E-2},0.50955249999999985]
[35214,3,5,2,1,4,15,{"$f":"IF(B1780=1,\"0\",VLOOKUP(B1780,coefficient2!$A$4:$B$7,2,FALSE))","v":8.6562899999999998E-2},{"$f":"IF(C1780=1,\"0\",VLOOKUP(C1780,coefficient2!$A$10:$B$13,2,FALSE))","v":0.2498763},{"$f":"IF(D1780=1,\"0\",VLOOKUP(D1780,coefficient2!$A$16:$B$19,2,FALSE))","v":5.8254399999999998E-2},{"$f":"IF(E1780=1,\"0\",VLOOKUP(E1780,coefficient2!$A$22:$B$25,2,FALSE))","v":"0"},{"$f":"IF(F1780=1,\"0\",VLOOKUP(F1780,coefficient2!$A$28:$B$31,2,FALSE))","v":0.23270360000000001},0.3726027999999999]
[35215,3,5,2,1,5,16,{"$f":"IF(B1781=1,\"0\",VLOOKUP(B1781,coefficient2!$A$4:$B$7,2,FALSE))","v":8.6562899999999998E-2},{"$f":"IF(C1781=1,\"0\",VLOOKUP(C1781,coefficient2!$A$10:$B$13,2,FALSE))","v":0.2498763},{"$f":"IF(D1781=1,\"0\",VLOOKUP(D1781,coefficient2!$A$16:$B$19,2,FALSE))","v":5.8254399999999998E-2},{"$f":"IF(E1781=1,\"0\",VLOOKUP(E1781,coefficient2!$A$22:$B$25,2,FALSE))","v":"0"},{"$f":"IF(F1781=1,\"0\",VLOOKUP(F1781,coefficient2!$A$28:$B$31,2,FALSE))","v":0.29534929999999998},0.30995709999999993]
[35221,3,5,2,2,1,13,{"$f":"IF(B1782=1,\"0\",VLOOKUP(B1782,coefficient2!$A$4:$B$7,2,FALSE))","v":8.6562899999999998E-2},{"$f":"IF(C1782=1,\"0\",VLOOKUP(C1782,coefficient2!$A$10:$B$13,2,FALSE))","v":0.2498763},{"$f":"IF(D1782=1,\"0\",VLOOKUP(D1782,coefficient2!$A$16:$B$19,2,FALSE))","v":5.8254399999999998E-2},{"$f":"IF(E1782=1,\"0\",VLOOKUP(E1782,coefficient2!$A$22:$B$25,2,FALSE))","v":5.63998E-2},{"$f":"IF(F1782=1,\"0\",VLOOKUP(F1782,coefficient2!$A$28:$B$31,2,FALSE))","v":"0"},0.54890659999999991]
[35222,3,5,2,2,2,14,{"$f":"IF(B1783=1,\"0\",VLOOKUP(B1783,coefficient2!$A$4:$B$7,2,FALSE))","v":8.6562899999999998E-2},{"$f":"IF(C1783=1,\"0\",VLOOKUP(C1783,coefficient2!$A$10:$B$13,2,FALSE))","v":0.2498763},{"$f":"IF(D1783=1,\"0\",VLOOKUP(D1783,coefficient2!$A$16:$B$19,2,FALSE))","v":5.8254399999999998E-2},{"$f":"IF(E1783=1,\"0\",VLOOKUP(E1783,coefficient2!$A$22:$B$25,2,FALSE))","v":5.63998E-2},{"$f":"IF(F1783=1,\"0\",VLOOKUP(F1783,coefficient2!$A$28:$B$31,2,FALSE))","v":5.8085699999999997E-2},0.49082089999999989]
[35223,3,5,2,2,3,15,{"$f":"IF(B1784=1,\"0\",VLOOKUP(B1784,coefficient2!$A$4:$B$7,2,FALSE))","v":8.6562899999999998E-2},{"$f":"IF(C1784=1,\"0\",VLOOKUP(C1784,coefficient2!$A$10:$B$13,2,FALSE))","v":0.2498763},{"$f":"IF(D1784=1,\"0\",VLOOKUP(D1784,coefficient2!$A$16:$B$19,2,FALSE))","v":5.8254399999999998E-2},{"$f":"IF(E1784=1,\"0\",VLOOKUP(E1784,coefficient2!$A$22:$B$25,2,FALSE))","v":5.63998E-2},{"$f":"IF(F1784=1,\"0\",VLOOKUP(F1784,coefficient2!$A$28:$B$31,2,FALSE))","v":9.5753900000000003E-2},0.45315269999999991]
[35224,3,5,2,2,4,16,{"$f":"IF(B1785=1,\"0\",VLOOKUP(B1785,coefficient2!$A$4:$B$7,2,FALSE))","v":8.6562899999999998E-2},{"$f":"IF(C1785=1,\"0\",VLOOKUP(C1785,coefficient2!$A$10:$B$13,2,FALSE))","v":0.2498763},{"$f":"IF(D1785=1,\"0\",VLOOKUP(D1785,coefficient2!$A$16:$B$19,2,FALSE))","v":5.8254399999999998E-2},{"$f":"IF(E1785=1,\"0\",VLOOKUP(E1785,coefficient2!$A$22:$B$25,2,FALSE))","v":5.63998E-2},{"$f":"IF(F1785=1,\"0\",VLOOKUP(F1785,coefficient2!$A$28:$B$31,2,FALSE))","v":0.23270360000000001},0.3162029999999999]
[35225,3,5,2,2,5,17,{"$f":"IF(B1786=1,\"0\",VLOOKUP(B1786,coefficient2!$A$4:$B$7,2,FALSE))","v":8.6562899999999998E-2},{"$f":"IF(C1786=1,\"0\",VLOOKUP(C1786,coefficient2!$A$10:$B$13,2,FALSE))","v":0.2498763},{"$f":"IF(D1786=1,\"0\",VLOOKUP(D1786,coefficient2!$A$16:$B$19,2,FALSE))","v":5.8254399999999998E-2},{"$f":"IF(E1786=1,\"0\",VLOOKUP(E1786,coefficient2!$A$22:$B$25,2,FALSE))","v":5.63998E-2},{"$f":"IF(F1786=1,\"0\",VLOOKUP(F1786,coefficient2!$A$28:$B$31,2,FALSE))","v":0.29534929999999998},0.25355729999999993]
[35231,3,5,2,3,1,14,{"$f":"IF(B1787=1,\"0\",VLOOKUP(B1787,coefficient2!$A$4:$B$7,2,FALSE))","v":8.6562899999999998E-2},{"$f":"IF(C1787=1,\"0\",VLOOKUP(C1787,coefficient2!$A$10:$B$13,2,FALSE))","v":0.2498763},{"$f":"IF(D1787=1,\"0\",VLOOKUP(D1787,coefficient2!$A$16:$B$19,2,FALSE))","v":5.8254399999999998E-2},{"$f":"IF(E1787=1,\"0\",VLOOKUP(E1787,coefficient2!$A$22:$B$25,2,FALSE))","v":6.6492200000000001E-2},{"$f":"IF(F1787=1,\"0\",VLOOKUP(F1787,coefficient2!$A$28:$B$31,2,FALSE))","v":"0"},0.53881419999999991]
[35232,3,5,2,3,2,15,{"$f":"IF(B1788=1,\"0\",VLOOKUP(B1788,coefficient2!$A$4:$B$7,2,FALSE))","v":8.6562899999999998E-2},{"$f":"IF(C1788=1,\"0\",VLOOKUP(C1788,coefficient2!$A$10:$B$13,2,FALSE))","v":0.2498763},{"$f":"IF(D1788=1,\"0\",VLOOKUP(D1788,coefficient2!$A$16:$B$19,2,FALSE))","v":5.8254399999999998E-2},{"$f":"IF(E1788=1,\"0\",VLOOKUP(E1788,coefficient2!$A$22:$B$25,2,FALSE))","v":6.6492200000000001E-2},{"$f":"IF(F1788=1,\"0\",VLOOKUP(F1788,coefficient2!$A$28:$B$31,2,FALSE))","v":5.8085699999999997E-2},0.48072849999999989]
[35233,3,5,2,3,3,16,{"$f":"IF(B1789=1,\"0\",VLOOKUP(B1789,coefficient2!$A$4:$B$7,2,FALSE))","v":8.6562899999999998E-2},{"$f":"IF(C1789=1,\"0\",VLOOKUP(C1789,coefficient2!$A$10:$B$13,2,FALSE))","v":0.2498763},{"$f":"IF(D1789=1,\"0\",VLOOKUP(D1789,coefficient2!$A$16:$B$19,2,FALSE))","v":5.8254399999999998E-2},{"$f":"IF(E1789=1,\"0\",VLOOKUP(E1789,coefficient2!$A$22:$B$25,2,FALSE))","v":6.6492200000000001E-2},{"$f":"IF(F1789=1,\"0\",VLOOKUP(F1789,coefficient2!$A$28:$B$31,2,FALSE))","v":9.5753900000000003E-2},0.44306029999999991]
[35234,3,5,2,3,4,17,{"$f":"IF(B1790=1,\"0\",VLOOKUP(B1790,coefficient2!$A$4:$B$7,2,FALSE))","v":8.6562899999999998E-2},{"$f":"IF(C1790=1,\"0\",VLOOKUP(C1790,coefficient2!$A$10:$B$13,2,FALSE))","v":0.2498763},{"$f":"IF(D1790=1,\"0\",VLOOKUP(D1790,coefficient2!$A$16:$B$19,2,FALSE))","v":5.8254399999999998E-2},{"$f":"IF(E1790=1,\"0\",VLOOKUP(E1790,coefficient2!$A$22:$B$25,2,FALSE))","v":6.6492200000000001E-2},{"$f":"IF(F1790=1,\"0\",VLOOKUP(F1790,coefficient2!$A$28:$B$31,2,FALSE))","v":0.23270360000000001},0.3061105999999999]
[35235,3,5,2,3,5,18,{"$f":"IF(B1791=1,\"0\",VLOOKUP(B1791,coefficient2!$A$4:$B$7,2,FALSE))","v":8.6562899999999998E-2},{"$f":"IF(C1791=1,\"0\",VLOOKUP(C1791,coefficient2!$A$10:$B$13,2,FALSE))","v":0.2498763},{"$f":"IF(D1791=1,\"0\",VLOOKUP(D1791,coefficient2!$A$16:$B$19,2,FALSE))","v":5.8254399999999998E-2},{"$f":"IF(E1791=1,\"0\",VLOOKUP(E1791,coefficient2!$A$22:$B$25,2,FALSE))","v":6.6492200000000001E-2},{"$f":"IF(F1791=1,\"0\",VLOOKUP(F1791,coefficient2!$A$28:$B$31,2,FALSE))","v":0.29534929999999998},0.24346489999999993]
[35241,3,5,2,4,1,15,{"$f":"IF(B1792=1,\"0\",VLOOKUP(B1792,coefficient2!$A$4:$B$7,2,FALSE))","v":8.6562899999999998E-2},{"$f":"IF(C1792=1,\"0\",VLOOKUP(C1792,coefficient2!$A$10:$B$13,2,FALSE))","v":0.2498763},{"$f":"IF(D1792=1,\"0\",VLOOKUP(D1792,coefficient2!$A$16:$B$19,2,FALSE))","v":5.8254399999999998E-2},{"$f":"IF(E1792=1,\"0\",VLOOKUP(E1792,coefficient2!$A$22:$B$25,2,FALSE))","v":0.2068864},{"$f":"IF(F1792=1,\"0\",VLOOKUP(F1792,coefficient2!$A$28:$B$31,2,FALSE))","v":"0"},0.39841999999999989]
[35242,3,5,2,4,2,16,{"$f":"IF(B1793=1,\"0\",VLOOKUP(B1793,coefficient2!$A$4:$B$7,2,FALSE))","v":8.6562899999999998E-2},{"$f":"IF(C1793=1,\"0\",VLOOKUP(C1793,coefficient2!$A$10:$B$13,2,FALSE))","v":0.2498763},{"$f":"IF(D1793=1,\"0\",VLOOKUP(D1793,coefficient2!$A$16:$B$19,2,FALSE))","v":5.8254399999999998E-2},{"$f":"IF(E1793=1,\"0\",VLOOKUP(E1793,coefficient2!$A$22:$B$25,2,FALSE))","v":0.2068864},{"$f":"IF(F1793=1,\"0\",VLOOKUP(F1793,coefficient2!$A$28:$B$31,2,FALSE))","v":5.8085699999999997E-2},0.34033429999999987]
[35243,3,5,2,4,3,17,{"$f":"IF(B1794=1,\"0\",VLOOKUP(B1794,coefficient2!$A$4:$B$7,2,FALSE))","v":8.6562899999999998E-2},{"$f":"IF(C1794=1,\"0\",VLOOKUP(C1794,coefficient2!$A$10:$B$13,2,FALSE))","v":0.2498763},{"$f":"IF(D1794=1,\"0\",VLOOKUP(D1794,coefficient2!$A$16:$B$19,2,FALSE))","v":5.8254399999999998E-2},{"$f":"IF(E1794=1,\"0\",VLOOKUP(E1794,coefficient2!$A$22:$B$25,2,FALSE))","v":0.2068864},{"$f":"IF(F1794=1,\"0\",VLOOKUP(F1794,coefficient2!$A$28:$B$31,2,FALSE))","v":9.5753900000000003E-2},{"$f":"1-H1794-I1794-J1794-K1794-L1794","v":0.30266609999999988}]
[35244,{"$f":"INT(LEFT(A1795,1))","v":3},{"$f":"INT(MID(A1795,2,1))","v":5},{"$f":"INT(MID(A1795,3,1))","v":2},{"$f":"INT(MID(A1795,4,1))","v":4},{"$f":"INT(RIGHT(A1795,1))","v":4},{"$f":"SUM(B1795:F1795)","v":18},{"$f":"IF(B1795=1,\"0\",VLOOKUP(B1795,coefficient2!$A$4:$B$7,2,FALSE))","v":8.6562899999999998E-2},{"$f":"IF(C1795=1,\"0\",VLOOKUP(C1795,coefficient2!$A$10:$B$13,2,FALSE))","v":0.2498763},{"$f":"IF(D1795=1,\"0\",VLOOKUP(D1795,coefficient2!$A$16:$B$19,2,FALSE))","v":5.8254399999999998E-2},{"$f":"IF(E1795=1,\"0\",VLOOKUP(E1795,coefficient2!$A$22:$B$25,2,FALSE))","v":0.2068864},{"$f":"IF(F1795=1,\"0\",VLOOKUP(F1795,coefficient2!$A$28:$B$31,2,FALSE))","v":0.23270360000000001},0.16571639999999987]
[35245,3,5,2,4,5,19,{"$f":"IF(B1796=1,\"0\",VLOOKUP(B1796,coefficient2!$A$4:$B$7,2,FALSE))","v":8.6562899999999998E-2},{"$f":"IF(C1796=1,\"0\",VLOOKUP(C1796,coefficient2!$A$10:$B$13,2,FALSE))","v":0.2498763},{"$f":"IF(D1796=1,\"0\",VLOOKUP(D1796,coefficient2!$A$16:$B$19,2,FALSE))","v":5.8254399999999998E-2},{"$f":"IF(E1796=1,\"0\",VLOOKUP(E1796,coefficient2!$A$22:$B$25,2,FALSE))","v":0.2068864},{"$f":"IF(F1796=1,\"0\",VLOOKUP(F1796,coefficient2!$A$28:$B$31,2,FALSE))","v":0.29534929999999998},0.1030706999999999]
[35251,3,5,2,5,1,16,{"$f":"IF(B1797=1,\"0\",VLOOKUP(B1797,coefficient2!$A$4:$B$7,2,FALSE))","v":8.6562899999999998E-2},{"$f":"IF(C1797=1,\"0\",VLOOKUP(C1797,coefficient2!$A$10:$B$13,2,FALSE))","v":0.2498763},{"$f":"IF(D1797=1,\"0\",VLOOKUP(D1797,coefficient2!$A$16:$B$19,2,FALSE))","v":5.8254399999999998E-2},{"$f":"IF(E1797=1,\"0\",VLOOKUP(E1797,coefficient2!$A$22:$B$25,2,FALSE))","v":0.25643310000000002},{"$f":"IF(F1797=1,\"0\",VLOOKUP(F1797,coefficient2!$A$28:$B$31,2,FALSE))","v":"0"},0.34887329999999989]
[35252,3,5,2,5,2,17,{"$f":"IF(B1798=1,\"0\",VLOOKUP(B1798,coefficient2!$A$4:$B$7,2,FALSE))","v":8.6562899999999998E-2},{"$f":"IF(C1798=1,\"0\",VLOOKUP(C1798,coefficient2!$A$10:$B$13,2,FALSE))","v":0.2498763},{"$f":"IF(D1798=1,\"0\",VLOOKUP(D1798,coefficient2!$A$16:$B$19,2,FALSE))","v":5.8254399999999998E-2},{"$f":"IF(E1798=1,\"0\",VLOOKUP(E1798,coefficient2!$A$22:$B$25,2,FALSE))","v":0.25643310000000002},{"$f":"IF(F1798=1,\"0\",VLOOKUP(F1798,coefficient2!$A$28:$B$31,2,FALSE))","v":5.8085699999999997E-2},0.29078759999999987]
[35253,3,5,2,5,3,18,{"$f":"IF(B1799=1,\"0\",VLOOKUP(B1799,coefficient2!$A$4:$B$7,2,FALSE))","v":8.6562899999999998E-2},{"$f":"IF(C1799=1,\"0\",VLOOKUP(C1799,coefficient2!$A$10:$B$13,2,FALSE))","v":0.2498763},{"$f":"IF(D1799=1,\"0\",VLOOKUP(D1799,coefficient2!$A$16:$B$19,2,FALSE))","v":5.8254399999999998E-2},{"$f":"IF(E1799=1,\"0\",VLOOKUP(E1799,coefficient2!$A$22:$B$25,2,FALSE))","v":0.25643310000000002},{"$f":"IF(F1799=1,\"0\",VLOOKUP(F1799,coefficient2!$A$28:$B$31,2,FALSE))","v":9.5753900000000003E-2},0.25311939999999988]
[35254,3,5,2,5,4,19,{"$f":"IF(B1800=1,\"0\",VLOOKUP(B1800,coefficient2!$A$4:$B$7,2,FALSE))","v":8.6562899999999998E-2},{"$f":"IF(C1800=1,\"0\",VLOOKUP(C1800,coefficient2!$A$10:$B$13,2,FALSE))","v":0.2498763},{"$f":"IF(D1800=1,\"0\",VLOOKUP(D1800,coefficient2!$A$16:$B$19,2,FALSE))","v":5.8254399999999998E-2},{"$f":"IF(E1800=1,\"0\",VLOOKUP(E1800,coefficient2!$A$22:$B$25,2,FALSE))","v":0.25643310000000002},{"$f":"IF(F1800=1,\"0\",VLOOKUP(F1800,coefficient2!$A$28:$B$31,2,FALSE))","v":0.23270360000000001},0.11616969999999988]
[35255,3,5,2,5,5,20,{"$f":"IF(B1801=1,\"0\",VLOOKUP(B1801,coefficient2!$A$4:$B$7,2,FALSE))","v":8.6562899999999998E-2},{"$f":"IF(C1801=1,\"0\",VLOOKUP(C1801,coefficient2!$A$10:$B$13,2,FALSE))","v":0.2498763},{"$f":"IF(D1801=1,\"0\",VLOOKUP(D1801,coefficient2!$A$16:$B$19,2,FALSE))","v":5.8254399999999998E-2},{"$f":"IF(E1801=1,\"0\",VLOOKUP(E1801,coefficient2!$A$22:$B$25,2,FALSE))","v":0.25643310000000002},{"$f":"IF(F1801=1,\"0\",VLOOKUP(F1801,coefficient2!$A$28:$B$31,2,FALSE))","v":0.29534929999999998},5.3523999999999905E-2]
[35311,3,5,3,1,1,13,{"$f":"IF(B1802=1,\"0\",VLOOKUP(B1802,coefficient2!$A$4:$B$7,2,FALSE))","v":8.6562899999999998E-2},{"$f":"IF(C1802=1,\"0\",VLOOKUP(C1802,coefficient2!$A$10:$B$13,2,FALSE))","v":0.2498763},{"$f":"IF(D1802=1,\"0\",VLOOKUP(D1802,coefficient2!$A$16:$B$19,2,FALSE))","v":7.1197399999999994E-2},{"$f":"IF(E1802=1,\"0\",VLOOKUP(E1802,coefficient2!$A$22:$B$25,2,FALSE))","v":"0"},{"$f":"IF(F1802=1,\"0\",VLOOKUP(F1802,coefficient2!$A$28:$B$31,2,FALSE))","v":"0"},0.59236339999999998]
[35312,3,5,3,1,2,14,{"$f":"IF(B1803=1,\"0\",VLOOKUP(B1803,coefficient2!$A$4:$B$7,2,FALSE))","v":8.6562899999999998E-2},{"$f":"IF(C1803=1,\"0\",VLOOKUP(C1803,coefficient2!$A$10:$B$13,2,FALSE))","v":0.2498763},{"$f":"IF(D1803=1,\"0\",VLOOKUP(D1803,coefficient2!$A$16:$B$19,2,FALSE))","v":7.1197399999999994E-2},{"$f":"IF(E1803=1,\"0\",VLOOKUP(E1803,coefficient2!$A$22:$B$25,2,FALSE))","v":"0"},{"$f":"IF(F1803=1,\"0\",VLOOKUP(F1803,coefficient2!$A$28:$B$31,2,FALSE))","v":5.8085699999999997E-2},0.53427769999999997]
[35313,3,5,3,1,3,15,{"$f":"IF(B1804=1,\"0\",VLOOKUP(B1804,coefficient2!$A$4:$B$7,2,FALSE))","v":8.6562899999999998E-2},{"$f":"IF(C1804=1,\"0\",VLOOKUP(C1804,coefficient2!$A$10:$B$13,2,FALSE))","v":0.2498763},{"$f":"IF(D1804=1,\"0\",VLOOKUP(D1804,coefficient2!$A$16:$B$19,2,FALSE))","v":7.1197399999999994E-2},{"$f":"IF(E1804=1,\"0\",VLOOKUP(E1804,coefficient2!$A$22:$B$25,2,FALSE))","v":"0"},{"$f":"IF(F1804=1,\"0\",VLOOKUP(F1804,coefficient2!$A$28:$B$31,2,FALSE))","v":9.5753900000000003E-2},0.49660949999999998]
[35314,3,5,3,1,4,16,{"$f":"IF(B1805=1,\"0\",VLOOKUP(B1805,coefficient2!$A$4:$B$7,2,FALSE))","v":8.6562899999999998E-2},{"$f":"IF(C1805=1,\"0\",VLOOKUP(C1805,coefficient2!$A$10:$B$13,2,FALSE))","v":0.2498763},{"$f":"IF(D1805=1,\"0\",VLOOKUP(D1805,coefficient2!$A$16:$B$19,2,FALSE))","v":7.1197399999999994E-2},{"$f":"IF(E1805=1,\"0\",VLOOKUP(E1805,coefficient2!$A$22:$B$25,2,FALSE))","v":"0"},{"$f":"IF(F1805=1,\"0\",VLOOKUP(F1805,coefficient2!$A$28:$B$31,2,FALSE))","v":0.23270360000000001},0.35965979999999997]
[35315,3,5,3,1,5,17,{"$f":"IF(B1806=1,\"0\",VLOOKUP(B1806,coefficient2!$A$4:$B$7,2,FALSE))","v":8.6562899999999998E-2},{"$f":"IF(C1806=1,\"0\",VLOOKUP(C1806,coefficient2!$A$10:$B$13,2,FALSE))","v":0.2498763},{"$f":"IF(D1806=1,\"0\",VLOOKUP(D1806,coefficient2!$A$16:$B$19,2,FALSE))","v":7.1197399999999994E-2},{"$f":"IF(E1806=1,\"0\",VLOOKUP(E1806,coefficient2!$A$22:$B$25,2,FALSE))","v":"0"},{"$f":"IF(F1806=1,\"0\",VLOOKUP(F1806,coefficient2!$A$28:$B$31,2,FALSE))","v":0.29534929999999998},0.2970141]
[35321,3,5,3,2,1,14,{"$f":"IF(B1807=1,\"0\",VLOOKUP(B1807,coefficient2!$A$4:$B$7,2,FALSE))","v":8.6562899999999998E-2},{"$f":"IF(C1807=1,\"0\",VLOOKUP(C1807,coefficient2!$A$10:$B$13,2,FALSE))","v":0.2498763},{"$f":"IF(D1807=1,\"0\",VLOOKUP(D1807,coefficient2!$A$16:$B$19,2,FALSE))","v":7.1197399999999994E-2},{"$f":"IF(E1807=1,\"0\",VLOOKUP(E1807,coefficient2!$A$22:$B$25,2,FALSE))","v":5.63998E-2},{"$f":"IF(F1807=1,\"0\",VLOOKUP(F1807,coefficient2!$A$28:$B$31,2,FALSE))","v":"0"},0.53596359999999998]
[35322,3,5,3,2,2,15,{"$f":"IF(B1808=1,\"0\",VLOOKUP(B1808,coefficient2!$A$4:$B$7,2,FALSE))","v":8.6562899999999998E-2},{"$f":"IF(C1808=1,\"0\",VLOOKUP(C1808,coefficient2!$A$10:$B$13,2,FALSE))","v":0.2498763},{"$f":"IF(D1808=1,\"0\",VLOOKUP(D1808,coefficient2!$A$16:$B$19,2,FALSE))","v":7.1197399999999994E-2},{"$f":"IF(E1808=1,\"0\",VLOOKUP(E1808,coefficient2!$A$22:$B$25,2,FALSE))","v":5.63998E-2},{"$f":"IF(F1808=1,\"0\",VLOOKUP(F1808,coefficient2!$A$28:$B$31,2,FALSE))","v":5.8085699999999997E-2},0.47787789999999997]
[35323,3,5,3,2,3,16,{"$f":"IF(B1809=1,\"0\",VLOOKUP(B1809,coefficient2!$A$4:$B$7,2,FALSE))","v":8.6562899999999998E-2},{"$f":"IF(C1809=1,\"0\",VLOOKUP(C1809,coefficient2!$A$10:$B$13,2,FALSE))","v":0.2498763},{"$f":"IF(D1809=1,\"0\",VLOOKUP(D1809,coefficient2!$A$16:$B$19,2,FALSE))","v":7.1197399999999994E-2},{"$f":"IF(E1809=1,\"0\",VLOOKUP(E1809,coefficient2!$A$22:$B$25,2,FALSE))","v":5.63998E-2},{"$f":"IF(F1809=1,\"0\",VLOOKUP(F1809,coefficient2!$A$28:$B$31,2,FALSE))","v":9.5753900000000003E-2},0.44020969999999998]
[35324,3,5,3,2,4,17,{"$f":"IF(B1810=1,\"0\",VLOOKUP(B1810,coefficient2!$A$4:$B$7,2,FALSE))","v":8.6562899999999998E-2},{"$f":"IF(C1810=1,\"0\",VLOOKUP(C1810,coefficient2!$A$10:$B$13,2,FALSE))","v":0.2498763},{"$f":"IF(D1810=1,\"0\",VLOOKUP(D1810,coefficient2!$A$16:$B$19,2,FALSE))","v":7.1197399999999994E-2},{"$f":"IF(E1810=1,\"0\",VLOOKUP(E1810,coefficient2!$A$22:$B$25,2,FALSE))","v":5.63998E-2},{"$f":"IF(F1810=1,\"0\",VLOOKUP(F1810,coefficient2!$A$28:$B$31,2,FALSE))","v":0.23270360000000001},0.30325999999999997]
[35325,3,5,3,2,5,18,{"$f":"IF(B1811=1,\"0\",VLOOKUP(B1811,coefficient2!$A$4:$B$7,2,FALSE))","v":8.6562899999999998E-2},{"$f":"IF(C1811=1,\"0\",VLOOKUP(C1811,coefficient2!$A$10:$B$13,2,FALSE))","v":0.2498763},{"$f":"IF(D1811=1,\"0\",VLOOKUP(D1811,coefficient2!$A$16:$B$19,2,FALSE))","v":7.1197399999999994E-2},{"$f":"IF(E1811=1,\"0\",VLOOKUP(E1811,coefficient2!$A$22:$B$25,2,FALSE))","v":5.63998E-2},{"$f":"IF(F1811=1,\"0\",VLOOKUP(F1811,coefficient2!$A$28:$B$31,2,FALSE))","v":0.29534929999999998},0.2406143]
[35331,3,5,3,3,1,15,{"$f":"IF(B1812=1,\"0\",VLOOKUP(B1812,coefficient2!$A$4:$B$7,2,FALSE))","v":8.6562899999999998E-2},{"$f":"IF(C1812=1,\"0\",VLOOKUP(C1812,coefficient2!$A$10:$B$13,2,FALSE))","v":0.2498763},{"$f":"IF(D1812=1,\"0\",VLOOKUP(D1812,coefficient2!$A$16:$B$19,2,FALSE))","v":7.1197399999999994E-2},{"$f":"IF(E1812=1,\"0\",VLOOKUP(E1812,coefficient2!$A$22:$B$25,2,FALSE))","v":6.6492200000000001E-2},{"$f":"IF(F1812=1,\"0\",VLOOKUP(F1812,coefficient2!$A$28:$B$31,2,FALSE))","v":"0"},0.52587119999999998]
[35332,3,5,3,3,2,16,{"$f":"IF(B1813=1,\"0\",VLOOKUP(B1813,coefficient2!$A$4:$B$7,2,FALSE))","v":8.6562899999999998E-2},{"$f":"IF(C1813=1,\"0\",VLOOKUP(C1813,coefficient2!$A$10:$B$13,2,FALSE))","v":0.2498763},{"$f":"IF(D1813=1,\"0\",VLOOKUP(D1813,coefficient2!$A$16:$B$19,2,FALSE))","v":7.1197399999999994E-2},{"$f":"IF(E1813=1,\"0\",VLOOKUP(E1813,coefficient2!$A$22:$B$25,2,FALSE))","v":6.6492200000000001E-2},{"$f":"IF(F1813=1,\"0\",VLOOKUP(F1813,coefficient2!$A$28:$B$31,2,FALSE))","v":5.8085699999999997E-2},0.46778549999999997]
[35333,3,5,3,3,3,17,{"$f":"IF(B1814=1,\"0\",VLOOKUP(B1814,coefficient2!$A$4:$B$7,2,FALSE))","v":8.6562899999999998E-2},{"$f":"IF(C1814=1,\"0\",VLOOKUP(C1814,coefficient2!$A$10:$B$13,2,FALSE))","v":0.2498763},{"$f":"IF(D1814=1,\"0\",VLOOKUP(D1814,coefficient2!$A$16:$B$19,2,FALSE))","v":7.1197399999999994E-2},{"$f":"IF(E1814=1,\"0\",VLOOKUP(E1814,coefficient2!$A$22:$B$25,2,FALSE))","v":6.6492200000000001E-2},{"$f":"IF(F1814=1,\"0\",VLOOKUP(F1814,coefficient2!$A$28:$B$31,2,FALSE))","v":9.5753900000000003E-2},0.43011729999999998]
[35334,3,5,3,3,4,18,{"$f":"IF(B1815=1,\"0\",VLOOKUP(B1815,coefficient2!$A$4:$B$7,2,FALSE))","v":8.6562899999999998E-2},{"$f":"IF(C1815=1,\"0\",VLOOKUP(C1815,coefficient2!$A$10:$B$13,2,FALSE))","v":0.2498763},{"$f":"IF(D1815=1,\"0\",VLOOKUP(D1815,coefficient2!$A$16:$B$19,2,FALSE))","v":7.1197399999999994E-2},{"$f":"IF(E1815=1,\"0\",VLOOKUP(E1815,coefficient2!$A$22:$B$25,2,FALSE))","v":6.6492200000000001E-2},{"$f":"IF(F1815=1,\"0\",VLOOKUP(F1815,coefficient2!$A$28:$B$31,2,FALSE))","v":0.23270360000000001},0.29316759999999997]
[35335,3,5,3,3,5,19,{"$f":"IF(B1816=1,\"0\",VLOOKUP(B1816,coefficient2!$A$4:$B$7,2,FALSE))","v":8.6562899999999998E-2},{"$f":"IF(C1816=1,\"0\",VLOOKUP(C1816,coefficient2!$A$10:$B$13,2,FALSE))","v":0.2498763},{"$f":"IF(D1816=1,\"0\",VLOOKUP(D1816,coefficient2!$A$16:$B$19,2,FALSE))","v":7.1197399999999994E-2},{"$f":"IF(E1816=1,\"0\",VLOOKUP(E1816,coefficient2!$A$22:$B$25,2,FALSE))","v":6.6492200000000001E-2},{"$f":"IF(F1816=1,\"0\",VLOOKUP(F1816,coefficient2!$A$28:$B$31,2,FALSE))","v":0.29534929999999998},0.2305219]
[35341,3,5,3,4,1,16,{"$f":"IF(B1817=1,\"0\",VLOOKUP(B1817,coefficient2!$A$4:$B$7,2,FALSE))","v":8.6562899999999998E-2},{"$f":"IF(C1817=1,\"0\",VLOOKUP(C1817,coefficient2!$A$10:$B$13,2,FALSE))","v":0.2498763},{"$f":"IF(D1817=1,\"0\",VLOOKUP(D1817,coefficient2!$A$16:$B$19,2,FALSE))","v":7.1197399999999994E-2},{"$f":"IF(E1817=1,\"0\",VLOOKUP(E1817,coefficient2!$A$22:$B$25,2,FALSE))","v":0.2068864},{"$f":"IF(F1817=1,\"0\",VLOOKUP(F1817,coefficient2!$A$28:$B$31,2,FALSE))","v":"0"},0.38547699999999996]
[35342,3,5,3,4,2,17,{"$f":"IF(B1818=1,\"0\",VLOOKUP(B1818,coefficient2!$A$4:$B$7,2,FALSE))","v":8.6562899999999998E-2},{"$f":"IF(C1818=1,\"0\",VLOOKUP(C1818,coefficient2!$A$10:$B$13,2,FALSE))","v":0.2498763},{"$f":"IF(D1818=1,\"0\",VLOOKUP(D1818,coefficient2!$A$16:$B$19,2,FALSE))","v":7.1197399999999994E-2},{"$f":"IF(E1818=1,\"0\",VLOOKUP(E1818,coefficient2!$A$22:$B$25,2,FALSE))","v":0.2068864},{"$f":"IF(F1818=1,\"0\",VLOOKUP(F1818,coefficient2!$A$28:$B$31,2,FALSE))","v":5.8085699999999997E-2},0.32739129999999994]
[35343,3,5,3,4,3,18,{"$f":"IF(B1819=1,\"0\",VLOOKUP(B1819,coefficient2!$A$4:$B$7,2,FALSE))","v":8.6562899999999998E-2},{"$f":"IF(C1819=1,\"0\",VLOOKUP(C1819,coefficient2!$A$10:$B$13,2,FALSE))","v":0.2498763},{"$f":"IF(D1819=1,\"0\",VLOOKUP(D1819,coefficient2!$A$16:$B$19,2,FALSE))","v":7.1197399999999994E-2},{"$f":"IF(E1819=1,\"0\",VLOOKUP(E1819,coefficient2!$A$22:$B$25,2,FALSE))","v":0.2068864},{"$f":"IF(F1819=1,\"0\",VLOOKUP(F1819,coefficient2!$A$28:$B$31,2,FALSE))","v":9.5753900000000003E-2},0.28972309999999996]
[35344,3,5,3,4,4,19,{"$f":"IF(B1820=1,\"0\",VLOOKUP(B1820,coefficient2!$A$4:$B$7,2,FALSE))","v":8.6562899999999998E-2},{"$f":"IF(C1820=1,\"0\",VLOOKUP(C1820,coefficient2!$A$10:$B$13,2,FALSE))","v":0.2498763},{"$f":"IF(D1820=1,\"0\",VLOOKUP(D1820,coefficient2!$A$16:$B$19,2,FALSE))","v":7.1197399999999994E-2},{"$f":"IF(E1820=1,\"0\",VLOOKUP(E1820,coefficient2!$A$22:$B$25,2,FALSE))","v":0.2068864},{"$f":"IF(F1820=1,\"0\",VLOOKUP(F1820,coefficient2!$A$28:$B$31,2,FALSE))","v":0.23270360000000001},0.15277339999999995]
[35345,3,5,3,4,5,20,{"$f":"IF(B1821=1,\"0\",VLOOKUP(B1821,coefficient2!$A$4:$B$7,2,FALSE))","v":8.6562899999999998E-2},{"$f":"IF(C1821=1,\"0\",VLOOKUP(C1821,coefficient2!$A$10:$B$13,2,FALSE))","v":0.2498763},{"$f":"IF(D1821=1,\"0\",VLOOKUP(D1821,coefficient2!$A$16:$B$19,2,FALSE))","v":7.1197399999999994E-2},{"$f":"IF(E1821=1,\"0\",VLOOKUP(E1821,coefficient2!$A$22:$B$25,2,FALSE))","v":0.2068864},{"$f":"IF(F1821=1,\"0\",VLOOKUP(F1821,coefficient2!$A$28:$B$31,2,FALSE))","v":0.29534929999999998},9.0127699999999977E-2]
[35351,3,5,3,5,1,17,{"$f":"IF(B1822=1,\"0\",VLOOKUP(B1822,coefficient2!$A$4:$B$7,2,FALSE))","v":8.6562899999999998E-2},{"$f":"IF(C1822=1,\"0\",VLOOKUP(C1822,coefficient2!$A$10:$B$13,2,FALSE))","v":0.2498763},{"$f":"IF(D1822=1,\"0\",VLOOKUP(D1822,coefficient2!$A$16:$B$19,2,FALSE))","v":7.1197399999999994E-2},{"$f":"IF(E1822=1,\"0\",VLOOKUP(E1822,coefficient2!$A$22:$B$25,2,FALSE))","v":0.25643310000000002},{"$f":"IF(F1822=1,\"0\",VLOOKUP(F1822,coefficient2!$A$28:$B$31,2,FALSE))","v":"0"},0.33593029999999996]
[35352,3,5,3,5,2,18,{"$f":"IF(B1823=1,\"0\",VLOOKUP(B1823,coefficient2!$A$4:$B$7,2,FALSE))","v":8.6562899999999998E-2},{"$f":"IF(C1823=1,\"0\",VLOOKUP(C1823,coefficient2!$A$10:$B$13,2,FALSE))","v":0.2498763},{"$f":"IF(D1823=1,\"0\",VLOOKUP(D1823,coefficient2!$A$16:$B$19,2,FALSE))","v":7.1197399999999994E-2},{"$f":"IF(E1823=1,\"0\",VLOOKUP(E1823,coefficient2!$A$22:$B$25,2,FALSE))","v":0.25643310000000002},{"$f":"IF(F1823=1,\"0\",VLOOKUP(F1823,coefficient2!$A$28:$B$31,2,FALSE))","v":5.8085699999999997E-2},0.27784459999999994]
[35353,3,5,3,5,3,19,{"$f":"IF(B1824=1,\"0\",VLOOKUP(B1824,coefficient2!$A$4:$B$7,2,FALSE))","v":8.6562899999999998E-2},{"$f":"IF(C1824=1,\"0\",VLOOKUP(C1824,coefficient2!$A$10:$B$13,2,FALSE))","v":0.2498763},{"$f":"IF(D1824=1,\"0\",VLOOKUP(D1824,coefficient2!$A$16:$B$19,2,FALSE))","v":7.1197399999999994E-2},{"$f":"IF(E1824=1,\"0\",VLOOKUP(E1824,coefficient2!$A$22:$B$25,2,FALSE))","v":0.25643310000000002},{"$f":"IF(F1824=1,\"0\",VLOOKUP(F1824,coefficient2!$A$28:$B$31,2,FALSE))","v":9.5753900000000003E-2},0.24017639999999996]
[35354,3,5,3,5,4,20,{"$f":"IF(B1825=1,\"0\",VLOOKUP(B1825,coefficient2!$A$4:$B$7,2,FALSE))","v":8.6562899999999998E-2},{"$f":"IF(C1825=1,\"0\",VLOOKUP(C1825,coefficient2!$A$10:$B$13,2,FALSE))","v":0.2498763},{"$f":"IF(D1825=1,\"0\",VLOOKUP(D1825,coefficient2!$A$16:$B$19,2,FALSE))","v":7.1197399999999994E-2},{"$f":"IF(E1825=1,\"0\",VLOOKUP(E1825,coefficient2!$A$22:$B$25,2,FALSE))","v":0.25643310000000002},{"$f":"IF(F1825=1,\"0\",VLOOKUP(F1825,coefficient2!$A$28:$B$31,2,FALSE))","v":0.23270360000000001},0.10322669999999995]
[35355,3,5,3,5,5,21,{"$f":"IF(B1826=1,\"0\",VLOOKUP(B1826,coefficient2!$A$4:$B$7,2,FALSE))","v":8.6562899999999998E-2},{"$f":"IF(C1826=1,\"0\",VLOOKUP(C1826,coefficient2!$A$10:$B$13,2,FALSE))","v":0.2498763},{"$f":"IF(D1826=1,\"0\",VLOOKUP(D1826,coefficient2!$A$16:$B$19,2,FALSE))","v":7.1197399999999994E-2},{"$f":"IF(E1826=1,\"0\",VLOOKUP(E1826,coefficient2!$A$22:$B$25,2,FALSE))","v":0.25643310000000002},{"$f":"IF(F1826=1,\"0\",VLOOKUP(F1826,coefficient2!$A$28:$B$31,2,FALSE))","v":0.29534929999999998},4.0580999999999978E-2]
[35411,3,5,4,1,1,14,{"$f":"IF(B1827=1,\"0\",VLOOKUP(B1827,coefficient2!$A$4:$B$7,2,FALSE))","v":8.6562899999999998E-2},{"$f":"IF(C1827=1,\"0\",VLOOKUP(C1827,coefficient2!$A$10:$B$13,2,FALSE))","v":0.2498763},{"$f":"IF(D1827=1,\"0\",VLOOKUP(D1827,coefficient2!$A$16:$B$19,2,FALSE))","v":0.1534855},{"$f":"IF(E1827=1,\"0\",VLOOKUP(E1827,coefficient2!$A$22:$B$25,2,FALSE))","v":"0"},{"$f":"IF(F1827=1,\"0\",VLOOKUP(F1827,coefficient2!$A$28:$B$31,2,FALSE))","v":"0"},0.51007530000000001]
[35412,3,5,4,1,2,15,{"$f":"IF(B1828=1,\"0\",VLOOKUP(B1828,coefficient2!$A$4:$B$7,2,FALSE))","v":8.6562899999999998E-2},{"$f":"IF(C1828=1,\"0\",VLOOKUP(C1828,coefficient2!$A$10:$B$13,2,FALSE))","v":0.2498763},{"$f":"IF(D1828=1,\"0\",VLOOKUP(D1828,coefficient2!$A$16:$B$19,2,FALSE))","v":0.1534855},{"$f":"IF(E1828=1,\"0\",VLOOKUP(E1828,coefficient2!$A$22:$B$25,2,FALSE))","v":"0"},{"$f":"IF(F1828=1,\"0\",VLOOKUP(F1828,coefficient2!$A$28:$B$31,2,FALSE))","v":5.8085699999999997E-2},0.45198959999999999]
[35413,3,5,4,1,3,16,{"$f":"IF(B1829=1,\"0\",VLOOKUP(B1829,coefficient2!$A$4:$B$7,2,FALSE))","v":8.6562899999999998E-2},{"$f":"IF(C1829=1,\"0\",VLOOKUP(C1829,coefficient2!$A$10:$B$13,2,FALSE))","v":0.2498763},{"$f":"IF(D1829=1,\"0\",VLOOKUP(D1829,coefficient2!$A$16:$B$19,2,FALSE))","v":0.1534855},{"$f":"IF(E1829=1,\"0\",VLOOKUP(E1829,coefficient2!$A$22:$B$25,2,FALSE))","v":"0"},{"$f":"IF(F1829=1,\"0\",VLOOKUP(F1829,coefficient2!$A$28:$B$31,2,FALSE))","v":9.5753900000000003E-2},0.41432140000000001]
[35414,3,5,4,1,4,17,{"$f":"IF(B1830=1,\"0\",VLOOKUP(B1830,coefficient2!$A$4:$B$7,2,FALSE))","v":8.6562899999999998E-2},{"$f":"IF(C1830=1,\"0\",VLOOKUP(C1830,coefficient2!$A$10:$B$13,2,FALSE))","v":0.2498763},{"$f":"IF(D1830=1,\"0\",VLOOKUP(D1830,coefficient2!$A$16:$B$19,2,FALSE))","v":0.1534855},{"$f":"IF(E1830=1,\"0\",VLOOKUP(E1830,coefficient2!$A$22:$B$25,2,FALSE))","v":"0"},{"$f":"IF(F1830=1,\"0\",VLOOKUP(F1830,coefficient2!$A$28:$B$31,2,FALSE))","v":0.23270360000000001},0.2773717]
[35415,3,5,4,1,5,18,{"$f":"IF(B1831=1,\"0\",VLOOKUP(B1831,coefficient2!$A$4:$B$7,2,FALSE))","v":8.6562899999999998E-2},{"$f":"IF(C1831=1,\"0\",VLOOKUP(C1831,coefficient2!$A$10:$B$13,2,FALSE))","v":0.2498763},{"$f":"IF(D1831=1,\"0\",VLOOKUP(D1831,coefficient2!$A$16:$B$19,2,FALSE))","v":0.1534855},{"$f":"IF(E1831=1,\"0\",VLOOKUP(E1831,coefficient2!$A$22:$B$25,2,FALSE))","v":"0"},{"$f":"IF(F1831=1,\"0\",VLOOKUP(F1831,coefficient2!$A$28:$B$31,2,FALSE))","v":0.29534929999999998},0.21472600000000003]
[35421,3,5,4,2,1,15,{"$f":"IF(B1832=1,\"0\",VLOOKUP(B1832,coefficient2!$A$4:$B$7,2,FALSE))","v":8.6562899999999998E-2},{"$f":"IF(C1832=1,\"0\",VLOOKUP(C1832,coefficient2!$A$10:$B$13,2,FALSE))","v":0.2498763},{"$f":"IF(D1832=1,\"0\",VLOOKUP(D1832,coefficient2!$A$16:$B$19,2,FALSE))","v":0.1534855},{"$f":"IF(E1832=1,\"0\",VLOOKUP(E1832,coefficient2!$A$22:$B$25,2,FALSE))","v":5.63998E-2},{"$f":"IF(F1832=1,\"0\",VLOOKUP(F1832,coefficient2!$A$28:$B$31,2,FALSE))","v":"0"},0.45367550000000001]
[35422,3,5,4,2,2,16,{"$f":"IF(B1833=1,\"0\",VLOOKUP(B1833,coefficient2!$A$4:$B$7,2,FALSE))","v":8.6562899999999998E-2},{"$f":"IF(C1833=1,\"0\",VLOOKUP(C1833,coefficient2!$A$10:$B$13,2,FALSE))","v":0.2498763},{"$f":"IF(D1833=1,\"0\",VLOOKUP(D1833,coefficient2!$A$16:$B$19,2,FALSE))","v":0.1534855},{"$f":"IF(E1833=1,\"0\",VLOOKUP(E1833,coefficient2!$A$22:$B$25,2,FALSE))","v":5.63998E-2},{"$f":"IF(F1833=1,\"0\",VLOOKUP(F1833,coefficient2!$A$28:$B$31,2,FALSE))","v":5.8085699999999997E-2},0.39558979999999999]
[35423,3,5,4,2,3,17,{"$f":"IF(B1834=1,\"0\",VLOOKUP(B1834,coefficient2!$A$4:$B$7,2,FALSE))","v":8.6562899999999998E-2},{"$f":"IF(C1834=1,\"0\",VLOOKUP(C1834,coefficient2!$A$10:$B$13,2,FALSE))","v":0.2498763},{"$f":"IF(D1834=1,\"0\",VLOOKUP(D1834,coefficient2!$A$16:$B$19,2,FALSE))","v":0.1534855},{"$f":"IF(E1834=1,\"0\",VLOOKUP(E1834,coefficient2!$A$22:$B$25,2,FALSE))","v":5.63998E-2},{"$f":"IF(F1834=1,\"0\",VLOOKUP(F1834,coefficient2!$A$28:$B$31,2,FALSE))","v":9.5753900000000003E-2},0.35792160000000001]
[35424,3,5,4,2,4,18,{"$f":"IF(B1835=1,\"0\",VLOOKUP(B1835,coefficient2!$A$4:$B$7,2,FALSE))","v":8.6562899999999998E-2},{"$f":"IF(C1835=1,\"0\",VLOOKUP(C1835,coefficient2!$A$10:$B$13,2,FALSE))","v":0.2498763},{"$f":"IF(D1835=1,\"0\",VLOOKUP(D1835,coefficient2!$A$16:$B$19,2,FALSE))","v":0.1534855},{"$f":"IF(E1835=1,\"0\",VLOOKUP(E1835,coefficient2!$A$22:$B$25,2,FALSE))","v":5.63998E-2},{"$f":"IF(F1835=1,\"0\",VLOOKUP(F1835,coefficient2!$A$28:$B$31,2,FALSE))","v":0.23270360000000001},0.2209719]
[35425,3,5,4,2,5,19,{"$f":"IF(B1836=1,\"0\",VLOOKUP(B1836,coefficient2!$A$4:$B$7,2,FALSE))","v":8.6562899999999998E-2},{"$f":"IF(C1836=1,\"0\",VLOOKUP(C1836,coefficient2!$A$10:$B$13,2,FALSE))","v":0.2498763},{"$f":"IF(D1836=1,\"0\",VLOOKUP(D1836,coefficient2!$A$16:$B$19,2,FALSE))","v":0.1534855},{"$f":"IF(E1836=1,\"0\",VLOOKUP(E1836,coefficient2!$A$22:$B$25,2,FALSE))","v":5.63998E-2},{"$f":"IF(F1836=1,\"0\",VLOOKUP(F1836,coefficient2!$A$28:$B$31,2,FALSE))","v":0.29534929999999998},0.15832620000000003]
[35431,3,5,4,3,1,16,{"$f":"IF(B1837=1,\"0\",VLOOKUP(B1837,coefficient2!$A$4:$B$7,2,FALSE))","v":8.6562899999999998E-2},{"$f":"IF(C1837=1,\"0\",VLOOKUP(C1837,coefficient2!$A$10:$B$13,2,FALSE))","v":0.2498763},{"$f":"IF(D1837=1,\"0\",VLOOKUP(D1837,coefficient2!$A$16:$B$19,2,FALSE))","v":0.1534855},{"$f":"IF(E1837=1,\"0\",VLOOKUP(E1837,coefficient2!$A$22:$B$25,2,FALSE))","v":6.6492200000000001E-2},{"$f":"IF(F1837=1,\"0\",VLOOKUP(F1837,coefficient2!$A$28:$B$31,2,FALSE))","v":"0"},0.44358310000000001]
[35432,3,5,4,3,2,17,{"$f":"IF(B1838=1,\"0\",VLOOKUP(B1838,coefficient2!$A$4:$B$7,2,FALSE))","v":8.6562899999999998E-2},{"$f":"IF(C1838=1,\"0\",VLOOKUP(C1838,coefficient2!$A$10:$B$13,2,FALSE))","v":0.2498763},{"$f":"IF(D1838=1,\"0\",VLOOKUP(D1838,coefficient2!$A$16:$B$19,2,FALSE))","v":0.1534855},{"$f":"IF(E1838=1,\"0\",VLOOKUP(E1838,coefficient2!$A$22:$B$25,2,FALSE))","v":6.6492200000000001E-2},{"$f":"IF(F1838=1,\"0\",VLOOKUP(F1838,coefficient2!$A$28:$B$31,2,FALSE))","v":5.8085699999999997E-2},0.38549739999999999]
[35433,3,5,4,3,3,18,{"$f":"IF(B1839=1,\"0\",VLOOKUP(B1839,coefficient2!$A$4:$B$7,2,FALSE))","v":8.6562899999999998E-2},{"$f":"IF(C1839=1,\"0\",VLOOKUP(C1839,coefficient2!$A$10:$B$13,2,FALSE))","v":0.2498763},{"$f":"IF(D1839=1,\"0\",VLOOKUP(D1839,coefficient2!$A$16:$B$19,2,FALSE))","v":0.1534855},{"$f":"IF(E1839=1,\"0\",VLOOKUP(E1839,coefficient2!$A$22:$B$25,2,FALSE))","v":6.6492200000000001E-2},{"$f":"IF(F1839=1,\"0\",VLOOKUP(F1839,coefficient2!$A$28:$B$31,2,FALSE))","v":9.5753900000000003E-2},0.34782920000000001]
[35434,3,5,4,3,4,19,{"$f":"IF(B1840=1,\"0\",VLOOKUP(B1840,coefficient2!$A$4:$B$7,2,FALSE))","v":8.6562899999999998E-2},{"$f":"IF(C1840=1,\"0\",VLOOKUP(C1840,coefficient2!$A$10:$B$13,2,FALSE))","v":0.2498763},{"$f":"IF(D1840=1,\"0\",VLOOKUP(D1840,coefficient2!$A$16:$B$19,2,FALSE))","v":0.1534855},{"$f":"IF(E1840=1,\"0\",VLOOKUP(E1840,coefficient2!$A$22:$B$25,2,FALSE))","v":6.6492200000000001E-2},{"$f":"IF(F1840=1,\"0\",VLOOKUP(F1840,coefficient2!$A$28:$B$31,2,FALSE))","v":0.23270360000000001},0.2108795]
[35435,3,5,4,3,5,20,{"$f":"IF(B1841=1,\"0\",VLOOKUP(B1841,coefficient2!$A$4:$B$7,2,FALSE))","v":8.6562899999999998E-2},{"$f":"IF(C1841=1,\"0\",VLOOKUP(C1841,coefficient2!$A$10:$B$13,2,FALSE))","v":0.2498763},{"$f":"IF(D1841=1,\"0\",VLOOKUP(D1841,coefficient2!$A$16:$B$19,2,FALSE))","v":0.1534855},{"$f":"IF(E1841=1,\"0\",VLOOKUP(E1841,coefficient2!$A$22:$B$25,2,FALSE))","v":6.6492200000000001E-2},{"$f":"IF(F1841=1,\"0\",VLOOKUP(F1841,coefficient2!$A$28:$B$31,2,FALSE))","v":0.29534929999999998},0.14823380000000003]
[35441,3,5,4,4,1,17,{"$f":"IF(B1842=1,\"0\",VLOOKUP(B1842,coefficient2!$A$4:$B$7,2,FALSE))","v":8.6562899999999998E-2},{"$f":"IF(C1842=1,\"0\",VLOOKUP(C1842,coefficient2!$A$10:$B$13,2,FALSE))","v":0.2498763},{"$f":"IF(D1842=1,\"0\",VLOOKUP(D1842,coefficient2!$A$16:$B$19,2,FALSE))","v":0.1534855},{"$f":"IF(E1842=1,\"0\",VLOOKUP(E1842,coefficient2!$A$22:$B$25,2,FALSE))","v":0.2068864},{"$f":"IF(F1842=1,\"0\",VLOOKUP(F1842,coefficient2!$A$28:$B$31,2,FALSE))","v":"0"},0.30318889999999998]
[35442,3,5,4,4,2,18,{"$f":"IF(B1843=1,\"0\",VLOOKUP(B1843,coefficient2!$A$4:$B$7,2,FALSE))","v":8.6562899999999998E-2},{"$f":"IF(C1843=1,\"0\",VLOOKUP(C1843,coefficient2!$A$10:$B$13,2,FALSE))","v":0.2498763},{"$f":"IF(D1843=1,\"0\",VLOOKUP(D1843,coefficient2!$A$16:$B$19,2,FALSE))","v":0.1534855},{"$f":"IF(E1843=1,\"0\",VLOOKUP(E1843,coefficient2!$A$22:$B$25,2,FALSE))","v":0.2068864},{"$f":"IF(F1843=1,\"0\",VLOOKUP(F1843,coefficient2!$A$28:$B$31,2,FALSE))","v":5.8085699999999997E-2},0.24510319999999999]
[35443,3,5,4,4,3,19,{"$f":"IF(B1844=1,\"0\",VLOOKUP(B1844,coefficient2!$A$4:$B$7,2,FALSE))","v":8.6562899999999998E-2},{"$f":"IF(C1844=1,\"0\",VLOOKUP(C1844,coefficient2!$A$10:$B$13,2,FALSE))","v":0.2498763},{"$f":"IF(D1844=1,\"0\",VLOOKUP(D1844,coefficient2!$A$16:$B$19,2,FALSE))","v":0.1534855},{"$f":"IF(E1844=1,\"0\",VLOOKUP(E1844,coefficient2!$A$22:$B$25,2,FALSE))","v":0.2068864},{"$f":"IF(F1844=1,\"0\",VLOOKUP(F1844,coefficient2!$A$28:$B$31,2,FALSE))","v":9.5753900000000003E-2},0.20743499999999998]
[35444,3,5,4,4,4,20,{"$f":"IF(B1845=1,\"0\",VLOOKUP(B1845,coefficient2!$A$4:$B$7,2,FALSE))","v":8.6562899999999998E-2},{"$f":"IF(C1845=1,\"0\",VLOOKUP(C1845,coefficient2!$A$10:$B$13,2,FALSE))","v":0.2498763},{"$f":"IF(D1845=1,\"0\",VLOOKUP(D1845,coefficient2!$A$16:$B$19,2,FALSE))","v":0.1534855},{"$f":"IF(E1845=1,\"0\",VLOOKUP(E1845,coefficient2!$A$22:$B$25,2,FALSE))","v":0.2068864},{"$f":"IF(F1845=1,\"0\",VLOOKUP(F1845,coefficient2!$A$28:$B$31,2,FALSE))","v":0.23270360000000001},7.0485299999999973E-2]
[35445,3,5,4,4,5,21,{"$f":"IF(B1846=1,\"0\",VLOOKUP(B1846,coefficient2!$A$4:$B$7,2,FALSE))","v":8.6562899999999998E-2},{"$f":"IF(C1846=1,\"0\",VLOOKUP(C1846,coefficient2!$A$10:$B$13,2,FALSE))","v":0.2498763},{"$f":"IF(D1846=1,\"0\",VLOOKUP(D1846,coefficient2!$A$16:$B$19,2,FALSE))","v":0.1534855},{"$f":"IF(E1846=1,\"0\",VLOOKUP(E1846,coefficient2!$A$22:$B$25,2,FALSE))","v":0.2068864},{"$f":"IF(F1846=1,\"0\",VLOOKUP(F1846,coefficient2!$A$28:$B$31,2,FALSE))","v":0.29534929999999998},7.8396000000000021E-3]
[35451,3,5,4,5,1,18,{"$f":"IF(B1847=1,\"0\",VLOOKUP(B1847,coefficient2!$A$4:$B$7,2,FALSE))","v":8.6562899999999998E-2},{"$f":"IF(C1847=1,\"0\",VLOOKUP(C1847,coefficient2!$A$10:$B$13,2,FALSE))","v":0.2498763},{"$f":"IF(D1847=1,\"0\",VLOOKUP(D1847,coefficient2!$A$16:$B$19,2,FALSE))","v":0.1534855},{"$f":"IF(E1847=1,\"0\",VLOOKUP(E1847,coefficient2!$A$22:$B$25,2,FALSE))","v":0.25643310000000002},{"$f":"IF(F1847=1,\"0\",VLOOKUP(F1847,coefficient2!$A$28:$B$31,2,FALSE))","v":"0"},0.25364219999999998]
[35452,3,5,4,5,2,19,{"$f":"IF(B1848=1,\"0\",VLOOKUP(B1848,coefficient2!$A$4:$B$7,2,FALSE))","v":8.6562899999999998E-2},{"$f":"IF(C1848=1,\"0\",VLOOKUP(C1848,coefficient2!$A$10:$B$13,2,FALSE))","v":0.2498763},{"$f":"IF(D1848=1,\"0\",VLOOKUP(D1848,coefficient2!$A$16:$B$19,2,FALSE))","v":0.1534855},{"$f":"IF(E1848=1,\"0\",VLOOKUP(E1848,coefficient2!$A$22:$B$25,2,FALSE))","v":0.25643310000000002},{"$f":"IF(F1848=1,\"0\",VLOOKUP(F1848,coefficient2!$A$28:$B$31,2,FALSE))","v":5.8085699999999997E-2},0.19555649999999999]
[35453,3,5,4,5,3,20,{"$f":"IF(B1849=1,\"0\",VLOOKUP(B1849,coefficient2!$A$4:$B$7,2,FALSE))","v":8.6562899999999998E-2},{"$f":"IF(C1849=1,\"0\",VLOOKUP(C1849,coefficient2!$A$10:$B$13,2,FALSE))","v":0.2498763},{"$f":"IF(D1849=1,\"0\",VLOOKUP(D1849,coefficient2!$A$16:$B$19,2,FALSE))","v":0.1534855},{"$f":"IF(E1849=1,\"0\",VLOOKUP(E1849,coefficient2!$A$22:$B$25,2,FALSE))","v":0.25643310000000002},{"$f":"IF(F1849=1,\"0\",VLOOKUP(F1849,coefficient2!$A$28:$B$31,2,FALSE))","v":9.5753900000000003E-2},0.15788829999999998]
[35454,3,5,4,5,4,21,{"$f":"IF(B1850=1,\"0\",VLOOKUP(B1850,coefficient2!$A$4:$B$7,2,FALSE))","v":8.6562899999999998E-2},{"$f":"IF(C1850=1,\"0\",VLOOKUP(C1850,coefficient2!$A$10:$B$13,2,FALSE))","v":0.2498763},{"$f":"IF(D1850=1,\"0\",VLOOKUP(D1850,coefficient2!$A$16:$B$19,2,FALSE))","v":0.1534855},{"$f":"IF(E1850=1,\"0\",VLOOKUP(E1850,coefficient2!$A$22:$B$25,2,FALSE))","v":0.25643310000000002},{"$f":"IF(F1850=1,\"0\",VLOOKUP(F1850,coefficient2!$A$28:$B$31,2,FALSE))","v":0.23270360000000001},2.0938599999999974E-2]
[35455,3,5,4,5,5,22,{"$f":"IF(B1851=1,\"0\",VLOOKUP(B1851,coefficient2!$A$4:$B$7,2,FALSE))","v":8.6562899999999998E-2},{"$f":"IF(C1851=1,\"0\",VLOOKUP(C1851,coefficient2!$A$10:$B$13,2,FALSE))","v":0.2498763},{"$f":"IF(D1851=1,\"0\",VLOOKUP(D1851,coefficient2!$A$16:$B$19,2,FALSE))","v":0.1534855},{"$f":"IF(E1851=1,\"0\",VLOOKUP(E1851,coefficient2!$A$22:$B$25,2,FALSE))","v":0.25643310000000002},{"$f":"IF(F1851=1,\"0\",VLOOKUP(F1851,coefficient2!$A$28:$B$31,2,FALSE))","v":0.29534929999999998},-4.1707099999999997E-2]
[35511,3,5,5,1,1,15,{"$f":"IF(B1852=1,\"0\",VLOOKUP(B1852,coefficient2!$A$4:$B$7,2,FALSE))","v":8.6562899999999998E-2},{"$f":"IF(C1852=1,\"0\",VLOOKUP(C1852,coefficient2!$A$10:$B$13,2,FALSE))","v":0.2498763},{"$f":"IF(D1852=1,\"0\",VLOOKUP(D1852,coefficient2!$A$16:$B$19,2,FALSE))","v":0.248331},{"$f":"IF(E1852=1,\"0\",VLOOKUP(E1852,coefficient2!$A$22:$B$25,2,FALSE))","v":"0"},{"$f":"IF(F1852=1,\"0\",VLOOKUP(F1852,coefficient2!$A$28:$B$31,2,FALSE))","v":"0"},0.41522979999999998]
[35512,3,5,5,1,2,16,{"$f":"IF(B1853=1,\"0\",VLOOKUP(B1853,coefficient2!$A$4:$B$7,2,FALSE))","v":8.6562899999999998E-2},{"$f":"IF(C1853=1,\"0\",VLOOKUP(C1853,coefficient2!$A$10:$B$13,2,FALSE))","v":0.2498763},{"$f":"IF(D1853=1,\"0\",VLOOKUP(D1853,coefficient2!$A$16:$B$19,2,FALSE))","v":0.248331},{"$f":"IF(E1853=1,\"0\",VLOOKUP(E1853,coefficient2!$A$22:$B$25,2,FALSE))","v":"0"},{"$f":"IF(F1853=1,\"0\",VLOOKUP(F1853,coefficient2!$A$28:$B$31,2,FALSE))","v":5.8085699999999997E-2},0.35714409999999996]
[35513,3,5,5,1,3,17,{"$f":"IF(B1854=1,\"0\",VLOOKUP(B1854,coefficient2!$A$4:$B$7,2,FALSE))","v":8.6562899999999998E-2},{"$f":"IF(C1854=1,\"0\",VLOOKUP(C1854,coefficient2!$A$10:$B$13,2,FALSE))","v":0.2498763},{"$f":"IF(D1854=1,\"0\",VLOOKUP(D1854,coefficient2!$A$16:$B$19,2,FALSE))","v":0.248331},{"$f":"IF(E1854=1,\"0\",VLOOKUP(E1854,coefficient2!$A$22:$B$25,2,FALSE))","v":"0"},{"$f":"IF(F1854=1,\"0\",VLOOKUP(F1854,coefficient2!$A$28:$B$31,2,FALSE))","v":9.5753900000000003E-2},0.31947589999999998]
[35514,3,5,5,1,4,18,{"$f":"IF(B1855=1,\"0\",VLOOKUP(B1855,coefficient2!$A$4:$B$7,2,FALSE))","v":8.6562899999999998E-2},{"$f":"IF(C1855=1,\"0\",VLOOKUP(C1855,coefficient2!$A$10:$B$13,2,FALSE))","v":0.2498763},{"$f":"IF(D1855=1,\"0\",VLOOKUP(D1855,coefficient2!$A$16:$B$19,2,FALSE))","v":0.248331},{"$f":"IF(E1855=1,\"0\",VLOOKUP(E1855,coefficient2!$A$22:$B$25,2,FALSE))","v":"0"},{"$f":"IF(F1855=1,\"0\",VLOOKUP(F1855,coefficient2!$A$28:$B$31,2,FALSE))","v":0.23270360000000001},0.18252619999999997]
[35515,3,5,5,1,5,19,{"$f":"IF(B1856=1,\"0\",VLOOKUP(B1856,coefficient2!$A$4:$B$7,2,FALSE))","v":8.6562899999999998E-2},{"$f":"IF(C1856=1,\"0\",VLOOKUP(C1856,coefficient2!$A$10:$B$13,2,FALSE))","v":0.2498763},{"$f":"IF(D1856=1,\"0\",VLOOKUP(D1856,coefficient2!$A$16:$B$19,2,FALSE))","v":0.248331},{"$f":"IF(E1856=1,\"0\",VLOOKUP(E1856,coefficient2!$A$22:$B$25,2,FALSE))","v":"0"},{"$f":"IF(F1856=1,\"0\",VLOOKUP(F1856,coefficient2!$A$28:$B$31,2,FALSE))","v":0.29534929999999998},0.1198805]
[35521,3,5,5,2,1,16,{"$f":"IF(B1857=1,\"0\",VLOOKUP(B1857,coefficient2!$A$4:$B$7,2,FALSE))","v":8.6562899999999998E-2},{"$f":"IF(C1857=1,\"0\",VLOOKUP(C1857,coefficient2!$A$10:$B$13,2,FALSE))","v":0.2498763},{"$f":"IF(D1857=1,\"0\",VLOOKUP(D1857,coefficient2!$A$16:$B$19,2,FALSE))","v":0.248331},{"$f":"IF(E1857=1,\"0\",VLOOKUP(E1857,coefficient2!$A$22:$B$25,2,FALSE))","v":5.63998E-2},{"$f":"IF(F1857=1,\"0\",VLOOKUP(F1857,coefficient2!$A$28:$B$31,2,FALSE))","v":"0"},0.35882999999999998]
[35522,3,5,5,2,2,17,{"$f":"IF(B1858=1,\"0\",VLOOKUP(B1858,coefficient2!$A$4:$B$7,2,FALSE))","v":8.6562899999999998E-2},{"$f":"IF(C1858=1,\"0\",VLOOKUP(C1858,coefficient2!$A$10:$B$13,2,FALSE))","v":0.2498763},{"$f":"IF(D1858=1,\"0\",VLOOKUP(D1858,coefficient2!$A$16:$B$19,2,FALSE))","v":0.248331},{"$f":"IF(E1858=1,\"0\",VLOOKUP(E1858,coefficient2!$A$22:$B$25,2,FALSE))","v":5.63998E-2},{"$f":"IF(F1858=1,\"0\",VLOOKUP(F1858,coefficient2!$A$28:$B$31,2,FALSE))","v":5.8085699999999997E-2},{"$f":"1-H1858-I1858-J1858-K1858-L1858","v":0.30074429999999996}]
[35523,{"$f":"INT(LEFT(A1859,1))","v":3},{"$f":"INT(MID(A1859,2,1))","v":5},{"$f":"INT(MID(A1859,3,1))","v":5},{"$f":"INT(MID(A1859,4,1))","v":2},{"$f":"INT(RIGHT(A1859,1))","v":3},{"$f":"SUM(B1859:F1859)","v":18},{"$f":"IF(B1859=1,\"0\",VLOOKUP(B1859,coefficient2!$A$4:$B$7,2,FALSE))","v":8.6562899999999998E-2},{"$f":"IF(C1859=1,\"0\",VLOOKUP(C1859,coefficient2!$A$10:$B$13,2,FALSE))","v":0.2498763},{"$f":"IF(D1859=1,\"0\",VLOOKUP(D1859,coefficient2!$A$16:$B$19,2,FALSE))","v":0.248331},{"$f":"IF(E1859=1,\"0\",VLOOKUP(E1859,coefficient2!$A$22:$B$25,2,FALSE))","v":5.63998E-2},{"$f":"IF(F1859=1,\"0\",VLOOKUP(F1859,coefficient2!$A$28:$B$31,2,FALSE))","v":9.5753900000000003E-2},0.26307609999999998]
[35524,3,5,5,2,4,19,{"$f":"IF(B1860=1,\"0\",VLOOKUP(B1860,coefficient2!$A$4:$B$7,2,FALSE))","v":8.6562899999999998E-2},{"$f":"IF(C1860=1,\"0\",VLOOKUP(C1860,coefficient2!$A$10:$B$13,2,FALSE))","v":0.2498763},{"$f":"IF(D1860=1,\"0\",VLOOKUP(D1860,coefficient2!$A$16:$B$19,2,FALSE))","v":0.248331},{"$f":"IF(E1860=1,\"0\",VLOOKUP(E1860,coefficient2!$A$22:$B$25,2,FALSE))","v":5.63998E-2},{"$f":"IF(F1860=1,\"0\",VLOOKUP(F1860,coefficient2!$A$28:$B$31,2,FALSE))","v":0.23270360000000001},0.12612639999999997]
[35525,3,5,5,2,5,20,{"$f":"IF(B1861=1,\"0\",VLOOKUP(B1861,coefficient2!$A$4:$B$7,2,FALSE))","v":8.6562899999999998E-2},{"$f":"IF(C1861=1,\"0\",VLOOKUP(C1861,coefficient2!$A$10:$B$13,2,FALSE))","v":0.2498763},{"$f":"IF(D1861=1,\"0\",VLOOKUP(D1861,coefficient2!$A$16:$B$19,2,FALSE))","v":0.248331},{"$f":"IF(E1861=1,\"0\",VLOOKUP(E1861,coefficient2!$A$22:$B$25,2,FALSE))","v":5.63998E-2},{"$f":"IF(F1861=1,\"0\",VLOOKUP(F1861,coefficient2!$A$28:$B$31,2,FALSE))","v":0.29534929999999998},6.3480700000000001E-2]
[35531,3,5,5,3,1,17,{"$f":"IF(B1862=1,\"0\",VLOOKUP(B1862,coefficient2!$A$4:$B$7,2,FALSE))","v":8.6562899999999998E-2},{"$f":"IF(C1862=1,\"0\",VLOOKUP(C1862,coefficient2!$A$10:$B$13,2,FALSE))","v":0.2498763},{"$f":"IF(D1862=1,\"0\",VLOOKUP(D1862,coefficient2!$A$16:$B$19,2,FALSE))","v":0.248331},{"$f":"IF(E1862=1,\"0\",VLOOKUP(E1862,coefficient2!$A$22:$B$25,2,FALSE))","v":6.6492200000000001E-2},{"$f":"IF(F1862=1,\"0\",VLOOKUP(F1862,coefficient2!$A$28:$B$31,2,FALSE))","v":"0"},0.34873759999999998]
[35532,3,5,5,3,2,18,{"$f":"IF(B1863=1,\"0\",VLOOKUP(B1863,coefficient2!$A$4:$B$7,2,FALSE))","v":8.6562899999999998E-2},{"$f":"IF(C1863=1,\"0\",VLOOKUP(C1863,coefficient2!$A$10:$B$13,2,FALSE))","v":0.2498763},{"$f":"IF(D1863=1,\"0\",VLOOKUP(D1863,coefficient2!$A$16:$B$19,2,FALSE))","v":0.248331},{"$f":"IF(E1863=1,\"0\",VLOOKUP(E1863,coefficient2!$A$22:$B$25,2,FALSE))","v":6.6492200000000001E-2},{"$f":"IF(F1863=1,\"0\",VLOOKUP(F1863,coefficient2!$A$28:$B$31,2,FALSE))","v":5.8085699999999997E-2},0.29065189999999996]
[35533,3,5,5,3,3,19,{"$f":"IF(B1864=1,\"0\",VLOOKUP(B1864,coefficient2!$A$4:$B$7,2,FALSE))","v":8.6562899999999998E-2},{"$f":"IF(C1864=1,\"0\",VLOOKUP(C1864,coefficient2!$A$10:$B$13,2,FALSE))","v":0.2498763},{"$f":"IF(D1864=1,\"0\",VLOOKUP(D1864,coefficient2!$A$16:$B$19,2,FALSE))","v":0.248331},{"$f":"IF(E1864=1,\"0\",VLOOKUP(E1864,coefficient2!$A$22:$B$25,2,FALSE))","v":6.6492200000000001E-2},{"$f":"IF(F1864=1,\"0\",VLOOKUP(F1864,coefficient2!$A$28:$B$31,2,FALSE))","v":9.5753900000000003E-2},0.25298369999999998]
[35534,3,5,5,3,4,20,{"$f":"IF(B1865=1,\"0\",VLOOKUP(B1865,coefficient2!$A$4:$B$7,2,FALSE))","v":8.6562899999999998E-2},{"$f":"IF(C1865=1,\"0\",VLOOKUP(C1865,coefficient2!$A$10:$B$13,2,FALSE))","v":0.2498763},{"$f":"IF(D1865=1,\"0\",VLOOKUP(D1865,coefficient2!$A$16:$B$19,2,FALSE))","v":0.248331},{"$f":"IF(E1865=1,\"0\",VLOOKUP(E1865,coefficient2!$A$22:$B$25,2,FALSE))","v":6.6492200000000001E-2},{"$f":"IF(F1865=1,\"0\",VLOOKUP(F1865,coefficient2!$A$28:$B$31,2,FALSE))","v":0.23270360000000001},0.11603399999999997]
[35535,3,5,5,3,5,21,{"$f":"IF(B1866=1,\"0\",VLOOKUP(B1866,coefficient2!$A$4:$B$7,2,FALSE))","v":8.6562899999999998E-2},{"$f":"IF(C1866=1,\"0\",VLOOKUP(C1866,coefficient2!$A$10:$B$13,2,FALSE))","v":0.2498763},{"$f":"IF(D1866=1,\"0\",VLOOKUP(D1866,coefficient2!$A$16:$B$19,2,FALSE))","v":0.248331},{"$f":"IF(E1866=1,\"0\",VLOOKUP(E1866,coefficient2!$A$22:$B$25,2,FALSE))","v":6.6492200000000001E-2},{"$f":"IF(F1866=1,\"0\",VLOOKUP(F1866,coefficient2!$A$28:$B$31,2,FALSE))","v":0.29534929999999998},5.33883E-2]
[35541,3,5,5,4,1,18,{"$f":"IF(B1867=1,\"0\",VLOOKUP(B1867,coefficient2!$A$4:$B$7,2,FALSE))","v":8.6562899999999998E-2},{"$f":"IF(C1867=1,\"0\",VLOOKUP(C1867,coefficient2!$A$10:$B$13,2,FALSE))","v":0.2498763},{"$f":"IF(D1867=1,\"0\",VLOOKUP(D1867,coefficient2!$A$16:$B$19,2,FALSE))","v":0.248331},{"$f":"IF(E1867=1,\"0\",VLOOKUP(E1867,coefficient2!$A$22:$B$25,2,FALSE))","v":0.2068864},{"$f":"IF(F1867=1,\"0\",VLOOKUP(F1867,coefficient2!$A$28:$B$31,2,FALSE))","v":"0"},0.20834339999999998]
[35542,3,5,5,4,2,19,{"$f":"IF(B1868=1,\"0\",VLOOKUP(B1868,coefficient2!$A$4:$B$7,2,FALSE))","v":8.6562899999999998E-2},{"$f":"IF(C1868=1,\"0\",VLOOKUP(C1868,coefficient2!$A$10:$B$13,2,FALSE))","v":0.2498763},{"$f":"IF(D1868=1,\"0\",VLOOKUP(D1868,coefficient2!$A$16:$B$19,2,FALSE))","v":0.248331},{"$f":"IF(E1868=1,\"0\",VLOOKUP(E1868,coefficient2!$A$22:$B$25,2,FALSE))","v":0.2068864},{"$f":"IF(F1868=1,\"0\",VLOOKUP(F1868,coefficient2!$A$28:$B$31,2,FALSE))","v":5.8085699999999997E-2},0.15025769999999999]
[35543,3,5,5,4,3,20,{"$f":"IF(B1869=1,\"0\",VLOOKUP(B1869,coefficient2!$A$4:$B$7,2,FALSE))","v":8.6562899999999998E-2},{"$f":"IF(C1869=1,\"0\",VLOOKUP(C1869,coefficient2!$A$10:$B$13,2,FALSE))","v":0.2498763},{"$f":"IF(D1869=1,\"0\",VLOOKUP(D1869,coefficient2!$A$16:$B$19,2,FALSE))","v":0.248331},{"$f":"IF(E1869=1,\"0\",VLOOKUP(E1869,coefficient2!$A$22:$B$25,2,FALSE))","v":0.2068864},{"$f":"IF(F1869=1,\"0\",VLOOKUP(F1869,coefficient2!$A$28:$B$31,2,FALSE))","v":9.5753900000000003E-2},0.11258949999999998]
[35544,3,5,5,4,4,21,{"$f":"IF(B1870=1,\"0\",VLOOKUP(B1870,coefficient2!$A$4:$B$7,2,FALSE))","v":8.6562899999999998E-2},{"$f":"IF(C1870=1,\"0\",VLOOKUP(C1870,coefficient2!$A$10:$B$13,2,FALSE))","v":0.2498763},{"$f":"IF(D1870=1,\"0\",VLOOKUP(D1870,coefficient2!$A$16:$B$19,2,FALSE))","v":0.248331},{"$f":"IF(E1870=1,\"0\",VLOOKUP(E1870,coefficient2!$A$22:$B$25,2,FALSE))","v":0.2068864},{"$f":"IF(F1870=1,\"0\",VLOOKUP(F1870,coefficient2!$A$28:$B$31,2,FALSE))","v":0.23270360000000001},-2.4360200000000026E-2]
[35545,3,5,5,4,5,22,{"$f":"IF(B1871=1,\"0\",VLOOKUP(B1871,coefficient2!$A$4:$B$7,2,FALSE))","v":8.6562899999999998E-2},{"$f":"IF(C1871=1,\"0\",VLOOKUP(C1871,coefficient2!$A$10:$B$13,2,FALSE))","v":0.2498763},{"$f":"IF(D1871=1,\"0\",VLOOKUP(D1871,coefficient2!$A$16:$B$19,2,FALSE))","v":0.248331},{"$f":"IF(E1871=1,\"0\",VLOOKUP(E1871,coefficient2!$A$22:$B$25,2,FALSE))","v":0.2068864},{"$f":"IF(F1871=1,\"0\",VLOOKUP(F1871,coefficient2!$A$28:$B$31,2,FALSE))","v":0.29534929999999998},-8.7005899999999997E-2]
[35551,3,5,5,5,1,19,{"$f":"IF(B1872=1,\"0\",VLOOKUP(B1872,coefficient2!$A$4:$B$7,2,FALSE))","v":8.6562899999999998E-2},{"$f":"IF(C1872=1,\"0\",VLOOKUP(C1872,coefficient2!$A$10:$B$13,2,FALSE))","v":0.2498763},{"$f":"IF(D1872=1,\"0\",VLOOKUP(D1872,coefficient2!$A$16:$B$19,2,FALSE))","v":0.248331},{"$f":"IF(E1872=1,\"0\",VLOOKUP(E1872,coefficient2!$A$22:$B$25,2,FALSE))","v":0.25643310000000002},{"$f":"IF(F1872=1,\"0\",VLOOKUP(F1872,coefficient2!$A$28:$B$31,2,FALSE))","v":"0"},0.15879669999999996]
[35552,3,5,5,5,2,20,{"$f":"IF(B1873=1,\"0\",VLOOKUP(B1873,coefficient2!$A$4:$B$7,2,FALSE))","v":8.6562899999999998E-2},{"$f":"IF(C1873=1,\"0\",VLOOKUP(C1873,coefficient2!$A$10:$B$13,2,FALSE))","v":0.2498763},{"$f":"IF(D1873=1,\"0\",VLOOKUP(D1873,coefficient2!$A$16:$B$19,2,FALSE))","v":0.248331},{"$f":"IF(E1873=1,\"0\",VLOOKUP(E1873,coefficient2!$A$22:$B$25,2,FALSE))","v":0.25643310000000002},{"$f":"IF(F1873=1,\"0\",VLOOKUP(F1873,coefficient2!$A$28:$B$31,2,FALSE))","v":5.8085699999999997E-2},0.10071099999999997]
[35553,3,5,5,5,3,21,{"$f":"IF(B1874=1,\"0\",VLOOKUP(B1874,coefficient2!$A$4:$B$7,2,FALSE))","v":8.6562899999999998E-2},{"$f":"IF(C1874=1,\"0\",VLOOKUP(C1874,coefficient2!$A$10:$B$13,2,FALSE))","v":0.2498763},{"$f":"IF(D1874=1,\"0\",VLOOKUP(D1874,coefficient2!$A$16:$B$19,2,FALSE))","v":0.248331},{"$f":"IF(E1874=1,\"0\",VLOOKUP(E1874,coefficient2!$A$22:$B$25,2,FALSE))","v":0.25643310000000002},{"$f":"IF(F1874=1,\"0\",VLOOKUP(F1874,coefficient2!$A$28:$B$31,2,FALSE))","v":9.5753900000000003E-2},6.3042799999999954E-2]
[35554,3,5,5,5,4,22,{"$f":"IF(B1875=1,\"0\",VLOOKUP(B1875,coefficient2!$A$4:$B$7,2,FALSE))","v":8.6562899999999998E-2},{"$f":"IF(C1875=1,\"0\",VLOOKUP(C1875,coefficient2!$A$10:$B$13,2,FALSE))","v":0.2498763},{"$f":"IF(D1875=1,\"0\",VLOOKUP(D1875,coefficient2!$A$16:$B$19,2,FALSE))","v":0.248331},{"$f":"IF(E1875=1,\"0\",VLOOKUP(E1875,coefficient2!$A$22:$B$25,2,FALSE))","v":0.25643310000000002},{"$f":"IF(F1875=1,\"0\",VLOOKUP(F1875,coefficient2!$A$28:$B$31,2,FALSE))","v":0.23270360000000001},-7.3906900000000053E-2]
[35555,3,5,5,5,5,23,{"$f":"IF(B1876=1,\"0\",VLOOKUP(B1876,coefficient2!$A$4:$B$7,2,FALSE))","v":8.6562899999999998E-2},{"$f":"IF(C1876=1,\"0\",VLOOKUP(C1876,coefficient2!$A$10:$B$13,2,FALSE))","v":0.2498763},{"$f":"IF(D1876=1,\"0\",VLOOKUP(D1876,coefficient2!$A$16:$B$19,2,FALSE))","v":0.248331},{"$f":"IF(E1876=1,\"0\",VLOOKUP(E1876,coefficient2!$A$22:$B$25,2,FALSE))","v":0.25643310000000002},{"$f":"IF(F1876=1,\"0\",VLOOKUP(F1876,coefficient2!$A$28:$B$31,2,FALSE))","v":0.29534929999999998},-0.13655260000000002]
[41111,4,1,1,1,1,{"$f":"SUM(B1877:F1877)","v":8},{"$f":"IF(B1877=1,\"0\",VLOOKUP(B1877,coefficient2!$A$4:$B$7,2,FALSE))","v":0.2109943},{"$f":"IF(C1877=1,\"0\",VLOOKUP(C1877,coefficient2!$A$10:$B$13,2,FALSE))","v":"0"},{"$f":"IF(D1877=1,\"0\",VLOOKUP(D1877,coefficient2!$A$16:$B$19,2,FALSE))","v":"0"},{"$f":"IF(E1877=1,\"0\",VLOOKUP(E1877,coefficient2!$A$22:$B$25,2,FALSE))","v":"0"},{"$f":"IF(F1877=1,\"0\",VLOOKUP(F1877,coefficient2!$A$28:$B$31,2,FALSE))","v":"0"},0.78900570000000003]
[41112,4,1,1,1,2,9,{"$f":"IF(B1878=1,\"0\",VLOOKUP(B1878,coefficient2!$A$4:$B$7,2,FALSE))","v":0.2109943},{"$f":"IF(C1878=1,\"0\",VLOOKUP(C1878,coefficient2!$A$10:$B$13,2,FALSE))","v":"0"},{"$f":"IF(D1878=1,\"0\",VLOOKUP(D1878,coefficient2!$A$16:$B$19,2,FALSE))","v":"0"},{"$f":"IF(E1878=1,\"0\",VLOOKUP(E1878,coefficient2!$A$22:$B$25,2,FALSE))","v":"0"},{"$f":"IF(F1878=1,\"0\",VLOOKUP(F1878,coefficient2!$A$28:$B$31,2,FALSE))","v":5.8085699999999997E-2},0.73092000000000001]
[41113,4,1,1,1,3,10,{"$f":"IF(B1879=1,\"0\",VLOOKUP(B1879,coefficient2!$A$4:$B$7,2,FALSE))","v":0.2109943},{"$f":"IF(C1879=1,\"0\",VLOOKUP(C1879,coefficient2!$A$10:$B$13,2,FALSE))","v":"0"},{"$f":"IF(D1879=1,\"0\",VLOOKUP(D1879,coefficient2!$A$16:$B$19,2,FALSE))","v":"0"},{"$f":"IF(E1879=1,\"0\",VLOOKUP(E1879,coefficient2!$A$22:$B$25,2,FALSE))","v":"0"},{"$f":"IF(F1879=1,\"0\",VLOOKUP(F1879,coefficient2!$A$28:$B$31,2,FALSE))","v":9.5753900000000003E-2},0.69325180000000008]
[41114,4,1,1,1,4,11,{"$f":"IF(B1880=1,\"0\",VLOOKUP(B1880,coefficient2!$A$4:$B$7,2,FALSE))","v":0.2109943},{"$f":"IF(C1880=1,\"0\",VLOOKUP(C1880,coefficient2!$A$10:$B$13,2,FALSE))","v":"0"},{"$f":"IF(D1880=1,\"0\",VLOOKUP(D1880,coefficient2!$A$16:$B$19,2,FALSE))","v":"0"},{"$f":"IF(E1880=1,\"0\",VLOOKUP(E1880,coefficient2!$A$22:$B$25,2,FALSE))","v":"0"},{"$f":"IF(F1880=1,\"0\",VLOOKUP(F1880,coefficient2!$A$28:$B$31,2,FALSE))","v":0.23270360000000001},0.55630210000000002]
[41115,4,1,1,1,5,12,{"$f":"IF(B1881=1,\"0\",VLOOKUP(B1881,coefficient2!$A$4:$B$7,2,FALSE))","v":0.2109943},{"$f":"IF(C1881=1,\"0\",VLOOKUP(C1881,coefficient2!$A$10:$B$13,2,FALSE))","v":"0"},{"$f":"IF(D1881=1,\"0\",VLOOKUP(D1881,coefficient2!$A$16:$B$19,2,FALSE))","v":"0"},{"$f":"IF(E1881=1,\"0\",VLOOKUP(E1881,coefficient2!$A$22:$B$25,2,FALSE))","v":"0"},{"$f":"IF(F1881=1,\"0\",VLOOKUP(F1881,coefficient2!$A$28:$B$31,2,FALSE))","v":0.29534929999999998},0.49365640000000005]
[41121,4,1,1,2,1,9,{"$f":"IF(B1882=1,\"0\",VLOOKUP(B1882,coefficient2!$A$4:$B$7,2,FALSE))","v":0.2109943},{"$f":"IF(C1882=1,\"0\",VLOOKUP(C1882,coefficient2!$A$10:$B$13,2,FALSE))","v":"0"},{"$f":"IF(D1882=1,\"0\",VLOOKUP(D1882,coefficient2!$A$16:$B$19,2,FALSE))","v":"0"},{"$f":"IF(E1882=1,\"0\",VLOOKUP(E1882,coefficient2!$A$22:$B$25,2,FALSE))","v":5.63998E-2},{"$f":"IF(F1882=1,\"0\",VLOOKUP(F1882,coefficient2!$A$28:$B$31,2,FALSE))","v":"0"},0.73260590000000003]
[41122,4,1,1,2,2,10,{"$f":"IF(B1883=1,\"0\",VLOOKUP(B1883,coefficient2!$A$4:$B$7,2,FALSE))","v":0.2109943},{"$f":"IF(C1883=1,\"0\",VLOOKUP(C1883,coefficient2!$A$10:$B$13,2,FALSE))","v":"0"},{"$f":"IF(D1883=1,\"0\",VLOOKUP(D1883,coefficient2!$A$16:$B$19,2,FALSE))","v":"0"},{"$f":"IF(E1883=1,\"0\",VLOOKUP(E1883,coefficient2!$A$22:$B$25,2,FALSE))","v":5.63998E-2},{"$f":"IF(F1883=1,\"0\",VLOOKUP(F1883,coefficient2!$A$28:$B$31,2,FALSE))","v":5.8085699999999997E-2},0.67452020000000001]
[41123,4,1,1,2,3,11,{"$f":"IF(B1884=1,\"0\",VLOOKUP(B1884,coefficient2!$A$4:$B$7,2,FALSE))","v":0.2109943},{"$f":"IF(C1884=1,\"0\",VLOOKUP(C1884,coefficient2!$A$10:$B$13,2,FALSE))","v":"0"},{"$f":"IF(D1884=1,\"0\",VLOOKUP(D1884,coefficient2!$A$16:$B$19,2,FALSE))","v":"0"},{"$f":"IF(E1884=1,\"0\",VLOOKUP(E1884,coefficient2!$A$22:$B$25,2,FALSE))","v":5.63998E-2},{"$f":"IF(F1884=1,\"0\",VLOOKUP(F1884,coefficient2!$A$28:$B$31,2,FALSE))","v":9.5753900000000003E-2},0.63685199999999997]
[41124,4,1,1,2,4,12,{"$f":"IF(B1885=1,\"0\",VLOOKUP(B1885,coefficient2!$A$4:$B$7,2,FALSE))","v":0.2109943},{"$f":"IF(C1885=1,\"0\",VLOOKUP(C1885,coefficient2!$A$10:$B$13,2,FALSE))","v":"0"},{"$f":"IF(D1885=1,\"0\",VLOOKUP(D1885,coefficient2!$A$16:$B$19,2,FALSE))","v":"0"},{"$f":"IF(E1885=1,\"0\",VLOOKUP(E1885,coefficient2!$A$22:$B$25,2,FALSE))","v":5.63998E-2},{"$f":"IF(F1885=1,\"0\",VLOOKUP(F1885,coefficient2!$A$28:$B$31,2,FALSE))","v":0.23270360000000001},0.49990230000000002]
[41125,4,1,1,2,5,13,{"$f":"IF(B1886=1,\"0\",VLOOKUP(B1886,coefficient2!$A$4:$B$7,2,FALSE))","v":0.2109943},{"$f":"IF(C1886=1,\"0\",VLOOKUP(C1886,coefficient2!$A$10:$B$13,2,FALSE))","v":"0"},{"$f":"IF(D1886=1,\"0\",VLOOKUP(D1886,coefficient2!$A$16:$B$19,2,FALSE))","v":"0"},{"$f":"IF(E1886=1,\"0\",VLOOKUP(E1886,coefficient2!$A$22:$B$25,2,FALSE))","v":5.63998E-2},{"$f":"IF(F1886=1,\"0\",VLOOKUP(F1886,coefficient2!$A$28:$B$31,2,FALSE))","v":0.29534929999999998},0.43725660000000005]
[41131,4,1,1,3,1,10,{"$f":"IF(B1887=1,\"0\",VLOOKUP(B1887,coefficient2!$A$4:$B$7,2,FALSE))","v":0.2109943},{"$f":"IF(C1887=1,\"0\",VLOOKUP(C1887,coefficient2!$A$10:$B$13,2,FALSE))","v":"0"},{"$f":"IF(D1887=1,\"0\",VLOOKUP(D1887,coefficient2!$A$16:$B$19,2,FALSE))","v":"0"},{"$f":"IF(E1887=1,\"0\",VLOOKUP(E1887,coefficient2!$A$22:$B$25,2,FALSE))","v":6.6492200000000001E-2},{"$f":"IF(F1887=1,\"0\",VLOOKUP(F1887,coefficient2!$A$28:$B$31,2,FALSE))","v":"0"},0.72251350000000003]
[41132,4,1,1,3,2,11,{"$f":"IF(B1888=1,\"0\",VLOOKUP(B1888,coefficient2!$A$4:$B$7,2,FALSE))","v":0.2109943},{"$f":"IF(C1888=1,\"0\",VLOOKUP(C1888,coefficient2!$A$10:$B$13,2,FALSE))","v":"0"},{"$f":"IF(D1888=1,\"0\",VLOOKUP(D1888,coefficient2!$A$16:$B$19,2,FALSE))","v":"0"},{"$f":"IF(E1888=1,\"0\",VLOOKUP(E1888,coefficient2!$A$22:$B$25,2,FALSE))","v":6.6492200000000001E-2},{"$f":"IF(F1888=1,\"0\",VLOOKUP(F1888,coefficient2!$A$28:$B$31,2,FALSE))","v":5.8085699999999997E-2},0.66442780000000001]
[41133,4,1,1,3,3,12,{"$f":"IF(B1889=1,\"0\",VLOOKUP(B1889,coefficient2!$A$4:$B$7,2,FALSE))","v":0.2109943},{"$f":"IF(C1889=1,\"0\",VLOOKUP(C1889,coefficient2!$A$10:$B$13,2,FALSE))","v":"0"},{"$f":"IF(D1889=1,\"0\",VLOOKUP(D1889,coefficient2!$A$16:$B$19,2,FALSE))","v":"0"},{"$f":"IF(E1889=1,\"0\",VLOOKUP(E1889,coefficient2!$A$22:$B$25,2,FALSE))","v":6.6492200000000001E-2},{"$f":"IF(F1889=1,\"0\",VLOOKUP(F1889,coefficient2!$A$28:$B$31,2,FALSE))","v":9.5753900000000003E-2},0.62675959999999997]
[41134,4,1,1,3,4,13,{"$f":"IF(B1890=1,\"0\",VLOOKUP(B1890,coefficient2!$A$4:$B$7,2,FALSE))","v":0.2109943},{"$f":"IF(C1890=1,\"0\",VLOOKUP(C1890,coefficient2!$A$10:$B$13,2,FALSE))","v":"0"},{"$f":"IF(D1890=1,\"0\",VLOOKUP(D1890,coefficient2!$A$16:$B$19,2,FALSE))","v":"0"},{"$f":"IF(E1890=1,\"0\",VLOOKUP(E1890,coefficient2!$A$22:$B$25,2,FALSE))","v":6.6492200000000001E-2},{"$f":"IF(F1890=1,\"0\",VLOOKUP(F1890,coefficient2!$A$28:$B$31,2,FALSE))","v":0.23270360000000001},0.48980990000000002]
[41135,4,1,1,3,5,14,{"$f":"IF(B1891=1,\"0\",VLOOKUP(B1891,coefficient2!$A$4:$B$7,2,FALSE))","v":0.2109943},{"$f":"IF(C1891=1,\"0\",VLOOKUP(C1891,coefficient2!$A$10:$B$13,2,FALSE))","v":"0"},{"$f":"IF(D1891=1,\"0\",VLOOKUP(D1891,coefficient2!$A$16:$B$19,2,FALSE))","v":"0"},{"$f":"IF(E1891=1,\"0\",VLOOKUP(E1891,coefficient2!$A$22:$B$25,2,FALSE))","v":6.6492200000000001E-2},{"$f":"IF(F1891=1,\"0\",VLOOKUP(F1891,coefficient2!$A$28:$B$31,2,FALSE))","v":0.29534929999999998},0.42716420000000005]
[41141,4,1,1,4,1,11,{"$f":"IF(B1892=1,\"0\",VLOOKUP(B1892,coefficient2!$A$4:$B$7,2,FALSE))","v":0.2109943},{"$f":"IF(C1892=1,\"0\",VLOOKUP(C1892,coefficient2!$A$10:$B$13,2,FALSE))","v":"0"},{"$f":"IF(D1892=1,\"0\",VLOOKUP(D1892,coefficient2!$A$16:$B$19,2,FALSE))","v":"0"},{"$f":"IF(E1892=1,\"0\",VLOOKUP(E1892,coefficient2!$A$22:$B$25,2,FALSE))","v":0.2068864},{"$f":"IF(F1892=1,\"0\",VLOOKUP(F1892,coefficient2!$A$28:$B$31,2,FALSE))","v":"0"},0.58211930000000001]
[41142,4,1,1,4,2,12,{"$f":"IF(B1893=1,\"0\",VLOOKUP(B1893,coefficient2!$A$4:$B$7,2,FALSE))","v":0.2109943},{"$f":"IF(C1893=1,\"0\",VLOOKUP(C1893,coefficient2!$A$10:$B$13,2,FALSE))","v":"0"},{"$f":"IF(D1893=1,\"0\",VLOOKUP(D1893,coefficient2!$A$16:$B$19,2,FALSE))","v":"0"},{"$f":"IF(E1893=1,\"0\",VLOOKUP(E1893,coefficient2!$A$22:$B$25,2,FALSE))","v":0.2068864},{"$f":"IF(F1893=1,\"0\",VLOOKUP(F1893,coefficient2!$A$28:$B$31,2,FALSE))","v":5.8085699999999997E-2},0.52403359999999999]
[41143,4,1,1,4,3,13,{"$f":"IF(B1894=1,\"0\",VLOOKUP(B1894,coefficient2!$A$4:$B$7,2,FALSE))","v":0.2109943},{"$f":"IF(C1894=1,\"0\",VLOOKUP(C1894,coefficient2!$A$10:$B$13,2,FALSE))","v":"0"},{"$f":"IF(D1894=1,\"0\",VLOOKUP(D1894,coefficient2!$A$16:$B$19,2,FALSE))","v":"0"},{"$f":"IF(E1894=1,\"0\",VLOOKUP(E1894,coefficient2!$A$22:$B$25,2,FALSE))","v":0.2068864},{"$f":"IF(F1894=1,\"0\",VLOOKUP(F1894,coefficient2!$A$28:$B$31,2,FALSE))","v":9.5753900000000003E-2},0.4863654]
[41144,4,1,1,4,4,14,{"$f":"IF(B1895=1,\"0\",VLOOKUP(B1895,coefficient2!$A$4:$B$7,2,FALSE))","v":0.2109943},{"$f":"IF(C1895=1,\"0\",VLOOKUP(C1895,coefficient2!$A$10:$B$13,2,FALSE))","v":"0"},{"$f":"IF(D1895=1,\"0\",VLOOKUP(D1895,coefficient2!$A$16:$B$19,2,FALSE))","v":"0"},{"$f":"IF(E1895=1,\"0\",VLOOKUP(E1895,coefficient2!$A$22:$B$25,2,FALSE))","v":0.2068864},{"$f":"IF(F1895=1,\"0\",VLOOKUP(F1895,coefficient2!$A$28:$B$31,2,FALSE))","v":0.23270360000000001},0.3494157]
[41145,4,1,1,4,5,15,{"$f":"IF(B1896=1,\"0\",VLOOKUP(B1896,coefficient2!$A$4:$B$7,2,FALSE))","v":0.2109943},{"$f":"IF(C1896=1,\"0\",VLOOKUP(C1896,coefficient2!$A$10:$B$13,2,FALSE))","v":"0"},{"$f":"IF(D1896=1,\"0\",VLOOKUP(D1896,coefficient2!$A$16:$B$19,2,FALSE))","v":"0"},{"$f":"IF(E1896=1,\"0\",VLOOKUP(E1896,coefficient2!$A$22:$B$25,2,FALSE))","v":0.2068864},{"$f":"IF(F1896=1,\"0\",VLOOKUP(F1896,coefficient2!$A$28:$B$31,2,FALSE))","v":0.29534929999999998},0.28677000000000002]
[41151,4,1,1,5,1,12,{"$f":"IF(B1897=1,\"0\",VLOOKUP(B1897,coefficient2!$A$4:$B$7,2,FALSE))","v":0.2109943},{"$f":"IF(C1897=1,\"0\",VLOOKUP(C1897,coefficient2!$A$10:$B$13,2,FALSE))","v":"0"},{"$f":"IF(D1897=1,\"0\",VLOOKUP(D1897,coefficient2!$A$16:$B$19,2,FALSE))","v":"0"},{"$f":"IF(E1897=1,\"0\",VLOOKUP(E1897,coefficient2!$A$22:$B$25,2,FALSE))","v":0.25643310000000002},{"$f":"IF(F1897=1,\"0\",VLOOKUP(F1897,coefficient2!$A$28:$B$31,2,FALSE))","v":"0"},0.53257259999999995]
[41152,4,1,1,5,2,13,{"$f":"IF(B1898=1,\"0\",VLOOKUP(B1898,coefficient2!$A$4:$B$7,2,FALSE))","v":0.2109943},{"$f":"IF(C1898=1,\"0\",VLOOKUP(C1898,coefficient2!$A$10:$B$13,2,FALSE))","v":"0"},{"$f":"IF(D1898=1,\"0\",VLOOKUP(D1898,coefficient2!$A$16:$B$19,2,FALSE))","v":"0"},{"$f":"IF(E1898=1,\"0\",VLOOKUP(E1898,coefficient2!$A$22:$B$25,2,FALSE))","v":0.25643310000000002},{"$f":"IF(F1898=1,\"0\",VLOOKUP(F1898,coefficient2!$A$28:$B$31,2,FALSE))","v":5.8085699999999997E-2},0.47448689999999993]
[41153,4,1,1,5,3,14,{"$f":"IF(B1899=1,\"0\",VLOOKUP(B1899,coefficient2!$A$4:$B$7,2,FALSE))","v":0.2109943},{"$f":"IF(C1899=1,\"0\",VLOOKUP(C1899,coefficient2!$A$10:$B$13,2,FALSE))","v":"0"},{"$f":"IF(D1899=1,\"0\",VLOOKUP(D1899,coefficient2!$A$16:$B$19,2,FALSE))","v":"0"},{"$f":"IF(E1899=1,\"0\",VLOOKUP(E1899,coefficient2!$A$22:$B$25,2,FALSE))","v":0.25643310000000002},{"$f":"IF(F1899=1,\"0\",VLOOKUP(F1899,coefficient2!$A$28:$B$31,2,FALSE))","v":9.5753900000000003E-2},0.43681869999999995]
[41154,4,1,1,5,4,15,{"$f":"IF(B1900=1,\"0\",VLOOKUP(B1900,coefficient2!$A$4:$B$7,2,FALSE))","v":0.2109943},{"$f":"IF(C1900=1,\"0\",VLOOKUP(C1900,coefficient2!$A$10:$B$13,2,FALSE))","v":"0"},{"$f":"IF(D1900=1,\"0\",VLOOKUP(D1900,coefficient2!$A$16:$B$19,2,FALSE))","v":"0"},{"$f":"IF(E1900=1,\"0\",VLOOKUP(E1900,coefficient2!$A$22:$B$25,2,FALSE))","v":0.25643310000000002},{"$f":"IF(F1900=1,\"0\",VLOOKUP(F1900,coefficient2!$A$28:$B$31,2,FALSE))","v":0.23270360000000001},0.29986899999999994]
[41155,4,1,1,5,5,16,{"$f":"IF(B1901=1,\"0\",VLOOKUP(B1901,coefficient2!$A$4:$B$7,2,FALSE))","v":0.2109943},{"$f":"IF(C1901=1,\"0\",VLOOKUP(C1901,coefficient2!$A$10:$B$13,2,FALSE))","v":"0"},{"$f":"IF(D1901=1,\"0\",VLOOKUP(D1901,coefficient2!$A$16:$B$19,2,FALSE))","v":"0"},{"$f":"IF(E1901=1,\"0\",VLOOKUP(E1901,coefficient2!$A$22:$B$25,2,FALSE))","v":0.25643310000000002},{"$f":"IF(F1901=1,\"0\",VLOOKUP(F1901,coefficient2!$A$28:$B$31,2,FALSE))","v":0.29534929999999998},0.23722329999999997]
[41211,4,1,2,1,1,9,{"$f":"IF(B1902=1,\"0\",VLOOKUP(B1902,coefficient2!$A$4:$B$7,2,FALSE))","v":0.2109943},{"$f":"IF(C1902=1,\"0\",VLOOKUP(C1902,coefficient2!$A$10:$B$13,2,FALSE))","v":"0"},{"$f":"IF(D1902=1,\"0\",VLOOKUP(D1902,coefficient2!$A$16:$B$19,2,FALSE))","v":5.8254399999999998E-2},{"$f":"IF(E1902=1,\"0\",VLOOKUP(E1902,coefficient2!$A$22:$B$25,2,FALSE))","v":"0"},{"$f":"IF(F1902=1,\"0\",VLOOKUP(F1902,coefficient2!$A$28:$B$31,2,FALSE))","v":"0"},0.73075129999999999]
[41212,4,1,2,1,2,10,{"$f":"IF(B1903=1,\"0\",VLOOKUP(B1903,coefficient2!$A$4:$B$7,2,FALSE))","v":0.2109943},{"$f":"IF(C1903=1,\"0\",VLOOKUP(C1903,coefficient2!$A$10:$B$13,2,FALSE))","v":"0"},{"$f":"IF(D1903=1,\"0\",VLOOKUP(D1903,coefficient2!$A$16:$B$19,2,FALSE))","v":5.8254399999999998E-2},{"$f":"IF(E1903=1,\"0\",VLOOKUP(E1903,coefficient2!$A$22:$B$25,2,FALSE))","v":"0"},{"$f":"IF(F1903=1,\"0\",VLOOKUP(F1903,coefficient2!$A$28:$B$31,2,FALSE))","v":5.8085699999999997E-2},0.67266559999999997]
[41213,4,1,2,1,3,11,{"$f":"IF(B1904=1,\"0\",VLOOKUP(B1904,coefficient2!$A$4:$B$7,2,FALSE))","v":0.2109943},{"$f":"IF(C1904=1,\"0\",VLOOKUP(C1904,coefficient2!$A$10:$B$13,2,FALSE))","v":"0"},{"$f":"IF(D1904=1,\"0\",VLOOKUP(D1904,coefficient2!$A$16:$B$19,2,FALSE))","v":5.8254399999999998E-2},{"$f":"IF(E1904=1,\"0\",VLOOKUP(E1904,coefficient2!$A$22:$B$25,2,FALSE))","v":"0"},{"$f":"IF(F1904=1,\"0\",VLOOKUP(F1904,coefficient2!$A$28:$B$31,2,FALSE))","v":9.5753900000000003E-2},0.63499740000000005]
[41214,4,1,2,1,4,12,{"$f":"IF(B1905=1,\"0\",VLOOKUP(B1905,coefficient2!$A$4:$B$7,2,FALSE))","v":0.2109943},{"$f":"IF(C1905=1,\"0\",VLOOKUP(C1905,coefficient2!$A$10:$B$13,2,FALSE))","v":"0"},{"$f":"IF(D1905=1,\"0\",VLOOKUP(D1905,coefficient2!$A$16:$B$19,2,FALSE))","v":5.8254399999999998E-2},{"$f":"IF(E1905=1,\"0\",VLOOKUP(E1905,coefficient2!$A$22:$B$25,2,FALSE))","v":"0"},{"$f":"IF(F1905=1,\"0\",VLOOKUP(F1905,coefficient2!$A$28:$B$31,2,FALSE))","v":0.23270360000000001},0.49804769999999998]
[41215,4,1,2,1,5,13,{"$f":"IF(B1906=1,\"0\",VLOOKUP(B1906,coefficient2!$A$4:$B$7,2,FALSE))","v":0.2109943},{"$f":"IF(C1906=1,\"0\",VLOOKUP(C1906,coefficient2!$A$10:$B$13,2,FALSE))","v":"0"},{"$f":"IF(D1906=1,\"0\",VLOOKUP(D1906,coefficient2!$A$16:$B$19,2,FALSE))","v":5.8254399999999998E-2},{"$f":"IF(E1906=1,\"0\",VLOOKUP(E1906,coefficient2!$A$22:$B$25,2,FALSE))","v":"0"},{"$f":"IF(F1906=1,\"0\",VLOOKUP(F1906,coefficient2!$A$28:$B$31,2,FALSE))","v":0.29534929999999998},0.43540200000000001]
[41221,4,1,2,2,1,10,{"$f":"IF(B1907=1,\"0\",VLOOKUP(B1907,coefficient2!$A$4:$B$7,2,FALSE))","v":0.2109943},{"$f":"IF(C1907=1,\"0\",VLOOKUP(C1907,coefficient2!$A$10:$B$13,2,FALSE))","v":"0"},{"$f":"IF(D1907=1,\"0\",VLOOKUP(D1907,coefficient2!$A$16:$B$19,2,FALSE))","v":5.8254399999999998E-2},{"$f":"IF(E1907=1,\"0\",VLOOKUP(E1907,coefficient2!$A$22:$B$25,2,FALSE))","v":5.63998E-2},{"$f":"IF(F1907=1,\"0\",VLOOKUP(F1907,coefficient2!$A$28:$B$31,2,FALSE))","v":"0"},0.67435149999999999]
[41222,4,1,2,2,2,11,{"$f":"IF(B1908=1,\"0\",VLOOKUP(B1908,coefficient2!$A$4:$B$7,2,FALSE))","v":0.2109943},{"$f":"IF(C1908=1,\"0\",VLOOKUP(C1908,coefficient2!$A$10:$B$13,2,FALSE))","v":"0"},{"$f":"IF(D1908=1,\"0\",VLOOKUP(D1908,coefficient2!$A$16:$B$19,2,FALSE))","v":5.8254399999999998E-2},{"$f":"IF(E1908=1,\"0\",VLOOKUP(E1908,coefficient2!$A$22:$B$25,2,FALSE))","v":5.63998E-2},{"$f":"IF(F1908=1,\"0\",VLOOKUP(F1908,coefficient2!$A$28:$B$31,2,FALSE))","v":5.8085699999999997E-2},0.61626579999999997]
[41223,4,1,2,2,3,12,{"$f":"IF(B1909=1,\"0\",VLOOKUP(B1909,coefficient2!$A$4:$B$7,2,FALSE))","v":0.2109943},{"$f":"IF(C1909=1,\"0\",VLOOKUP(C1909,coefficient2!$A$10:$B$13,2,FALSE))","v":"0"},{"$f":"IF(D1909=1,\"0\",VLOOKUP(D1909,coefficient2!$A$16:$B$19,2,FALSE))","v":5.8254399999999998E-2},{"$f":"IF(E1909=1,\"0\",VLOOKUP(E1909,coefficient2!$A$22:$B$25,2,FALSE))","v":5.63998E-2},{"$f":"IF(F1909=1,\"0\",VLOOKUP(F1909,coefficient2!$A$28:$B$31,2,FALSE))","v":9.5753900000000003E-2},0.57859759999999993]
[41224,4,1,2,2,4,13,{"$f":"IF(B1910=1,\"0\",VLOOKUP(B1910,coefficient2!$A$4:$B$7,2,FALSE))","v":0.2109943},{"$f":"IF(C1910=1,\"0\",VLOOKUP(C1910,coefficient2!$A$10:$B$13,2,FALSE))","v":"0"},{"$f":"IF(D1910=1,\"0\",VLOOKUP(D1910,coefficient2!$A$16:$B$19,2,FALSE))","v":5.8254399999999998E-2},{"$f":"IF(E1910=1,\"0\",VLOOKUP(E1910,coefficient2!$A$22:$B$25,2,FALSE))","v":5.63998E-2},{"$f":"IF(F1910=1,\"0\",VLOOKUP(F1910,coefficient2!$A$28:$B$31,2,FALSE))","v":0.23270360000000001},0.44164789999999998]
[41225,4,1,2,2,5,14,{"$f":"IF(B1911=1,\"0\",VLOOKUP(B1911,coefficient2!$A$4:$B$7,2,FALSE))","v":0.2109943},{"$f":"IF(C1911=1,\"0\",VLOOKUP(C1911,coefficient2!$A$10:$B$13,2,FALSE))","v":"0"},{"$f":"IF(D1911=1,\"0\",VLOOKUP(D1911,coefficient2!$A$16:$B$19,2,FALSE))","v":5.8254399999999998E-2},{"$f":"IF(E1911=1,\"0\",VLOOKUP(E1911,coefficient2!$A$22:$B$25,2,FALSE))","v":5.63998E-2},{"$f":"IF(F1911=1,\"0\",VLOOKUP(F1911,coefficient2!$A$28:$B$31,2,FALSE))","v":0.29534929999999998},0.37900220000000001]
[41231,4,1,2,3,1,11,{"$f":"IF(B1912=1,\"0\",VLOOKUP(B1912,coefficient2!$A$4:$B$7,2,FALSE))","v":0.2109943},{"$f":"IF(C1912=1,\"0\",VLOOKUP(C1912,coefficient2!$A$10:$B$13,2,FALSE))","v":"0"},{"$f":"IF(D1912=1,\"0\",VLOOKUP(D1912,coefficient2!$A$16:$B$19,2,FALSE))","v":5.8254399999999998E-2},{"$f":"IF(E1912=1,\"0\",VLOOKUP(E1912,coefficient2!$A$22:$B$25,2,FALSE))","v":6.6492200000000001E-2},{"$f":"IF(F1912=1,\"0\",VLOOKUP(F1912,coefficient2!$A$28:$B$31,2,FALSE))","v":"0"},0.66425909999999999]
[41232,4,1,2,3,2,12,{"$f":"IF(B1913=1,\"0\",VLOOKUP(B1913,coefficient2!$A$4:$B$7,2,FALSE))","v":0.2109943},{"$f":"IF(C1913=1,\"0\",VLOOKUP(C1913,coefficient2!$A$10:$B$13,2,FALSE))","v":"0"},{"$f":"IF(D1913=1,\"0\",VLOOKUP(D1913,coefficient2!$A$16:$B$19,2,FALSE))","v":5.8254399999999998E-2},{"$f":"IF(E1913=1,\"0\",VLOOKUP(E1913,coefficient2!$A$22:$B$25,2,FALSE))","v":6.6492200000000001E-2},{"$f":"IF(F1913=1,\"0\",VLOOKUP(F1913,coefficient2!$A$28:$B$31,2,FALSE))","v":5.8085699999999997E-2},0.60617339999999997]
[41233,4,1,2,3,3,13,{"$f":"IF(B1914=1,\"0\",VLOOKUP(B1914,coefficient2!$A$4:$B$7,2,FALSE))","v":0.2109943},{"$f":"IF(C1914=1,\"0\",VLOOKUP(C1914,coefficient2!$A$10:$B$13,2,FALSE))","v":"0"},{"$f":"IF(D1914=1,\"0\",VLOOKUP(D1914,coefficient2!$A$16:$B$19,2,FALSE))","v":5.8254399999999998E-2},{"$f":"IF(E1914=1,\"0\",VLOOKUP(E1914,coefficient2!$A$22:$B$25,2,FALSE))","v":6.6492200000000001E-2},{"$f":"IF(F1914=1,\"0\",VLOOKUP(F1914,coefficient2!$A$28:$B$31,2,FALSE))","v":9.5753900000000003E-2},0.56850519999999993]
[41234,4,1,2,3,4,14,{"$f":"IF(B1915=1,\"0\",VLOOKUP(B1915,coefficient2!$A$4:$B$7,2,FALSE))","v":0.2109943},{"$f":"IF(C1915=1,\"0\",VLOOKUP(C1915,coefficient2!$A$10:$B$13,2,FALSE))","v":"0"},{"$f":"IF(D1915=1,\"0\",VLOOKUP(D1915,coefficient2!$A$16:$B$19,2,FALSE))","v":5.8254399999999998E-2},{"$f":"IF(E1915=1,\"0\",VLOOKUP(E1915,coefficient2!$A$22:$B$25,2,FALSE))","v":6.6492200000000001E-2},{"$f":"IF(F1915=1,\"0\",VLOOKUP(F1915,coefficient2!$A$28:$B$31,2,FALSE))","v":0.23270360000000001},0.43155549999999998]
[41235,4,1,2,3,5,15,{"$f":"IF(B1916=1,\"0\",VLOOKUP(B1916,coefficient2!$A$4:$B$7,2,FALSE))","v":0.2109943},{"$f":"IF(C1916=1,\"0\",VLOOKUP(C1916,coefficient2!$A$10:$B$13,2,FALSE))","v":"0"},{"$f":"IF(D1916=1,\"0\",VLOOKUP(D1916,coefficient2!$A$16:$B$19,2,FALSE))","v":5.8254399999999998E-2},{"$f":"IF(E1916=1,\"0\",VLOOKUP(E1916,coefficient2!$A$22:$B$25,2,FALSE))","v":6.6492200000000001E-2},{"$f":"IF(F1916=1,\"0\",VLOOKUP(F1916,coefficient2!$A$28:$B$31,2,FALSE))","v":0.29534929999999998},0.36890980000000001]
[41241,4,1,2,4,1,12,{"$f":"IF(B1917=1,\"0\",VLOOKUP(B1917,coefficient2!$A$4:$B$7,2,FALSE))","v":0.2109943},{"$f":"IF(C1917=1,\"0\",VLOOKUP(C1917,coefficient2!$A$10:$B$13,2,FALSE))","v":"0"},{"$f":"IF(D1917=1,\"0\",VLOOKUP(D1917,coefficient2!$A$16:$B$19,2,FALSE))","v":5.8254399999999998E-2},{"$f":"IF(E1917=1,\"0\",VLOOKUP(E1917,coefficient2!$A$22:$B$25,2,FALSE))","v":0.2068864},{"$f":"IF(F1917=1,\"0\",VLOOKUP(F1917,coefficient2!$A$28:$B$31,2,FALSE))","v":"0"},0.52386489999999997]
[41242,4,1,2,4,2,13,{"$f":"IF(B1918=1,\"0\",VLOOKUP(B1918,coefficient2!$A$4:$B$7,2,FALSE))","v":0.2109943},{"$f":"IF(C1918=1,\"0\",VLOOKUP(C1918,coefficient2!$A$10:$B$13,2,FALSE))","v":"0"},{"$f":"IF(D1918=1,\"0\",VLOOKUP(D1918,coefficient2!$A$16:$B$19,2,FALSE))","v":5.8254399999999998E-2},{"$f":"IF(E1918=1,\"0\",VLOOKUP(E1918,coefficient2!$A$22:$B$25,2,FALSE))","v":0.2068864},{"$f":"IF(F1918=1,\"0\",VLOOKUP(F1918,coefficient2!$A$28:$B$31,2,FALSE))","v":5.8085699999999997E-2},0.46577919999999995]
[41243,4,1,2,4,3,14,{"$f":"IF(B1919=1,\"0\",VLOOKUP(B1919,coefficient2!$A$4:$B$7,2,FALSE))","v":0.2109943},{"$f":"IF(C1919=1,\"0\",VLOOKUP(C1919,coefficient2!$A$10:$B$13,2,FALSE))","v":"0"},{"$f":"IF(D1919=1,\"0\",VLOOKUP(D1919,coefficient2!$A$16:$B$19,2,FALSE))","v":5.8254399999999998E-2},{"$f":"IF(E1919=1,\"0\",VLOOKUP(E1919,coefficient2!$A$22:$B$25,2,FALSE))","v":0.2068864},{"$f":"IF(F1919=1,\"0\",VLOOKUP(F1919,coefficient2!$A$28:$B$31,2,FALSE))","v":9.5753900000000003E-2},0.42811099999999996]
[41244,4,1,2,4,4,15,{"$f":"IF(B1920=1,\"0\",VLOOKUP(B1920,coefficient2!$A$4:$B$7,2,FALSE))","v":0.2109943},{"$f":"IF(C1920=1,\"0\",VLOOKUP(C1920,coefficient2!$A$10:$B$13,2,FALSE))","v":"0"},{"$f":"IF(D1920=1,\"0\",VLOOKUP(D1920,coefficient2!$A$16:$B$19,2,FALSE))","v":5.8254399999999998E-2},{"$f":"IF(E1920=1,\"0\",VLOOKUP(E1920,coefficient2!$A$22:$B$25,2,FALSE))","v":0.2068864},{"$f":"IF(F1920=1,\"0\",VLOOKUP(F1920,coefficient2!$A$28:$B$31,2,FALSE))","v":0.23270360000000001},0.29116129999999996]
[41245,4,1,2,4,5,16,{"$f":"IF(B1921=1,\"0\",VLOOKUP(B1921,coefficient2!$A$4:$B$7,2,FALSE))","v":0.2109943},{"$f":"IF(C1921=1,\"0\",VLOOKUP(C1921,coefficient2!$A$10:$B$13,2,FALSE))","v":"0"},{"$f":"IF(D1921=1,\"0\",VLOOKUP(D1921,coefficient2!$A$16:$B$19,2,FALSE))","v":5.8254399999999998E-2},{"$f":"IF(E1921=1,\"0\",VLOOKUP(E1921,coefficient2!$A$22:$B$25,2,FALSE))","v":0.2068864},{"$f":"IF(F1921=1,\"0\",VLOOKUP(F1921,coefficient2!$A$28:$B$31,2,FALSE))","v":0.29534929999999998},0.22851559999999999]
[41251,4,1,2,5,1,13,{"$f":"IF(B1922=1,\"0\",VLOOKUP(B1922,coefficient2!$A$4:$B$7,2,FALSE))","v":0.2109943},{"$f":"IF(C1922=1,\"0\",VLOOKUP(C1922,coefficient2!$A$10:$B$13,2,FALSE))","v":"0"},{"$f":"IF(D1922=1,\"0\",VLOOKUP(D1922,coefficient2!$A$16:$B$19,2,FALSE))","v":5.8254399999999998E-2},{"$f":"IF(E1922=1,\"0\",VLOOKUP(E1922,coefficient2!$A$22:$B$25,2,FALSE))","v":0.25643310000000002},{"$f":"IF(F1922=1,\"0\",VLOOKUP(F1922,coefficient2!$A$28:$B$31,2,FALSE))","v":"0"},{"$f":"1-H1922-I1922-J1922-K1922-L1922","v":0.47431819999999997}]
[41252,{"$f":"INT(LEFT(A1923,1))","v":4},{"$f":"INT(MID(A1923,2,1))","v":1},{"$f":"INT(MID(A1923,3,1))","v":2},{"$f":"INT(MID(A1923,4,1))","v":5},{"$f":"INT(RIGHT(A1923,1))","v":2},14,{"$f":"IF(B1923=1,\"0\",VLOOKUP(B1923,coefficient2!$A$4:$B$7,2,FALSE))","v":0.2109943},{"$f":"IF(C1923=1,\"0\",VLOOKUP(C1923,coefficient2!$A$10:$B$13,2,FALSE))","v":"0"},{"$f":"IF(D1923=1,\"0\",VLOOKUP(D1923,coefficient2!$A$16:$B$19,2,FALSE))","v":5.8254399999999998E-2},{"$f":"IF(E1923=1,\"0\",VLOOKUP(E1923,coefficient2!$A$22:$B$25,2,FALSE))","v":0.25643310000000002},{"$f":"IF(F1923=1,\"0\",VLOOKUP(F1923,coefficient2!$A$28:$B$31,2,FALSE))","v":5.8085699999999997E-2},0.41623249999999995]
[41253,4,1,2,5,3,15,{"$f":"IF(B1924=1,\"0\",VLOOKUP(B1924,coefficient2!$A$4:$B$7,2,FALSE))","v":0.2109943},{"$f":"IF(C1924=1,\"0\",VLOOKUP(C1924,coefficient2!$A$10:$B$13,2,FALSE))","v":"0"},{"$f":"IF(D1924=1,\"0\",VLOOKUP(D1924,coefficient2!$A$16:$B$19,2,FALSE))","v":5.8254399999999998E-2},{"$f":"IF(E1924=1,\"0\",VLOOKUP(E1924,coefficient2!$A$22:$B$25,2,FALSE))","v":0.25643310000000002},{"$f":"IF(F1924=1,\"0\",VLOOKUP(F1924,coefficient2!$A$28:$B$31,2,FALSE))","v":9.5753900000000003E-2},0.37856429999999996]
[41254,4,1,2,5,4,16,{"$f":"IF(B1925=1,\"0\",VLOOKUP(B1925,coefficient2!$A$4:$B$7,2,FALSE))","v":0.2109943},{"$f":"IF(C1925=1,\"0\",VLOOKUP(C1925,coefficient2!$A$10:$B$13,2,FALSE))","v":"0"},{"$f":"IF(D1925=1,\"0\",VLOOKUP(D1925,coefficient2!$A$16:$B$19,2,FALSE))","v":5.8254399999999998E-2},{"$f":"IF(E1925=1,\"0\",VLOOKUP(E1925,coefficient2!$A$22:$B$25,2,FALSE))","v":0.25643310000000002},{"$f":"IF(F1925=1,\"0\",VLOOKUP(F1925,coefficient2!$A$28:$B$31,2,FALSE))","v":0.23270360000000001},0.24161459999999996]
[41255,4,1,2,5,5,17,{"$f":"IF(B1926=1,\"0\",VLOOKUP(B1926,coefficient2!$A$4:$B$7,2,FALSE))","v":0.2109943},{"$f":"IF(C1926=1,\"0\",VLOOKUP(C1926,coefficient2!$A$10:$B$13,2,FALSE))","v":"0"},{"$f":"IF(D1926=1,\"0\",VLOOKUP(D1926,coefficient2!$A$16:$B$19,2,FALSE))","v":5.8254399999999998E-2},{"$f":"IF(E1926=1,\"0\",VLOOKUP(E1926,coefficient2!$A$22:$B$25,2,FALSE))","v":0.25643310000000002},{"$f":"IF(F1926=1,\"0\",VLOOKUP(F1926,coefficient2!$A$28:$B$31,2,FALSE))","v":0.29534929999999998},0.17896889999999999]
[41311,4,1,3,1,1,10,{"$f":"IF(B1927=1,\"0\",VLOOKUP(B1927,coefficient2!$A$4:$B$7,2,FALSE))","v":0.2109943},{"$f":"IF(C1927=1,\"0\",VLOOKUP(C1927,coefficient2!$A$10:$B$13,2,FALSE))","v":"0"},{"$f":"IF(D1927=1,\"0\",VLOOKUP(D1927,coefficient2!$A$16:$B$19,2,FALSE))","v":7.1197399999999994E-2},{"$f":"IF(E1927=1,\"0\",VLOOKUP(E1927,coefficient2!$A$22:$B$25,2,FALSE))","v":"0"},{"$f":"IF(F1927=1,\"0\",VLOOKUP(F1927,coefficient2!$A$28:$B$31,2,FALSE))","v":"0"},0.71780830000000007]
[41312,4,1,3,1,2,11,{"$f":"IF(B1928=1,\"0\",VLOOKUP(B1928,coefficient2!$A$4:$B$7,2,FALSE))","v":0.2109943},{"$f":"IF(C1928=1,\"0\",VLOOKUP(C1928,coefficient2!$A$10:$B$13,2,FALSE))","v":"0"},{"$f":"IF(D1928=1,\"0\",VLOOKUP(D1928,coefficient2!$A$16:$B$19,2,FALSE))","v":7.1197399999999994E-2},{"$f":"IF(E1928=1,\"0\",VLOOKUP(E1928,coefficient2!$A$22:$B$25,2,FALSE))","v":"0"},{"$f":"IF(F1928=1,\"0\",VLOOKUP(F1928,coefficient2!$A$28:$B$31,2,FALSE))","v":5.8085699999999997E-2},0.65972260000000005]
[41313,4,1,3,1,3,12,{"$f":"IF(B1929=1,\"0\",VLOOKUP(B1929,coefficient2!$A$4:$B$7,2,FALSE))","v":0.2109943},{"$f":"IF(C1929=1,\"0\",VLOOKUP(C1929,coefficient2!$A$10:$B$13,2,FALSE))","v":"0"},{"$f":"IF(D1929=1,\"0\",VLOOKUP(D1929,coefficient2!$A$16:$B$19,2,FALSE))","v":7.1197399999999994E-2},{"$f":"IF(E1929=1,\"0\",VLOOKUP(E1929,coefficient2!$A$22:$B$25,2,FALSE))","v":"0"},{"$f":"IF(F1929=1,\"0\",VLOOKUP(F1929,coefficient2!$A$28:$B$31,2,FALSE))","v":9.5753900000000003E-2},0.62205440000000012]
[41314,4,1,3,1,4,13,{"$f":"IF(B1930=1,\"0\",VLOOKUP(B1930,coefficient2!$A$4:$B$7,2,FALSE))","v":0.2109943},{"$f":"IF(C1930=1,\"0\",VLOOKUP(C1930,coefficient2!$A$10:$B$13,2,FALSE))","v":"0"},{"$f":"IF(D1930=1,\"0\",VLOOKUP(D1930,coefficient2!$A$16:$B$19,2,FALSE))","v":7.1197399999999994E-2},{"$f":"IF(E1930=1,\"0\",VLOOKUP(E1930,coefficient2!$A$22:$B$25,2,FALSE))","v":"0"},{"$f":"IF(F1930=1,\"0\",VLOOKUP(F1930,coefficient2!$A$28:$B$31,2,FALSE))","v":0.23270360000000001},0.48510470000000006]
[41315,4,1,3,1,5,14,{"$f":"IF(B1931=1,\"0\",VLOOKUP(B1931,coefficient2!$A$4:$B$7,2,FALSE))","v":0.2109943},{"$f":"IF(C1931=1,\"0\",VLOOKUP(C1931,coefficient2!$A$10:$B$13,2,FALSE))","v":"0"},{"$f":"IF(D1931=1,\"0\",VLOOKUP(D1931,coefficient2!$A$16:$B$19,2,FALSE))","v":7.1197399999999994E-2},{"$f":"IF(E1931=1,\"0\",VLOOKUP(E1931,coefficient2!$A$22:$B$25,2,FALSE))","v":"0"},{"$f":"IF(F1931=1,\"0\",VLOOKUP(F1931,coefficient2!$A$28:$B$31,2,FALSE))","v":0.29534929999999998},0.42245900000000008]
[41321,4,1,3,2,1,11,{"$f":"IF(B1932=1,\"0\",VLOOKUP(B1932,coefficient2!$A$4:$B$7,2,FALSE))","v":0.2109943},{"$f":"IF(C1932=1,\"0\",VLOOKUP(C1932,coefficient2!$A$10:$B$13,2,FALSE))","v":"0"},{"$f":"IF(D1932=1,\"0\",VLOOKUP(D1932,coefficient2!$A$16:$B$19,2,FALSE))","v":7.1197399999999994E-2},{"$f":"IF(E1932=1,\"0\",VLOOKUP(E1932,coefficient2!$A$22:$B$25,2,FALSE))","v":5.63998E-2},{"$f":"IF(F1932=1,\"0\",VLOOKUP(F1932,coefficient2!$A$28:$B$31,2,FALSE))","v":"0"},0.66140850000000007]
[41322,4,1,3,2,2,12,{"$f":"IF(B1933=1,\"0\",VLOOKUP(B1933,coefficient2!$A$4:$B$7,2,FALSE))","v":0.2109943},{"$f":"IF(C1933=1,\"0\",VLOOKUP(C1933,coefficient2!$A$10:$B$13,2,FALSE))","v":"0"},{"$f":"IF(D1933=1,\"0\",VLOOKUP(D1933,coefficient2!$A$16:$B$19,2,FALSE))","v":7.1197399999999994E-2},{"$f":"IF(E1933=1,\"0\",VLOOKUP(E1933,coefficient2!$A$22:$B$25,2,FALSE))","v":5.63998E-2},{"$f":"IF(F1933=1,\"0\",VLOOKUP(F1933,coefficient2!$A$28:$B$31,2,FALSE))","v":5.8085699999999997E-2},0.60332280000000005]
[41323,4,1,3,2,3,13,{"$f":"IF(B1934=1,\"0\",VLOOKUP(B1934,coefficient2!$A$4:$B$7,2,FALSE))","v":0.2109943},{"$f":"IF(C1934=1,\"0\",VLOOKUP(C1934,coefficient2!$A$10:$B$13,2,FALSE))","v":"0"},{"$f":"IF(D1934=1,\"0\",VLOOKUP(D1934,coefficient2!$A$16:$B$19,2,FALSE))","v":7.1197399999999994E-2},{"$f":"IF(E1934=1,\"0\",VLOOKUP(E1934,coefficient2!$A$22:$B$25,2,FALSE))","v":5.63998E-2},{"$f":"IF(F1934=1,\"0\",VLOOKUP(F1934,coefficient2!$A$28:$B$31,2,FALSE))","v":9.5753900000000003E-2},0.56565460000000001]
[41324,4,1,3,2,4,14,{"$f":"IF(B1935=1,\"0\",VLOOKUP(B1935,coefficient2!$A$4:$B$7,2,FALSE))","v":0.2109943},{"$f":"IF(C1935=1,\"0\",VLOOKUP(C1935,coefficient2!$A$10:$B$13,2,FALSE))","v":"0"},{"$f":"IF(D1935=1,\"0\",VLOOKUP(D1935,coefficient2!$A$16:$B$19,2,FALSE))","v":7.1197399999999994E-2},{"$f":"IF(E1935=1,\"0\",VLOOKUP(E1935,coefficient2!$A$22:$B$25,2,FALSE))","v":5.63998E-2},{"$f":"IF(F1935=1,\"0\",VLOOKUP(F1935,coefficient2!$A$28:$B$31,2,FALSE))","v":0.23270360000000001},0.42870490000000006]
[41325,4,1,3,2,5,15,{"$f":"IF(B1936=1,\"0\",VLOOKUP(B1936,coefficient2!$A$4:$B$7,2,FALSE))","v":0.2109943},{"$f":"IF(C1936=1,\"0\",VLOOKUP(C1936,coefficient2!$A$10:$B$13,2,FALSE))","v":"0"},{"$f":"IF(D1936=1,\"0\",VLOOKUP(D1936,coefficient2!$A$16:$B$19,2,FALSE))","v":7.1197399999999994E-2},{"$f":"IF(E1936=1,\"0\",VLOOKUP(E1936,coefficient2!$A$22:$B$25,2,FALSE))","v":5.63998E-2},{"$f":"IF(F1936=1,\"0\",VLOOKUP(F1936,coefficient2!$A$28:$B$31,2,FALSE))","v":0.29534929999999998},0.36605920000000008]
[41331,4,1,3,3,1,12,{"$f":"IF(B1937=1,\"0\",VLOOKUP(B1937,coefficient2!$A$4:$B$7,2,FALSE))","v":0.2109943},{"$f":"IF(C1937=1,\"0\",VLOOKUP(C1937,coefficient2!$A$10:$B$13,2,FALSE))","v":"0"},{"$f":"IF(D1937=1,\"0\",VLOOKUP(D1937,coefficient2!$A$16:$B$19,2,FALSE))","v":7.1197399999999994E-2},{"$f":"IF(E1937=1,\"0\",VLOOKUP(E1937,coefficient2!$A$22:$B$25,2,FALSE))","v":6.6492200000000001E-2},{"$f":"IF(F1937=1,\"0\",VLOOKUP(F1937,coefficient2!$A$28:$B$31,2,FALSE))","v":"0"},0.65131610000000006]
[41332,4,1,3,3,2,13,{"$f":"IF(B1938=1,\"0\",VLOOKUP(B1938,coefficient2!$A$4:$B$7,2,FALSE))","v":0.2109943},{"$f":"IF(C1938=1,\"0\",VLOOKUP(C1938,coefficient2!$A$10:$B$13,2,FALSE))","v":"0"},{"$f":"IF(D1938=1,\"0\",VLOOKUP(D1938,coefficient2!$A$16:$B$19,2,FALSE))","v":7.1197399999999994E-2},{"$f":"IF(E1938=1,\"0\",VLOOKUP(E1938,coefficient2!$A$22:$B$25,2,FALSE))","v":6.6492200000000001E-2},{"$f":"IF(F1938=1,\"0\",VLOOKUP(F1938,coefficient2!$A$28:$B$31,2,FALSE))","v":5.8085699999999997E-2},0.59323040000000005]
[41333,4,1,3,3,3,14,{"$f":"IF(B1939=1,\"0\",VLOOKUP(B1939,coefficient2!$A$4:$B$7,2,FALSE))","v":0.2109943},{"$f":"IF(C1939=1,\"0\",VLOOKUP(C1939,coefficient2!$A$10:$B$13,2,FALSE))","v":"0"},{"$f":"IF(D1939=1,\"0\",VLOOKUP(D1939,coefficient2!$A$16:$B$19,2,FALSE))","v":7.1197399999999994E-2},{"$f":"IF(E1939=1,\"0\",VLOOKUP(E1939,coefficient2!$A$22:$B$25,2,FALSE))","v":6.6492200000000001E-2},{"$f":"IF(F1939=1,\"0\",VLOOKUP(F1939,coefficient2!$A$28:$B$31,2,FALSE))","v":9.5753900000000003E-2},0.55556220000000001]
[41334,4,1,3,3,4,15,{"$f":"IF(B1940=1,\"0\",VLOOKUP(B1940,coefficient2!$A$4:$B$7,2,FALSE))","v":0.2109943},{"$f":"IF(C1940=1,\"0\",VLOOKUP(C1940,coefficient2!$A$10:$B$13,2,FALSE))","v":"0"},{"$f":"IF(D1940=1,\"0\",VLOOKUP(D1940,coefficient2!$A$16:$B$19,2,FALSE))","v":7.1197399999999994E-2},{"$f":"IF(E1940=1,\"0\",VLOOKUP(E1940,coefficient2!$A$22:$B$25,2,FALSE))","v":6.6492200000000001E-2},{"$f":"IF(F1940=1,\"0\",VLOOKUP(F1940,coefficient2!$A$28:$B$31,2,FALSE))","v":0.23270360000000001},0.41861250000000005]
[41335,4,1,3,3,5,{"$f":"SUM(B1941:F1941)","v":16},{"$f":"IF(B1941=1,\"0\",VLOOKUP(B1941,coefficient2!$A$4:$B$7,2,FALSE))","v":0.2109943},{"$f":"IF(C1941=1,\"0\",VLOOKUP(C1941,coefficient2!$A$10:$B$13,2,FALSE))","v":"0"},{"$f":"IF(D1941=1,\"0\",VLOOKUP(D1941,coefficient2!$A$16:$B$19,2,FALSE))","v":7.1197399999999994E-2},{"$f":"IF(E1941=1,\"0\",VLOOKUP(E1941,coefficient2!$A$22:$B$25,2,FALSE))","v":6.6492200000000001E-2},{"$f":"IF(F1941=1,\"0\",VLOOKUP(F1941,coefficient2!$A$28:$B$31,2,FALSE))","v":0.29534929999999998},0.35596680000000008]
[41341,4,1,3,4,1,13,{"$f":"IF(B1942=1,\"0\",VLOOKUP(B1942,coefficient2!$A$4:$B$7,2,FALSE))","v":0.2109943},{"$f":"IF(C1942=1,\"0\",VLOOKUP(C1942,coefficient2!$A$10:$B$13,2,FALSE))","v":"0"},{"$f":"IF(D1942=1,\"0\",VLOOKUP(D1942,coefficient2!$A$16:$B$19,2,FALSE))","v":7.1197399999999994E-2},{"$f":"IF(E1942=1,\"0\",VLOOKUP(E1942,coefficient2!$A$22:$B$25,2,FALSE))","v":0.2068864},{"$f":"IF(F1942=1,\"0\",VLOOKUP(F1942,coefficient2!$A$28:$B$31,2,FALSE))","v":"0"},0.51092190000000004]
[41342,4,1,3,4,2,14,{"$f":"IF(B1943=1,\"0\",VLOOKUP(B1943,coefficient2!$A$4:$B$7,2,FALSE))","v":0.2109943},{"$f":"IF(C1943=1,\"0\",VLOOKUP(C1943,coefficient2!$A$10:$B$13,2,FALSE))","v":"0"},{"$f":"IF(D1943=1,\"0\",VLOOKUP(D1943,coefficient2!$A$16:$B$19,2,FALSE))","v":7.1197399999999994E-2},{"$f":"IF(E1943=1,\"0\",VLOOKUP(E1943,coefficient2!$A$22:$B$25,2,FALSE))","v":0.2068864},{"$f":"IF(F1943=1,\"0\",VLOOKUP(F1943,coefficient2!$A$28:$B$31,2,FALSE))","v":5.8085699999999997E-2},0.45283620000000002]
[41343,4,1,3,4,3,15,{"$f":"IF(B1944=1,\"0\",VLOOKUP(B1944,coefficient2!$A$4:$B$7,2,FALSE))","v":0.2109943},{"$f":"IF(C1944=1,\"0\",VLOOKUP(C1944,coefficient2!$A$10:$B$13,2,FALSE))","v":"0"},{"$f":"IF(D1944=1,\"0\",VLOOKUP(D1944,coefficient2!$A$16:$B$19,2,FALSE))","v":7.1197399999999994E-2},{"$f":"IF(E1944=1,\"0\",VLOOKUP(E1944,coefficient2!$A$22:$B$25,2,FALSE))","v":0.2068864},{"$f":"IF(F1944=1,\"0\",VLOOKUP(F1944,coefficient2!$A$28:$B$31,2,FALSE))","v":9.5753900000000003E-2},0.41516800000000004]
[41344,4,1,3,4,4,16,{"$f":"IF(B1945=1,\"0\",VLOOKUP(B1945,coefficient2!$A$4:$B$7,2,FALSE))","v":0.2109943},{"$f":"IF(C1945=1,\"0\",VLOOKUP(C1945,coefficient2!$A$10:$B$13,2,FALSE))","v":"0"},{"$f":"IF(D1945=1,\"0\",VLOOKUP(D1945,coefficient2!$A$16:$B$19,2,FALSE))","v":7.1197399999999994E-2},{"$f":"IF(E1945=1,\"0\",VLOOKUP(E1945,coefficient2!$A$22:$B$25,2,FALSE))","v":0.2068864},{"$f":"IF(F1945=1,\"0\",VLOOKUP(F1945,coefficient2!$A$28:$B$31,2,FALSE))","v":0.23270360000000001},0.27821830000000003]
[41345,4,1,3,4,5,17,{"$f":"IF(B1946=1,\"0\",VLOOKUP(B1946,coefficient2!$A$4:$B$7,2,FALSE))","v":0.2109943},{"$f":"IF(C1946=1,\"0\",VLOOKUP(C1946,coefficient2!$A$10:$B$13,2,FALSE))","v":"0"},{"$f":"IF(D1946=1,\"0\",VLOOKUP(D1946,coefficient2!$A$16:$B$19,2,FALSE))","v":7.1197399999999994E-2},{"$f":"IF(E1946=1,\"0\",VLOOKUP(E1946,coefficient2!$A$22:$B$25,2,FALSE))","v":0.2068864},{"$f":"IF(F1946=1,\"0\",VLOOKUP(F1946,coefficient2!$A$28:$B$31,2,FALSE))","v":0.29534929999999998},0.21557260000000006]
[41351,4,1,3,5,1,14,{"$f":"IF(B1947=1,\"0\",VLOOKUP(B1947,coefficient2!$A$4:$B$7,2,FALSE))","v":0.2109943},{"$f":"IF(C1947=1,\"0\",VLOOKUP(C1947,coefficient2!$A$10:$B$13,2,FALSE))","v":"0"},{"$f":"IF(D1947=1,\"0\",VLOOKUP(D1947,coefficient2!$A$16:$B$19,2,FALSE))","v":7.1197399999999994E-2},{"$f":"IF(E1947=1,\"0\",VLOOKUP(E1947,coefficient2!$A$22:$B$25,2,FALSE))","v":0.25643310000000002},{"$f":"IF(F1947=1,\"0\",VLOOKUP(F1947,coefficient2!$A$28:$B$31,2,FALSE))","v":"0"},0.46137520000000004]
[41352,4,1,3,5,2,15,{"$f":"IF(B1948=1,\"0\",VLOOKUP(B1948,coefficient2!$A$4:$B$7,2,FALSE))","v":0.2109943},{"$f":"IF(C1948=1,\"0\",VLOOKUP(C1948,coefficient2!$A$10:$B$13,2,FALSE))","v":"0"},{"$f":"IF(D1948=1,\"0\",VLOOKUP(D1948,coefficient2!$A$16:$B$19,2,FALSE))","v":7.1197399999999994E-2},{"$f":"IF(E1948=1,\"0\",VLOOKUP(E1948,coefficient2!$A$22:$B$25,2,FALSE))","v":0.25643310000000002},{"$f":"IF(F1948=1,\"0\",VLOOKUP(F1948,coefficient2!$A$28:$B$31,2,FALSE))","v":5.8085699999999997E-2},0.40328950000000002]
[41353,4,1,3,5,3,16,{"$f":"IF(B1949=1,\"0\",VLOOKUP(B1949,coefficient2!$A$4:$B$7,2,FALSE))","v":0.2109943},{"$f":"IF(C1949=1,\"0\",VLOOKUP(C1949,coefficient2!$A$10:$B$13,2,FALSE))","v":"0"},{"$f":"IF(D1949=1,\"0\",VLOOKUP(D1949,coefficient2!$A$16:$B$19,2,FALSE))","v":7.1197399999999994E-2},{"$f":"IF(E1949=1,\"0\",VLOOKUP(E1949,coefficient2!$A$22:$B$25,2,FALSE))","v":0.25643310000000002},{"$f":"IF(F1949=1,\"0\",VLOOKUP(F1949,coefficient2!$A$28:$B$31,2,FALSE))","v":9.5753900000000003E-2},0.36562130000000004]
[41354,4,1,3,5,4,17,{"$f":"IF(B1950=1,\"0\",VLOOKUP(B1950,coefficient2!$A$4:$B$7,2,FALSE))","v":0.2109943},{"$f":"IF(C1950=1,\"0\",VLOOKUP(C1950,coefficient2!$A$10:$B$13,2,FALSE))","v":"0"},{"$f":"IF(D1950=1,\"0\",VLOOKUP(D1950,coefficient2!$A$16:$B$19,2,FALSE))","v":7.1197399999999994E-2},{"$f":"IF(E1950=1,\"0\",VLOOKUP(E1950,coefficient2!$A$22:$B$25,2,FALSE))","v":0.25643310000000002},{"$f":"IF(F1950=1,\"0\",VLOOKUP(F1950,coefficient2!$A$28:$B$31,2,FALSE))","v":0.23270360000000001},0.22867160000000003]
[41355,4,1,3,5,5,18,{"$f":"IF(B1951=1,\"0\",VLOOKUP(B1951,coefficient2!$A$4:$B$7,2,FALSE))","v":0.2109943},{"$f":"IF(C1951=1,\"0\",VLOOKUP(C1951,coefficient2!$A$10:$B$13,2,FALSE))","v":"0"},{"$f":"IF(D1951=1,\"0\",VLOOKUP(D1951,coefficient2!$A$16:$B$19,2,FALSE))","v":7.1197399999999994E-2},{"$f":"IF(E1951=1,\"0\",VLOOKUP(E1951,coefficient2!$A$22:$B$25,2,FALSE))","v":0.25643310000000002},{"$f":"IF(F1951=1,\"0\",VLOOKUP(F1951,coefficient2!$A$28:$B$31,2,FALSE))","v":0.29534929999999998},0.16602590000000006]
[41411,4,1,4,1,1,11,{"$f":"IF(B1952=1,\"0\",VLOOKUP(B1952,coefficient2!$A$4:$B$7,2,FALSE))","v":0.2109943},{"$f":"IF(C1952=1,\"0\",VLOOKUP(C1952,coefficient2!$A$10:$B$13,2,FALSE))","v":"0"},{"$f":"IF(D1952=1,\"0\",VLOOKUP(D1952,coefficient2!$A$16:$B$19,2,FALSE))","v":0.1534855},{"$f":"IF(E1952=1,\"0\",VLOOKUP(E1952,coefficient2!$A$22:$B$25,2,FALSE))","v":"0"},{"$f":"IF(F1952=1,\"0\",VLOOKUP(F1952,coefficient2!$A$28:$B$31,2,FALSE))","v":"0"},0.63552019999999998]
[41412,4,1,4,1,2,12,{"$f":"IF(B1953=1,\"0\",VLOOKUP(B1953,coefficient2!$A$4:$B$7,2,FALSE))","v":0.2109943},{"$f":"IF(C1953=1,\"0\",VLOOKUP(C1953,coefficient2!$A$10:$B$13,2,FALSE))","v":"0"},{"$f":"IF(D1953=1,\"0\",VLOOKUP(D1953,coefficient2!$A$16:$B$19,2,FALSE))","v":0.1534855},{"$f":"IF(E1953=1,\"0\",VLOOKUP(E1953,coefficient2!$A$22:$B$25,2,FALSE))","v":"0"},{"$f":"IF(F1953=1,\"0\",VLOOKUP(F1953,coefficient2!$A$28:$B$31,2,FALSE))","v":5.8085699999999997E-2},0.57743449999999996]
[41413,4,1,4,1,3,13,{"$f":"IF(B1954=1,\"0\",VLOOKUP(B1954,coefficient2!$A$4:$B$7,2,FALSE))","v":0.2109943},{"$f":"IF(C1954=1,\"0\",VLOOKUP(C1954,coefficient2!$A$10:$B$13,2,FALSE))","v":"0"},{"$f":"IF(D1954=1,\"0\",VLOOKUP(D1954,coefficient2!$A$16:$B$19,2,FALSE))","v":0.1534855},{"$f":"IF(E1954=1,\"0\",VLOOKUP(E1954,coefficient2!$A$22:$B$25,2,FALSE))","v":"0"},{"$f":"IF(F1954=1,\"0\",VLOOKUP(F1954,coefficient2!$A$28:$B$31,2,FALSE))","v":9.5753900000000003E-2},0.53976629999999992]
[41414,4,1,4,1,4,14,{"$f":"IF(B1955=1,\"0\",VLOOKUP(B1955,coefficient2!$A$4:$B$7,2,FALSE))","v":0.2109943},{"$f":"IF(C1955=1,\"0\",VLOOKUP(C1955,coefficient2!$A$10:$B$13,2,FALSE))","v":"0"},{"$f":"IF(D1955=1,\"0\",VLOOKUP(D1955,coefficient2!$A$16:$B$19,2,FALSE))","v":0.1534855},{"$f":"IF(E1955=1,\"0\",VLOOKUP(E1955,coefficient2!$A$22:$B$25,2,FALSE))","v":"0"},{"$f":"IF(F1955=1,\"0\",VLOOKUP(F1955,coefficient2!$A$28:$B$31,2,FALSE))","v":0.23270360000000001},0.40281659999999997]
[41415,4,1,4,1,5,15,{"$f":"IF(B1956=1,\"0\",VLOOKUP(B1956,coefficient2!$A$4:$B$7,2,FALSE))","v":0.2109943},{"$f":"IF(C1956=1,\"0\",VLOOKUP(C1956,coefficient2!$A$10:$B$13,2,FALSE))","v":"0"},{"$f":"IF(D1956=1,\"0\",VLOOKUP(D1956,coefficient2!$A$16:$B$19,2,FALSE))","v":0.1534855},{"$f":"IF(E1956=1,\"0\",VLOOKUP(E1956,coefficient2!$A$22:$B$25,2,FALSE))","v":"0"},{"$f":"IF(F1956=1,\"0\",VLOOKUP(F1956,coefficient2!$A$28:$B$31,2,FALSE))","v":0.29534929999999998},0.3401709]
[41421,4,1,4,2,1,12,{"$f":"IF(B1957=1,\"0\",VLOOKUP(B1957,coefficient2!$A$4:$B$7,2,FALSE))","v":0.2109943},{"$f":"IF(C1957=1,\"0\",VLOOKUP(C1957,coefficient2!$A$10:$B$13,2,FALSE))","v":"0"},{"$f":"IF(D1957=1,\"0\",VLOOKUP(D1957,coefficient2!$A$16:$B$19,2,FALSE))","v":0.1534855},{"$f":"IF(E1957=1,\"0\",VLOOKUP(E1957,coefficient2!$A$22:$B$25,2,FALSE))","v":5.63998E-2},{"$f":"IF(F1957=1,\"0\",VLOOKUP(F1957,coefficient2!$A$28:$B$31,2,FALSE))","v":"0"},0.57912039999999998]
[41422,4,1,4,2,2,13,{"$f":"IF(B1958=1,\"0\",VLOOKUP(B1958,coefficient2!$A$4:$B$7,2,FALSE))","v":0.2109943},{"$f":"IF(C1958=1,\"0\",VLOOKUP(C1958,coefficient2!$A$10:$B$13,2,FALSE))","v":"0"},{"$f":"IF(D1958=1,\"0\",VLOOKUP(D1958,coefficient2!$A$16:$B$19,2,FALSE))","v":0.1534855},{"$f":"IF(E1958=1,\"0\",VLOOKUP(E1958,coefficient2!$A$22:$B$25,2,FALSE))","v":5.63998E-2},{"$f":"IF(F1958=1,\"0\",VLOOKUP(F1958,coefficient2!$A$28:$B$31,2,FALSE))","v":5.8085699999999997E-2},0.52103469999999996]
[41423,4,1,4,2,3,14,{"$f":"IF(B1959=1,\"0\",VLOOKUP(B1959,coefficient2!$A$4:$B$7,2,FALSE))","v":0.2109943},{"$f":"IF(C1959=1,\"0\",VLOOKUP(C1959,coefficient2!$A$10:$B$13,2,FALSE))","v":"0"},{"$f":"IF(D1959=1,\"0\",VLOOKUP(D1959,coefficient2!$A$16:$B$19,2,FALSE))","v":0.1534855},{"$f":"IF(E1959=1,\"0\",VLOOKUP(E1959,coefficient2!$A$22:$B$25,2,FALSE))","v":5.63998E-2},{"$f":"IF(F1959=1,\"0\",VLOOKUP(F1959,coefficient2!$A$28:$B$31,2,FALSE))","v":9.5753900000000003E-2},0.48336649999999998]
[41424,4,1,4,2,4,15,{"$f":"IF(B1960=1,\"0\",VLOOKUP(B1960,coefficient2!$A$4:$B$7,2,FALSE))","v":0.2109943},{"$f":"IF(C1960=1,\"0\",VLOOKUP(C1960,coefficient2!$A$10:$B$13,2,FALSE))","v":"0"},{"$f":"IF(D1960=1,\"0\",VLOOKUP(D1960,coefficient2!$A$16:$B$19,2,FALSE))","v":0.1534855},{"$f":"IF(E1960=1,\"0\",VLOOKUP(E1960,coefficient2!$A$22:$B$25,2,FALSE))","v":5.63998E-2},{"$f":"IF(F1960=1,\"0\",VLOOKUP(F1960,coefficient2!$A$28:$B$31,2,FALSE))","v":0.23270360000000001},0.34641679999999997]
[41425,4,1,4,2,5,16,{"$f":"IF(B1961=1,\"0\",VLOOKUP(B1961,coefficient2!$A$4:$B$7,2,FALSE))","v":0.2109943},{"$f":"IF(C1961=1,\"0\",VLOOKUP(C1961,coefficient2!$A$10:$B$13,2,FALSE))","v":"0"},{"$f":"IF(D1961=1,\"0\",VLOOKUP(D1961,coefficient2!$A$16:$B$19,2,FALSE))","v":0.1534855},{"$f":"IF(E1961=1,\"0\",VLOOKUP(E1961,coefficient2!$A$22:$B$25,2,FALSE))","v":5.63998E-2},{"$f":"IF(F1961=1,\"0\",VLOOKUP(F1961,coefficient2!$A$28:$B$31,2,FALSE))","v":0.29534929999999998},0.2837711]
[41431,4,1,4,3,1,13,{"$f":"IF(B1962=1,\"0\",VLOOKUP(B1962,coefficient2!$A$4:$B$7,2,FALSE))","v":0.2109943},{"$f":"IF(C1962=1,\"0\",VLOOKUP(C1962,coefficient2!$A$10:$B$13,2,FALSE))","v":"0"},{"$f":"IF(D1962=1,\"0\",VLOOKUP(D1962,coefficient2!$A$16:$B$19,2,FALSE))","v":0.1534855},{"$f":"IF(E1962=1,\"0\",VLOOKUP(E1962,coefficient2!$A$22:$B$25,2,FALSE))","v":6.6492200000000001E-2},{"$f":"IF(F1962=1,\"0\",VLOOKUP(F1962,coefficient2!$A$28:$B$31,2,FALSE))","v":"0"},0.56902799999999998]
[41432,4,1,4,3,2,14,{"$f":"IF(B1963=1,\"0\",VLOOKUP(B1963,coefficient2!$A$4:$B$7,2,FALSE))","v":0.2109943},{"$f":"IF(C1963=1,\"0\",VLOOKUP(C1963,coefficient2!$A$10:$B$13,2,FALSE))","v":"0"},{"$f":"IF(D1963=1,\"0\",VLOOKUP(D1963,coefficient2!$A$16:$B$19,2,FALSE))","v":0.1534855},{"$f":"IF(E1963=1,\"0\",VLOOKUP(E1963,coefficient2!$A$22:$B$25,2,FALSE))","v":6.6492200000000001E-2},{"$f":"IF(F1963=1,\"0\",VLOOKUP(F1963,coefficient2!$A$28:$B$31,2,FALSE))","v":5.8085699999999997E-2},0.51094229999999996]
[41433,4,1,4,3,3,15,{"$f":"IF(B1964=1,\"0\",VLOOKUP(B1964,coefficient2!$A$4:$B$7,2,FALSE))","v":0.2109943},{"$f":"IF(C1964=1,\"0\",VLOOKUP(C1964,coefficient2!$A$10:$B$13,2,FALSE))","v":"0"},{"$f":"IF(D1964=1,\"0\",VLOOKUP(D1964,coefficient2!$A$16:$B$19,2,FALSE))","v":0.1534855},{"$f":"IF(E1964=1,\"0\",VLOOKUP(E1964,coefficient2!$A$22:$B$25,2,FALSE))","v":6.6492200000000001E-2},{"$f":"IF(F1964=1,\"0\",VLOOKUP(F1964,coefficient2!$A$28:$B$31,2,FALSE))","v":9.5753900000000003E-2},0.47327409999999998]
[41434,4,1,4,3,4,16,{"$f":"IF(B1965=1,\"0\",VLOOKUP(B1965,coefficient2!$A$4:$B$7,2,FALSE))","v":0.2109943},{"$f":"IF(C1965=1,\"0\",VLOOKUP(C1965,coefficient2!$A$10:$B$13,2,FALSE))","v":"0"},{"$f":"IF(D1965=1,\"0\",VLOOKUP(D1965,coefficient2!$A$16:$B$19,2,FALSE))","v":0.1534855},{"$f":"IF(E1965=1,\"0\",VLOOKUP(E1965,coefficient2!$A$22:$B$25,2,FALSE))","v":6.6492200000000001E-2},{"$f":"IF(F1965=1,\"0\",VLOOKUP(F1965,coefficient2!$A$28:$B$31,2,FALSE))","v":0.23270360000000001},0.33632439999999997]
[41435,4,1,4,3,5,17,{"$f":"IF(B1966=1,\"0\",VLOOKUP(B1966,coefficient2!$A$4:$B$7,2,FALSE))","v":0.2109943},{"$f":"IF(C1966=1,\"0\",VLOOKUP(C1966,coefficient2!$A$10:$B$13,2,FALSE))","v":"0"},{"$f":"IF(D1966=1,\"0\",VLOOKUP(D1966,coefficient2!$A$16:$B$19,2,FALSE))","v":0.1534855},{"$f":"IF(E1966=1,\"0\",VLOOKUP(E1966,coefficient2!$A$22:$B$25,2,FALSE))","v":6.6492200000000001E-2},{"$f":"IF(F1966=1,\"0\",VLOOKUP(F1966,coefficient2!$A$28:$B$31,2,FALSE))","v":0.29534929999999998},0.2736787]
[41441,4,1,4,4,1,14,{"$f":"IF(B1967=1,\"0\",VLOOKUP(B1967,coefficient2!$A$4:$B$7,2,FALSE))","v":0.2109943},{"$f":"IF(C1967=1,\"0\",VLOOKUP(C1967,coefficient2!$A$10:$B$13,2,FALSE))","v":"0"},{"$f":"IF(D1967=1,\"0\",VLOOKUP(D1967,coefficient2!$A$16:$B$19,2,FALSE))","v":0.1534855},{"$f":"IF(E1967=1,\"0\",VLOOKUP(E1967,coefficient2!$A$22:$B$25,2,FALSE))","v":0.2068864},{"$f":"IF(F1967=1,\"0\",VLOOKUP(F1967,coefficient2!$A$28:$B$31,2,FALSE))","v":"0"},0.42863379999999995]
[41442,4,1,4,4,2,15,{"$f":"IF(B1968=1,\"0\",VLOOKUP(B1968,coefficient2!$A$4:$B$7,2,FALSE))","v":0.2109943},{"$f":"IF(C1968=1,\"0\",VLOOKUP(C1968,coefficient2!$A$10:$B$13,2,FALSE))","v":"0"},{"$f":"IF(D1968=1,\"0\",VLOOKUP(D1968,coefficient2!$A$16:$B$19,2,FALSE))","v":0.1534855},{"$f":"IF(E1968=1,\"0\",VLOOKUP(E1968,coefficient2!$A$22:$B$25,2,FALSE))","v":0.2068864},{"$f":"IF(F1968=1,\"0\",VLOOKUP(F1968,coefficient2!$A$28:$B$31,2,FALSE))","v":5.8085699999999997E-2},0.37054809999999994]
[41443,4,1,4,4,3,16,{"$f":"IF(B1969=1,\"0\",VLOOKUP(B1969,coefficient2!$A$4:$B$7,2,FALSE))","v":0.2109943},{"$f":"IF(C1969=1,\"0\",VLOOKUP(C1969,coefficient2!$A$10:$B$13,2,FALSE))","v":"0"},{"$f":"IF(D1969=1,\"0\",VLOOKUP(D1969,coefficient2!$A$16:$B$19,2,FALSE))","v":0.1534855},{"$f":"IF(E1969=1,\"0\",VLOOKUP(E1969,coefficient2!$A$22:$B$25,2,FALSE))","v":0.2068864},{"$f":"IF(F1969=1,\"0\",VLOOKUP(F1969,coefficient2!$A$28:$B$31,2,FALSE))","v":9.5753900000000003E-2},0.33287989999999995]
[41444,4,1,4,4,4,17,{"$f":"IF(B1970=1,\"0\",VLOOKUP(B1970,coefficient2!$A$4:$B$7,2,FALSE))","v":0.2109943},{"$f":"IF(C1970=1,\"0\",VLOOKUP(C1970,coefficient2!$A$10:$B$13,2,FALSE))","v":"0"},{"$f":"IF(D1970=1,\"0\",VLOOKUP(D1970,coefficient2!$A$16:$B$19,2,FALSE))","v":0.1534855},{"$f":"IF(E1970=1,\"0\",VLOOKUP(E1970,coefficient2!$A$22:$B$25,2,FALSE))","v":0.2068864},{"$f":"IF(F1970=1,\"0\",VLOOKUP(F1970,coefficient2!$A$28:$B$31,2,FALSE))","v":0.23270360000000001},0.19593019999999994]
[41445,4,1,4,4,5,18,{"$f":"IF(B1971=1,\"0\",VLOOKUP(B1971,coefficient2!$A$4:$B$7,2,FALSE))","v":0.2109943},{"$f":"IF(C1971=1,\"0\",VLOOKUP(C1971,coefficient2!$A$10:$B$13,2,FALSE))","v":"0"},{"$f":"IF(D1971=1,\"0\",VLOOKUP(D1971,coefficient2!$A$16:$B$19,2,FALSE))","v":0.1534855},{"$f":"IF(E1971=1,\"0\",VLOOKUP(E1971,coefficient2!$A$22:$B$25,2,FALSE))","v":0.2068864},{"$f":"IF(F1971=1,\"0\",VLOOKUP(F1971,coefficient2!$A$28:$B$31,2,FALSE))","v":0.29534929999999998},0.13328449999999997]
[41451,4,1,4,5,1,15,{"$f":"IF(B1972=1,\"0\",VLOOKUP(B1972,coefficient2!$A$4:$B$7,2,FALSE))","v":0.2109943},{"$f":"IF(C1972=1,\"0\",VLOOKUP(C1972,coefficient2!$A$10:$B$13,2,FALSE))","v":"0"},{"$f":"IF(D1972=1,\"0\",VLOOKUP(D1972,coefficient2!$A$16:$B$19,2,FALSE))","v":0.1534855},{"$f":"IF(E1972=1,\"0\",VLOOKUP(E1972,coefficient2!$A$22:$B$25,2,FALSE))","v":0.25643310000000002},{"$f":"IF(F1972=1,\"0\",VLOOKUP(F1972,coefficient2!$A$28:$B$31,2,FALSE))","v":"0"},0.37908709999999995]
[41452,4,1,4,5,2,16,{"$f":"IF(B1973=1,\"0\",VLOOKUP(B1973,coefficient2!$A$4:$B$7,2,FALSE))","v":0.2109943},{"$f":"IF(C1973=1,\"0\",VLOOKUP(C1973,coefficient2!$A$10:$B$13,2,FALSE))","v":"0"},{"$f":"IF(D1973=1,\"0\",VLOOKUP(D1973,coefficient2!$A$16:$B$19,2,FALSE))","v":0.1534855},{"$f":"IF(E1973=1,\"0\",VLOOKUP(E1973,coefficient2!$A$22:$B$25,2,FALSE))","v":0.25643310000000002},{"$f":"IF(F1973=1,\"0\",VLOOKUP(F1973,coefficient2!$A$28:$B$31,2,FALSE))","v":5.8085699999999997E-2},0.32100139999999994]
[41453,4,1,4,5,3,17,{"$f":"IF(B1974=1,\"0\",VLOOKUP(B1974,coefficient2!$A$4:$B$7,2,FALSE))","v":0.2109943},{"$f":"IF(C1974=1,\"0\",VLOOKUP(C1974,coefficient2!$A$10:$B$13,2,FALSE))","v":"0"},{"$f":"IF(D1974=1,\"0\",VLOOKUP(D1974,coefficient2!$A$16:$B$19,2,FALSE))","v":0.1534855},{"$f":"IF(E1974=1,\"0\",VLOOKUP(E1974,coefficient2!$A$22:$B$25,2,FALSE))","v":0.25643310000000002},{"$f":"IF(F1974=1,\"0\",VLOOKUP(F1974,coefficient2!$A$28:$B$31,2,FALSE))","v":9.5753900000000003E-2},0.28333319999999995]
[41454,4,1,4,5,4,18,{"$f":"IF(B1975=1,\"0\",VLOOKUP(B1975,coefficient2!$A$4:$B$7,2,FALSE))","v":0.2109943},{"$f":"IF(C1975=1,\"0\",VLOOKUP(C1975,coefficient2!$A$10:$B$13,2,FALSE))","v":"0"},{"$f":"IF(D1975=1,\"0\",VLOOKUP(D1975,coefficient2!$A$16:$B$19,2,FALSE))","v":0.1534855},{"$f":"IF(E1975=1,\"0\",VLOOKUP(E1975,coefficient2!$A$22:$B$25,2,FALSE))","v":0.25643310000000002},{"$f":"IF(F1975=1,\"0\",VLOOKUP(F1975,coefficient2!$A$28:$B$31,2,FALSE))","v":0.23270360000000001},0.14638349999999994]
[41455,4,1,4,5,5,19,{"$f":"IF(B1976=1,\"0\",VLOOKUP(B1976,coefficient2!$A$4:$B$7,2,FALSE))","v":0.2109943},{"$f":"IF(C1976=1,\"0\",VLOOKUP(C1976,coefficient2!$A$10:$B$13,2,FALSE))","v":"0"},{"$f":"IF(D1976=1,\"0\",VLOOKUP(D1976,coefficient2!$A$16:$B$19,2,FALSE))","v":0.1534855},{"$f":"IF(E1976=1,\"0\",VLOOKUP(E1976,coefficient2!$A$22:$B$25,2,FALSE))","v":0.25643310000000002},{"$f":"IF(F1976=1,\"0\",VLOOKUP(F1976,coefficient2!$A$28:$B$31,2,FALSE))","v":0.29534929999999998},8.3737799999999973E-2]
[41511,4,1,5,1,1,12,{"$f":"IF(B1977=1,\"0\",VLOOKUP(B1977,coefficient2!$A$4:$B$7,2,FALSE))","v":0.2109943},{"$f":"IF(C1977=1,\"0\",VLOOKUP(C1977,coefficient2!$A$10:$B$13,2,FALSE))","v":"0"},{"$f":"IF(D1977=1,\"0\",VLOOKUP(D1977,coefficient2!$A$16:$B$19,2,FALSE))","v":0.248331},{"$f":"IF(E1977=1,\"0\",VLOOKUP(E1977,coefficient2!$A$22:$B$25,2,FALSE))","v":"0"},{"$f":"IF(F1977=1,\"0\",VLOOKUP(F1977,coefficient2!$A$28:$B$31,2,FALSE))","v":"0"},0.54067470000000006]
[41512,4,1,5,1,2,13,{"$f":"IF(B1978=1,\"0\",VLOOKUP(B1978,coefficient2!$A$4:$B$7,2,FALSE))","v":0.2109943},{"$f":"IF(C1978=1,\"0\",VLOOKUP(C1978,coefficient2!$A$10:$B$13,2,FALSE))","v":"0"},{"$f":"IF(D1978=1,\"0\",VLOOKUP(D1978,coefficient2!$A$16:$B$19,2,FALSE))","v":0.248331},{"$f":"IF(E1978=1,\"0\",VLOOKUP(E1978,coefficient2!$A$22:$B$25,2,FALSE))","v":"0"},{"$f":"IF(F1978=1,\"0\",VLOOKUP(F1978,coefficient2!$A$28:$B$31,2,FALSE))","v":5.8085699999999997E-2},0.48258900000000005]
[41513,4,1,5,1,3,14,{"$f":"IF(B1979=1,\"0\",VLOOKUP(B1979,coefficient2!$A$4:$B$7,2,FALSE))","v":0.2109943},{"$f":"IF(C1979=1,\"0\",VLOOKUP(C1979,coefficient2!$A$10:$B$13,2,FALSE))","v":"0"},{"$f":"IF(D1979=1,\"0\",VLOOKUP(D1979,coefficient2!$A$16:$B$19,2,FALSE))","v":0.248331},{"$f":"IF(E1979=1,\"0\",VLOOKUP(E1979,coefficient2!$A$22:$B$25,2,FALSE))","v":"0"},{"$f":"IF(F1979=1,\"0\",VLOOKUP(F1979,coefficient2!$A$28:$B$31,2,FALSE))","v":9.5753900000000003E-2},0.44492080000000006]
[41514,4,1,5,1,4,15,{"$f":"IF(B1980=1,\"0\",VLOOKUP(B1980,coefficient2!$A$4:$B$7,2,FALSE))","v":0.2109943},{"$f":"IF(C1980=1,\"0\",VLOOKUP(C1980,coefficient2!$A$10:$B$13,2,FALSE))","v":"0"},{"$f":"IF(D1980=1,\"0\",VLOOKUP(D1980,coefficient2!$A$16:$B$19,2,FALSE))","v":0.248331},{"$f":"IF(E1980=1,\"0\",VLOOKUP(E1980,coefficient2!$A$22:$B$25,2,FALSE))","v":"0"},{"$f":"IF(F1980=1,\"0\",VLOOKUP(F1980,coefficient2!$A$28:$B$31,2,FALSE))","v":0.23270360000000001},0.30797110000000005]
[41515,4,1,5,1,5,16,{"$f":"IF(B1981=1,\"0\",VLOOKUP(B1981,coefficient2!$A$4:$B$7,2,FALSE))","v":0.2109943},{"$f":"IF(C1981=1,\"0\",VLOOKUP(C1981,coefficient2!$A$10:$B$13,2,FALSE))","v":"0"},{"$f":"IF(D1981=1,\"0\",VLOOKUP(D1981,coefficient2!$A$16:$B$19,2,FALSE))","v":0.248331},{"$f":"IF(E1981=1,\"0\",VLOOKUP(E1981,coefficient2!$A$22:$B$25,2,FALSE))","v":"0"},{"$f":"IF(F1981=1,\"0\",VLOOKUP(F1981,coefficient2!$A$28:$B$31,2,FALSE))","v":0.29534929999999998},0.24532540000000008]
[41521,4,1,5,2,1,13,{"$f":"IF(B1982=1,\"0\",VLOOKUP(B1982,coefficient2!$A$4:$B$7,2,FALSE))","v":0.2109943},{"$f":"IF(C1982=1,\"0\",VLOOKUP(C1982,coefficient2!$A$10:$B$13,2,FALSE))","v":"0"},{"$f":"IF(D1982=1,\"0\",VLOOKUP(D1982,coefficient2!$A$16:$B$19,2,FALSE))","v":0.248331},{"$f":"IF(E1982=1,\"0\",VLOOKUP(E1982,coefficient2!$A$22:$B$25,2,FALSE))","v":5.63998E-2},{"$f":"IF(F1982=1,\"0\",VLOOKUP(F1982,coefficient2!$A$28:$B$31,2,FALSE))","v":"0"},0.48427490000000006]
[41522,4,1,5,2,2,14,{"$f":"IF(B1983=1,\"0\",VLOOKUP(B1983,coefficient2!$A$4:$B$7,2,FALSE))","v":0.2109943},{"$f":"IF(C1983=1,\"0\",VLOOKUP(C1983,coefficient2!$A$10:$B$13,2,FALSE))","v":"0"},{"$f":"IF(D1983=1,\"0\",VLOOKUP(D1983,coefficient2!$A$16:$B$19,2,FALSE))","v":0.248331},{"$f":"IF(E1983=1,\"0\",VLOOKUP(E1983,coefficient2!$A$22:$B$25,2,FALSE))","v":5.63998E-2},{"$f":"IF(F1983=1,\"0\",VLOOKUP(F1983,coefficient2!$A$28:$B$31,2,FALSE))","v":5.8085699999999997E-2},0.42618920000000005]
[41523,4,1,5,2,3,15,{"$f":"IF(B1984=1,\"0\",VLOOKUP(B1984,coefficient2!$A$4:$B$7,2,FALSE))","v":0.2109943},{"$f":"IF(C1984=1,\"0\",VLOOKUP(C1984,coefficient2!$A$10:$B$13,2,FALSE))","v":"0"},{"$f":"IF(D1984=1,\"0\",VLOOKUP(D1984,coefficient2!$A$16:$B$19,2,FALSE))","v":0.248331},{"$f":"IF(E1984=1,\"0\",VLOOKUP(E1984,coefficient2!$A$22:$B$25,2,FALSE))","v":5.63998E-2},{"$f":"IF(F1984=1,\"0\",VLOOKUP(F1984,coefficient2!$A$28:$B$31,2,FALSE))","v":9.5753900000000003E-2},0.38852100000000006]
[41524,4,1,5,2,4,16,{"$f":"IF(B1985=1,\"0\",VLOOKUP(B1985,coefficient2!$A$4:$B$7,2,FALSE))","v":0.2109943},{"$f":"IF(C1985=1,\"0\",VLOOKUP(C1985,coefficient2!$A$10:$B$13,2,FALSE))","v":"0"},{"$f":"IF(D1985=1,\"0\",VLOOKUP(D1985,coefficient2!$A$16:$B$19,2,FALSE))","v":0.248331},{"$f":"IF(E1985=1,\"0\",VLOOKUP(E1985,coefficient2!$A$22:$B$25,2,FALSE))","v":5.63998E-2},{"$f":"IF(F1985=1,\"0\",VLOOKUP(F1985,coefficient2!$A$28:$B$31,2,FALSE))","v":0.23270360000000001},0.25157130000000005]
[41525,4,1,5,2,5,17,{"$f":"IF(B1986=1,\"0\",VLOOKUP(B1986,coefficient2!$A$4:$B$7,2,FALSE))","v":0.2109943},{"$f":"IF(C1986=1,\"0\",VLOOKUP(C1986,coefficient2!$A$10:$B$13,2,FALSE))","v":"0"},{"$f":"IF(D1986=1,\"0\",VLOOKUP(D1986,coefficient2!$A$16:$B$19,2,FALSE))","v":0.248331},{"$f":"IF(E1986=1,\"0\",VLOOKUP(E1986,coefficient2!$A$22:$B$25,2,FALSE))","v":5.63998E-2},{"$f":"IF(F1986=1,\"0\",VLOOKUP(F1986,coefficient2!$A$28:$B$31,2,FALSE))","v":0.29534929999999998},{"$f":"1-H1986-I1986-J1986-K1986-L1986","v":0.18892560000000008}]
[41531,{"$f":"INT(LEFT(A1987,1))","v":4},{"$f":"INT(MID(A1987,2,1))","v":1},{"$f":"INT(MID(A1987,3,1))","v":5},{"$f":"INT(MID(A1987,4,1))","v":3},{"$f":"INT(RIGHT(A1987,1))","v":1},14,{"$f":"IF(B1987=1,\"0\",VLOOKUP(B1987,coefficient2!$A$4:$B$7,2,FALSE))","v":0.2109943},{"$f":"IF(C1987=1,\"0\",VLOOKUP(C1987,coefficient2!$A$10:$B$13,2,FALSE))","v":"0"},{"$f":"IF(D1987=1,\"0\",VLOOKUP(D1987,coefficient2!$A$16:$B$19,2,FALSE))","v":0.248331},{"$f":"IF(E1987=1,\"0\",VLOOKUP(E1987,coefficient2!$A$22:$B$25,2,FALSE))","v":6.6492200000000001E-2},{"$f":"IF(F1987=1,\"0\",VLOOKUP(F1987,coefficient2!$A$28:$B$31,2,FALSE))","v":"0"},0.47418250000000006]
[41532,4,1,5,3,2,15,{"$f":"IF(B1988=1,\"0\",VLOOKUP(B1988,coefficient2!$A$4:$B$7,2,FALSE))","v":0.2109943},{"$f":"IF(C1988=1,\"0\",VLOOKUP(C1988,coefficient2!$A$10:$B$13,2,FALSE))","v":"0"},{"$f":"IF(D1988=1,\"0\",VLOOKUP(D1988,coefficient2!$A$16:$B$19,2,FALSE))","v":0.248331},{"$f":"IF(E1988=1,\"0\",VLOOKUP(E1988,coefficient2!$A$22:$B$25,2,FALSE))","v":6.6492200000000001E-2},{"$f":"IF(F1988=1,\"0\",VLOOKUP(F1988,coefficient2!$A$28:$B$31,2,FALSE))","v":5.8085699999999997E-2},0.41609680000000004]
[41533,4,1,5,3,3,16,{"$f":"IF(B1989=1,\"0\",VLOOKUP(B1989,coefficient2!$A$4:$B$7,2,FALSE))","v":0.2109943},{"$f":"IF(C1989=1,\"0\",VLOOKUP(C1989,coefficient2!$A$10:$B$13,2,FALSE))","v":"0"},{"$f":"IF(D1989=1,\"0\",VLOOKUP(D1989,coefficient2!$A$16:$B$19,2,FALSE))","v":0.248331},{"$f":"IF(E1989=1,\"0\",VLOOKUP(E1989,coefficient2!$A$22:$B$25,2,FALSE))","v":6.6492200000000001E-2},{"$f":"IF(F1989=1,\"0\",VLOOKUP(F1989,coefficient2!$A$28:$B$31,2,FALSE))","v":9.5753900000000003E-2},0.37842860000000006]
[41534,4,1,5,3,4,17,{"$f":"IF(B1990=1,\"0\",VLOOKUP(B1990,coefficient2!$A$4:$B$7,2,FALSE))","v":0.2109943},{"$f":"IF(C1990=1,\"0\",VLOOKUP(C1990,coefficient2!$A$10:$B$13,2,FALSE))","v":"0"},{"$f":"IF(D1990=1,\"0\",VLOOKUP(D1990,coefficient2!$A$16:$B$19,2,FALSE))","v":0.248331},{"$f":"IF(E1990=1,\"0\",VLOOKUP(E1990,coefficient2!$A$22:$B$25,2,FALSE))","v":6.6492200000000001E-2},{"$f":"IF(F1990=1,\"0\",VLOOKUP(F1990,coefficient2!$A$28:$B$31,2,FALSE))","v":0.23270360000000001},0.24147890000000005]
[41535,4,1,5,3,5,18,{"$f":"IF(B1991=1,\"0\",VLOOKUP(B1991,coefficient2!$A$4:$B$7,2,FALSE))","v":0.2109943},{"$f":"IF(C1991=1,\"0\",VLOOKUP(C1991,coefficient2!$A$10:$B$13,2,FALSE))","v":"0"},{"$f":"IF(D1991=1,\"0\",VLOOKUP(D1991,coefficient2!$A$16:$B$19,2,FALSE))","v":0.248331},{"$f":"IF(E1991=1,\"0\",VLOOKUP(E1991,coefficient2!$A$22:$B$25,2,FALSE))","v":6.6492200000000001E-2},{"$f":"IF(F1991=1,\"0\",VLOOKUP(F1991,coefficient2!$A$28:$B$31,2,FALSE))","v":0.29534929999999998},0.17883320000000008]
[41541,4,1,5,4,1,15,{"$f":"IF(B1992=1,\"0\",VLOOKUP(B1992,coefficient2!$A$4:$B$7,2,FALSE))","v":0.2109943},{"$f":"IF(C1992=1,\"0\",VLOOKUP(C1992,coefficient2!$A$10:$B$13,2,FALSE))","v":"0"},{"$f":"IF(D1992=1,\"0\",VLOOKUP(D1992,coefficient2!$A$16:$B$19,2,FALSE))","v":0.248331},{"$f":"IF(E1992=1,\"0\",VLOOKUP(E1992,coefficient2!$A$22:$B$25,2,FALSE))","v":0.2068864},{"$f":"IF(F1992=1,\"0\",VLOOKUP(F1992,coefficient2!$A$28:$B$31,2,FALSE))","v":"0"},0.33378830000000004]
[41542,4,1,5,4,2,16,{"$f":"IF(B1993=1,\"0\",VLOOKUP(B1993,coefficient2!$A$4:$B$7,2,FALSE))","v":0.2109943},{"$f":"IF(C1993=1,\"0\",VLOOKUP(C1993,coefficient2!$A$10:$B$13,2,FALSE))","v":"0"},{"$f":"IF(D1993=1,\"0\",VLOOKUP(D1993,coefficient2!$A$16:$B$19,2,FALSE))","v":0.248331},{"$f":"IF(E1993=1,\"0\",VLOOKUP(E1993,coefficient2!$A$22:$B$25,2,FALSE))","v":0.2068864},{"$f":"IF(F1993=1,\"0\",VLOOKUP(F1993,coefficient2!$A$28:$B$31,2,FALSE))","v":5.8085699999999997E-2},0.27570260000000002]
[41543,4,1,5,4,3,17,{"$f":"IF(B1994=1,\"0\",VLOOKUP(B1994,coefficient2!$A$4:$B$7,2,FALSE))","v":0.2109943},{"$f":"IF(C1994=1,\"0\",VLOOKUP(C1994,coefficient2!$A$10:$B$13,2,FALSE))","v":"0"},{"$f":"IF(D1994=1,\"0\",VLOOKUP(D1994,coefficient2!$A$16:$B$19,2,FALSE))","v":0.248331},{"$f":"IF(E1994=1,\"0\",VLOOKUP(E1994,coefficient2!$A$22:$B$25,2,FALSE))","v":0.2068864},{"$f":"IF(F1994=1,\"0\",VLOOKUP(F1994,coefficient2!$A$28:$B$31,2,FALSE))","v":9.5753900000000003E-2},0.23803440000000003]
[41544,4,1,5,4,4,18,{"$f":"IF(B1995=1,\"0\",VLOOKUP(B1995,coefficient2!$A$4:$B$7,2,FALSE))","v":0.2109943},{"$f":"IF(C1995=1,\"0\",VLOOKUP(C1995,coefficient2!$A$10:$B$13,2,FALSE))","v":"0"},{"$f":"IF(D1995=1,\"0\",VLOOKUP(D1995,coefficient2!$A$16:$B$19,2,FALSE))","v":0.248331},{"$f":"IF(E1995=1,\"0\",VLOOKUP(E1995,coefficient2!$A$22:$B$25,2,FALSE))","v":0.2068864},{"$f":"IF(F1995=1,\"0\",VLOOKUP(F1995,coefficient2!$A$28:$B$31,2,FALSE))","v":0.23270360000000001},0.10108470000000003]
[41545,4,1,5,4,5,19,{"$f":"IF(B1996=1,\"0\",VLOOKUP(B1996,coefficient2!$A$4:$B$7,2,FALSE))","v":0.2109943},{"$f":"IF(C1996=1,\"0\",VLOOKUP(C1996,coefficient2!$A$10:$B$13,2,FALSE))","v":"0"},{"$f":"IF(D1996=1,\"0\",VLOOKUP(D1996,coefficient2!$A$16:$B$19,2,FALSE))","v":0.248331},{"$f":"IF(E1996=1,\"0\",VLOOKUP(E1996,coefficient2!$A$22:$B$25,2,FALSE))","v":0.2068864},{"$f":"IF(F1996=1,\"0\",VLOOKUP(F1996,coefficient2!$A$28:$B$31,2,FALSE))","v":0.29534929999999998},3.8439000000000056E-2]
[41551,4,1,5,5,1,16,{"$f":"IF(B1997=1,\"0\",VLOOKUP(B1997,coefficient2!$A$4:$B$7,2,FALSE))","v":0.2109943},{"$f":"IF(C1997=1,\"0\",VLOOKUP(C1997,coefficient2!$A$10:$B$13,2,FALSE))","v":"0"},{"$f":"IF(D1997=1,\"0\",VLOOKUP(D1997,coefficient2!$A$16:$B$19,2,FALSE))","v":0.248331},{"$f":"IF(E1997=1,\"0\",VLOOKUP(E1997,coefficient2!$A$22:$B$25,2,FALSE))","v":0.25643310000000002},{"$f":"IF(F1997=1,\"0\",VLOOKUP(F1997,coefficient2!$A$28:$B$31,2,FALSE))","v":"0"},0.28424160000000004]
[41552,4,1,5,5,2,17,{"$f":"IF(B1998=1,\"0\",VLOOKUP(B1998,coefficient2!$A$4:$B$7,2,FALSE))","v":0.2109943},{"$f":"IF(C1998=1,\"0\",VLOOKUP(C1998,coefficient2!$A$10:$B$13,2,FALSE))","v":"0"},{"$f":"IF(D1998=1,\"0\",VLOOKUP(D1998,coefficient2!$A$16:$B$19,2,FALSE))","v":0.248331},{"$f":"IF(E1998=1,\"0\",VLOOKUP(E1998,coefficient2!$A$22:$B$25,2,FALSE))","v":0.25643310000000002},{"$f":"IF(F1998=1,\"0\",VLOOKUP(F1998,coefficient2!$A$28:$B$31,2,FALSE))","v":5.8085699999999997E-2},0.22615590000000005]
[41553,4,1,5,5,3,18,{"$f":"IF(B1999=1,\"0\",VLOOKUP(B1999,coefficient2!$A$4:$B$7,2,FALSE))","v":0.2109943},{"$f":"IF(C1999=1,\"0\",VLOOKUP(C1999,coefficient2!$A$10:$B$13,2,FALSE))","v":"0"},{"$f":"IF(D1999=1,\"0\",VLOOKUP(D1999,coefficient2!$A$16:$B$19,2,FALSE))","v":0.248331},{"$f":"IF(E1999=1,\"0\",VLOOKUP(E1999,coefficient2!$A$22:$B$25,2,FALSE))","v":0.25643310000000002},{"$f":"IF(F1999=1,\"0\",VLOOKUP(F1999,coefficient2!$A$28:$B$31,2,FALSE))","v":9.5753900000000003E-2},0.18848770000000004]
[41554,4,1,5,5,4,19,{"$f":"IF(B2000=1,\"0\",VLOOKUP(B2000,coefficient2!$A$4:$B$7,2,FALSE))","v":0.2109943},{"$f":"IF(C2000=1,\"0\",VLOOKUP(C2000,coefficient2!$A$10:$B$13,2,FALSE))","v":"0"},{"$f":"IF(D2000=1,\"0\",VLOOKUP(D2000,coefficient2!$A$16:$B$19,2,FALSE))","v":0.248331},{"$f":"IF(E2000=1,\"0\",VLOOKUP(E2000,coefficient2!$A$22:$B$25,2,FALSE))","v":0.25643310000000002},{"$f":"IF(F2000=1,\"0\",VLOOKUP(F2000,coefficient2!$A$28:$B$31,2,FALSE))","v":0.23270360000000001},5.1538000000000028E-2]
[41555,4,1,5,5,5,20,{"$f":"IF(B2001=1,\"0\",VLOOKUP(B2001,coefficient2!$A$4:$B$7,2,FALSE))","v":0.2109943},{"$f":"IF(C2001=1,\"0\",VLOOKUP(C2001,coefficient2!$A$10:$B$13,2,FALSE))","v":"0"},{"$f":"IF(D2001=1,\"0\",VLOOKUP(D2001,coefficient2!$A$16:$B$19,2,FALSE))","v":0.248331},{"$f":"IF(E2001=1,\"0\",VLOOKUP(E2001,coefficient2!$A$22:$B$25,2,FALSE))","v":0.25643310000000002},{"$f":"IF(F2001=1,\"0\",VLOOKUP(F2001,coefficient2!$A$28:$B$31,2,FALSE))","v":0.29534929999999998},-1.1107699999999943E-2]
[42111,4,2,1,1,1,9,{"$f":"IF(B2002=1,\"0\",VLOOKUP(B2002,coefficient2!$A$4:$B$7,2,FALSE))","v":0.2109943},{"$f":"IF(C2002=1,\"0\",VLOOKUP(C2002,coefficient2!$A$10:$B$13,2,FALSE))","v":5.8129300000000002E-2},{"$f":"IF(D2002=1,\"0\",VLOOKUP(D2002,coefficient2!$A$16:$B$19,2,FALSE))","v":"0"},{"$f":"IF(E2002=1,\"0\",VLOOKUP(E2002,coefficient2!$A$22:$B$25,2,FALSE))","v":"0"},{"$f":"IF(F2002=1,\"0\",VLOOKUP(F2002,coefficient2!$A$28:$B$31,2,FALSE))","v":"0"},0.73087639999999998]
[42112,4,2,1,1,2,10,{"$f":"IF(B2003=1,\"0\",VLOOKUP(B2003,coefficient2!$A$4:$B$7,2,FALSE))","v":0.2109943},{"$f":"IF(C2003=1,\"0\",VLOOKUP(C2003,coefficient2!$A$10:$B$13,2,FALSE))","v":5.8129300000000002E-2},{"$f":"IF(D2003=1,\"0\",VLOOKUP(D2003,coefficient2!$A$16:$B$19,2,FALSE))","v":"0"},{"$f":"IF(E2003=1,\"0\",VLOOKUP(E2003,coefficient2!$A$22:$B$25,2,FALSE))","v":"0"},{"$f":"IF(F2003=1,\"0\",VLOOKUP(F2003,coefficient2!$A$28:$B$31,2,FALSE))","v":5.8085699999999997E-2},0.67279069999999996]
[42113,4,2,1,1,3,11,{"$f":"IF(B2004=1,\"0\",VLOOKUP(B2004,coefficient2!$A$4:$B$7,2,FALSE))","v":0.2109943},{"$f":"IF(C2004=1,\"0\",VLOOKUP(C2004,coefficient2!$A$10:$B$13,2,FALSE))","v":5.8129300000000002E-2},{"$f":"IF(D2004=1,\"0\",VLOOKUP(D2004,coefficient2!$A$16:$B$19,2,FALSE))","v":"0"},{"$f":"IF(E2004=1,\"0\",VLOOKUP(E2004,coefficient2!$A$22:$B$25,2,FALSE))","v":"0"},{"$f":"IF(F2004=1,\"0\",VLOOKUP(F2004,coefficient2!$A$28:$B$31,2,FALSE))","v":9.5753900000000003E-2},0.63512250000000003]
[42114,4,2,1,1,4,{"$f":"SUM(B2005:F2005)","v":12},{"$f":"IF(B2005=1,\"0\",VLOOKUP(B2005,coefficient2!$A$4:$B$7,2,FALSE))","v":0.2109943},{"$f":"IF(C2005=1,\"0\",VLOOKUP(C2005,coefficient2!$A$10:$B$13,2,FALSE))","v":5.8129300000000002E-2},{"$f":"IF(D2005=1,\"0\",VLOOKUP(D2005,coefficient2!$A$16:$B$19,2,FALSE))","v":"0"},{"$f":"IF(E2005=1,\"0\",VLOOKUP(E2005,coefficient2!$A$22:$B$25,2,FALSE))","v":"0"},{"$f":"IF(F2005=1,\"0\",VLOOKUP(F2005,coefficient2!$A$28:$B$31,2,FALSE))","v":0.23270360000000001},0.49817279999999997]
[42115,4,2,1,1,5,13,{"$f":"IF(B2006=1,\"0\",VLOOKUP(B2006,coefficient2!$A$4:$B$7,2,FALSE))","v":0.2109943},{"$f":"IF(C2006=1,\"0\",VLOOKUP(C2006,coefficient2!$A$10:$B$13,2,FALSE))","v":5.8129300000000002E-2},{"$f":"IF(D2006=1,\"0\",VLOOKUP(D2006,coefficient2!$A$16:$B$19,2,FALSE))","v":"0"},{"$f":"IF(E2006=1,\"0\",VLOOKUP(E2006,coefficient2!$A$22:$B$25,2,FALSE))","v":"0"},{"$f":"IF(F2006=1,\"0\",VLOOKUP(F2006,coefficient2!$A$28:$B$31,2,FALSE))","v":0.29534929999999998},0.4355271]
[42121,4,2,1,2,1,10,{"$f":"IF(B2007=1,\"0\",VLOOKUP(B2007,coefficient2!$A$4:$B$7,2,FALSE))","v":0.2109943},{"$f":"IF(C2007=1,\"0\",VLOOKUP(C2007,coefficient2!$A$10:$B$13,2,FALSE))","v":5.8129300000000002E-2},{"$f":"IF(D2007=1,\"0\",VLOOKUP(D2007,coefficient2!$A$16:$B$19,2,FALSE))","v":"0"},{"$f":"IF(E2007=1,\"0\",VLOOKUP(E2007,coefficient2!$A$22:$B$25,2,FALSE))","v":5.63998E-2},{"$f":"IF(F2007=1,\"0\",VLOOKUP(F2007,coefficient2!$A$28:$B$31,2,FALSE))","v":"0"},0.67447659999999998]
[42122,4,2,1,2,2,11,{"$f":"IF(B2008=1,\"0\",VLOOKUP(B2008,coefficient2!$A$4:$B$7,2,FALSE))","v":0.2109943},{"$f":"IF(C2008=1,\"0\",VLOOKUP(C2008,coefficient2!$A$10:$B$13,2,FALSE))","v":5.8129300000000002E-2},{"$f":"IF(D2008=1,\"0\",VLOOKUP(D2008,coefficient2!$A$16:$B$19,2,FALSE))","v":"0"},{"$f":"IF(E2008=1,\"0\",VLOOKUP(E2008,coefficient2!$A$22:$B$25,2,FALSE))","v":5.63998E-2},{"$f":"IF(F2008=1,\"0\",VLOOKUP(F2008,coefficient2!$A$28:$B$31,2,FALSE))","v":5.8085699999999997E-2},0.61639089999999996]
[42123,4,2,1,2,3,12,{"$f":"IF(B2009=1,\"0\",VLOOKUP(B2009,coefficient2!$A$4:$B$7,2,FALSE))","v":0.2109943},{"$f":"IF(C2009=1,\"0\",VLOOKUP(C2009,coefficient2!$A$10:$B$13,2,FALSE))","v":5.8129300000000002E-2},{"$f":"IF(D2009=1,\"0\",VLOOKUP(D2009,coefficient2!$A$16:$B$19,2,FALSE))","v":"0"},{"$f":"IF(E2009=1,\"0\",VLOOKUP(E2009,coefficient2!$A$22:$B$25,2,FALSE))","v":5.63998E-2},{"$f":"IF(F2009=1,\"0\",VLOOKUP(F2009,coefficient2!$A$28:$B$31,2,FALSE))","v":9.5753900000000003E-2},0.57872269999999992]
[42124,4,2,1,2,4,13,{"$f":"IF(B2010=1,\"0\",VLOOKUP(B2010,coefficient2!$A$4:$B$7,2,FALSE))","v":0.2109943},{"$f":"IF(C2010=1,\"0\",VLOOKUP(C2010,coefficient2!$A$10:$B$13,2,FALSE))","v":5.8129300000000002E-2},{"$f":"IF(D2010=1,\"0\",VLOOKUP(D2010,coefficient2!$A$16:$B$19,2,FALSE))","v":"0"},{"$f":"IF(E2010=1,\"0\",VLOOKUP(E2010,coefficient2!$A$22:$B$25,2,FALSE))","v":5.63998E-2},{"$f":"IF(F2010=1,\"0\",VLOOKUP(F2010,coefficient2!$A$28:$B$31,2,FALSE))","v":0.23270360000000001},0.44177299999999997]
[42125,4,2,1,2,5,14,{"$f":"IF(B2011=1,\"0\",VLOOKUP(B2011,coefficient2!$A$4:$B$7,2,FALSE))","v":0.2109943},{"$f":"IF(C2011=1,\"0\",VLOOKUP(C2011,coefficient2!$A$10:$B$13,2,FALSE))","v":5.8129300000000002E-2},{"$f":"IF(D2011=1,\"0\",VLOOKUP(D2011,coefficient2!$A$16:$B$19,2,FALSE))","v":"0"},{"$f":"IF(E2011=1,\"0\",VLOOKUP(E2011,coefficient2!$A$22:$B$25,2,FALSE))","v":5.63998E-2},{"$f":"IF(F2011=1,\"0\",VLOOKUP(F2011,coefficient2!$A$28:$B$31,2,FALSE))","v":0.29534929999999998},0.3791273]
[42131,4,2,1,3,1,11,{"$f":"IF(B2012=1,\"0\",VLOOKUP(B2012,coefficient2!$A$4:$B$7,2,FALSE))","v":0.2109943},{"$f":"IF(C2012=1,\"0\",VLOOKUP(C2012,coefficient2!$A$10:$B$13,2,FALSE))","v":5.8129300000000002E-2},{"$f":"IF(D2012=1,\"0\",VLOOKUP(D2012,coefficient2!$A$16:$B$19,2,FALSE))","v":"0"},{"$f":"IF(E2012=1,\"0\",VLOOKUP(E2012,coefficient2!$A$22:$B$25,2,FALSE))","v":6.6492200000000001E-2},{"$f":"IF(F2012=1,\"0\",VLOOKUP(F2012,coefficient2!$A$28:$B$31,2,FALSE))","v":"0"},0.66438419999999998]
[42132,4,2,1,3,2,12,{"$f":"IF(B2013=1,\"0\",VLOOKUP(B2013,coefficient2!$A$4:$B$7,2,FALSE))","v":0.2109943},{"$f":"IF(C2013=1,\"0\",VLOOKUP(C2013,coefficient2!$A$10:$B$13,2,FALSE))","v":5.8129300000000002E-2},{"$f":"IF(D2013=1,\"0\",VLOOKUP(D2013,coefficient2!$A$16:$B$19,2,FALSE))","v":"0"},{"$f":"IF(E2013=1,\"0\",VLOOKUP(E2013,coefficient2!$A$22:$B$25,2,FALSE))","v":6.6492200000000001E-2},{"$f":"IF(F2013=1,\"0\",VLOOKUP(F2013,coefficient2!$A$28:$B$31,2,FALSE))","v":5.8085699999999997E-2},0.60629849999999996]
[42133,4,2,1,3,3,13,{"$f":"IF(B2014=1,\"0\",VLOOKUP(B2014,coefficient2!$A$4:$B$7,2,FALSE))","v":0.2109943},{"$f":"IF(C2014=1,\"0\",VLOOKUP(C2014,coefficient2!$A$10:$B$13,2,FALSE))","v":5.8129300000000002E-2},{"$f":"IF(D2014=1,\"0\",VLOOKUP(D2014,coefficient2!$A$16:$B$19,2,FALSE))","v":"0"},{"$f":"IF(E2014=1,\"0\",VLOOKUP(E2014,coefficient2!$A$22:$B$25,2,FALSE))","v":6.6492200000000001E-2},{"$f":"IF(F2014=1,\"0\",VLOOKUP(F2014,coefficient2!$A$28:$B$31,2,FALSE))","v":9.5753900000000003E-2},0.56863029999999992]
[42134,4,2,1,3,4,14,{"$f":"IF(B2015=1,\"0\",VLOOKUP(B2015,coefficient2!$A$4:$B$7,2,FALSE))","v":0.2109943},{"$f":"IF(C2015=1,\"0\",VLOOKUP(C2015,coefficient2!$A$10:$B$13,2,FALSE))","v":5.8129300000000002E-2},{"$f":"IF(D2015=1,\"0\",VLOOKUP(D2015,coefficient2!$A$16:$B$19,2,FALSE))","v":"0"},{"$f":"IF(E2015=1,\"0\",VLOOKUP(E2015,coefficient2!$A$22:$B$25,2,FALSE))","v":6.6492200000000001E-2},{"$f":"IF(F2015=1,\"0\",VLOOKUP(F2015,coefficient2!$A$28:$B$31,2,FALSE))","v":0.23270360000000001},0.43168059999999997]
[42135,4,2,1,3,5,15,{"$f":"IF(B2016=1,\"0\",VLOOKUP(B2016,coefficient2!$A$4:$B$7,2,FALSE))","v":0.2109943},{"$f":"IF(C2016=1,\"0\",VLOOKUP(C2016,coefficient2!$A$10:$B$13,2,FALSE))","v":5.8129300000000002E-2},{"$f":"IF(D2016=1,\"0\",VLOOKUP(D2016,coefficient2!$A$16:$B$19,2,FALSE))","v":"0"},{"$f":"IF(E2016=1,\"0\",VLOOKUP(E2016,coefficient2!$A$22:$B$25,2,FALSE))","v":6.6492200000000001E-2},{"$f":"IF(F2016=1,\"0\",VLOOKUP(F2016,coefficient2!$A$28:$B$31,2,FALSE))","v":0.29534929999999998},0.3690349]
[42141,4,2,1,4,1,12,{"$f":"IF(B2017=1,\"0\",VLOOKUP(B2017,coefficient2!$A$4:$B$7,2,FALSE))","v":0.2109943},{"$f":"IF(C2017=1,\"0\",VLOOKUP(C2017,coefficient2!$A$10:$B$13,2,FALSE))","v":5.8129300000000002E-2},{"$f":"IF(D2017=1,\"0\",VLOOKUP(D2017,coefficient2!$A$16:$B$19,2,FALSE))","v":"0"},{"$f":"IF(E2017=1,\"0\",VLOOKUP(E2017,coefficient2!$A$22:$B$25,2,FALSE))","v":0.2068864},{"$f":"IF(F2017=1,\"0\",VLOOKUP(F2017,coefficient2!$A$28:$B$31,2,FALSE))","v":"0"},0.52398999999999996]
[42142,4,2,1,4,2,13,{"$f":"IF(B2018=1,\"0\",VLOOKUP(B2018,coefficient2!$A$4:$B$7,2,FALSE))","v":0.2109943},{"$f":"IF(C2018=1,\"0\",VLOOKUP(C2018,coefficient2!$A$10:$B$13,2,FALSE))","v":5.8129300000000002E-2},{"$f":"IF(D2018=1,\"0\",VLOOKUP(D2018,coefficient2!$A$16:$B$19,2,FALSE))","v":"0"},{"$f":"IF(E2018=1,\"0\",VLOOKUP(E2018,coefficient2!$A$22:$B$25,2,FALSE))","v":0.2068864},{"$f":"IF(F2018=1,\"0\",VLOOKUP(F2018,coefficient2!$A$28:$B$31,2,FALSE))","v":5.8085699999999997E-2},0.46590429999999994]
[42143,4,2,1,4,3,14,{"$f":"IF(B2019=1,\"0\",VLOOKUP(B2019,coefficient2!$A$4:$B$7,2,FALSE))","v":0.2109943},{"$f":"IF(C2019=1,\"0\",VLOOKUP(C2019,coefficient2!$A$10:$B$13,2,FALSE))","v":5.8129300000000002E-2},{"$f":"IF(D2019=1,\"0\",VLOOKUP(D2019,coefficient2!$A$16:$B$19,2,FALSE))","v":"0"},{"$f":"IF(E2019=1,\"0\",VLOOKUP(E2019,coefficient2!$A$22:$B$25,2,FALSE))","v":0.2068864},{"$f":"IF(F2019=1,\"0\",VLOOKUP(F2019,coefficient2!$A$28:$B$31,2,FALSE))","v":9.5753900000000003E-2},0.42823609999999995]
[42144,4,2,1,4,4,15,{"$f":"IF(B2020=1,\"0\",VLOOKUP(B2020,coefficient2!$A$4:$B$7,2,FALSE))","v":0.2109943},{"$f":"IF(C2020=1,\"0\",VLOOKUP(C2020,coefficient2!$A$10:$B$13,2,FALSE))","v":5.8129300000000002E-2},{"$f":"IF(D2020=1,\"0\",VLOOKUP(D2020,coefficient2!$A$16:$B$19,2,FALSE))","v":"0"},{"$f":"IF(E2020=1,\"0\",VLOOKUP(E2020,coefficient2!$A$22:$B$25,2,FALSE))","v":0.2068864},{"$f":"IF(F2020=1,\"0\",VLOOKUP(F2020,coefficient2!$A$28:$B$31,2,FALSE))","v":0.23270360000000001},0.29128639999999995]
[42145,4,2,1,4,5,16,{"$f":"IF(B2021=1,\"0\",VLOOKUP(B2021,coefficient2!$A$4:$B$7,2,FALSE))","v":0.2109943},{"$f":"IF(C2021=1,\"0\",VLOOKUP(C2021,coefficient2!$A$10:$B$13,2,FALSE))","v":5.8129300000000002E-2},{"$f":"IF(D2021=1,\"0\",VLOOKUP(D2021,coefficient2!$A$16:$B$19,2,FALSE))","v":"0"},{"$f":"IF(E2021=1,\"0\",VLOOKUP(E2021,coefficient2!$A$22:$B$25,2,FALSE))","v":0.2068864},{"$f":"IF(F2021=1,\"0\",VLOOKUP(F2021,coefficient2!$A$28:$B$31,2,FALSE))","v":0.29534929999999998},0.22864069999999997]
[42151,4,2,1,5,1,13,{"$f":"IF(B2022=1,\"0\",VLOOKUP(B2022,coefficient2!$A$4:$B$7,2,FALSE))","v":0.2109943},{"$f":"IF(C2022=1,\"0\",VLOOKUP(C2022,coefficient2!$A$10:$B$13,2,FALSE))","v":5.8129300000000002E-2},{"$f":"IF(D2022=1,\"0\",VLOOKUP(D2022,coefficient2!$A$16:$B$19,2,FALSE))","v":"0"},{"$f":"IF(E2022=1,\"0\",VLOOKUP(E2022,coefficient2!$A$22:$B$25,2,FALSE))","v":0.25643310000000002},{"$f":"IF(F2022=1,\"0\",VLOOKUP(F2022,coefficient2!$A$28:$B$31,2,FALSE))","v":"0"},0.47444329999999996]
[42152,4,2,1,5,2,14,{"$f":"IF(B2023=1,\"0\",VLOOKUP(B2023,coefficient2!$A$4:$B$7,2,FALSE))","v":0.2109943},{"$f":"IF(C2023=1,\"0\",VLOOKUP(C2023,coefficient2!$A$10:$B$13,2,FALSE))","v":5.8129300000000002E-2},{"$f":"IF(D2023=1,\"0\",VLOOKUP(D2023,coefficient2!$A$16:$B$19,2,FALSE))","v":"0"},{"$f":"IF(E2023=1,\"0\",VLOOKUP(E2023,coefficient2!$A$22:$B$25,2,FALSE))","v":0.25643310000000002},{"$f":"IF(F2023=1,\"0\",VLOOKUP(F2023,coefficient2!$A$28:$B$31,2,FALSE))","v":5.8085699999999997E-2},0.41635759999999994]
[42153,4,2,1,5,3,15,{"$f":"IF(B2024=1,\"0\",VLOOKUP(B2024,coefficient2!$A$4:$B$7,2,FALSE))","v":0.2109943},{"$f":"IF(C2024=1,\"0\",VLOOKUP(C2024,coefficient2!$A$10:$B$13,2,FALSE))","v":5.8129300000000002E-2},{"$f":"IF(D2024=1,\"0\",VLOOKUP(D2024,coefficient2!$A$16:$B$19,2,FALSE))","v":"0"},{"$f":"IF(E2024=1,\"0\",VLOOKUP(E2024,coefficient2!$A$22:$B$25,2,FALSE))","v":0.25643310000000002},{"$f":"IF(F2024=1,\"0\",VLOOKUP(F2024,coefficient2!$A$28:$B$31,2,FALSE))","v":9.5753900000000003E-2},0.37868939999999995]
[42154,4,2,1,5,4,16,{"$f":"IF(B2025=1,\"0\",VLOOKUP(B2025,coefficient2!$A$4:$B$7,2,FALSE))","v":0.2109943},{"$f":"IF(C2025=1,\"0\",VLOOKUP(C2025,coefficient2!$A$10:$B$13,2,FALSE))","v":5.8129300000000002E-2},{"$f":"IF(D2025=1,\"0\",VLOOKUP(D2025,coefficient2!$A$16:$B$19,2,FALSE))","v":"0"},{"$f":"IF(E2025=1,\"0\",VLOOKUP(E2025,coefficient2!$A$22:$B$25,2,FALSE))","v":0.25643310000000002},{"$f":"IF(F2025=1,\"0\",VLOOKUP(F2025,coefficient2!$A$28:$B$31,2,FALSE))","v":0.23270360000000001},0.24173969999999995]
[42155,4,2,1,5,5,17,{"$f":"IF(B2026=1,\"0\",VLOOKUP(B2026,coefficient2!$A$4:$B$7,2,FALSE))","v":0.2109943},{"$f":"IF(C2026=1,\"0\",VLOOKUP(C2026,coefficient2!$A$10:$B$13,2,FALSE))","v":5.8129300000000002E-2},{"$f":"IF(D2026=1,\"0\",VLOOKUP(D2026,coefficient2!$A$16:$B$19,2,FALSE))","v":"0"},{"$f":"IF(E2026=1,\"0\",VLOOKUP(E2026,coefficient2!$A$22:$B$25,2,FALSE))","v":0.25643310000000002},{"$f":"IF(F2026=1,\"0\",VLOOKUP(F2026,coefficient2!$A$28:$B$31,2,FALSE))","v":0.29534929999999998},0.17909399999999998]
[42211,4,2,2,1,1,10,{"$f":"IF(B2027=1,\"0\",VLOOKUP(B2027,coefficient2!$A$4:$B$7,2,FALSE))","v":0.2109943},{"$f":"IF(C2027=1,\"0\",VLOOKUP(C2027,coefficient2!$A$10:$B$13,2,FALSE))","v":5.8129300000000002E-2},{"$f":"IF(D2027=1,\"0\",VLOOKUP(D2027,coefficient2!$A$16:$B$19,2,FALSE))","v":5.8254399999999998E-2},{"$f":"IF(E2027=1,\"0\",VLOOKUP(E2027,coefficient2!$A$22:$B$25,2,FALSE))","v":"0"},{"$f":"IF(F2027=1,\"0\",VLOOKUP(F2027,coefficient2!$A$28:$B$31,2,FALSE))","v":"0"},0.67262199999999994]
[42212,4,2,2,1,2,11,{"$f":"IF(B2028=1,\"0\",VLOOKUP(B2028,coefficient2!$A$4:$B$7,2,FALSE))","v":0.2109943},{"$f":"IF(C2028=1,\"0\",VLOOKUP(C2028,coefficient2!$A$10:$B$13,2,FALSE))","v":5.8129300000000002E-2},{"$f":"IF(D2028=1,\"0\",VLOOKUP(D2028,coefficient2!$A$16:$B$19,2,FALSE))","v":5.8254399999999998E-2},{"$f":"IF(E2028=1,\"0\",VLOOKUP(E2028,coefficient2!$A$22:$B$25,2,FALSE))","v":"0"},{"$f":"IF(F2028=1,\"0\",VLOOKUP(F2028,coefficient2!$A$28:$B$31,2,FALSE))","v":5.8085699999999997E-2},0.61453629999999992]
[42213,4,2,2,1,3,12,{"$f":"IF(B2029=1,\"0\",VLOOKUP(B2029,coefficient2!$A$4:$B$7,2,FALSE))","v":0.2109943},{"$f":"IF(C2029=1,\"0\",VLOOKUP(C2029,coefficient2!$A$10:$B$13,2,FALSE))","v":5.8129300000000002E-2},{"$f":"IF(D2029=1,\"0\",VLOOKUP(D2029,coefficient2!$A$16:$B$19,2,FALSE))","v":5.8254399999999998E-2},{"$f":"IF(E2029=1,\"0\",VLOOKUP(E2029,coefficient2!$A$22:$B$25,2,FALSE))","v":"0"},{"$f":"IF(F2029=1,\"0\",VLOOKUP(F2029,coefficient2!$A$28:$B$31,2,FALSE))","v":9.5753900000000003E-2},0.57686809999999999]
[42214,4,2,2,1,4,13,{"$f":"IF(B2030=1,\"0\",VLOOKUP(B2030,coefficient2!$A$4:$B$7,2,FALSE))","v":0.2109943},{"$f":"IF(C2030=1,\"0\",VLOOKUP(C2030,coefficient2!$A$10:$B$13,2,FALSE))","v":5.8129300000000002E-2},{"$f":"IF(D2030=1,\"0\",VLOOKUP(D2030,coefficient2!$A$16:$B$19,2,FALSE))","v":5.8254399999999998E-2},{"$f":"IF(E2030=1,\"0\",VLOOKUP(E2030,coefficient2!$A$22:$B$25,2,FALSE))","v":"0"},{"$f":"IF(F2030=1,\"0\",VLOOKUP(F2030,coefficient2!$A$28:$B$31,2,FALSE))","v":0.23270360000000001},0.43991839999999993]
[42215,4,2,2,1,5,14,{"$f":"IF(B2031=1,\"0\",VLOOKUP(B2031,coefficient2!$A$4:$B$7,2,FALSE))","v":0.2109943},{"$f":"IF(C2031=1,\"0\",VLOOKUP(C2031,coefficient2!$A$10:$B$13,2,FALSE))","v":5.8129300000000002E-2},{"$f":"IF(D2031=1,\"0\",VLOOKUP(D2031,coefficient2!$A$16:$B$19,2,FALSE))","v":5.8254399999999998E-2},{"$f":"IF(E2031=1,\"0\",VLOOKUP(E2031,coefficient2!$A$22:$B$25,2,FALSE))","v":"0"},{"$f":"IF(F2031=1,\"0\",VLOOKUP(F2031,coefficient2!$A$28:$B$31,2,FALSE))","v":0.29534929999999998},0.37727269999999996]
[42221,4,2,2,2,1,11,{"$f":"IF(B2032=1,\"0\",VLOOKUP(B2032,coefficient2!$A$4:$B$7,2,FALSE))","v":0.2109943},{"$f":"IF(C2032=1,\"0\",VLOOKUP(C2032,coefficient2!$A$10:$B$13,2,FALSE))","v":5.8129300000000002E-2},{"$f":"IF(D2032=1,\"0\",VLOOKUP(D2032,coefficient2!$A$16:$B$19,2,FALSE))","v":5.8254399999999998E-2},{"$f":"IF(E2032=1,\"0\",VLOOKUP(E2032,coefficient2!$A$22:$B$25,2,FALSE))","v":5.63998E-2},{"$f":"IF(F2032=1,\"0\",VLOOKUP(F2032,coefficient2!$A$28:$B$31,2,FALSE))","v":"0"},0.61622219999999994]
[42222,4,2,2,2,2,12,{"$f":"IF(B2033=1,\"0\",VLOOKUP(B2033,coefficient2!$A$4:$B$7,2,FALSE))","v":0.2109943},{"$f":"IF(C2033=1,\"0\",VLOOKUP(C2033,coefficient2!$A$10:$B$13,2,FALSE))","v":5.8129300000000002E-2},{"$f":"IF(D2033=1,\"0\",VLOOKUP(D2033,coefficient2!$A$16:$B$19,2,FALSE))","v":5.8254399999999998E-2},{"$f":"IF(E2033=1,\"0\",VLOOKUP(E2033,coefficient2!$A$22:$B$25,2,FALSE))","v":5.63998E-2},{"$f":"IF(F2033=1,\"0\",VLOOKUP(F2033,coefficient2!$A$28:$B$31,2,FALSE))","v":5.8085699999999997E-2},0.55813649999999992]
[42223,4,2,2,2,3,13,{"$f":"IF(B2034=1,\"0\",VLOOKUP(B2034,coefficient2!$A$4:$B$7,2,FALSE))","v":0.2109943},{"$f":"IF(C2034=1,\"0\",VLOOKUP(C2034,coefficient2!$A$10:$B$13,2,FALSE))","v":5.8129300000000002E-2},{"$f":"IF(D2034=1,\"0\",VLOOKUP(D2034,coefficient2!$A$16:$B$19,2,FALSE))","v":5.8254399999999998E-2},{"$f":"IF(E2034=1,\"0\",VLOOKUP(E2034,coefficient2!$A$22:$B$25,2,FALSE))","v":5.63998E-2},{"$f":"IF(F2034=1,\"0\",VLOOKUP(F2034,coefficient2!$A$28:$B$31,2,FALSE))","v":9.5753900000000003E-2},0.52046829999999988]
[42224,4,2,2,2,4,14,{"$f":"IF(B2035=1,\"0\",VLOOKUP(B2035,coefficient2!$A$4:$B$7,2,FALSE))","v":0.2109943},{"$f":"IF(C2035=1,\"0\",VLOOKUP(C2035,coefficient2!$A$10:$B$13,2,FALSE))","v":5.8129300000000002E-2},{"$f":"IF(D2035=1,\"0\",VLOOKUP(D2035,coefficient2!$A$16:$B$19,2,FALSE))","v":5.8254399999999998E-2},{"$f":"IF(E2035=1,\"0\",VLOOKUP(E2035,coefficient2!$A$22:$B$25,2,FALSE))","v":5.63998E-2},{"$f":"IF(F2035=1,\"0\",VLOOKUP(F2035,coefficient2!$A$28:$B$31,2,FALSE))","v":0.23270360000000001},0.38351859999999993]
[42225,4,2,2,2,5,15,{"$f":"IF(B2036=1,\"0\",VLOOKUP(B2036,coefficient2!$A$4:$B$7,2,FALSE))","v":0.2109943},{"$f":"IF(C2036=1,\"0\",VLOOKUP(C2036,coefficient2!$A$10:$B$13,2,FALSE))","v":5.8129300000000002E-2},{"$f":"IF(D2036=1,\"0\",VLOOKUP(D2036,coefficient2!$A$16:$B$19,2,FALSE))","v":5.8254399999999998E-2},{"$f":"IF(E2036=1,\"0\",VLOOKUP(E2036,coefficient2!$A$22:$B$25,2,FALSE))","v":5.63998E-2},{"$f":"IF(F2036=1,\"0\",VLOOKUP(F2036,coefficient2!$A$28:$B$31,2,FALSE))","v":0.29534929999999998},0.32087289999999996]
[42231,4,2,2,3,1,12,{"$f":"IF(B2037=1,\"0\",VLOOKUP(B2037,coefficient2!$A$4:$B$7,2,FALSE))","v":0.2109943},{"$f":"IF(C2037=1,\"0\",VLOOKUP(C2037,coefficient2!$A$10:$B$13,2,FALSE))","v":5.8129300000000002E-2},{"$f":"IF(D2037=1,\"0\",VLOOKUP(D2037,coefficient2!$A$16:$B$19,2,FALSE))","v":5.8254399999999998E-2},{"$f":"IF(E2037=1,\"0\",VLOOKUP(E2037,coefficient2!$A$22:$B$25,2,FALSE))","v":6.6492200000000001E-2},{"$f":"IF(F2037=1,\"0\",VLOOKUP(F2037,coefficient2!$A$28:$B$31,2,FALSE))","v":"0"},0.60612979999999994]
[42232,4,2,2,3,2,13,{"$f":"IF(B2038=1,\"0\",VLOOKUP(B2038,coefficient2!$A$4:$B$7,2,FALSE))","v":0.2109943},{"$f":"IF(C2038=1,\"0\",VLOOKUP(C2038,coefficient2!$A$10:$B$13,2,FALSE))","v":5.8129300000000002E-2},{"$f":"IF(D2038=1,\"0\",VLOOKUP(D2038,coefficient2!$A$16:$B$19,2,FALSE))","v":5.8254399999999998E-2},{"$f":"IF(E2038=1,\"0\",VLOOKUP(E2038,coefficient2!$A$22:$B$25,2,FALSE))","v":6.6492200000000001E-2},{"$f":"IF(F2038=1,\"0\",VLOOKUP(F2038,coefficient2!$A$28:$B$31,2,FALSE))","v":5.8085699999999997E-2},0.54804409999999992]
[42233,4,2,2,3,3,14,{"$f":"IF(B2039=1,\"0\",VLOOKUP(B2039,coefficient2!$A$4:$B$7,2,FALSE))","v":0.2109943},{"$f":"IF(C2039=1,\"0\",VLOOKUP(C2039,coefficient2!$A$10:$B$13,2,FALSE))","v":5.8129300000000002E-2},{"$f":"IF(D2039=1,\"0\",VLOOKUP(D2039,coefficient2!$A$16:$B$19,2,FALSE))","v":5.8254399999999998E-2},{"$f":"IF(E2039=1,\"0\",VLOOKUP(E2039,coefficient2!$A$22:$B$25,2,FALSE))","v":6.6492200000000001E-2},{"$f":"IF(F2039=1,\"0\",VLOOKUP(F2039,coefficient2!$A$28:$B$31,2,FALSE))","v":9.5753900000000003E-2},0.51037589999999988]
[42234,4,2,2,3,4,15,{"$f":"IF(B2040=1,\"0\",VLOOKUP(B2040,coefficient2!$A$4:$B$7,2,FALSE))","v":0.2109943},{"$f":"IF(C2040=1,\"0\",VLOOKUP(C2040,coefficient2!$A$10:$B$13,2,FALSE))","v":5.8129300000000002E-2},{"$f":"IF(D2040=1,\"0\",VLOOKUP(D2040,coefficient2!$A$16:$B$19,2,FALSE))","v":5.8254399999999998E-2},{"$f":"IF(E2040=1,\"0\",VLOOKUP(E2040,coefficient2!$A$22:$B$25,2,FALSE))","v":6.6492200000000001E-2},{"$f":"IF(F2040=1,\"0\",VLOOKUP(F2040,coefficient2!$A$28:$B$31,2,FALSE))","v":0.23270360000000001},0.37342619999999993]
[42235,4,2,2,3,5,16,{"$f":"IF(B2041=1,\"0\",VLOOKUP(B2041,coefficient2!$A$4:$B$7,2,FALSE))","v":0.2109943},{"$f":"IF(C2041=1,\"0\",VLOOKUP(C2041,coefficient2!$A$10:$B$13,2,FALSE))","v":5.8129300000000002E-2},{"$f":"IF(D2041=1,\"0\",VLOOKUP(D2041,coefficient2!$A$16:$B$19,2,FALSE))","v":5.8254399999999998E-2},{"$f":"IF(E2041=1,\"0\",VLOOKUP(E2041,coefficient2!$A$22:$B$25,2,FALSE))","v":6.6492200000000001E-2},{"$f":"IF(F2041=1,\"0\",VLOOKUP(F2041,coefficient2!$A$28:$B$31,2,FALSE))","v":0.29534929999999998},0.31078049999999996]
[42241,4,2,2,4,1,13,{"$f":"IF(B2042=1,\"0\",VLOOKUP(B2042,coefficient2!$A$4:$B$7,2,FALSE))","v":0.2109943},{"$f":"IF(C2042=1,\"0\",VLOOKUP(C2042,coefficient2!$A$10:$B$13,2,FALSE))","v":5.8129300000000002E-2},{"$f":"IF(D2042=1,\"0\",VLOOKUP(D2042,coefficient2!$A$16:$B$19,2,FALSE))","v":5.8254399999999998E-2},{"$f":"IF(E2042=1,\"0\",VLOOKUP(E2042,coefficient2!$A$22:$B$25,2,FALSE))","v":0.2068864},{"$f":"IF(F2042=1,\"0\",VLOOKUP(F2042,coefficient2!$A$28:$B$31,2,FALSE))","v":"0"},0.46573559999999992]
[42242,4,2,2,4,2,14,{"$f":"IF(B2043=1,\"0\",VLOOKUP(B2043,coefficient2!$A$4:$B$7,2,FALSE))","v":0.2109943},{"$f":"IF(C2043=1,\"0\",VLOOKUP(C2043,coefficient2!$A$10:$B$13,2,FALSE))","v":5.8129300000000002E-2},{"$f":"IF(D2043=1,\"0\",VLOOKUP(D2043,coefficient2!$A$16:$B$19,2,FALSE))","v":5.8254399999999998E-2},{"$f":"IF(E2043=1,\"0\",VLOOKUP(E2043,coefficient2!$A$22:$B$25,2,FALSE))","v":0.2068864},{"$f":"IF(F2043=1,\"0\",VLOOKUP(F2043,coefficient2!$A$28:$B$31,2,FALSE))","v":5.8085699999999997E-2},0.4076498999999999]
[42243,4,2,2,4,3,15,{"$f":"IF(B2044=1,\"0\",VLOOKUP(B2044,coefficient2!$A$4:$B$7,2,FALSE))","v":0.2109943},{"$f":"IF(C2044=1,\"0\",VLOOKUP(C2044,coefficient2!$A$10:$B$13,2,FALSE))","v":5.8129300000000002E-2},{"$f":"IF(D2044=1,\"0\",VLOOKUP(D2044,coefficient2!$A$16:$B$19,2,FALSE))","v":5.8254399999999998E-2},{"$f":"IF(E2044=1,\"0\",VLOOKUP(E2044,coefficient2!$A$22:$B$25,2,FALSE))","v":0.2068864},{"$f":"IF(F2044=1,\"0\",VLOOKUP(F2044,coefficient2!$A$28:$B$31,2,FALSE))","v":9.5753900000000003E-2},0.36998169999999991]
[42244,4,2,2,4,4,16,{"$f":"IF(B2045=1,\"0\",VLOOKUP(B2045,coefficient2!$A$4:$B$7,2,FALSE))","v":0.2109943},{"$f":"IF(C2045=1,\"0\",VLOOKUP(C2045,coefficient2!$A$10:$B$13,2,FALSE))","v":5.8129300000000002E-2},{"$f":"IF(D2045=1,\"0\",VLOOKUP(D2045,coefficient2!$A$16:$B$19,2,FALSE))","v":5.8254399999999998E-2},{"$f":"IF(E2045=1,\"0\",VLOOKUP(E2045,coefficient2!$A$22:$B$25,2,FALSE))","v":0.2068864},{"$f":"IF(F2045=1,\"0\",VLOOKUP(F2045,coefficient2!$A$28:$B$31,2,FALSE))","v":0.23270360000000001},0.23303199999999991]
[42245,4,2,2,4,5,17,{"$f":"IF(B2046=1,\"0\",VLOOKUP(B2046,coefficient2!$A$4:$B$7,2,FALSE))","v":0.2109943},{"$f":"IF(C2046=1,\"0\",VLOOKUP(C2046,coefficient2!$A$10:$B$13,2,FALSE))","v":5.8129300000000002E-2},{"$f":"IF(D2046=1,\"0\",VLOOKUP(D2046,coefficient2!$A$16:$B$19,2,FALSE))","v":5.8254399999999998E-2},{"$f":"IF(E2046=1,\"0\",VLOOKUP(E2046,coefficient2!$A$22:$B$25,2,FALSE))","v":0.2068864},{"$f":"IF(F2046=1,\"0\",VLOOKUP(F2046,coefficient2!$A$28:$B$31,2,FALSE))","v":0.29534929999999998},0.17038629999999994]
[42251,4,2,2,5,1,14,{"$f":"IF(B2047=1,\"0\",VLOOKUP(B2047,coefficient2!$A$4:$B$7,2,FALSE))","v":0.2109943},{"$f":"IF(C2047=1,\"0\",VLOOKUP(C2047,coefficient2!$A$10:$B$13,2,FALSE))","v":5.8129300000000002E-2},{"$f":"IF(D2047=1,\"0\",VLOOKUP(D2047,coefficient2!$A$16:$B$19,2,FALSE))","v":5.8254399999999998E-2},{"$f":"IF(E2047=1,\"0\",VLOOKUP(E2047,coefficient2!$A$22:$B$25,2,FALSE))","v":0.25643310000000002},{"$f":"IF(F2047=1,\"0\",VLOOKUP(F2047,coefficient2!$A$28:$B$31,2,FALSE))","v":"0"},0.41618889999999992]
[42252,4,2,2,5,2,15,{"$f":"IF(B2048=1,\"0\",VLOOKUP(B2048,coefficient2!$A$4:$B$7,2,FALSE))","v":0.2109943},{"$f":"IF(C2048=1,\"0\",VLOOKUP(C2048,coefficient2!$A$10:$B$13,2,FALSE))","v":5.8129300000000002E-2},{"$f":"IF(D2048=1,\"0\",VLOOKUP(D2048,coefficient2!$A$16:$B$19,2,FALSE))","v":5.8254399999999998E-2},{"$f":"IF(E2048=1,\"0\",VLOOKUP(E2048,coefficient2!$A$22:$B$25,2,FALSE))","v":0.25643310000000002},{"$f":"IF(F2048=1,\"0\",VLOOKUP(F2048,coefficient2!$A$28:$B$31,2,FALSE))","v":5.8085699999999997E-2},0.3581031999999999]
[42253,4,2,2,5,3,16,{"$f":"IF(B2049=1,\"0\",VLOOKUP(B2049,coefficient2!$A$4:$B$7,2,FALSE))","v":0.2109943},{"$f":"IF(C2049=1,\"0\",VLOOKUP(C2049,coefficient2!$A$10:$B$13,2,FALSE))","v":5.8129300000000002E-2},{"$f":"IF(D2049=1,\"0\",VLOOKUP(D2049,coefficient2!$A$16:$B$19,2,FALSE))","v":5.8254399999999998E-2},{"$f":"IF(E2049=1,\"0\",VLOOKUP(E2049,coefficient2!$A$22:$B$25,2,FALSE))","v":0.25643310000000002},{"$f":"IF(F2049=1,\"0\",VLOOKUP(F2049,coefficient2!$A$28:$B$31,2,FALSE))","v":9.5753900000000003E-2},0.32043499999999991]
[42254,4,2,2,5,4,17,{"$f":"IF(B2050=1,\"0\",VLOOKUP(B2050,coefficient2!$A$4:$B$7,2,FALSE))","v":0.2109943},{"$f":"IF(C2050=1,\"0\",VLOOKUP(C2050,coefficient2!$A$10:$B$13,2,FALSE))","v":5.8129300000000002E-2},{"$f":"IF(D2050=1,\"0\",VLOOKUP(D2050,coefficient2!$A$16:$B$19,2,FALSE))","v":5.8254399999999998E-2},{"$f":"IF(E2050=1,\"0\",VLOOKUP(E2050,coefficient2!$A$22:$B$25,2,FALSE))","v":0.25643310000000002},{"$f":"IF(F2050=1,\"0\",VLOOKUP(F2050,coefficient2!$A$28:$B$31,2,FALSE))","v":0.23270360000000001},{"$f":"1-H2050-I2050-J2050-K2050-L2050","v":0.18348529999999991}]
[42255,{"$f":"INT(LEFT(A2051,1))","v":4},{"$f":"INT(MID(A2051,2,1))","v":2},{"$f":"INT(MID(A2051,3,1))","v":2},{"$f":"INT(MID(A2051,4,1))","v":5},{"$f":"INT(RIGHT(A2051,1))","v":5},18,{"$f":"IF(B2051=1,\"0\",VLOOKUP(B2051,coefficient2!$A$4:$B$7,2,FALSE))","v":0.2109943},{"$f":"IF(C2051=1,\"0\",VLOOKUP(C2051,coefficient2!$A$10:$B$13,2,FALSE))","v":5.8129300000000002E-2},{"$f":"IF(D2051=1,\"0\",VLOOKUP(D2051,coefficient2!$A$16:$B$19,2,FALSE))","v":5.8254399999999998E-2},{"$f":"IF(E2051=1,\"0\",VLOOKUP(E2051,coefficient2!$A$22:$B$25,2,FALSE))","v":0.25643310000000002},{"$f":"IF(F2051=1,\"0\",VLOOKUP(F2051,coefficient2!$A$28:$B$31,2,FALSE))","v":0.29534929999999998},0.12083959999999994]
[42311,4,2,3,1,1,11,{"$f":"IF(B2052=1,\"0\",VLOOKUP(B2052,coefficient2!$A$4:$B$7,2,FALSE))","v":0.2109943},{"$f":"IF(C2052=1,\"0\",VLOOKUP(C2052,coefficient2!$A$10:$B$13,2,FALSE))","v":5.8129300000000002E-2},{"$f":"IF(D2052=1,\"0\",VLOOKUP(D2052,coefficient2!$A$16:$B$19,2,FALSE))","v":7.1197399999999994E-2},{"$f":"IF(E2052=1,\"0\",VLOOKUP(E2052,coefficient2!$A$22:$B$25,2,FALSE))","v":"0"},{"$f":"IF(F2052=1,\"0\",VLOOKUP(F2052,coefficient2!$A$28:$B$31,2,FALSE))","v":"0"},0.65967900000000002]
[42312,4,2,3,1,2,12,{"$f":"IF(B2053=1,\"0\",VLOOKUP(B2053,coefficient2!$A$4:$B$7,2,FALSE))","v":0.2109943},{"$f":"IF(C2053=1,\"0\",VLOOKUP(C2053,coefficient2!$A$10:$B$13,2,FALSE))","v":5.8129300000000002E-2},{"$f":"IF(D2053=1,\"0\",VLOOKUP(D2053,coefficient2!$A$16:$B$19,2,FALSE))","v":7.1197399999999994E-2},{"$f":"IF(E2053=1,\"0\",VLOOKUP(E2053,coefficient2!$A$22:$B$25,2,FALSE))","v":"0"},{"$f":"IF(F2053=1,\"0\",VLOOKUP(F2053,coefficient2!$A$28:$B$31,2,FALSE))","v":5.8085699999999997E-2},0.6015933]
[42313,4,2,3,1,3,13,{"$f":"IF(B2054=1,\"0\",VLOOKUP(B2054,coefficient2!$A$4:$B$7,2,FALSE))","v":0.2109943},{"$f":"IF(C2054=1,\"0\",VLOOKUP(C2054,coefficient2!$A$10:$B$13,2,FALSE))","v":5.8129300000000002E-2},{"$f":"IF(D2054=1,\"0\",VLOOKUP(D2054,coefficient2!$A$16:$B$19,2,FALSE))","v":7.1197399999999994E-2},{"$f":"IF(E2054=1,\"0\",VLOOKUP(E2054,coefficient2!$A$22:$B$25,2,FALSE))","v":"0"},{"$f":"IF(F2054=1,\"0\",VLOOKUP(F2054,coefficient2!$A$28:$B$31,2,FALSE))","v":9.5753900000000003E-2},0.56392510000000007]
[42314,4,2,3,1,4,14,{"$f":"IF(B2055=1,\"0\",VLOOKUP(B2055,coefficient2!$A$4:$B$7,2,FALSE))","v":0.2109943},{"$f":"IF(C2055=1,\"0\",VLOOKUP(C2055,coefficient2!$A$10:$B$13,2,FALSE))","v":5.8129300000000002E-2},{"$f":"IF(D2055=1,\"0\",VLOOKUP(D2055,coefficient2!$A$16:$B$19,2,FALSE))","v":7.1197399999999994E-2},{"$f":"IF(E2055=1,\"0\",VLOOKUP(E2055,coefficient2!$A$22:$B$25,2,FALSE))","v":"0"},{"$f":"IF(F2055=1,\"0\",VLOOKUP(F2055,coefficient2!$A$28:$B$31,2,FALSE))","v":0.23270360000000001},0.4269754]
[42315,4,2,3,1,5,15,{"$f":"IF(B2056=1,\"0\",VLOOKUP(B2056,coefficient2!$A$4:$B$7,2,FALSE))","v":0.2109943},{"$f":"IF(C2056=1,\"0\",VLOOKUP(C2056,coefficient2!$A$10:$B$13,2,FALSE))","v":5.8129300000000002E-2},{"$f":"IF(D2056=1,\"0\",VLOOKUP(D2056,coefficient2!$A$16:$B$19,2,FALSE))","v":7.1197399999999994E-2},{"$f":"IF(E2056=1,\"0\",VLOOKUP(E2056,coefficient2!$A$22:$B$25,2,FALSE))","v":"0"},{"$f":"IF(F2056=1,\"0\",VLOOKUP(F2056,coefficient2!$A$28:$B$31,2,FALSE))","v":0.29534929999999998},0.36432970000000003]
[42321,4,2,3,2,1,12,{"$f":"IF(B2057=1,\"0\",VLOOKUP(B2057,coefficient2!$A$4:$B$7,2,FALSE))","v":0.2109943},{"$f":"IF(C2057=1,\"0\",VLOOKUP(C2057,coefficient2!$A$10:$B$13,2,FALSE))","v":5.8129300000000002E-2},{"$f":"IF(D2057=1,\"0\",VLOOKUP(D2057,coefficient2!$A$16:$B$19,2,FALSE))","v":7.1197399999999994E-2},{"$f":"IF(E2057=1,\"0\",VLOOKUP(E2057,coefficient2!$A$22:$B$25,2,FALSE))","v":5.63998E-2},{"$f":"IF(F2057=1,\"0\",VLOOKUP(F2057,coefficient2!$A$28:$B$31,2,FALSE))","v":"0"},0.60327920000000002]
[42322,4,2,3,2,2,13,{"$f":"IF(B2058=1,\"0\",VLOOKUP(B2058,coefficient2!$A$4:$B$7,2,FALSE))","v":0.2109943},{"$f":"IF(C2058=1,\"0\",VLOOKUP(C2058,coefficient2!$A$10:$B$13,2,FALSE))","v":5.8129300000000002E-2},{"$f":"IF(D2058=1,\"0\",VLOOKUP(D2058,coefficient2!$A$16:$B$19,2,FALSE))","v":7.1197399999999994E-2},{"$f":"IF(E2058=1,\"0\",VLOOKUP(E2058,coefficient2!$A$22:$B$25,2,FALSE))","v":5.63998E-2},{"$f":"IF(F2058=1,\"0\",VLOOKUP(F2058,coefficient2!$A$28:$B$31,2,FALSE))","v":5.8085699999999997E-2},0.5451935]
[42323,4,2,3,2,3,14,{"$f":"IF(B2059=1,\"0\",VLOOKUP(B2059,coefficient2!$A$4:$B$7,2,FALSE))","v":0.2109943},{"$f":"IF(C2059=1,\"0\",VLOOKUP(C2059,coefficient2!$A$10:$B$13,2,FALSE))","v":5.8129300000000002E-2},{"$f":"IF(D2059=1,\"0\",VLOOKUP(D2059,coefficient2!$A$16:$B$19,2,FALSE))","v":7.1197399999999994E-2},{"$f":"IF(E2059=1,\"0\",VLOOKUP(E2059,coefficient2!$A$22:$B$25,2,FALSE))","v":5.63998E-2},{"$f":"IF(F2059=1,\"0\",VLOOKUP(F2059,coefficient2!$A$28:$B$31,2,FALSE))","v":9.5753900000000003E-2},0.50752529999999996]
[42324,4,2,3,2,4,15,{"$f":"IF(B2060=1,\"0\",VLOOKUP(B2060,coefficient2!$A$4:$B$7,2,FALSE))","v":0.2109943},{"$f":"IF(C2060=1,\"0\",VLOOKUP(C2060,coefficient2!$A$10:$B$13,2,FALSE))","v":5.8129300000000002E-2},{"$f":"IF(D2060=1,\"0\",VLOOKUP(D2060,coefficient2!$A$16:$B$19,2,FALSE))","v":7.1197399999999994E-2},{"$f":"IF(E2060=1,\"0\",VLOOKUP(E2060,coefficient2!$A$22:$B$25,2,FALSE))","v":5.63998E-2},{"$f":"IF(F2060=1,\"0\",VLOOKUP(F2060,coefficient2!$A$28:$B$31,2,FALSE))","v":0.23270360000000001},0.3705756]
[42325,4,2,3,2,5,16,{"$f":"IF(B2061=1,\"0\",VLOOKUP(B2061,coefficient2!$A$4:$B$7,2,FALSE))","v":0.2109943},{"$f":"IF(C2061=1,\"0\",VLOOKUP(C2061,coefficient2!$A$10:$B$13,2,FALSE))","v":5.8129300000000002E-2},{"$f":"IF(D2061=1,\"0\",VLOOKUP(D2061,coefficient2!$A$16:$B$19,2,FALSE))","v":7.1197399999999994E-2},{"$f":"IF(E2061=1,\"0\",VLOOKUP(E2061,coefficient2!$A$22:$B$25,2,FALSE))","v":5.63998E-2},{"$f":"IF(F2061=1,\"0\",VLOOKUP(F2061,coefficient2!$A$28:$B$31,2,FALSE))","v":0.29534929999999998},0.30792990000000003]
[42331,4,2,3,3,1,13,{"$f":"IF(B2062=1,\"0\",VLOOKUP(B2062,coefficient2!$A$4:$B$7,2,FALSE))","v":0.2109943},{"$f":"IF(C2062=1,\"0\",VLOOKUP(C2062,coefficient2!$A$10:$B$13,2,FALSE))","v":5.8129300000000002E-2},{"$f":"IF(D2062=1,\"0\",VLOOKUP(D2062,coefficient2!$A$16:$B$19,2,FALSE))","v":7.1197399999999994E-2},{"$f":"IF(E2062=1,\"0\",VLOOKUP(E2062,coefficient2!$A$22:$B$25,2,FALSE))","v":6.6492200000000001E-2},{"$f":"IF(F2062=1,\"0\",VLOOKUP(F2062,coefficient2!$A$28:$B$31,2,FALSE))","v":"0"},0.59318680000000001]
[42332,4,2,3,3,2,14,{"$f":"IF(B2063=1,\"0\",VLOOKUP(B2063,coefficient2!$A$4:$B$7,2,FALSE))","v":0.2109943},{"$f":"IF(C2063=1,\"0\",VLOOKUP(C2063,coefficient2!$A$10:$B$13,2,FALSE))","v":5.8129300000000002E-2},{"$f":"IF(D2063=1,\"0\",VLOOKUP(D2063,coefficient2!$A$16:$B$19,2,FALSE))","v":7.1197399999999994E-2},{"$f":"IF(E2063=1,\"0\",VLOOKUP(E2063,coefficient2!$A$22:$B$25,2,FALSE))","v":6.6492200000000001E-2},{"$f":"IF(F2063=1,\"0\",VLOOKUP(F2063,coefficient2!$A$28:$B$31,2,FALSE))","v":5.8085699999999997E-2},0.5351011]
[42333,4,2,3,3,3,15,{"$f":"IF(B2064=1,\"0\",VLOOKUP(B2064,coefficient2!$A$4:$B$7,2,FALSE))","v":0.2109943},{"$f":"IF(C2064=1,\"0\",VLOOKUP(C2064,coefficient2!$A$10:$B$13,2,FALSE))","v":5.8129300000000002E-2},{"$f":"IF(D2064=1,\"0\",VLOOKUP(D2064,coefficient2!$A$16:$B$19,2,FALSE))","v":7.1197399999999994E-2},{"$f":"IF(E2064=1,\"0\",VLOOKUP(E2064,coefficient2!$A$22:$B$25,2,FALSE))","v":6.6492200000000001E-2},{"$f":"IF(F2064=1,\"0\",VLOOKUP(F2064,coefficient2!$A$28:$B$31,2,FALSE))","v":9.5753900000000003E-2},0.49743290000000001]
[42334,4,2,3,3,4,16,{"$f":"IF(B2065=1,\"0\",VLOOKUP(B2065,coefficient2!$A$4:$B$7,2,FALSE))","v":0.2109943},{"$f":"IF(C2065=1,\"0\",VLOOKUP(C2065,coefficient2!$A$10:$B$13,2,FALSE))","v":5.8129300000000002E-2},{"$f":"IF(D2065=1,\"0\",VLOOKUP(D2065,coefficient2!$A$16:$B$19,2,FALSE))","v":7.1197399999999994E-2},{"$f":"IF(E2065=1,\"0\",VLOOKUP(E2065,coefficient2!$A$22:$B$25,2,FALSE))","v":6.6492200000000001E-2},{"$f":"IF(F2065=1,\"0\",VLOOKUP(F2065,coefficient2!$A$28:$B$31,2,FALSE))","v":0.23270360000000001},0.3604832]
[42335,4,2,3,3,5,17,{"$f":"IF(B2066=1,\"0\",VLOOKUP(B2066,coefficient2!$A$4:$B$7,2,FALSE))","v":0.2109943},{"$f":"IF(C2066=1,\"0\",VLOOKUP(C2066,coefficient2!$A$10:$B$13,2,FALSE))","v":5.8129300000000002E-2},{"$f":"IF(D2066=1,\"0\",VLOOKUP(D2066,coefficient2!$A$16:$B$19,2,FALSE))","v":7.1197399999999994E-2},{"$f":"IF(E2066=1,\"0\",VLOOKUP(E2066,coefficient2!$A$22:$B$25,2,FALSE))","v":6.6492200000000001E-2},{"$f":"IF(F2066=1,\"0\",VLOOKUP(F2066,coefficient2!$A$28:$B$31,2,FALSE))","v":0.29534929999999998},0.29783750000000003]
[42341,4,2,3,4,1,14,{"$f":"IF(B2067=1,\"0\",VLOOKUP(B2067,coefficient2!$A$4:$B$7,2,FALSE))","v":0.2109943},{"$f":"IF(C2067=1,\"0\",VLOOKUP(C2067,coefficient2!$A$10:$B$13,2,FALSE))","v":5.8129300000000002E-2},{"$f":"IF(D2067=1,\"0\",VLOOKUP(D2067,coefficient2!$A$16:$B$19,2,FALSE))","v":7.1197399999999994E-2},{"$f":"IF(E2067=1,\"0\",VLOOKUP(E2067,coefficient2!$A$22:$B$25,2,FALSE))","v":0.2068864},{"$f":"IF(F2067=1,\"0\",VLOOKUP(F2067,coefficient2!$A$28:$B$31,2,FALSE))","v":"0"},0.45279259999999999]
[42342,4,2,3,4,2,15,{"$f":"IF(B2068=1,\"0\",VLOOKUP(B2068,coefficient2!$A$4:$B$7,2,FALSE))","v":0.2109943},{"$f":"IF(C2068=1,\"0\",VLOOKUP(C2068,coefficient2!$A$10:$B$13,2,FALSE))","v":5.8129300000000002E-2},{"$f":"IF(D2068=1,\"0\",VLOOKUP(D2068,coefficient2!$A$16:$B$19,2,FALSE))","v":7.1197399999999994E-2},{"$f":"IF(E2068=1,\"0\",VLOOKUP(E2068,coefficient2!$A$22:$B$25,2,FALSE))","v":0.2068864},{"$f":"IF(F2068=1,\"0\",VLOOKUP(F2068,coefficient2!$A$28:$B$31,2,FALSE))","v":5.8085699999999997E-2},0.39470689999999997]
[42343,4,2,3,4,3,{"$f":"SUM(B2069:F2069)","v":16},{"$f":"IF(B2069=1,\"0\",VLOOKUP(B2069,coefficient2!$A$4:$B$7,2,FALSE))","v":0.2109943},{"$f":"IF(C2069=1,\"0\",VLOOKUP(C2069,coefficient2!$A$10:$B$13,2,FALSE))","v":5.8129300000000002E-2},{"$f":"IF(D2069=1,\"0\",VLOOKUP(D2069,coefficient2!$A$16:$B$19,2,FALSE))","v":7.1197399999999994E-2},{"$f":"IF(E2069=1,\"0\",VLOOKUP(E2069,coefficient2!$A$22:$B$25,2,FALSE))","v":0.2068864},{"$f":"IF(F2069=1,\"0\",VLOOKUP(F2069,coefficient2!$A$28:$B$31,2,FALSE))","v":9.5753900000000003E-2},0.35703869999999999]
[42344,4,2,3,4,4,17,{"$f":"IF(B2070=1,\"0\",VLOOKUP(B2070,coefficient2!$A$4:$B$7,2,FALSE))","v":0.2109943},{"$f":"IF(C2070=1,\"0\",VLOOKUP(C2070,coefficient2!$A$10:$B$13,2,FALSE))","v":5.8129300000000002E-2},{"$f":"IF(D2070=1,\"0\",VLOOKUP(D2070,coefficient2!$A$16:$B$19,2,FALSE))","v":7.1197399999999994E-2},{"$f":"IF(E2070=1,\"0\",VLOOKUP(E2070,coefficient2!$A$22:$B$25,2,FALSE))","v":0.2068864},{"$f":"IF(F2070=1,\"0\",VLOOKUP(F2070,coefficient2!$A$28:$B$31,2,FALSE))","v":0.23270360000000001},0.22008899999999998]
[42345,4,2,3,4,5,18,{"$f":"IF(B2071=1,\"0\",VLOOKUP(B2071,coefficient2!$A$4:$B$7,2,FALSE))","v":0.2109943},{"$f":"IF(C2071=1,\"0\",VLOOKUP(C2071,coefficient2!$A$10:$B$13,2,FALSE))","v":5.8129300000000002E-2},{"$f":"IF(D2071=1,\"0\",VLOOKUP(D2071,coefficient2!$A$16:$B$19,2,FALSE))","v":7.1197399999999994E-2},{"$f":"IF(E2071=1,\"0\",VLOOKUP(E2071,coefficient2!$A$22:$B$25,2,FALSE))","v":0.2068864},{"$f":"IF(F2071=1,\"0\",VLOOKUP(F2071,coefficient2!$A$28:$B$31,2,FALSE))","v":0.29534929999999998},0.15744330000000001]
[42351,4,2,3,5,1,15,{"$f":"IF(B2072=1,\"0\",VLOOKUP(B2072,coefficient2!$A$4:$B$7,2,FALSE))","v":0.2109943},{"$f":"IF(C2072=1,\"0\",VLOOKUP(C2072,coefficient2!$A$10:$B$13,2,FALSE))","v":5.8129300000000002E-2},{"$f":"IF(D2072=1,\"0\",VLOOKUP(D2072,coefficient2!$A$16:$B$19,2,FALSE))","v":7.1197399999999994E-2},{"$f":"IF(E2072=1,\"0\",VLOOKUP(E2072,coefficient2!$A$22:$B$25,2,FALSE))","v":0.25643310000000002},{"$f":"IF(F2072=1,\"0\",VLOOKUP(F2072,coefficient2!$A$28:$B$31,2,FALSE))","v":"0"},0.40324589999999999]
[42352,4,2,3,5,2,16,{"$f":"IF(B2073=1,\"0\",VLOOKUP(B2073,coefficient2!$A$4:$B$7,2,FALSE))","v":0.2109943},{"$f":"IF(C2073=1,\"0\",VLOOKUP(C2073,coefficient2!$A$10:$B$13,2,FALSE))","v":5.8129300000000002E-2},{"$f":"IF(D2073=1,\"0\",VLOOKUP(D2073,coefficient2!$A$16:$B$19,2,FALSE))","v":7.1197399999999994E-2},{"$f":"IF(E2073=1,\"0\",VLOOKUP(E2073,coefficient2!$A$22:$B$25,2,FALSE))","v":0.25643310000000002},{"$f":"IF(F2073=1,\"0\",VLOOKUP(F2073,coefficient2!$A$28:$B$31,2,FALSE))","v":5.8085699999999997E-2},0.34516019999999997]
[42353,4,2,3,5,3,17,{"$f":"IF(B2074=1,\"0\",VLOOKUP(B2074,coefficient2!$A$4:$B$7,2,FALSE))","v":0.2109943},{"$f":"IF(C2074=1,\"0\",VLOOKUP(C2074,coefficient2!$A$10:$B$13,2,FALSE))","v":5.8129300000000002E-2},{"$f":"IF(D2074=1,\"0\",VLOOKUP(D2074,coefficient2!$A$16:$B$19,2,FALSE))","v":7.1197399999999994E-2},{"$f":"IF(E2074=1,\"0\",VLOOKUP(E2074,coefficient2!$A$22:$B$25,2,FALSE))","v":0.25643310000000002},{"$f":"IF(F2074=1,\"0\",VLOOKUP(F2074,coefficient2!$A$28:$B$31,2,FALSE))","v":9.5753900000000003E-2},0.30749199999999999]
[42354,4,2,3,5,4,18,{"$f":"IF(B2075=1,\"0\",VLOOKUP(B2075,coefficient2!$A$4:$B$7,2,FALSE))","v":0.2109943},{"$f":"IF(C2075=1,\"0\",VLOOKUP(C2075,coefficient2!$A$10:$B$13,2,FALSE))","v":5.8129300000000002E-2},{"$f":"IF(D2075=1,\"0\",VLOOKUP(D2075,coefficient2!$A$16:$B$19,2,FALSE))","v":7.1197399999999994E-2},{"$f":"IF(E2075=1,\"0\",VLOOKUP(E2075,coefficient2!$A$22:$B$25,2,FALSE))","v":0.25643310000000002},{"$f":"IF(F2075=1,\"0\",VLOOKUP(F2075,coefficient2!$A$28:$B$31,2,FALSE))","v":0.23270360000000001},0.17054229999999998]
[42355,4,2,3,5,5,19,{"$f":"IF(B2076=1,\"0\",VLOOKUP(B2076,coefficient2!$A$4:$B$7,2,FALSE))","v":0.2109943},{"$f":"IF(C2076=1,\"0\",VLOOKUP(C2076,coefficient2!$A$10:$B$13,2,FALSE))","v":5.8129300000000002E-2},{"$f":"IF(D2076=1,\"0\",VLOOKUP(D2076,coefficient2!$A$16:$B$19,2,FALSE))","v":7.1197399999999994E-2},{"$f":"IF(E2076=1,\"0\",VLOOKUP(E2076,coefficient2!$A$22:$B$25,2,FALSE))","v":0.25643310000000002},{"$f":"IF(F2076=1,\"0\",VLOOKUP(F2076,coefficient2!$A$28:$B$31,2,FALSE))","v":0.29534929999999998},0.10789660000000001]
[42411,4,2,4,1,1,12,{"$f":"IF(B2077=1,\"0\",VLOOKUP(B2077,coefficient2!$A$4:$B$7,2,FALSE))","v":0.2109943},{"$f":"IF(C2077=1,\"0\",VLOOKUP(C2077,coefficient2!$A$10:$B$13,2,FALSE))","v":5.8129300000000002E-2},{"$f":"IF(D2077=1,\"0\",VLOOKUP(D2077,coefficient2!$A$16:$B$19,2,FALSE))","v":0.1534855},{"$f":"IF(E2077=1,\"0\",VLOOKUP(E2077,coefficient2!$A$22:$B$25,2,FALSE))","v":"0"},{"$f":"IF(F2077=1,\"0\",VLOOKUP(F2077,coefficient2!$A$28:$B$31,2,FALSE))","v":"0"},0.57739089999999993]
[42412,4,2,4,1,2,13,{"$f":"IF(B2078=1,\"0\",VLOOKUP(B2078,coefficient2!$A$4:$B$7,2,FALSE))","v":0.2109943},{"$f":"IF(C2078=1,\"0\",VLOOKUP(C2078,coefficient2!$A$10:$B$13,2,FALSE))","v":5.8129300000000002E-2},{"$f":"IF(D2078=1,\"0\",VLOOKUP(D2078,coefficient2!$A$16:$B$19,2,FALSE))","v":0.1534855},{"$f":"IF(E2078=1,\"0\",VLOOKUP(E2078,coefficient2!$A$22:$B$25,2,FALSE))","v":"0"},{"$f":"IF(F2078=1,\"0\",VLOOKUP(F2078,coefficient2!$A$28:$B$31,2,FALSE))","v":5.8085699999999997E-2},0.51930519999999991]
[42413,4,2,4,1,3,14,{"$f":"IF(B2079=1,\"0\",VLOOKUP(B2079,coefficient2!$A$4:$B$7,2,FALSE))","v":0.2109943},{"$f":"IF(C2079=1,\"0\",VLOOKUP(C2079,coefficient2!$A$10:$B$13,2,FALSE))","v":5.8129300000000002E-2},{"$f":"IF(D2079=1,\"0\",VLOOKUP(D2079,coefficient2!$A$16:$B$19,2,FALSE))","v":0.1534855},{"$f":"IF(E2079=1,\"0\",VLOOKUP(E2079,coefficient2!$A$22:$B$25,2,FALSE))","v":"0"},{"$f":"IF(F2079=1,\"0\",VLOOKUP(F2079,coefficient2!$A$28:$B$31,2,FALSE))","v":9.5753900000000003E-2},0.48163699999999993]
[42414,4,2,4,1,4,15,{"$f":"IF(B2080=1,\"0\",VLOOKUP(B2080,coefficient2!$A$4:$B$7,2,FALSE))","v":0.2109943},{"$f":"IF(C2080=1,\"0\",VLOOKUP(C2080,coefficient2!$A$10:$B$13,2,FALSE))","v":5.8129300000000002E-2},{"$f":"IF(D2080=1,\"0\",VLOOKUP(D2080,coefficient2!$A$16:$B$19,2,FALSE))","v":0.1534855},{"$f":"IF(E2080=1,\"0\",VLOOKUP(E2080,coefficient2!$A$22:$B$25,2,FALSE))","v":"0"},{"$f":"IF(F2080=1,\"0\",VLOOKUP(F2080,coefficient2!$A$28:$B$31,2,FALSE))","v":0.23270360000000001},0.34468729999999992]
[42415,4,2,4,1,5,16,{"$f":"IF(B2081=1,\"0\",VLOOKUP(B2081,coefficient2!$A$4:$B$7,2,FALSE))","v":0.2109943},{"$f":"IF(C2081=1,\"0\",VLOOKUP(C2081,coefficient2!$A$10:$B$13,2,FALSE))","v":5.8129300000000002E-2},{"$f":"IF(D2081=1,\"0\",VLOOKUP(D2081,coefficient2!$A$16:$B$19,2,FALSE))","v":0.1534855},{"$f":"IF(E2081=1,\"0\",VLOOKUP(E2081,coefficient2!$A$22:$B$25,2,FALSE))","v":"0"},{"$f":"IF(F2081=1,\"0\",VLOOKUP(F2081,coefficient2!$A$28:$B$31,2,FALSE))","v":0.29534929999999998},0.28204159999999995]
[42421,4,2,4,2,1,13,{"$f":"IF(B2082=1,\"0\",VLOOKUP(B2082,coefficient2!$A$4:$B$7,2,FALSE))","v":0.2109943},{"$f":"IF(C2082=1,\"0\",VLOOKUP(C2082,coefficient2!$A$10:$B$13,2,FALSE))","v":5.8129300000000002E-2},{"$f":"IF(D2082=1,\"0\",VLOOKUP(D2082,coefficient2!$A$16:$B$19,2,FALSE))","v":0.1534855},{"$f":"IF(E2082=1,\"0\",VLOOKUP(E2082,coefficient2!$A$22:$B$25,2,FALSE))","v":5.63998E-2},{"$f":"IF(F2082=1,\"0\",VLOOKUP(F2082,coefficient2!$A$28:$B$31,2,FALSE))","v":"0"},0.52099109999999993]
[42422,4,2,4,2,2,14,{"$f":"IF(B2083=1,\"0\",VLOOKUP(B2083,coefficient2!$A$4:$B$7,2,FALSE))","v":0.2109943},{"$f":"IF(C2083=1,\"0\",VLOOKUP(C2083,coefficient2!$A$10:$B$13,2,FALSE))","v":5.8129300000000002E-2},{"$f":"IF(D2083=1,\"0\",VLOOKUP(D2083,coefficient2!$A$16:$B$19,2,FALSE))","v":0.1534855},{"$f":"IF(E2083=1,\"0\",VLOOKUP(E2083,coefficient2!$A$22:$B$25,2,FALSE))","v":5.63998E-2},{"$f":"IF(F2083=1,\"0\",VLOOKUP(F2083,coefficient2!$A$28:$B$31,2,FALSE))","v":5.8085699999999997E-2},0.46290539999999991]
[42423,4,2,4,2,3,15,{"$f":"IF(B2084=1,\"0\",VLOOKUP(B2084,coefficient2!$A$4:$B$7,2,FALSE))","v":0.2109943},{"$f":"IF(C2084=1,\"0\",VLOOKUP(C2084,coefficient2!$A$10:$B$13,2,FALSE))","v":5.8129300000000002E-2},{"$f":"IF(D2084=1,\"0\",VLOOKUP(D2084,coefficient2!$A$16:$B$19,2,FALSE))","v":0.1534855},{"$f":"IF(E2084=1,\"0\",VLOOKUP(E2084,coefficient2!$A$22:$B$25,2,FALSE))","v":5.63998E-2},{"$f":"IF(F2084=1,\"0\",VLOOKUP(F2084,coefficient2!$A$28:$B$31,2,FALSE))","v":9.5753900000000003E-2},0.42523719999999993]
[42424,4,2,4,2,4,16,{"$f":"IF(B2085=1,\"0\",VLOOKUP(B2085,coefficient2!$A$4:$B$7,2,FALSE))","v":0.2109943},{"$f":"IF(C2085=1,\"0\",VLOOKUP(C2085,coefficient2!$A$10:$B$13,2,FALSE))","v":5.8129300000000002E-2},{"$f":"IF(D2085=1,\"0\",VLOOKUP(D2085,coefficient2!$A$16:$B$19,2,FALSE))","v":0.1534855},{"$f":"IF(E2085=1,\"0\",VLOOKUP(E2085,coefficient2!$A$22:$B$25,2,FALSE))","v":5.63998E-2},{"$f":"IF(F2085=1,\"0\",VLOOKUP(F2085,coefficient2!$A$28:$B$31,2,FALSE))","v":0.23270360000000001},0.28828749999999992]
[42425,4,2,4,2,5,17,{"$f":"IF(B2086=1,\"0\",VLOOKUP(B2086,coefficient2!$A$4:$B$7,2,FALSE))","v":0.2109943},{"$f":"IF(C2086=1,\"0\",VLOOKUP(C2086,coefficient2!$A$10:$B$13,2,FALSE))","v":5.8129300000000002E-2},{"$f":"IF(D2086=1,\"0\",VLOOKUP(D2086,coefficient2!$A$16:$B$19,2,FALSE))","v":0.1534855},{"$f":"IF(E2086=1,\"0\",VLOOKUP(E2086,coefficient2!$A$22:$B$25,2,FALSE))","v":5.63998E-2},{"$f":"IF(F2086=1,\"0\",VLOOKUP(F2086,coefficient2!$A$28:$B$31,2,FALSE))","v":0.29534929999999998},0.22564179999999995]
[42431,4,2,4,3,1,14,{"$f":"IF(B2087=1,\"0\",VLOOKUP(B2087,coefficient2!$A$4:$B$7,2,FALSE))","v":0.2109943},{"$f":"IF(C2087=1,\"0\",VLOOKUP(C2087,coefficient2!$A$10:$B$13,2,FALSE))","v":5.8129300000000002E-2},{"$f":"IF(D2087=1,\"0\",VLOOKUP(D2087,coefficient2!$A$16:$B$19,2,FALSE))","v":0.1534855},{"$f":"IF(E2087=1,\"0\",VLOOKUP(E2087,coefficient2!$A$22:$B$25,2,FALSE))","v":6.6492200000000001E-2},{"$f":"IF(F2087=1,\"0\",VLOOKUP(F2087,coefficient2!$A$28:$B$31,2,FALSE))","v":"0"},0.51089869999999993]
[42432,4,2,4,3,2,15,{"$f":"IF(B2088=1,\"0\",VLOOKUP(B2088,coefficient2!$A$4:$B$7,2,FALSE))","v":0.2109943},{"$f":"IF(C2088=1,\"0\",VLOOKUP(C2088,coefficient2!$A$10:$B$13,2,FALSE))","v":5.8129300000000002E-2},{"$f":"IF(D2088=1,\"0\",VLOOKUP(D2088,coefficient2!$A$16:$B$19,2,FALSE))","v":0.1534855},{"$f":"IF(E2088=1,\"0\",VLOOKUP(E2088,coefficient2!$A$22:$B$25,2,FALSE))","v":6.6492200000000001E-2},{"$f":"IF(F2088=1,\"0\",VLOOKUP(F2088,coefficient2!$A$28:$B$31,2,FALSE))","v":5.8085699999999997E-2},0.45281299999999991]
[42433,4,2,4,3,3,16,{"$f":"IF(B2089=1,\"0\",VLOOKUP(B2089,coefficient2!$A$4:$B$7,2,FALSE))","v":0.2109943},{"$f":"IF(C2089=1,\"0\",VLOOKUP(C2089,coefficient2!$A$10:$B$13,2,FALSE))","v":5.8129300000000002E-2},{"$f":"IF(D2089=1,\"0\",VLOOKUP(D2089,coefficient2!$A$16:$B$19,2,FALSE))","v":0.1534855},{"$f":"IF(E2089=1,\"0\",VLOOKUP(E2089,coefficient2!$A$22:$B$25,2,FALSE))","v":6.6492200000000001E-2},{"$f":"IF(F2089=1,\"0\",VLOOKUP(F2089,coefficient2!$A$28:$B$31,2,FALSE))","v":9.5753900000000003E-2},0.41514479999999992]
[42434,4,2,4,3,4,17,{"$f":"IF(B2090=1,\"0\",VLOOKUP(B2090,coefficient2!$A$4:$B$7,2,FALSE))","v":0.2109943},{"$f":"IF(C2090=1,\"0\",VLOOKUP(C2090,coefficient2!$A$10:$B$13,2,FALSE))","v":5.8129300000000002E-2},{"$f":"IF(D2090=1,\"0\",VLOOKUP(D2090,coefficient2!$A$16:$B$19,2,FALSE))","v":0.1534855},{"$f":"IF(E2090=1,\"0\",VLOOKUP(E2090,coefficient2!$A$22:$B$25,2,FALSE))","v":6.6492200000000001E-2},{"$f":"IF(F2090=1,\"0\",VLOOKUP(F2090,coefficient2!$A$28:$B$31,2,FALSE))","v":0.23270360000000001},0.27819509999999992]
[42435,4,2,4,3,5,18,{"$f":"IF(B2091=1,\"0\",VLOOKUP(B2091,coefficient2!$A$4:$B$7,2,FALSE))","v":0.2109943},{"$f":"IF(C2091=1,\"0\",VLOOKUP(C2091,coefficient2!$A$10:$B$13,2,FALSE))","v":5.8129300000000002E-2},{"$f":"IF(D2091=1,\"0\",VLOOKUP(D2091,coefficient2!$A$16:$B$19,2,FALSE))","v":0.1534855},{"$f":"IF(E2091=1,\"0\",VLOOKUP(E2091,coefficient2!$A$22:$B$25,2,FALSE))","v":6.6492200000000001E-2},{"$f":"IF(F2091=1,\"0\",VLOOKUP(F2091,coefficient2!$A$28:$B$31,2,FALSE))","v":0.29534929999999998},0.21554939999999995]
[42441,4,2,4,4,1,15,{"$f":"IF(B2092=1,\"0\",VLOOKUP(B2092,coefficient2!$A$4:$B$7,2,FALSE))","v":0.2109943},{"$f":"IF(C2092=1,\"0\",VLOOKUP(C2092,coefficient2!$A$10:$B$13,2,FALSE))","v":5.8129300000000002E-2},{"$f":"IF(D2092=1,\"0\",VLOOKUP(D2092,coefficient2!$A$16:$B$19,2,FALSE))","v":0.1534855},{"$f":"IF(E2092=1,\"0\",VLOOKUP(E2092,coefficient2!$A$22:$B$25,2,FALSE))","v":0.2068864},{"$f":"IF(F2092=1,\"0\",VLOOKUP(F2092,coefficient2!$A$28:$B$31,2,FALSE))","v":"0"},0.3705044999999999]
[42442,4,2,4,4,2,16,{"$f":"IF(B2093=1,\"0\",VLOOKUP(B2093,coefficient2!$A$4:$B$7,2,FALSE))","v":0.2109943},{"$f":"IF(C2093=1,\"0\",VLOOKUP(C2093,coefficient2!$A$10:$B$13,2,FALSE))","v":5.8129300000000002E-2},{"$f":"IF(D2093=1,\"0\",VLOOKUP(D2093,coefficient2!$A$16:$B$19,2,FALSE))","v":0.1534855},{"$f":"IF(E2093=1,\"0\",VLOOKUP(E2093,coefficient2!$A$22:$B$25,2,FALSE))","v":0.2068864},{"$f":"IF(F2093=1,\"0\",VLOOKUP(F2093,coefficient2!$A$28:$B$31,2,FALSE))","v":5.8085699999999997E-2},0.31241879999999989]
[42443,4,2,4,4,3,17,{"$f":"IF(B2094=1,\"0\",VLOOKUP(B2094,coefficient2!$A$4:$B$7,2,FALSE))","v":0.2109943},{"$f":"IF(C2094=1,\"0\",VLOOKUP(C2094,coefficient2!$A$10:$B$13,2,FALSE))","v":5.8129300000000002E-2},{"$f":"IF(D2094=1,\"0\",VLOOKUP(D2094,coefficient2!$A$16:$B$19,2,FALSE))","v":0.1534855},{"$f":"IF(E2094=1,\"0\",VLOOKUP(E2094,coefficient2!$A$22:$B$25,2,FALSE))","v":0.2068864},{"$f":"IF(F2094=1,\"0\",VLOOKUP(F2094,coefficient2!$A$28:$B$31,2,FALSE))","v":9.5753900000000003E-2},0.2747505999999999]
[42444,4,2,4,4,4,18,{"$f":"IF(B2095=1,\"0\",VLOOKUP(B2095,coefficient2!$A$4:$B$7,2,FALSE))","v":0.2109943},{"$f":"IF(C2095=1,\"0\",VLOOKUP(C2095,coefficient2!$A$10:$B$13,2,FALSE))","v":5.8129300000000002E-2},{"$f":"IF(D2095=1,\"0\",VLOOKUP(D2095,coefficient2!$A$16:$B$19,2,FALSE))","v":0.1534855},{"$f":"IF(E2095=1,\"0\",VLOOKUP(E2095,coefficient2!$A$22:$B$25,2,FALSE))","v":0.2068864},{"$f":"IF(F2095=1,\"0\",VLOOKUP(F2095,coefficient2!$A$28:$B$31,2,FALSE))","v":0.23270360000000001},0.13780089999999989]
[42445,4,2,4,4,5,19,{"$f":"IF(B2096=1,\"0\",VLOOKUP(B2096,coefficient2!$A$4:$B$7,2,FALSE))","v":0.2109943},{"$f":"IF(C2096=1,\"0\",VLOOKUP(C2096,coefficient2!$A$10:$B$13,2,FALSE))","v":5.8129300000000002E-2},{"$f":"IF(D2096=1,\"0\",VLOOKUP(D2096,coefficient2!$A$16:$B$19,2,FALSE))","v":0.1534855},{"$f":"IF(E2096=1,\"0\",VLOOKUP(E2096,coefficient2!$A$22:$B$25,2,FALSE))","v":0.2068864},{"$f":"IF(F2096=1,\"0\",VLOOKUP(F2096,coefficient2!$A$28:$B$31,2,FALSE))","v":0.29534929999999998},7.5155199999999922E-2]
[42451,4,2,4,5,1,16,{"$f":"IF(B2097=1,\"0\",VLOOKUP(B2097,coefficient2!$A$4:$B$7,2,FALSE))","v":0.2109943},{"$f":"IF(C2097=1,\"0\",VLOOKUP(C2097,coefficient2!$A$10:$B$13,2,FALSE))","v":5.8129300000000002E-2},{"$f":"IF(D2097=1,\"0\",VLOOKUP(D2097,coefficient2!$A$16:$B$19,2,FALSE))","v":0.1534855},{"$f":"IF(E2097=1,\"0\",VLOOKUP(E2097,coefficient2!$A$22:$B$25,2,FALSE))","v":0.25643310000000002},{"$f":"IF(F2097=1,\"0\",VLOOKUP(F2097,coefficient2!$A$28:$B$31,2,FALSE))","v":"0"},0.3209577999999999]
[42452,4,2,4,5,2,17,{"$f":"IF(B2098=1,\"0\",VLOOKUP(B2098,coefficient2!$A$4:$B$7,2,FALSE))","v":0.2109943},{"$f":"IF(C2098=1,\"0\",VLOOKUP(C2098,coefficient2!$A$10:$B$13,2,FALSE))","v":5.8129300000000002E-2},{"$f":"IF(D2098=1,\"0\",VLOOKUP(D2098,coefficient2!$A$16:$B$19,2,FALSE))","v":0.1534855},{"$f":"IF(E2098=1,\"0\",VLOOKUP(E2098,coefficient2!$A$22:$B$25,2,FALSE))","v":0.25643310000000002},{"$f":"IF(F2098=1,\"0\",VLOOKUP(F2098,coefficient2!$A$28:$B$31,2,FALSE))","v":5.8085699999999997E-2},0.26287209999999989]
[42453,4,2,4,5,3,18,{"$f":"IF(B2099=1,\"0\",VLOOKUP(B2099,coefficient2!$A$4:$B$7,2,FALSE))","v":0.2109943},{"$f":"IF(C2099=1,\"0\",VLOOKUP(C2099,coefficient2!$A$10:$B$13,2,FALSE))","v":5.8129300000000002E-2},{"$f":"IF(D2099=1,\"0\",VLOOKUP(D2099,coefficient2!$A$16:$B$19,2,FALSE))","v":0.1534855},{"$f":"IF(E2099=1,\"0\",VLOOKUP(E2099,coefficient2!$A$22:$B$25,2,FALSE))","v":0.25643310000000002},{"$f":"IF(F2099=1,\"0\",VLOOKUP(F2099,coefficient2!$A$28:$B$31,2,FALSE))","v":9.5753900000000003E-2},0.2252038999999999]
[42454,4,2,4,5,4,19,{"$f":"IF(B2100=1,\"0\",VLOOKUP(B2100,coefficient2!$A$4:$B$7,2,FALSE))","v":0.2109943},{"$f":"IF(C2100=1,\"0\",VLOOKUP(C2100,coefficient2!$A$10:$B$13,2,FALSE))","v":5.8129300000000002E-2},{"$f":"IF(D2100=1,\"0\",VLOOKUP(D2100,coefficient2!$A$16:$B$19,2,FALSE))","v":0.1534855},{"$f":"IF(E2100=1,\"0\",VLOOKUP(E2100,coefficient2!$A$22:$B$25,2,FALSE))","v":0.25643310000000002},{"$f":"IF(F2100=1,\"0\",VLOOKUP(F2100,coefficient2!$A$28:$B$31,2,FALSE))","v":0.23270360000000001},8.8254199999999894E-2]
[42455,4,2,4,5,5,20,{"$f":"IF(B2101=1,\"0\",VLOOKUP(B2101,coefficient2!$A$4:$B$7,2,FALSE))","v":0.2109943},{"$f":"IF(C2101=1,\"0\",VLOOKUP(C2101,coefficient2!$A$10:$B$13,2,FALSE))","v":5.8129300000000002E-2},{"$f":"IF(D2101=1,\"0\",VLOOKUP(D2101,coefficient2!$A$16:$B$19,2,FALSE))","v":0.1534855},{"$f":"IF(E2101=1,\"0\",VLOOKUP(E2101,coefficient2!$A$22:$B$25,2,FALSE))","v":0.25643310000000002},{"$f":"IF(F2101=1,\"0\",VLOOKUP(F2101,coefficient2!$A$28:$B$31,2,FALSE))","v":0.29534929999999998},2.5608499999999923E-2]
[42511,4,2,5,1,1,13,{"$f":"IF(B2102=1,\"0\",VLOOKUP(B2102,coefficient2!$A$4:$B$7,2,FALSE))","v":0.2109943},{"$f":"IF(C2102=1,\"0\",VLOOKUP(C2102,coefficient2!$A$10:$B$13,2,FALSE))","v":5.8129300000000002E-2},{"$f":"IF(D2102=1,\"0\",VLOOKUP(D2102,coefficient2!$A$16:$B$19,2,FALSE))","v":0.248331},{"$f":"IF(E2102=1,\"0\",VLOOKUP(E2102,coefficient2!$A$22:$B$25,2,FALSE))","v":"0"},{"$f":"IF(F2102=1,\"0\",VLOOKUP(F2102,coefficient2!$A$28:$B$31,2,FALSE))","v":"0"},0.48254540000000001]
[42512,4,2,5,1,2,14,{"$f":"IF(B2103=1,\"0\",VLOOKUP(B2103,coefficient2!$A$4:$B$7,2,FALSE))","v":0.2109943},{"$f":"IF(C2103=1,\"0\",VLOOKUP(C2103,coefficient2!$A$10:$B$13,2,FALSE))","v":5.8129300000000002E-2},{"$f":"IF(D2103=1,\"0\",VLOOKUP(D2103,coefficient2!$A$16:$B$19,2,FALSE))","v":0.248331},{"$f":"IF(E2103=1,\"0\",VLOOKUP(E2103,coefficient2!$A$22:$B$25,2,FALSE))","v":"0"},{"$f":"IF(F2103=1,\"0\",VLOOKUP(F2103,coefficient2!$A$28:$B$31,2,FALSE))","v":5.8085699999999997E-2},0.4244597]
[42513,4,2,5,1,3,15,{"$f":"IF(B2104=1,\"0\",VLOOKUP(B2104,coefficient2!$A$4:$B$7,2,FALSE))","v":0.2109943},{"$f":"IF(C2104=1,\"0\",VLOOKUP(C2104,coefficient2!$A$10:$B$13,2,FALSE))","v":5.8129300000000002E-2},{"$f":"IF(D2104=1,\"0\",VLOOKUP(D2104,coefficient2!$A$16:$B$19,2,FALSE))","v":0.248331},{"$f":"IF(E2104=1,\"0\",VLOOKUP(E2104,coefficient2!$A$22:$B$25,2,FALSE))","v":"0"},{"$f":"IF(F2104=1,\"0\",VLOOKUP(F2104,coefficient2!$A$28:$B$31,2,FALSE))","v":9.5753900000000003E-2},0.38679150000000001]
[42514,4,2,5,1,4,16,{"$f":"IF(B2105=1,\"0\",VLOOKUP(B2105,coefficient2!$A$4:$B$7,2,FALSE))","v":0.2109943},{"$f":"IF(C2105=1,\"0\",VLOOKUP(C2105,coefficient2!$A$10:$B$13,2,FALSE))","v":5.8129300000000002E-2},{"$f":"IF(D2105=1,\"0\",VLOOKUP(D2105,coefficient2!$A$16:$B$19,2,FALSE))","v":0.248331},{"$f":"IF(E2105=1,\"0\",VLOOKUP(E2105,coefficient2!$A$22:$B$25,2,FALSE))","v":"0"},{"$f":"IF(F2105=1,\"0\",VLOOKUP(F2105,coefficient2!$A$28:$B$31,2,FALSE))","v":0.23270360000000001},0.2498418]
[42515,4,2,5,1,5,17,{"$f":"IF(B2106=1,\"0\",VLOOKUP(B2106,coefficient2!$A$4:$B$7,2,FALSE))","v":0.2109943},{"$f":"IF(C2106=1,\"0\",VLOOKUP(C2106,coefficient2!$A$10:$B$13,2,FALSE))","v":5.8129300000000002E-2},{"$f":"IF(D2106=1,\"0\",VLOOKUP(D2106,coefficient2!$A$16:$B$19,2,FALSE))","v":0.248331},{"$f":"IF(E2106=1,\"0\",VLOOKUP(E2106,coefficient2!$A$22:$B$25,2,FALSE))","v":"0"},{"$f":"IF(F2106=1,\"0\",VLOOKUP(F2106,coefficient2!$A$28:$B$31,2,FALSE))","v":0.29534929999999998},0.18719610000000003]
[42521,4,2,5,2,1,14,{"$f":"IF(B2107=1,\"0\",VLOOKUP(B2107,coefficient2!$A$4:$B$7,2,FALSE))","v":0.2109943},{"$f":"IF(C2107=1,\"0\",VLOOKUP(C2107,coefficient2!$A$10:$B$13,2,FALSE))","v":5.8129300000000002E-2},{"$f":"IF(D2107=1,\"0\",VLOOKUP(D2107,coefficient2!$A$16:$B$19,2,FALSE))","v":0.248331},{"$f":"IF(E2107=1,\"0\",VLOOKUP(E2107,coefficient2!$A$22:$B$25,2,FALSE))","v":5.63998E-2},{"$f":"IF(F2107=1,\"0\",VLOOKUP(F2107,coefficient2!$A$28:$B$31,2,FALSE))","v":"0"},0.42614560000000001]
[42522,4,2,5,2,2,15,{"$f":"IF(B2108=1,\"0\",VLOOKUP(B2108,coefficient2!$A$4:$B$7,2,FALSE))","v":0.2109943},{"$f":"IF(C2108=1,\"0\",VLOOKUP(C2108,coefficient2!$A$10:$B$13,2,FALSE))","v":5.8129300000000002E-2},{"$f":"IF(D2108=1,\"0\",VLOOKUP(D2108,coefficient2!$A$16:$B$19,2,FALSE))","v":0.248331},{"$f":"IF(E2108=1,\"0\",VLOOKUP(E2108,coefficient2!$A$22:$B$25,2,FALSE))","v":5.63998E-2},{"$f":"IF(F2108=1,\"0\",VLOOKUP(F2108,coefficient2!$A$28:$B$31,2,FALSE))","v":5.8085699999999997E-2},0.3680599]
[42523,4,2,5,2,3,16,{"$f":"IF(B2109=1,\"0\",VLOOKUP(B2109,coefficient2!$A$4:$B$7,2,FALSE))","v":0.2109943},{"$f":"IF(C2109=1,\"0\",VLOOKUP(C2109,coefficient2!$A$10:$B$13,2,FALSE))","v":5.8129300000000002E-2},{"$f":"IF(D2109=1,\"0\",VLOOKUP(D2109,coefficient2!$A$16:$B$19,2,FALSE))","v":0.248331},{"$f":"IF(E2109=1,\"0\",VLOOKUP(E2109,coefficient2!$A$22:$B$25,2,FALSE))","v":5.63998E-2},{"$f":"IF(F2109=1,\"0\",VLOOKUP(F2109,coefficient2!$A$28:$B$31,2,FALSE))","v":9.5753900000000003E-2},0.33039170000000001]
[42524,4,2,5,2,4,17,{"$f":"IF(B2110=1,\"0\",VLOOKUP(B2110,coefficient2!$A$4:$B$7,2,FALSE))","v":0.2109943},{"$f":"IF(C2110=1,\"0\",VLOOKUP(C2110,coefficient2!$A$10:$B$13,2,FALSE))","v":5.8129300000000002E-2},{"$f":"IF(D2110=1,\"0\",VLOOKUP(D2110,coefficient2!$A$16:$B$19,2,FALSE))","v":0.248331},{"$f":"IF(E2110=1,\"0\",VLOOKUP(E2110,coefficient2!$A$22:$B$25,2,FALSE))","v":5.63998E-2},{"$f":"IF(F2110=1,\"0\",VLOOKUP(F2110,coefficient2!$A$28:$B$31,2,FALSE))","v":0.23270360000000001},0.193442]
[42525,4,2,5,2,5,18,{"$f":"IF(B2111=1,\"0\",VLOOKUP(B2111,coefficient2!$A$4:$B$7,2,FALSE))","v":0.2109943},{"$f":"IF(C2111=1,\"0\",VLOOKUP(C2111,coefficient2!$A$10:$B$13,2,FALSE))","v":5.8129300000000002E-2},{"$f":"IF(D2111=1,\"0\",VLOOKUP(D2111,coefficient2!$A$16:$B$19,2,FALSE))","v":0.248331},{"$f":"IF(E2111=1,\"0\",VLOOKUP(E2111,coefficient2!$A$22:$B$25,2,FALSE))","v":5.63998E-2},{"$f":"IF(F2111=1,\"0\",VLOOKUP(F2111,coefficient2!$A$28:$B$31,2,FALSE))","v":0.29534929999999998},0.13079630000000003]
[42531,4,2,5,3,1,15,{"$f":"IF(B2112=1,\"0\",VLOOKUP(B2112,coefficient2!$A$4:$B$7,2,FALSE))","v":0.2109943},{"$f":"IF(C2112=1,\"0\",VLOOKUP(C2112,coefficient2!$A$10:$B$13,2,FALSE))","v":5.8129300000000002E-2},{"$f":"IF(D2112=1,\"0\",VLOOKUP(D2112,coefficient2!$A$16:$B$19,2,FALSE))","v":0.248331},{"$f":"IF(E2112=1,\"0\",VLOOKUP(E2112,coefficient2!$A$22:$B$25,2,FALSE))","v":6.6492200000000001E-2},{"$f":"IF(F2112=1,\"0\",VLOOKUP(F2112,coefficient2!$A$28:$B$31,2,FALSE))","v":"0"},0.41605320000000001]
[42532,4,2,5,3,2,16,{"$f":"IF(B2113=1,\"0\",VLOOKUP(B2113,coefficient2!$A$4:$B$7,2,FALSE))","v":0.2109943},{"$f":"IF(C2113=1,\"0\",VLOOKUP(C2113,coefficient2!$A$10:$B$13,2,FALSE))","v":5.8129300000000002E-2},{"$f":"IF(D2113=1,\"0\",VLOOKUP(D2113,coefficient2!$A$16:$B$19,2,FALSE))","v":0.248331},{"$f":"IF(E2113=1,\"0\",VLOOKUP(E2113,coefficient2!$A$22:$B$25,2,FALSE))","v":6.6492200000000001E-2},{"$f":"IF(F2113=1,\"0\",VLOOKUP(F2113,coefficient2!$A$28:$B$31,2,FALSE))","v":5.8085699999999997E-2},0.35796749999999999]
[42533,4,2,5,3,3,17,{"$f":"IF(B2114=1,\"0\",VLOOKUP(B2114,coefficient2!$A$4:$B$7,2,FALSE))","v":0.2109943},{"$f":"IF(C2114=1,\"0\",VLOOKUP(C2114,coefficient2!$A$10:$B$13,2,FALSE))","v":5.8129300000000002E-2},{"$f":"IF(D2114=1,\"0\",VLOOKUP(D2114,coefficient2!$A$16:$B$19,2,FALSE))","v":0.248331},{"$f":"IF(E2114=1,\"0\",VLOOKUP(E2114,coefficient2!$A$22:$B$25,2,FALSE))","v":6.6492200000000001E-2},{"$f":"IF(F2114=1,\"0\",VLOOKUP(F2114,coefficient2!$A$28:$B$31,2,FALSE))","v":9.5753900000000003E-2},{"$f":"1-H2114-I2114-J2114-K2114-L2114","v":0.32029930000000001}]
[42534,{"$f":"INT(LEFT(A2115,1))","v":4},{"$f":"INT(MID(A2115,2,1))","v":2},{"$f":"INT(MID(A2115,3,1))","v":5},{"$f":"INT(MID(A2115,4,1))","v":3},{"$f":"INT(RIGHT(A2115,1))","v":4},18,{"$f":"IF(B2115=1,\"0\",VLOOKUP(B2115,coefficient2!$A$4:$B$7,2,FALSE))","v":0.2109943},{"$f":"IF(C2115=1,\"0\",VLOOKUP(C2115,coefficient2!$A$10:$B$13,2,FALSE))","v":5.8129300000000002E-2},{"$f":"IF(D2115=1,\"0\",VLOOKUP(D2115,coefficient2!$A$16:$B$19,2,FALSE))","v":0.248331},{"$f":"IF(E2115=1,\"0\",VLOOKUP(E2115,coefficient2!$A$22:$B$25,2,FALSE))","v":6.6492200000000001E-2},{"$f":"IF(F2115=1,\"0\",VLOOKUP(F2115,coefficient2!$A$28:$B$31,2,FALSE))","v":0.23270360000000001},0.1833496]
[42535,4,2,5,3,5,19,{"$f":"IF(B2116=1,\"0\",VLOOKUP(B2116,coefficient2!$A$4:$B$7,2,FALSE))","v":0.2109943},{"$f":"IF(C2116=1,\"0\",VLOOKUP(C2116,coefficient2!$A$10:$B$13,2,FALSE))","v":5.8129300000000002E-2},{"$f":"IF(D2116=1,\"0\",VLOOKUP(D2116,coefficient2!$A$16:$B$19,2,FALSE))","v":0.248331},{"$f":"IF(E2116=1,\"0\",VLOOKUP(E2116,coefficient2!$A$22:$B$25,2,FALSE))","v":6.6492200000000001E-2},{"$f":"IF(F2116=1,\"0\",VLOOKUP(F2116,coefficient2!$A$28:$B$31,2,FALSE))","v":0.29534929999999998},0.12070390000000003]
[42541,4,2,5,4,1,16,{"$f":"IF(B2117=1,\"0\",VLOOKUP(B2117,coefficient2!$A$4:$B$7,2,FALSE))","v":0.2109943},{"$f":"IF(C2117=1,\"0\",VLOOKUP(C2117,coefficient2!$A$10:$B$13,2,FALSE))","v":5.8129300000000002E-2},{"$f":"IF(D2117=1,\"0\",VLOOKUP(D2117,coefficient2!$A$16:$B$19,2,FALSE))","v":0.248331},{"$f":"IF(E2117=1,\"0\",VLOOKUP(E2117,coefficient2!$A$22:$B$25,2,FALSE))","v":0.2068864},{"$f":"IF(F2117=1,\"0\",VLOOKUP(F2117,coefficient2!$A$28:$B$31,2,FALSE))","v":"0"},0.27565899999999999]
[42542,4,2,5,4,2,17,{"$f":"IF(B2118=1,\"0\",VLOOKUP(B2118,coefficient2!$A$4:$B$7,2,FALSE))","v":0.2109943},{"$f":"IF(C2118=1,\"0\",VLOOKUP(C2118,coefficient2!$A$10:$B$13,2,FALSE))","v":5.8129300000000002E-2},{"$f":"IF(D2118=1,\"0\",VLOOKUP(D2118,coefficient2!$A$16:$B$19,2,FALSE))","v":0.248331},{"$f":"IF(E2118=1,\"0\",VLOOKUP(E2118,coefficient2!$A$22:$B$25,2,FALSE))","v":0.2068864},{"$f":"IF(F2118=1,\"0\",VLOOKUP(F2118,coefficient2!$A$28:$B$31,2,FALSE))","v":5.8085699999999997E-2},0.2175733]
[42543,4,2,5,4,3,18,{"$f":"IF(B2119=1,\"0\",VLOOKUP(B2119,coefficient2!$A$4:$B$7,2,FALSE))","v":0.2109943},{"$f":"IF(C2119=1,\"0\",VLOOKUP(C2119,coefficient2!$A$10:$B$13,2,FALSE))","v":5.8129300000000002E-2},{"$f":"IF(D2119=1,\"0\",VLOOKUP(D2119,coefficient2!$A$16:$B$19,2,FALSE))","v":0.248331},{"$f":"IF(E2119=1,\"0\",VLOOKUP(E2119,coefficient2!$A$22:$B$25,2,FALSE))","v":0.2068864},{"$f":"IF(F2119=1,\"0\",VLOOKUP(F2119,coefficient2!$A$28:$B$31,2,FALSE))","v":9.5753900000000003E-2},0.17990509999999998]
[42544,4,2,5,4,4,19,{"$f":"IF(B2120=1,\"0\",VLOOKUP(B2120,coefficient2!$A$4:$B$7,2,FALSE))","v":0.2109943},{"$f":"IF(C2120=1,\"0\",VLOOKUP(C2120,coefficient2!$A$10:$B$13,2,FALSE))","v":5.8129300000000002E-2},{"$f":"IF(D2120=1,\"0\",VLOOKUP(D2120,coefficient2!$A$16:$B$19,2,FALSE))","v":0.248331},{"$f":"IF(E2120=1,\"0\",VLOOKUP(E2120,coefficient2!$A$22:$B$25,2,FALSE))","v":0.2068864},{"$f":"IF(F2120=1,\"0\",VLOOKUP(F2120,coefficient2!$A$28:$B$31,2,FALSE))","v":0.23270360000000001},4.2955399999999977E-2]
[42545,4,2,5,4,5,20,{"$f":"IF(B2121=1,\"0\",VLOOKUP(B2121,coefficient2!$A$4:$B$7,2,FALSE))","v":0.2109943},{"$f":"IF(C2121=1,\"0\",VLOOKUP(C2121,coefficient2!$A$10:$B$13,2,FALSE))","v":5.8129300000000002E-2},{"$f":"IF(D2121=1,\"0\",VLOOKUP(D2121,coefficient2!$A$16:$B$19,2,FALSE))","v":0.248331},{"$f":"IF(E2121=1,\"0\",VLOOKUP(E2121,coefficient2!$A$22:$B$25,2,FALSE))","v":0.2068864},{"$f":"IF(F2121=1,\"0\",VLOOKUP(F2121,coefficient2!$A$28:$B$31,2,FALSE))","v":0.29534929999999998},-1.9690299999999994E-2]
[42551,4,2,5,5,1,17,{"$f":"IF(B2122=1,\"0\",VLOOKUP(B2122,coefficient2!$A$4:$B$7,2,FALSE))","v":0.2109943},{"$f":"IF(C2122=1,\"0\",VLOOKUP(C2122,coefficient2!$A$10:$B$13,2,FALSE))","v":5.8129300000000002E-2},{"$f":"IF(D2122=1,\"0\",VLOOKUP(D2122,coefficient2!$A$16:$B$19,2,FALSE))","v":0.248331},{"$f":"IF(E2122=1,\"0\",VLOOKUP(E2122,coefficient2!$A$22:$B$25,2,FALSE))","v":0.25643310000000002},{"$f":"IF(F2122=1,\"0\",VLOOKUP(F2122,coefficient2!$A$28:$B$31,2,FALSE))","v":"0"},0.22611229999999999]
[42552,4,2,5,5,2,18,{"$f":"IF(B2123=1,\"0\",VLOOKUP(B2123,coefficient2!$A$4:$B$7,2,FALSE))","v":0.2109943},{"$f":"IF(C2123=1,\"0\",VLOOKUP(C2123,coefficient2!$A$10:$B$13,2,FALSE))","v":5.8129300000000002E-2},{"$f":"IF(D2123=1,\"0\",VLOOKUP(D2123,coefficient2!$A$16:$B$19,2,FALSE))","v":0.248331},{"$f":"IF(E2123=1,\"0\",VLOOKUP(E2123,coefficient2!$A$22:$B$25,2,FALSE))","v":0.25643310000000002},{"$f":"IF(F2123=1,\"0\",VLOOKUP(F2123,coefficient2!$A$28:$B$31,2,FALSE))","v":5.8085699999999997E-2},0.1680266]
[42553,4,2,5,5,3,19,{"$f":"IF(B2124=1,\"0\",VLOOKUP(B2124,coefficient2!$A$4:$B$7,2,FALSE))","v":0.2109943},{"$f":"IF(C2124=1,\"0\",VLOOKUP(C2124,coefficient2!$A$10:$B$13,2,FALSE))","v":5.8129300000000002E-2},{"$f":"IF(D2124=1,\"0\",VLOOKUP(D2124,coefficient2!$A$16:$B$19,2,FALSE))","v":0.248331},{"$f":"IF(E2124=1,\"0\",VLOOKUP(E2124,coefficient2!$A$22:$B$25,2,FALSE))","v":0.25643310000000002},{"$f":"IF(F2124=1,\"0\",VLOOKUP(F2124,coefficient2!$A$28:$B$31,2,FALSE))","v":9.5753900000000003E-2},0.13035839999999999]
[42554,4,2,5,5,4,20,{"$f":"IF(B2125=1,\"0\",VLOOKUP(B2125,coefficient2!$A$4:$B$7,2,FALSE))","v":0.2109943},{"$f":"IF(C2125=1,\"0\",VLOOKUP(C2125,coefficient2!$A$10:$B$13,2,FALSE))","v":5.8129300000000002E-2},{"$f":"IF(D2125=1,\"0\",VLOOKUP(D2125,coefficient2!$A$16:$B$19,2,FALSE))","v":0.248331},{"$f":"IF(E2125=1,\"0\",VLOOKUP(E2125,coefficient2!$A$22:$B$25,2,FALSE))","v":0.25643310000000002},{"$f":"IF(F2125=1,\"0\",VLOOKUP(F2125,coefficient2!$A$28:$B$31,2,FALSE))","v":0.23270360000000001},-6.5913000000000221E-3]
[42555,4,2,5,5,5,21,{"$f":"IF(B2126=1,\"0\",VLOOKUP(B2126,coefficient2!$A$4:$B$7,2,FALSE))","v":0.2109943},{"$f":"IF(C2126=1,\"0\",VLOOKUP(C2126,coefficient2!$A$10:$B$13,2,FALSE))","v":5.8129300000000002E-2},{"$f":"IF(D2126=1,\"0\",VLOOKUP(D2126,coefficient2!$A$16:$B$19,2,FALSE))","v":0.248331},{"$f":"IF(E2126=1,\"0\",VLOOKUP(E2126,coefficient2!$A$22:$B$25,2,FALSE))","v":0.25643310000000002},{"$f":"IF(F2126=1,\"0\",VLOOKUP(F2126,coefficient2!$A$28:$B$31,2,FALSE))","v":0.29534929999999998},-6.9236999999999993E-2]
[43111,4,3,1,1,1,10,{"$f":"IF(B2127=1,\"0\",VLOOKUP(B2127,coefficient2!$A$4:$B$7,2,FALSE))","v":0.2109943},{"$f":"IF(C2127=1,\"0\",VLOOKUP(C2127,coefficient2!$A$10:$B$13,2,FALSE))","v":7.0631200000000005E-2},{"$f":"IF(D2127=1,\"0\",VLOOKUP(D2127,coefficient2!$A$16:$B$19,2,FALSE))","v":"0"},{"$f":"IF(E2127=1,\"0\",VLOOKUP(E2127,coefficient2!$A$22:$B$25,2,FALSE))","v":"0"},{"$f":"IF(F2127=1,\"0\",VLOOKUP(F2127,coefficient2!$A$28:$B$31,2,FALSE))","v":"0"},0.71837450000000003]
[43112,4,3,1,1,2,11,{"$f":"IF(B2128=1,\"0\",VLOOKUP(B2128,coefficient2!$A$4:$B$7,2,FALSE))","v":0.2109943},{"$f":"IF(C2128=1,\"0\",VLOOKUP(C2128,coefficient2!$A$10:$B$13,2,FALSE))","v":7.0631200000000005E-2},{"$f":"IF(D2128=1,\"0\",VLOOKUP(D2128,coefficient2!$A$16:$B$19,2,FALSE))","v":"0"},{"$f":"IF(E2128=1,\"0\",VLOOKUP(E2128,coefficient2!$A$22:$B$25,2,FALSE))","v":"0"},{"$f":"IF(F2128=1,\"0\",VLOOKUP(F2128,coefficient2!$A$28:$B$31,2,FALSE))","v":5.8085699999999997E-2},0.66028880000000001]
[43113,4,3,1,1,3,12,{"$f":"IF(B2129=1,\"0\",VLOOKUP(B2129,coefficient2!$A$4:$B$7,2,FALSE))","v":0.2109943},{"$f":"IF(C2129=1,\"0\",VLOOKUP(C2129,coefficient2!$A$10:$B$13,2,FALSE))","v":7.0631200000000005E-2},{"$f":"IF(D2129=1,\"0\",VLOOKUP(D2129,coefficient2!$A$16:$B$19,2,FALSE))","v":"0"},{"$f":"IF(E2129=1,\"0\",VLOOKUP(E2129,coefficient2!$A$22:$B$25,2,FALSE))","v":"0"},{"$f":"IF(F2129=1,\"0\",VLOOKUP(F2129,coefficient2!$A$28:$B$31,2,FALSE))","v":9.5753900000000003E-2},0.62262060000000008]
[43114,4,3,1,1,4,13,{"$f":"IF(B2130=1,\"0\",VLOOKUP(B2130,coefficient2!$A$4:$B$7,2,FALSE))","v":0.2109943},{"$f":"IF(C2130=1,\"0\",VLOOKUP(C2130,coefficient2!$A$10:$B$13,2,FALSE))","v":7.0631200000000005E-2},{"$f":"IF(D2130=1,\"0\",VLOOKUP(D2130,coefficient2!$A$16:$B$19,2,FALSE))","v":"0"},{"$f":"IF(E2130=1,\"0\",VLOOKUP(E2130,coefficient2!$A$22:$B$25,2,FALSE))","v":"0"},{"$f":"IF(F2130=1,\"0\",VLOOKUP(F2130,coefficient2!$A$28:$B$31,2,FALSE))","v":0.23270360000000001},0.48567090000000002]
[43115,4,3,1,1,5,14,{"$f":"IF(B2131=1,\"0\",VLOOKUP(B2131,coefficient2!$A$4:$B$7,2,FALSE))","v":0.2109943},{"$f":"IF(C2131=1,\"0\",VLOOKUP(C2131,coefficient2!$A$10:$B$13,2,FALSE))","v":7.0631200000000005E-2},{"$f":"IF(D2131=1,\"0\",VLOOKUP(D2131,coefficient2!$A$16:$B$19,2,FALSE))","v":"0"},{"$f":"IF(E2131=1,\"0\",VLOOKUP(E2131,coefficient2!$A$22:$B$25,2,FALSE))","v":"0"},{"$f":"IF(F2131=1,\"0\",VLOOKUP(F2131,coefficient2!$A$28:$B$31,2,FALSE))","v":0.29534929999999998},0.42302520000000005]
[43121,4,3,1,2,1,11,{"$f":"IF(B2132=1,\"0\",VLOOKUP(B2132,coefficient2!$A$4:$B$7,2,FALSE))","v":0.2109943},{"$f":"IF(C2132=1,\"0\",VLOOKUP(C2132,coefficient2!$A$10:$B$13,2,FALSE))","v":7.0631200000000005E-2},{"$f":"IF(D2132=1,\"0\",VLOOKUP(D2132,coefficient2!$A$16:$B$19,2,FALSE))","v":"0"},{"$f":"IF(E2132=1,\"0\",VLOOKUP(E2132,coefficient2!$A$22:$B$25,2,FALSE))","v":5.63998E-2},{"$f":"IF(F2132=1,\"0\",VLOOKUP(F2132,coefficient2!$A$28:$B$31,2,FALSE))","v":"0"},0.66197470000000003]
[43122,4,3,1,2,2,{"$f":"SUM(B2133:F2133)","v":12},{"$f":"IF(B2133=1,\"0\",VLOOKUP(B2133,coefficient2!$A$4:$B$7,2,FALSE))","v":0.2109943},{"$f":"IF(C2133=1,\"0\",VLOOKUP(C2133,coefficient2!$A$10:$B$13,2,FALSE))","v":7.0631200000000005E-2},{"$f":"IF(D2133=1,\"0\",VLOOKUP(D2133,coefficient2!$A$16:$B$19,2,FALSE))","v":"0"},{"$f":"IF(E2133=1,\"0\",VLOOKUP(E2133,coefficient2!$A$22:$B$25,2,FALSE))","v":5.63998E-2},{"$f":"IF(F2133=1,\"0\",VLOOKUP(F2133,coefficient2!$A$28:$B$31,2,FALSE))","v":5.8085699999999997E-2},0.60388900000000001]
[43123,4,3,1,2,3,13,{"$f":"IF(B2134=1,\"0\",VLOOKUP(B2134,coefficient2!$A$4:$B$7,2,FALSE))","v":0.2109943},{"$f":"IF(C2134=1,\"0\",VLOOKUP(C2134,coefficient2!$A$10:$B$13,2,FALSE))","v":7.0631200000000005E-2},{"$f":"IF(D2134=1,\"0\",VLOOKUP(D2134,coefficient2!$A$16:$B$19,2,FALSE))","v":"0"},{"$f":"IF(E2134=1,\"0\",VLOOKUP(E2134,coefficient2!$A$22:$B$25,2,FALSE))","v":5.63998E-2},{"$f":"IF(F2134=1,\"0\",VLOOKUP(F2134,coefficient2!$A$28:$B$31,2,FALSE))","v":9.5753900000000003E-2},0.56622079999999997]
[43124,4,3,1,2,4,14,{"$f":"IF(B2135=1,\"0\",VLOOKUP(B2135,coefficient2!$A$4:$B$7,2,FALSE))","v":0.2109943},{"$f":"IF(C2135=1,\"0\",VLOOKUP(C2135,coefficient2!$A$10:$B$13,2,FALSE))","v":7.0631200000000005E-2},{"$f":"IF(D2135=1,\"0\",VLOOKUP(D2135,coefficient2!$A$16:$B$19,2,FALSE))","v":"0"},{"$f":"IF(E2135=1,\"0\",VLOOKUP(E2135,coefficient2!$A$22:$B$25,2,FALSE))","v":5.63998E-2},{"$f":"IF(F2135=1,\"0\",VLOOKUP(F2135,coefficient2!$A$28:$B$31,2,FALSE))","v":0.23270360000000001},0.42927110000000002]
[43125,4,3,1,2,5,15,{"$f":"IF(B2136=1,\"0\",VLOOKUP(B2136,coefficient2!$A$4:$B$7,2,FALSE))","v":0.2109943},{"$f":"IF(C2136=1,\"0\",VLOOKUP(C2136,coefficient2!$A$10:$B$13,2,FALSE))","v":7.0631200000000005E-2},{"$f":"IF(D2136=1,\"0\",VLOOKUP(D2136,coefficient2!$A$16:$B$19,2,FALSE))","v":"0"},{"$f":"IF(E2136=1,\"0\",VLOOKUP(E2136,coefficient2!$A$22:$B$25,2,FALSE))","v":5.63998E-2},{"$f":"IF(F2136=1,\"0\",VLOOKUP(F2136,coefficient2!$A$28:$B$31,2,FALSE))","v":0.29534929999999998},0.36662540000000005]
[43131,4,3,1,3,1,12,{"$f":"IF(B2137=1,\"0\",VLOOKUP(B2137,coefficient2!$A$4:$B$7,2,FALSE))","v":0.2109943},{"$f":"IF(C2137=1,\"0\",VLOOKUP(C2137,coefficient2!$A$10:$B$13,2,FALSE))","v":7.0631200000000005E-2},{"$f":"IF(D2137=1,\"0\",VLOOKUP(D2137,coefficient2!$A$16:$B$19,2,FALSE))","v":"0"},{"$f":"IF(E2137=1,\"0\",VLOOKUP(E2137,coefficient2!$A$22:$B$25,2,FALSE))","v":6.6492200000000001E-2},{"$f":"IF(F2137=1,\"0\",VLOOKUP(F2137,coefficient2!$A$28:$B$31,2,FALSE))","v":"0"},0.65188230000000003]
[43132,4,3,1,3,2,13,{"$f":"IF(B2138=1,\"0\",VLOOKUP(B2138,coefficient2!$A$4:$B$7,2,FALSE))","v":0.2109943},{"$f":"IF(C2138=1,\"0\",VLOOKUP(C2138,coefficient2!$A$10:$B$13,2,FALSE))","v":7.0631200000000005E-2},{"$f":"IF(D2138=1,\"0\",VLOOKUP(D2138,coefficient2!$A$16:$B$19,2,FALSE))","v":"0"},{"$f":"IF(E2138=1,\"0\",VLOOKUP(E2138,coefficient2!$A$22:$B$25,2,FALSE))","v":6.6492200000000001E-2},{"$f":"IF(F2138=1,\"0\",VLOOKUP(F2138,coefficient2!$A$28:$B$31,2,FALSE))","v":5.8085699999999997E-2},0.59379660000000001]
[43133,4,3,1,3,3,14,{"$f":"IF(B2139=1,\"0\",VLOOKUP(B2139,coefficient2!$A$4:$B$7,2,FALSE))","v":0.2109943},{"$f":"IF(C2139=1,\"0\",VLOOKUP(C2139,coefficient2!$A$10:$B$13,2,FALSE))","v":7.0631200000000005E-2},{"$f":"IF(D2139=1,\"0\",VLOOKUP(D2139,coefficient2!$A$16:$B$19,2,FALSE))","v":"0"},{"$f":"IF(E2139=1,\"0\",VLOOKUP(E2139,coefficient2!$A$22:$B$25,2,FALSE))","v":6.6492200000000001E-2},{"$f":"IF(F2139=1,\"0\",VLOOKUP(F2139,coefficient2!$A$28:$B$31,2,FALSE))","v":9.5753900000000003E-2},0.55612839999999997]
[43134,4,3,1,3,4,15,{"$f":"IF(B2140=1,\"0\",VLOOKUP(B2140,coefficient2!$A$4:$B$7,2,FALSE))","v":0.2109943},{"$f":"IF(C2140=1,\"0\",VLOOKUP(C2140,coefficient2!$A$10:$B$13,2,FALSE))","v":7.0631200000000005E-2},{"$f":"IF(D2140=1,\"0\",VLOOKUP(D2140,coefficient2!$A$16:$B$19,2,FALSE))","v":"0"},{"$f":"IF(E2140=1,\"0\",VLOOKUP(E2140,coefficient2!$A$22:$B$25,2,FALSE))","v":6.6492200000000001E-2},{"$f":"IF(F2140=1,\"0\",VLOOKUP(F2140,coefficient2!$A$28:$B$31,2,FALSE))","v":0.23270360000000001},0.41917870000000002]
[43135,4,3,1,3,5,16,{"$f":"IF(B2141=1,\"0\",VLOOKUP(B2141,coefficient2!$A$4:$B$7,2,FALSE))","v":0.2109943},{"$f":"IF(C2141=1,\"0\",VLOOKUP(C2141,coefficient2!$A$10:$B$13,2,FALSE))","v":7.0631200000000005E-2},{"$f":"IF(D2141=1,\"0\",VLOOKUP(D2141,coefficient2!$A$16:$B$19,2,FALSE))","v":"0"},{"$f":"IF(E2141=1,\"0\",VLOOKUP(E2141,coefficient2!$A$22:$B$25,2,FALSE))","v":6.6492200000000001E-2},{"$f":"IF(F2141=1,\"0\",VLOOKUP(F2141,coefficient2!$A$28:$B$31,2,FALSE))","v":0.29534929999999998},0.35653300000000004]
[43141,4,3,1,4,1,13,{"$f":"IF(B2142=1,\"0\",VLOOKUP(B2142,coefficient2!$A$4:$B$7,2,FALSE))","v":0.2109943},{"$f":"IF(C2142=1,\"0\",VLOOKUP(C2142,coefficient2!$A$10:$B$13,2,FALSE))","v":7.0631200000000005E-2},{"$f":"IF(D2142=1,\"0\",VLOOKUP(D2142,coefficient2!$A$16:$B$19,2,FALSE))","v":"0"},{"$f":"IF(E2142=1,\"0\",VLOOKUP(E2142,coefficient2!$A$22:$B$25,2,FALSE))","v":0.2068864},{"$f":"IF(F2142=1,\"0\",VLOOKUP(F2142,coefficient2!$A$28:$B$31,2,FALSE))","v":"0"},0.5114881]
[43142,4,3,1,4,2,14,{"$f":"IF(B2143=1,\"0\",VLOOKUP(B2143,coefficient2!$A$4:$B$7,2,FALSE))","v":0.2109943},{"$f":"IF(C2143=1,\"0\",VLOOKUP(C2143,coefficient2!$A$10:$B$13,2,FALSE))","v":7.0631200000000005E-2},{"$f":"IF(D2143=1,\"0\",VLOOKUP(D2143,coefficient2!$A$16:$B$19,2,FALSE))","v":"0"},{"$f":"IF(E2143=1,\"0\",VLOOKUP(E2143,coefficient2!$A$22:$B$25,2,FALSE))","v":0.2068864},{"$f":"IF(F2143=1,\"0\",VLOOKUP(F2143,coefficient2!$A$28:$B$31,2,FALSE))","v":5.8085699999999997E-2},0.45340239999999998]
[43143,4,3,1,4,3,15,{"$f":"IF(B2144=1,\"0\",VLOOKUP(B2144,coefficient2!$A$4:$B$7,2,FALSE))","v":0.2109943},{"$f":"IF(C2144=1,\"0\",VLOOKUP(C2144,coefficient2!$A$10:$B$13,2,FALSE))","v":7.0631200000000005E-2},{"$f":"IF(D2144=1,\"0\",VLOOKUP(D2144,coefficient2!$A$16:$B$19,2,FALSE))","v":"0"},{"$f":"IF(E2144=1,\"0\",VLOOKUP(E2144,coefficient2!$A$22:$B$25,2,FALSE))","v":0.2068864},{"$f":"IF(F2144=1,\"0\",VLOOKUP(F2144,coefficient2!$A$28:$B$31,2,FALSE))","v":9.5753900000000003E-2},0.4157342]
[43144,4,3,1,4,4,16,{"$f":"IF(B2145=1,\"0\",VLOOKUP(B2145,coefficient2!$A$4:$B$7,2,FALSE))","v":0.2109943},{"$f":"IF(C2145=1,\"0\",VLOOKUP(C2145,coefficient2!$A$10:$B$13,2,FALSE))","v":7.0631200000000005E-2},{"$f":"IF(D2145=1,\"0\",VLOOKUP(D2145,coefficient2!$A$16:$B$19,2,FALSE))","v":"0"},{"$f":"IF(E2145=1,\"0\",VLOOKUP(E2145,coefficient2!$A$22:$B$25,2,FALSE))","v":0.2068864},{"$f":"IF(F2145=1,\"0\",VLOOKUP(F2145,coefficient2!$A$28:$B$31,2,FALSE))","v":0.23270360000000001},0.27878449999999999]
[43145,4,3,1,4,5,17,{"$f":"IF(B2146=1,\"0\",VLOOKUP(B2146,coefficient2!$A$4:$B$7,2,FALSE))","v":0.2109943},{"$f":"IF(C2146=1,\"0\",VLOOKUP(C2146,coefficient2!$A$10:$B$13,2,FALSE))","v":7.0631200000000005E-2},{"$f":"IF(D2146=1,\"0\",VLOOKUP(D2146,coefficient2!$A$16:$B$19,2,FALSE))","v":"0"},{"$f":"IF(E2146=1,\"0\",VLOOKUP(E2146,coefficient2!$A$22:$B$25,2,FALSE))","v":0.2068864},{"$f":"IF(F2146=1,\"0\",VLOOKUP(F2146,coefficient2!$A$28:$B$31,2,FALSE))","v":0.29534929999999998},0.21613880000000002]
[43151,4,3,1,5,1,14,{"$f":"IF(B2147=1,\"0\",VLOOKUP(B2147,coefficient2!$A$4:$B$7,2,FALSE))","v":0.2109943},{"$f":"IF(C2147=1,\"0\",VLOOKUP(C2147,coefficient2!$A$10:$B$13,2,FALSE))","v":7.0631200000000005E-2},{"$f":"IF(D2147=1,\"0\",VLOOKUP(D2147,coefficient2!$A$16:$B$19,2,FALSE))","v":"0"},{"$f":"IF(E2147=1,\"0\",VLOOKUP(E2147,coefficient2!$A$22:$B$25,2,FALSE))","v":0.25643310000000002},{"$f":"IF(F2147=1,\"0\",VLOOKUP(F2147,coefficient2!$A$28:$B$31,2,FALSE))","v":"0"},0.4619414]
[43152,4,3,1,5,2,15,{"$f":"IF(B2148=1,\"0\",VLOOKUP(B2148,coefficient2!$A$4:$B$7,2,FALSE))","v":0.2109943},{"$f":"IF(C2148=1,\"0\",VLOOKUP(C2148,coefficient2!$A$10:$B$13,2,FALSE))","v":7.0631200000000005E-2},{"$f":"IF(D2148=1,\"0\",VLOOKUP(D2148,coefficient2!$A$16:$B$19,2,FALSE))","v":"0"},{"$f":"IF(E2148=1,\"0\",VLOOKUP(E2148,coefficient2!$A$22:$B$25,2,FALSE))","v":0.25643310000000002},{"$f":"IF(F2148=1,\"0\",VLOOKUP(F2148,coefficient2!$A$28:$B$31,2,FALSE))","v":5.8085699999999997E-2},0.40385569999999998]
[43153,4,3,1,5,3,16,{"$f":"IF(B2149=1,\"0\",VLOOKUP(B2149,coefficient2!$A$4:$B$7,2,FALSE))","v":0.2109943},{"$f":"IF(C2149=1,\"0\",VLOOKUP(C2149,coefficient2!$A$10:$B$13,2,FALSE))","v":7.0631200000000005E-2},{"$f":"IF(D2149=1,\"0\",VLOOKUP(D2149,coefficient2!$A$16:$B$19,2,FALSE))","v":"0"},{"$f":"IF(E2149=1,\"0\",VLOOKUP(E2149,coefficient2!$A$22:$B$25,2,FALSE))","v":0.25643310000000002},{"$f":"IF(F2149=1,\"0\",VLOOKUP(F2149,coefficient2!$A$28:$B$31,2,FALSE))","v":9.5753900000000003E-2},0.3661875]
[43154,4,3,1,5,4,17,{"$f":"IF(B2150=1,\"0\",VLOOKUP(B2150,coefficient2!$A$4:$B$7,2,FALSE))","v":0.2109943},{"$f":"IF(C2150=1,\"0\",VLOOKUP(C2150,coefficient2!$A$10:$B$13,2,FALSE))","v":7.0631200000000005E-2},{"$f":"IF(D2150=1,\"0\",VLOOKUP(D2150,coefficient2!$A$16:$B$19,2,FALSE))","v":"0"},{"$f":"IF(E2150=1,\"0\",VLOOKUP(E2150,coefficient2!$A$22:$B$25,2,FALSE))","v":0.25643310000000002},{"$f":"IF(F2150=1,\"0\",VLOOKUP(F2150,coefficient2!$A$28:$B$31,2,FALSE))","v":0.23270360000000001},0.22923779999999999]
[43155,4,3,1,5,5,18,{"$f":"IF(B2151=1,\"0\",VLOOKUP(B2151,coefficient2!$A$4:$B$7,2,FALSE))","v":0.2109943},{"$f":"IF(C2151=1,\"0\",VLOOKUP(C2151,coefficient2!$A$10:$B$13,2,FALSE))","v":7.0631200000000005E-2},{"$f":"IF(D2151=1,\"0\",VLOOKUP(D2151,coefficient2!$A$16:$B$19,2,FALSE))","v":"0"},{"$f":"IF(E2151=1,\"0\",VLOOKUP(E2151,coefficient2!$A$22:$B$25,2,FALSE))","v":0.25643310000000002},{"$f":"IF(F2151=1,\"0\",VLOOKUP(F2151,coefficient2!$A$28:$B$31,2,FALSE))","v":0.29534929999999998},0.16659210000000002]
[43211,4,3,2,1,1,11,{"$f":"IF(B2152=1,\"0\",VLOOKUP(B2152,coefficient2!$A$4:$B$7,2,FALSE))","v":0.2109943},{"$f":"IF(C2152=1,\"0\",VLOOKUP(C2152,coefficient2!$A$10:$B$13,2,FALSE))","v":7.0631200000000005E-2},{"$f":"IF(D2152=1,\"0\",VLOOKUP(D2152,coefficient2!$A$16:$B$19,2,FALSE))","v":5.8254399999999998E-2},{"$f":"IF(E2152=1,\"0\",VLOOKUP(E2152,coefficient2!$A$22:$B$25,2,FALSE))","v":"0"},{"$f":"IF(F2152=1,\"0\",VLOOKUP(F2152,coefficient2!$A$28:$B$31,2,FALSE))","v":"0"},0.66012009999999999]
[43212,4,3,2,1,2,12,{"$f":"IF(B2153=1,\"0\",VLOOKUP(B2153,coefficient2!$A$4:$B$7,2,FALSE))","v":0.2109943},{"$f":"IF(C2153=1,\"0\",VLOOKUP(C2153,coefficient2!$A$10:$B$13,2,FALSE))","v":7.0631200000000005E-2},{"$f":"IF(D2153=1,\"0\",VLOOKUP(D2153,coefficient2!$A$16:$B$19,2,FALSE))","v":5.8254399999999998E-2},{"$f":"IF(E2153=1,\"0\",VLOOKUP(E2153,coefficient2!$A$22:$B$25,2,FALSE))","v":"0"},{"$f":"IF(F2153=1,\"0\",VLOOKUP(F2153,coefficient2!$A$28:$B$31,2,FALSE))","v":5.8085699999999997E-2},0.60203439999999997]
[43213,4,3,2,1,3,13,{"$f":"IF(B2154=1,\"0\",VLOOKUP(B2154,coefficient2!$A$4:$B$7,2,FALSE))","v":0.2109943},{"$f":"IF(C2154=1,\"0\",VLOOKUP(C2154,coefficient2!$A$10:$B$13,2,FALSE))","v":7.0631200000000005E-2},{"$f":"IF(D2154=1,\"0\",VLOOKUP(D2154,coefficient2!$A$16:$B$19,2,FALSE))","v":5.8254399999999998E-2},{"$f":"IF(E2154=1,\"0\",VLOOKUP(E2154,coefficient2!$A$22:$B$25,2,FALSE))","v":"0"},{"$f":"IF(F2154=1,\"0\",VLOOKUP(F2154,coefficient2!$A$28:$B$31,2,FALSE))","v":9.5753900000000003E-2},0.56436620000000004]
[43214,4,3,2,1,4,14,{"$f":"IF(B2155=1,\"0\",VLOOKUP(B2155,coefficient2!$A$4:$B$7,2,FALSE))","v":0.2109943},{"$f":"IF(C2155=1,\"0\",VLOOKUP(C2155,coefficient2!$A$10:$B$13,2,FALSE))","v":7.0631200000000005E-2},{"$f":"IF(D2155=1,\"0\",VLOOKUP(D2155,coefficient2!$A$16:$B$19,2,FALSE))","v":5.8254399999999998E-2},{"$f":"IF(E2155=1,\"0\",VLOOKUP(E2155,coefficient2!$A$22:$B$25,2,FALSE))","v":"0"},{"$f":"IF(F2155=1,\"0\",VLOOKUP(F2155,coefficient2!$A$28:$B$31,2,FALSE))","v":0.23270360000000001},0.42741649999999998]
[43215,4,3,2,1,5,15,{"$f":"IF(B2156=1,\"0\",VLOOKUP(B2156,coefficient2!$A$4:$B$7,2,FALSE))","v":0.2109943},{"$f":"IF(C2156=1,\"0\",VLOOKUP(C2156,coefficient2!$A$10:$B$13,2,FALSE))","v":7.0631200000000005E-2},{"$f":"IF(D2156=1,\"0\",VLOOKUP(D2156,coefficient2!$A$16:$B$19,2,FALSE))","v":5.8254399999999998E-2},{"$f":"IF(E2156=1,\"0\",VLOOKUP(E2156,coefficient2!$A$22:$B$25,2,FALSE))","v":"0"},{"$f":"IF(F2156=1,\"0\",VLOOKUP(F2156,coefficient2!$A$28:$B$31,2,FALSE))","v":0.29534929999999998},0.36477080000000001]
[43221,4,3,2,2,1,12,{"$f":"IF(B2157=1,\"0\",VLOOKUP(B2157,coefficient2!$A$4:$B$7,2,FALSE))","v":0.2109943},{"$f":"IF(C2157=1,\"0\",VLOOKUP(C2157,coefficient2!$A$10:$B$13,2,FALSE))","v":7.0631200000000005E-2},{"$f":"IF(D2157=1,\"0\",VLOOKUP(D2157,coefficient2!$A$16:$B$19,2,FALSE))","v":5.8254399999999998E-2},{"$f":"IF(E2157=1,\"0\",VLOOKUP(E2157,coefficient2!$A$22:$B$25,2,FALSE))","v":5.63998E-2},{"$f":"IF(F2157=1,\"0\",VLOOKUP(F2157,coefficient2!$A$28:$B$31,2,FALSE))","v":"0"},0.60372029999999999]
[43222,4,3,2,2,2,13,{"$f":"IF(B2158=1,\"0\",VLOOKUP(B2158,coefficient2!$A$4:$B$7,2,FALSE))","v":0.2109943},{"$f":"IF(C2158=1,\"0\",VLOOKUP(C2158,coefficient2!$A$10:$B$13,2,FALSE))","v":7.0631200000000005E-2},{"$f":"IF(D2158=1,\"0\",VLOOKUP(D2158,coefficient2!$A$16:$B$19,2,FALSE))","v":5.8254399999999998E-2},{"$f":"IF(E2158=1,\"0\",VLOOKUP(E2158,coefficient2!$A$22:$B$25,2,FALSE))","v":5.63998E-2},{"$f":"IF(F2158=1,\"0\",VLOOKUP(F2158,coefficient2!$A$28:$B$31,2,FALSE))","v":5.8085699999999997E-2},0.54563459999999997]
[43223,4,3,2,2,3,14,{"$f":"IF(B2159=1,\"0\",VLOOKUP(B2159,coefficient2!$A$4:$B$7,2,FALSE))","v":0.2109943},{"$f":"IF(C2159=1,\"0\",VLOOKUP(C2159,coefficient2!$A$10:$B$13,2,FALSE))","v":7.0631200000000005E-2},{"$f":"IF(D2159=1,\"0\",VLOOKUP(D2159,coefficient2!$A$16:$B$19,2,FALSE))","v":5.8254399999999998E-2},{"$f":"IF(E2159=1,\"0\",VLOOKUP(E2159,coefficient2!$A$22:$B$25,2,FALSE))","v":5.63998E-2},{"$f":"IF(F2159=1,\"0\",VLOOKUP(F2159,coefficient2!$A$28:$B$31,2,FALSE))","v":9.5753900000000003E-2},0.50796639999999993]
[43224,4,3,2,2,4,15,{"$f":"IF(B2160=1,\"0\",VLOOKUP(B2160,coefficient2!$A$4:$B$7,2,FALSE))","v":0.2109943},{"$f":"IF(C2160=1,\"0\",VLOOKUP(C2160,coefficient2!$A$10:$B$13,2,FALSE))","v":7.0631200000000005E-2},{"$f":"IF(D2160=1,\"0\",VLOOKUP(D2160,coefficient2!$A$16:$B$19,2,FALSE))","v":5.8254399999999998E-2},{"$f":"IF(E2160=1,\"0\",VLOOKUP(E2160,coefficient2!$A$22:$B$25,2,FALSE))","v":5.63998E-2},{"$f":"IF(F2160=1,\"0\",VLOOKUP(F2160,coefficient2!$A$28:$B$31,2,FALSE))","v":0.23270360000000001},0.37101669999999998]
[43225,4,3,2,2,5,16,{"$f":"IF(B2161=1,\"0\",VLOOKUP(B2161,coefficient2!$A$4:$B$7,2,FALSE))","v":0.2109943},{"$f":"IF(C2161=1,\"0\",VLOOKUP(C2161,coefficient2!$A$10:$B$13,2,FALSE))","v":7.0631200000000005E-2},{"$f":"IF(D2161=1,\"0\",VLOOKUP(D2161,coefficient2!$A$16:$B$19,2,FALSE))","v":5.8254399999999998E-2},{"$f":"IF(E2161=1,\"0\",VLOOKUP(E2161,coefficient2!$A$22:$B$25,2,FALSE))","v":5.63998E-2},{"$f":"IF(F2161=1,\"0\",VLOOKUP(F2161,coefficient2!$A$28:$B$31,2,FALSE))","v":0.29534929999999998},0.30837100000000001]
[43231,4,3,2,3,1,13,{"$f":"IF(B2162=1,\"0\",VLOOKUP(B2162,coefficient2!$A$4:$B$7,2,FALSE))","v":0.2109943},{"$f":"IF(C2162=1,\"0\",VLOOKUP(C2162,coefficient2!$A$10:$B$13,2,FALSE))","v":7.0631200000000005E-2},{"$f":"IF(D2162=1,\"0\",VLOOKUP(D2162,coefficient2!$A$16:$B$19,2,FALSE))","v":5.8254399999999998E-2},{"$f":"IF(E2162=1,\"0\",VLOOKUP(E2162,coefficient2!$A$22:$B$25,2,FALSE))","v":6.6492200000000001E-2},{"$f":"IF(F2162=1,\"0\",VLOOKUP(F2162,coefficient2!$A$28:$B$31,2,FALSE))","v":"0"},0.59362789999999999]
[43232,4,3,2,3,2,14,{"$f":"IF(B2163=1,\"0\",VLOOKUP(B2163,coefficient2!$A$4:$B$7,2,FALSE))","v":0.2109943},{"$f":"IF(C2163=1,\"0\",VLOOKUP(C2163,coefficient2!$A$10:$B$13,2,FALSE))","v":7.0631200000000005E-2},{"$f":"IF(D2163=1,\"0\",VLOOKUP(D2163,coefficient2!$A$16:$B$19,2,FALSE))","v":5.8254399999999998E-2},{"$f":"IF(E2163=1,\"0\",VLOOKUP(E2163,coefficient2!$A$22:$B$25,2,FALSE))","v":6.6492200000000001E-2},{"$f":"IF(F2163=1,\"0\",VLOOKUP(F2163,coefficient2!$A$28:$B$31,2,FALSE))","v":5.8085699999999997E-2},0.53554219999999997]
[43233,4,3,2,3,3,15,{"$f":"IF(B2164=1,\"0\",VLOOKUP(B2164,coefficient2!$A$4:$B$7,2,FALSE))","v":0.2109943},{"$f":"IF(C2164=1,\"0\",VLOOKUP(C2164,coefficient2!$A$10:$B$13,2,FALSE))","v":7.0631200000000005E-2},{"$f":"IF(D2164=1,\"0\",VLOOKUP(D2164,coefficient2!$A$16:$B$19,2,FALSE))","v":5.8254399999999998E-2},{"$f":"IF(E2164=1,\"0\",VLOOKUP(E2164,coefficient2!$A$22:$B$25,2,FALSE))","v":6.6492200000000001E-2},{"$f":"IF(F2164=1,\"0\",VLOOKUP(F2164,coefficient2!$A$28:$B$31,2,FALSE))","v":9.5753900000000003E-2},0.49787399999999998]
[43234,4,3,2,3,4,16,{"$f":"IF(B2165=1,\"0\",VLOOKUP(B2165,coefficient2!$A$4:$B$7,2,FALSE))","v":0.2109943},{"$f":"IF(C2165=1,\"0\",VLOOKUP(C2165,coefficient2!$A$10:$B$13,2,FALSE))","v":7.0631200000000005E-2},{"$f":"IF(D2165=1,\"0\",VLOOKUP(D2165,coefficient2!$A$16:$B$19,2,FALSE))","v":5.8254399999999998E-2},{"$f":"IF(E2165=1,\"0\",VLOOKUP(E2165,coefficient2!$A$22:$B$25,2,FALSE))","v":6.6492200000000001E-2},{"$f":"IF(F2165=1,\"0\",VLOOKUP(F2165,coefficient2!$A$28:$B$31,2,FALSE))","v":0.23270360000000001},0.36092429999999998]
[43235,4,3,2,3,5,17,{"$f":"IF(B2166=1,\"0\",VLOOKUP(B2166,coefficient2!$A$4:$B$7,2,FALSE))","v":0.2109943},{"$f":"IF(C2166=1,\"0\",VLOOKUP(C2166,coefficient2!$A$10:$B$13,2,FALSE))","v":7.0631200000000005E-2},{"$f":"IF(D2166=1,\"0\",VLOOKUP(D2166,coefficient2!$A$16:$B$19,2,FALSE))","v":5.8254399999999998E-2},{"$f":"IF(E2166=1,\"0\",VLOOKUP(E2166,coefficient2!$A$22:$B$25,2,FALSE))","v":6.6492200000000001E-2},{"$f":"IF(F2166=1,\"0\",VLOOKUP(F2166,coefficient2!$A$28:$B$31,2,FALSE))","v":0.29534929999999998},0.2982786]
[43241,4,3,2,4,1,14,{"$f":"IF(B2167=1,\"0\",VLOOKUP(B2167,coefficient2!$A$4:$B$7,2,FALSE))","v":0.2109943},{"$f":"IF(C2167=1,\"0\",VLOOKUP(C2167,coefficient2!$A$10:$B$13,2,FALSE))","v":7.0631200000000005E-2},{"$f":"IF(D2167=1,\"0\",VLOOKUP(D2167,coefficient2!$A$16:$B$19,2,FALSE))","v":5.8254399999999998E-2},{"$f":"IF(E2167=1,\"0\",VLOOKUP(E2167,coefficient2!$A$22:$B$25,2,FALSE))","v":0.2068864},{"$f":"IF(F2167=1,\"0\",VLOOKUP(F2167,coefficient2!$A$28:$B$31,2,FALSE))","v":"0"},0.45323369999999996]
[43242,4,3,2,4,2,15,{"$f":"IF(B2168=1,\"0\",VLOOKUP(B2168,coefficient2!$A$4:$B$7,2,FALSE))","v":0.2109943},{"$f":"IF(C2168=1,\"0\",VLOOKUP(C2168,coefficient2!$A$10:$B$13,2,FALSE))","v":7.0631200000000005E-2},{"$f":"IF(D2168=1,\"0\",VLOOKUP(D2168,coefficient2!$A$16:$B$19,2,FALSE))","v":5.8254399999999998E-2},{"$f":"IF(E2168=1,\"0\",VLOOKUP(E2168,coefficient2!$A$22:$B$25,2,FALSE))","v":0.2068864},{"$f":"IF(F2168=1,\"0\",VLOOKUP(F2168,coefficient2!$A$28:$B$31,2,FALSE))","v":5.8085699999999997E-2},0.39514799999999994]
[43243,4,3,2,4,3,16,{"$f":"IF(B2169=1,\"0\",VLOOKUP(B2169,coefficient2!$A$4:$B$7,2,FALSE))","v":0.2109943},{"$f":"IF(C2169=1,\"0\",VLOOKUP(C2169,coefficient2!$A$10:$B$13,2,FALSE))","v":7.0631200000000005E-2},{"$f":"IF(D2169=1,\"0\",VLOOKUP(D2169,coefficient2!$A$16:$B$19,2,FALSE))","v":5.8254399999999998E-2},{"$f":"IF(E2169=1,\"0\",VLOOKUP(E2169,coefficient2!$A$22:$B$25,2,FALSE))","v":0.2068864},{"$f":"IF(F2169=1,\"0\",VLOOKUP(F2169,coefficient2!$A$28:$B$31,2,FALSE))","v":9.5753900000000003E-2},0.35747979999999996]
[43244,4,3,2,4,4,17,{"$f":"IF(B2170=1,\"0\",VLOOKUP(B2170,coefficient2!$A$4:$B$7,2,FALSE))","v":0.2109943},{"$f":"IF(C2170=1,\"0\",VLOOKUP(C2170,coefficient2!$A$10:$B$13,2,FALSE))","v":7.0631200000000005E-2},{"$f":"IF(D2170=1,\"0\",VLOOKUP(D2170,coefficient2!$A$16:$B$19,2,FALSE))","v":5.8254399999999998E-2},{"$f":"IF(E2170=1,\"0\",VLOOKUP(E2170,coefficient2!$A$22:$B$25,2,FALSE))","v":0.2068864},{"$f":"IF(F2170=1,\"0\",VLOOKUP(F2170,coefficient2!$A$28:$B$31,2,FALSE))","v":0.23270360000000001},0.22053009999999995]
[43245,4,3,2,4,5,18,{"$f":"IF(B2171=1,\"0\",VLOOKUP(B2171,coefficient2!$A$4:$B$7,2,FALSE))","v":0.2109943},{"$f":"IF(C2171=1,\"0\",VLOOKUP(C2171,coefficient2!$A$10:$B$13,2,FALSE))","v":7.0631200000000005E-2},{"$f":"IF(D2171=1,\"0\",VLOOKUP(D2171,coefficient2!$A$16:$B$19,2,FALSE))","v":5.8254399999999998E-2},{"$f":"IF(E2171=1,\"0\",VLOOKUP(E2171,coefficient2!$A$22:$B$25,2,FALSE))","v":0.2068864},{"$f":"IF(F2171=1,\"0\",VLOOKUP(F2171,coefficient2!$A$28:$B$31,2,FALSE))","v":0.29534929999999998},0.15788439999999998]
[43251,4,3,2,5,1,15,{"$f":"IF(B2172=1,\"0\",VLOOKUP(B2172,coefficient2!$A$4:$B$7,2,FALSE))","v":0.2109943},{"$f":"IF(C2172=1,\"0\",VLOOKUP(C2172,coefficient2!$A$10:$B$13,2,FALSE))","v":7.0631200000000005E-2},{"$f":"IF(D2172=1,\"0\",VLOOKUP(D2172,coefficient2!$A$16:$B$19,2,FALSE))","v":5.8254399999999998E-2},{"$f":"IF(E2172=1,\"0\",VLOOKUP(E2172,coefficient2!$A$22:$B$25,2,FALSE))","v":0.25643310000000002},{"$f":"IF(F2172=1,\"0\",VLOOKUP(F2172,coefficient2!$A$28:$B$31,2,FALSE))","v":"0"},0.40368699999999996]
[43252,4,3,2,5,2,16,{"$f":"IF(B2173=1,\"0\",VLOOKUP(B2173,coefficient2!$A$4:$B$7,2,FALSE))","v":0.2109943},{"$f":"IF(C2173=1,\"0\",VLOOKUP(C2173,coefficient2!$A$10:$B$13,2,FALSE))","v":7.0631200000000005E-2},{"$f":"IF(D2173=1,\"0\",VLOOKUP(D2173,coefficient2!$A$16:$B$19,2,FALSE))","v":5.8254399999999998E-2},{"$f":"IF(E2173=1,\"0\",VLOOKUP(E2173,coefficient2!$A$22:$B$25,2,FALSE))","v":0.25643310000000002},{"$f":"IF(F2173=1,\"0\",VLOOKUP(F2173,coefficient2!$A$28:$B$31,2,FALSE))","v":5.8085699999999997E-2},0.34560129999999994]
[43253,4,3,2,5,3,17,{"$f":"IF(B2174=1,\"0\",VLOOKUP(B2174,coefficient2!$A$4:$B$7,2,FALSE))","v":0.2109943},{"$f":"IF(C2174=1,\"0\",VLOOKUP(C2174,coefficient2!$A$10:$B$13,2,FALSE))","v":7.0631200000000005E-2},{"$f":"IF(D2174=1,\"0\",VLOOKUP(D2174,coefficient2!$A$16:$B$19,2,FALSE))","v":5.8254399999999998E-2},{"$f":"IF(E2174=1,\"0\",VLOOKUP(E2174,coefficient2!$A$22:$B$25,2,FALSE))","v":0.25643310000000002},{"$f":"IF(F2174=1,\"0\",VLOOKUP(F2174,coefficient2!$A$28:$B$31,2,FALSE))","v":9.5753900000000003E-2},0.30793309999999996]
[43254,4,3,2,5,4,18,{"$f":"IF(B2175=1,\"0\",VLOOKUP(B2175,coefficient2!$A$4:$B$7,2,FALSE))","v":0.2109943},{"$f":"IF(C2175=1,\"0\",VLOOKUP(C2175,coefficient2!$A$10:$B$13,2,FALSE))","v":7.0631200000000005E-2},{"$f":"IF(D2175=1,\"0\",VLOOKUP(D2175,coefficient2!$A$16:$B$19,2,FALSE))","v":5.8254399999999998E-2},{"$f":"IF(E2175=1,\"0\",VLOOKUP(E2175,coefficient2!$A$22:$B$25,2,FALSE))","v":0.25643310000000002},{"$f":"IF(F2175=1,\"0\",VLOOKUP(F2175,coefficient2!$A$28:$B$31,2,FALSE))","v":0.23270360000000001},0.17098339999999995]
[43255,4,3,2,5,5,19,{"$f":"IF(B2176=1,\"0\",VLOOKUP(B2176,coefficient2!$A$4:$B$7,2,FALSE))","v":0.2109943},{"$f":"IF(C2176=1,\"0\",VLOOKUP(C2176,coefficient2!$A$10:$B$13,2,FALSE))","v":7.0631200000000005E-2},{"$f":"IF(D2176=1,\"0\",VLOOKUP(D2176,coefficient2!$A$16:$B$19,2,FALSE))","v":5.8254399999999998E-2},{"$f":"IF(E2176=1,\"0\",VLOOKUP(E2176,coefficient2!$A$22:$B$25,2,FALSE))","v":0.25643310000000002},{"$f":"IF(F2176=1,\"0\",VLOOKUP(F2176,coefficient2!$A$28:$B$31,2,FALSE))","v":0.29534929999999998},0.10833769999999998]
[43311,4,3,3,1,1,12,{"$f":"IF(B2177=1,\"0\",VLOOKUP(B2177,coefficient2!$A$4:$B$7,2,FALSE))","v":0.2109943},{"$f":"IF(C2177=1,\"0\",VLOOKUP(C2177,coefficient2!$A$10:$B$13,2,FALSE))","v":7.0631200000000005E-2},{"$f":"IF(D2177=1,\"0\",VLOOKUP(D2177,coefficient2!$A$16:$B$19,2,FALSE))","v":7.1197399999999994E-2},{"$f":"IF(E2177=1,\"0\",VLOOKUP(E2177,coefficient2!$A$22:$B$25,2,FALSE))","v":"0"},{"$f":"IF(F2177=1,\"0\",VLOOKUP(F2177,coefficient2!$A$28:$B$31,2,FALSE))","v":"0"},0.64717710000000006]
[43312,4,3,3,1,2,13,{"$f":"IF(B2178=1,\"0\",VLOOKUP(B2178,coefficient2!$A$4:$B$7,2,FALSE))","v":0.2109943},{"$f":"IF(C2178=1,\"0\",VLOOKUP(C2178,coefficient2!$A$10:$B$13,2,FALSE))","v":7.0631200000000005E-2},{"$f":"IF(D2178=1,\"0\",VLOOKUP(D2178,coefficient2!$A$16:$B$19,2,FALSE))","v":7.1197399999999994E-2},{"$f":"IF(E2178=1,\"0\",VLOOKUP(E2178,coefficient2!$A$22:$B$25,2,FALSE))","v":"0"},{"$f":"IF(F2178=1,\"0\",VLOOKUP(F2178,coefficient2!$A$28:$B$31,2,FALSE))","v":5.8085699999999997E-2},{"$f":"1-H2178-I2178-J2178-K2178-L2178","v":0.58909140000000004}]
[43313,{"$f":"INT(LEFT(A2179,1))","v":4},{"$f":"INT(MID(A2179,2,1))","v":3},{"$f":"INT(MID(A2179,3,1))","v":3},{"$f":"INT(MID(A2179,4,1))","v":1},{"$f":"INT(RIGHT(A2179,1))","v":3},14,{"$f":"IF(B2179=1,\"0\",VLOOKUP(B2179,coefficient2!$A$4:$B$7,2,FALSE))","v":0.2109943},{"$f":"IF(C2179=1,\"0\",VLOOKUP(C2179,coefficient2!$A$10:$B$13,2,FALSE))","v":7.0631200000000005E-2},{"$f":"IF(D2179=1,\"0\",VLOOKUP(D2179,coefficient2!$A$16:$B$19,2,FALSE))","v":7.1197399999999994E-2},{"$f":"IF(E2179=1,\"0\",VLOOKUP(E2179,coefficient2!$A$22:$B$25,2,FALSE))","v":"0"},{"$f":"IF(F2179=1,\"0\",VLOOKUP(F2179,coefficient2!$A$28:$B$31,2,FALSE))","v":9.5753900000000003E-2},0.55142320000000011]
[43314,4,3,3,1,4,15,{"$f":"IF(B2180=1,\"0\",VLOOKUP(B2180,coefficient2!$A$4:$B$7,2,FALSE))","v":0.2109943},{"$f":"IF(C2180=1,\"0\",VLOOKUP(C2180,coefficient2!$A$10:$B$13,2,FALSE))","v":7.0631200000000005E-2},{"$f":"IF(D2180=1,\"0\",VLOOKUP(D2180,coefficient2!$A$16:$B$19,2,FALSE))","v":7.1197399999999994E-2},{"$f":"IF(E2180=1,\"0\",VLOOKUP(E2180,coefficient2!$A$22:$B$25,2,FALSE))","v":"0"},{"$f":"IF(F2180=1,\"0\",VLOOKUP(F2180,coefficient2!$A$28:$B$31,2,FALSE))","v":0.23270360000000001},0.41447350000000005]
[43315,4,3,3,1,5,16,{"$f":"IF(B2181=1,\"0\",VLOOKUP(B2181,coefficient2!$A$4:$B$7,2,FALSE))","v":0.2109943},{"$f":"IF(C2181=1,\"0\",VLOOKUP(C2181,coefficient2!$A$10:$B$13,2,FALSE))","v":7.0631200000000005E-2},{"$f":"IF(D2181=1,\"0\",VLOOKUP(D2181,coefficient2!$A$16:$B$19,2,FALSE))","v":7.1197399999999994E-2},{"$f":"IF(E2181=1,\"0\",VLOOKUP(E2181,coefficient2!$A$22:$B$25,2,FALSE))","v":"0"},{"$f":"IF(F2181=1,\"0\",VLOOKUP(F2181,coefficient2!$A$28:$B$31,2,FALSE))","v":0.29534929999999998},0.35182780000000008]
[43321,4,3,3,2,1,13,{"$f":"IF(B2182=1,\"0\",VLOOKUP(B2182,coefficient2!$A$4:$B$7,2,FALSE))","v":0.2109943},{"$f":"IF(C2182=1,\"0\",VLOOKUP(C2182,coefficient2!$A$10:$B$13,2,FALSE))","v":7.0631200000000005E-2},{"$f":"IF(D2182=1,\"0\",VLOOKUP(D2182,coefficient2!$A$16:$B$19,2,FALSE))","v":7.1197399999999994E-2},{"$f":"IF(E2182=1,\"0\",VLOOKUP(E2182,coefficient2!$A$22:$B$25,2,FALSE))","v":5.63998E-2},{"$f":"IF(F2182=1,\"0\",VLOOKUP(F2182,coefficient2!$A$28:$B$31,2,FALSE))","v":"0"},0.59077730000000006]
[43322,4,3,3,2,2,14,{"$f":"IF(B2183=1,\"0\",VLOOKUP(B2183,coefficient2!$A$4:$B$7,2,FALSE))","v":0.2109943},{"$f":"IF(C2183=1,\"0\",VLOOKUP(C2183,coefficient2!$A$10:$B$13,2,FALSE))","v":7.0631200000000005E-2},{"$f":"IF(D2183=1,\"0\",VLOOKUP(D2183,coefficient2!$A$16:$B$19,2,FALSE))","v":7.1197399999999994E-2},{"$f":"IF(E2183=1,\"0\",VLOOKUP(E2183,coefficient2!$A$22:$B$25,2,FALSE))","v":5.63998E-2},{"$f":"IF(F2183=1,\"0\",VLOOKUP(F2183,coefficient2!$A$28:$B$31,2,FALSE))","v":5.8085699999999997E-2},0.53269160000000004]
[43323,4,3,3,2,3,15,{"$f":"IF(B2184=1,\"0\",VLOOKUP(B2184,coefficient2!$A$4:$B$7,2,FALSE))","v":0.2109943},{"$f":"IF(C2184=1,\"0\",VLOOKUP(C2184,coefficient2!$A$10:$B$13,2,FALSE))","v":7.0631200000000005E-2},{"$f":"IF(D2184=1,\"0\",VLOOKUP(D2184,coefficient2!$A$16:$B$19,2,FALSE))","v":7.1197399999999994E-2},{"$f":"IF(E2184=1,\"0\",VLOOKUP(E2184,coefficient2!$A$22:$B$25,2,FALSE))","v":5.63998E-2},{"$f":"IF(F2184=1,\"0\",VLOOKUP(F2184,coefficient2!$A$28:$B$31,2,FALSE))","v":9.5753900000000003E-2},0.49502340000000006]
[43324,4,3,3,2,4,16,{"$f":"IF(B2185=1,\"0\",VLOOKUP(B2185,coefficient2!$A$4:$B$7,2,FALSE))","v":0.2109943},{"$f":"IF(C2185=1,\"0\",VLOOKUP(C2185,coefficient2!$A$10:$B$13,2,FALSE))","v":7.0631200000000005E-2},{"$f":"IF(D2185=1,\"0\",VLOOKUP(D2185,coefficient2!$A$16:$B$19,2,FALSE))","v":7.1197399999999994E-2},{"$f":"IF(E2185=1,\"0\",VLOOKUP(E2185,coefficient2!$A$22:$B$25,2,FALSE))","v":5.63998E-2},{"$f":"IF(F2185=1,\"0\",VLOOKUP(F2185,coefficient2!$A$28:$B$31,2,FALSE))","v":0.23270360000000001},0.35807370000000005]
[43325,4,3,3,2,5,17,{"$f":"IF(B2186=1,\"0\",VLOOKUP(B2186,coefficient2!$A$4:$B$7,2,FALSE))","v":0.2109943},{"$f":"IF(C2186=1,\"0\",VLOOKUP(C2186,coefficient2!$A$10:$B$13,2,FALSE))","v":7.0631200000000005E-2},{"$f":"IF(D2186=1,\"0\",VLOOKUP(D2186,coefficient2!$A$16:$B$19,2,FALSE))","v":7.1197399999999994E-2},{"$f":"IF(E2186=1,\"0\",VLOOKUP(E2186,coefficient2!$A$22:$B$25,2,FALSE))","v":5.63998E-2},{"$f":"IF(F2186=1,\"0\",VLOOKUP(F2186,coefficient2!$A$28:$B$31,2,FALSE))","v":0.29534929999999998},0.29542800000000008]
[43331,4,3,3,3,1,14,{"$f":"IF(B2187=1,\"0\",VLOOKUP(B2187,coefficient2!$A$4:$B$7,2,FALSE))","v":0.2109943},{"$f":"IF(C2187=1,\"0\",VLOOKUP(C2187,coefficient2!$A$10:$B$13,2,FALSE))","v":7.0631200000000005E-2},{"$f":"IF(D2187=1,\"0\",VLOOKUP(D2187,coefficient2!$A$16:$B$19,2,FALSE))","v":7.1197399999999994E-2},{"$f":"IF(E2187=1,\"0\",VLOOKUP(E2187,coefficient2!$A$22:$B$25,2,FALSE))","v":6.6492200000000001E-2},{"$f":"IF(F2187=1,\"0\",VLOOKUP(F2187,coefficient2!$A$28:$B$31,2,FALSE))","v":"0"},0.58068490000000006]
[43332,4,3,3,3,2,15,{"$f":"IF(B2188=1,\"0\",VLOOKUP(B2188,coefficient2!$A$4:$B$7,2,FALSE))","v":0.2109943},{"$f":"IF(C2188=1,\"0\",VLOOKUP(C2188,coefficient2!$A$10:$B$13,2,FALSE))","v":7.0631200000000005E-2},{"$f":"IF(D2188=1,\"0\",VLOOKUP(D2188,coefficient2!$A$16:$B$19,2,FALSE))","v":7.1197399999999994E-2},{"$f":"IF(E2188=1,\"0\",VLOOKUP(E2188,coefficient2!$A$22:$B$25,2,FALSE))","v":6.6492200000000001E-2},{"$f":"IF(F2188=1,\"0\",VLOOKUP(F2188,coefficient2!$A$28:$B$31,2,FALSE))","v":5.8085699999999997E-2},0.52259920000000004]
[43333,4,3,3,3,3,16,{"$f":"IF(B2189=1,\"0\",VLOOKUP(B2189,coefficient2!$A$4:$B$7,2,FALSE))","v":0.2109943},{"$f":"IF(C2189=1,\"0\",VLOOKUP(C2189,coefficient2!$A$10:$B$13,2,FALSE))","v":7.0631200000000005E-2},{"$f":"IF(D2189=1,\"0\",VLOOKUP(D2189,coefficient2!$A$16:$B$19,2,FALSE))","v":7.1197399999999994E-2},{"$f":"IF(E2189=1,\"0\",VLOOKUP(E2189,coefficient2!$A$22:$B$25,2,FALSE))","v":6.6492200000000001E-2},{"$f":"IF(F2189=1,\"0\",VLOOKUP(F2189,coefficient2!$A$28:$B$31,2,FALSE))","v":9.5753900000000003E-2},0.48493100000000006]
[43334,4,3,3,3,4,17,{"$f":"IF(B2190=1,\"0\",VLOOKUP(B2190,coefficient2!$A$4:$B$7,2,FALSE))","v":0.2109943},{"$f":"IF(C2190=1,\"0\",VLOOKUP(C2190,coefficient2!$A$10:$B$13,2,FALSE))","v":7.0631200000000005E-2},{"$f":"IF(D2190=1,\"0\",VLOOKUP(D2190,coefficient2!$A$16:$B$19,2,FALSE))","v":7.1197399999999994E-2},{"$f":"IF(E2190=1,\"0\",VLOOKUP(E2190,coefficient2!$A$22:$B$25,2,FALSE))","v":6.6492200000000001E-2},{"$f":"IF(F2190=1,\"0\",VLOOKUP(F2190,coefficient2!$A$28:$B$31,2,FALSE))","v":0.23270360000000001},0.34798130000000005]
[43335,4,3,3,3,5,18,{"$f":"IF(B2191=1,\"0\",VLOOKUP(B2191,coefficient2!$A$4:$B$7,2,FALSE))","v":0.2109943},{"$f":"IF(C2191=1,\"0\",VLOOKUP(C2191,coefficient2!$A$10:$B$13,2,FALSE))","v":7.0631200000000005E-2},{"$f":"IF(D2191=1,\"0\",VLOOKUP(D2191,coefficient2!$A$16:$B$19,2,FALSE))","v":7.1197399999999994E-2},{"$f":"IF(E2191=1,\"0\",VLOOKUP(E2191,coefficient2!$A$22:$B$25,2,FALSE))","v":6.6492200000000001E-2},{"$f":"IF(F2191=1,\"0\",VLOOKUP(F2191,coefficient2!$A$28:$B$31,2,FALSE))","v":0.29534929999999998},0.28533560000000008]
[43341,4,3,3,4,1,15,{"$f":"IF(B2192=1,\"0\",VLOOKUP(B2192,coefficient2!$A$4:$B$7,2,FALSE))","v":0.2109943},{"$f":"IF(C2192=1,\"0\",VLOOKUP(C2192,coefficient2!$A$10:$B$13,2,FALSE))","v":7.0631200000000005E-2},{"$f":"IF(D2192=1,\"0\",VLOOKUP(D2192,coefficient2!$A$16:$B$19,2,FALSE))","v":7.1197399999999994E-2},{"$f":"IF(E2192=1,\"0\",VLOOKUP(E2192,coefficient2!$A$22:$B$25,2,FALSE))","v":0.2068864},{"$f":"IF(F2192=1,\"0\",VLOOKUP(F2192,coefficient2!$A$28:$B$31,2,FALSE))","v":"0"},0.44029070000000003]
[43342,4,3,3,4,2,16,{"$f":"IF(B2193=1,\"0\",VLOOKUP(B2193,coefficient2!$A$4:$B$7,2,FALSE))","v":0.2109943},{"$f":"IF(C2193=1,\"0\",VLOOKUP(C2193,coefficient2!$A$10:$B$13,2,FALSE))","v":7.0631200000000005E-2},{"$f":"IF(D2193=1,\"0\",VLOOKUP(D2193,coefficient2!$A$16:$B$19,2,FALSE))","v":7.1197399999999994E-2},{"$f":"IF(E2193=1,\"0\",VLOOKUP(E2193,coefficient2!$A$22:$B$25,2,FALSE))","v":0.2068864},{"$f":"IF(F2193=1,\"0\",VLOOKUP(F2193,coefficient2!$A$28:$B$31,2,FALSE))","v":5.8085699999999997E-2},0.38220500000000002]
[43343,4,3,3,4,3,17,{"$f":"IF(B2194=1,\"0\",VLOOKUP(B2194,coefficient2!$A$4:$B$7,2,FALSE))","v":0.2109943},{"$f":"IF(C2194=1,\"0\",VLOOKUP(C2194,coefficient2!$A$10:$B$13,2,FALSE))","v":7.0631200000000005E-2},{"$f":"IF(D2194=1,\"0\",VLOOKUP(D2194,coefficient2!$A$16:$B$19,2,FALSE))","v":7.1197399999999994E-2},{"$f":"IF(E2194=1,\"0\",VLOOKUP(E2194,coefficient2!$A$22:$B$25,2,FALSE))","v":0.2068864},{"$f":"IF(F2194=1,\"0\",VLOOKUP(F2194,coefficient2!$A$28:$B$31,2,FALSE))","v":9.5753900000000003E-2},0.34453680000000003]
[43344,4,3,3,4,4,18,{"$f":"IF(B2195=1,\"0\",VLOOKUP(B2195,coefficient2!$A$4:$B$7,2,FALSE))","v":0.2109943},{"$f":"IF(C2195=1,\"0\",VLOOKUP(C2195,coefficient2!$A$10:$B$13,2,FALSE))","v":7.0631200000000005E-2},{"$f":"IF(D2195=1,\"0\",VLOOKUP(D2195,coefficient2!$A$16:$B$19,2,FALSE))","v":7.1197399999999994E-2},{"$f":"IF(E2195=1,\"0\",VLOOKUP(E2195,coefficient2!$A$22:$B$25,2,FALSE))","v":0.2068864},{"$f":"IF(F2195=1,\"0\",VLOOKUP(F2195,coefficient2!$A$28:$B$31,2,FALSE))","v":0.23270360000000001},0.20758710000000002]
[43345,4,3,3,4,5,19,{"$f":"IF(B2196=1,\"0\",VLOOKUP(B2196,coefficient2!$A$4:$B$7,2,FALSE))","v":0.2109943},{"$f":"IF(C2196=1,\"0\",VLOOKUP(C2196,coefficient2!$A$10:$B$13,2,FALSE))","v":7.0631200000000005E-2},{"$f":"IF(D2196=1,\"0\",VLOOKUP(D2196,coefficient2!$A$16:$B$19,2,FALSE))","v":7.1197399999999994E-2},{"$f":"IF(E2196=1,\"0\",VLOOKUP(E2196,coefficient2!$A$22:$B$25,2,FALSE))","v":0.2068864},{"$f":"IF(F2196=1,\"0\",VLOOKUP(F2196,coefficient2!$A$28:$B$31,2,FALSE))","v":0.29534929999999998},0.14494140000000005]
[43351,4,3,3,5,1,{"$f":"SUM(B2197:F2197)","v":16},{"$f":"IF(B2197=1,\"0\",VLOOKUP(B2197,coefficient2!$A$4:$B$7,2,FALSE))","v":0.2109943},{"$f":"IF(C2197=1,\"0\",VLOOKUP(C2197,coefficient2!$A$10:$B$13,2,FALSE))","v":7.0631200000000005E-2},{"$f":"IF(D2197=1,\"0\",VLOOKUP(D2197,coefficient2!$A$16:$B$19,2,FALSE))","v":7.1197399999999994E-2},{"$f":"IF(E2197=1,\"0\",VLOOKUP(E2197,coefficient2!$A$22:$B$25,2,FALSE))","v":0.25643310000000002},{"$f":"IF(F2197=1,\"0\",VLOOKUP(F2197,coefficient2!$A$28:$B$31,2,FALSE))","v":"0"},0.39074400000000004]
[43352,4,3,3,5,2,17,{"$f":"IF(B2198=1,\"0\",VLOOKUP(B2198,coefficient2!$A$4:$B$7,2,FALSE))","v":0.2109943},{"$f":"IF(C2198=1,\"0\",VLOOKUP(C2198,coefficient2!$A$10:$B$13,2,FALSE))","v":7.0631200000000005E-2},{"$f":"IF(D2198=1,\"0\",VLOOKUP(D2198,coefficient2!$A$16:$B$19,2,FALSE))","v":7.1197399999999994E-2},{"$f":"IF(E2198=1,\"0\",VLOOKUP(E2198,coefficient2!$A$22:$B$25,2,FALSE))","v":0.25643310000000002},{"$f":"IF(F2198=1,\"0\",VLOOKUP(F2198,coefficient2!$A$28:$B$31,2,FALSE))","v":5.8085699999999997E-2},0.33265830000000002]
[43353,4,3,3,5,3,18,{"$f":"IF(B2199=1,\"0\",VLOOKUP(B2199,coefficient2!$A$4:$B$7,2,FALSE))","v":0.2109943},{"$f":"IF(C2199=1,\"0\",VLOOKUP(C2199,coefficient2!$A$10:$B$13,2,FALSE))","v":7.0631200000000005E-2},{"$f":"IF(D2199=1,\"0\",VLOOKUP(D2199,coefficient2!$A$16:$B$19,2,FALSE))","v":7.1197399999999994E-2},{"$f":"IF(E2199=1,\"0\",VLOOKUP(E2199,coefficient2!$A$22:$B$25,2,FALSE))","v":0.25643310000000002},{"$f":"IF(F2199=1,\"0\",VLOOKUP(F2199,coefficient2!$A$28:$B$31,2,FALSE))","v":9.5753900000000003E-2},0.29499010000000003]
[43354,4,3,3,5,4,19,{"$f":"IF(B2200=1,\"0\",VLOOKUP(B2200,coefficient2!$A$4:$B$7,2,FALSE))","v":0.2109943},{"$f":"IF(C2200=1,\"0\",VLOOKUP(C2200,coefficient2!$A$10:$B$13,2,FALSE))","v":7.0631200000000005E-2},{"$f":"IF(D2200=1,\"0\",VLOOKUP(D2200,coefficient2!$A$16:$B$19,2,FALSE))","v":7.1197399999999994E-2},{"$f":"IF(E2200=1,\"0\",VLOOKUP(E2200,coefficient2!$A$22:$B$25,2,FALSE))","v":0.25643310000000002},{"$f":"IF(F2200=1,\"0\",VLOOKUP(F2200,coefficient2!$A$28:$B$31,2,FALSE))","v":0.23270360000000001},0.15804040000000003]
[43355,4,3,3,5,5,20,{"$f":"IF(B2201=1,\"0\",VLOOKUP(B2201,coefficient2!$A$4:$B$7,2,FALSE))","v":0.2109943},{"$f":"IF(C2201=1,\"0\",VLOOKUP(C2201,coefficient2!$A$10:$B$13,2,FALSE))","v":7.0631200000000005E-2},{"$f":"IF(D2201=1,\"0\",VLOOKUP(D2201,coefficient2!$A$16:$B$19,2,FALSE))","v":7.1197399999999994E-2},{"$f":"IF(E2201=1,\"0\",VLOOKUP(E2201,coefficient2!$A$22:$B$25,2,FALSE))","v":0.25643310000000002},{"$f":"IF(F2201=1,\"0\",VLOOKUP(F2201,coefficient2!$A$28:$B$31,2,FALSE))","v":0.29534929999999998},9.5394700000000054E-2]
[43411,4,3,4,1,1,13,{"$f":"IF(B2202=1,\"0\",VLOOKUP(B2202,coefficient2!$A$4:$B$7,2,FALSE))","v":0.2109943},{"$f":"IF(C2202=1,\"0\",VLOOKUP(C2202,coefficient2!$A$10:$B$13,2,FALSE))","v":7.0631200000000005E-2},{"$f":"IF(D2202=1,\"0\",VLOOKUP(D2202,coefficient2!$A$16:$B$19,2,FALSE))","v":0.1534855},{"$f":"IF(E2202=1,\"0\",VLOOKUP(E2202,coefficient2!$A$22:$B$25,2,FALSE))","v":"0"},{"$f":"IF(F2202=1,\"0\",VLOOKUP(F2202,coefficient2!$A$28:$B$31,2,FALSE))","v":"0"},0.56488899999999997]
[43412,4,3,4,1,2,14,{"$f":"IF(B2203=1,\"0\",VLOOKUP(B2203,coefficient2!$A$4:$B$7,2,FALSE))","v":0.2109943},{"$f":"IF(C2203=1,\"0\",VLOOKUP(C2203,coefficient2!$A$10:$B$13,2,FALSE))","v":7.0631200000000005E-2},{"$f":"IF(D2203=1,\"0\",VLOOKUP(D2203,coefficient2!$A$16:$B$19,2,FALSE))","v":0.1534855},{"$f":"IF(E2203=1,\"0\",VLOOKUP(E2203,coefficient2!$A$22:$B$25,2,FALSE))","v":"0"},{"$f":"IF(F2203=1,\"0\",VLOOKUP(F2203,coefficient2!$A$28:$B$31,2,FALSE))","v":5.8085699999999997E-2},0.50680329999999996]
[43413,4,3,4,1,3,15,{"$f":"IF(B2204=1,\"0\",VLOOKUP(B2204,coefficient2!$A$4:$B$7,2,FALSE))","v":0.2109943},{"$f":"IF(C2204=1,\"0\",VLOOKUP(C2204,coefficient2!$A$10:$B$13,2,FALSE))","v":7.0631200000000005E-2},{"$f":"IF(D2204=1,\"0\",VLOOKUP(D2204,coefficient2!$A$16:$B$19,2,FALSE))","v":0.1534855},{"$f":"IF(E2204=1,\"0\",VLOOKUP(E2204,coefficient2!$A$22:$B$25,2,FALSE))","v":"0"},{"$f":"IF(F2204=1,\"0\",VLOOKUP(F2204,coefficient2!$A$28:$B$31,2,FALSE))","v":9.5753900000000003E-2},0.46913509999999997]
[43414,4,3,4,1,4,16,{"$f":"IF(B2205=1,\"0\",VLOOKUP(B2205,coefficient2!$A$4:$B$7,2,FALSE))","v":0.2109943},{"$f":"IF(C2205=1,\"0\",VLOOKUP(C2205,coefficient2!$A$10:$B$13,2,FALSE))","v":7.0631200000000005E-2},{"$f":"IF(D2205=1,\"0\",VLOOKUP(D2205,coefficient2!$A$16:$B$19,2,FALSE))","v":0.1534855},{"$f":"IF(E2205=1,\"0\",VLOOKUP(E2205,coefficient2!$A$22:$B$25,2,FALSE))","v":"0"},{"$f":"IF(F2205=1,\"0\",VLOOKUP(F2205,coefficient2!$A$28:$B$31,2,FALSE))","v":0.23270360000000001},0.33218539999999996]
[43415,4,3,4,1,5,17,{"$f":"IF(B2206=1,\"0\",VLOOKUP(B2206,coefficient2!$A$4:$B$7,2,FALSE))","v":0.2109943},{"$f":"IF(C2206=1,\"0\",VLOOKUP(C2206,coefficient2!$A$10:$B$13,2,FALSE))","v":7.0631200000000005E-2},{"$f":"IF(D2206=1,\"0\",VLOOKUP(D2206,coefficient2!$A$16:$B$19,2,FALSE))","v":0.1534855},{"$f":"IF(E2206=1,\"0\",VLOOKUP(E2206,coefficient2!$A$22:$B$25,2,FALSE))","v":"0"},{"$f":"IF(F2206=1,\"0\",VLOOKUP(F2206,coefficient2!$A$28:$B$31,2,FALSE))","v":0.29534929999999998},0.26953969999999999]
[43421,4,3,4,2,1,14,{"$f":"IF(B2207=1,\"0\",VLOOKUP(B2207,coefficient2!$A$4:$B$7,2,FALSE))","v":0.2109943},{"$f":"IF(C2207=1,\"0\",VLOOKUP(C2207,coefficient2!$A$10:$B$13,2,FALSE))","v":7.0631200000000005E-2},{"$f":"IF(D2207=1,\"0\",VLOOKUP(D2207,coefficient2!$A$16:$B$19,2,FALSE))","v":0.1534855},{"$f":"IF(E2207=1,\"0\",VLOOKUP(E2207,coefficient2!$A$22:$B$25,2,FALSE))","v":5.63998E-2},{"$f":"IF(F2207=1,\"0\",VLOOKUP(F2207,coefficient2!$A$28:$B$31,2,FALSE))","v":"0"},0.50848919999999997]
[43422,4,3,4,2,2,15,{"$f":"IF(B2208=1,\"0\",VLOOKUP(B2208,coefficient2!$A$4:$B$7,2,FALSE))","v":0.2109943},{"$f":"IF(C2208=1,\"0\",VLOOKUP(C2208,coefficient2!$A$10:$B$13,2,FALSE))","v":7.0631200000000005E-2},{"$f":"IF(D2208=1,\"0\",VLOOKUP(D2208,coefficient2!$A$16:$B$19,2,FALSE))","v":0.1534855},{"$f":"IF(E2208=1,\"0\",VLOOKUP(E2208,coefficient2!$A$22:$B$25,2,FALSE))","v":5.63998E-2},{"$f":"IF(F2208=1,\"0\",VLOOKUP(F2208,coefficient2!$A$28:$B$31,2,FALSE))","v":5.8085699999999997E-2},0.45040349999999996]
[43423,4,3,4,2,3,16,{"$f":"IF(B2209=1,\"0\",VLOOKUP(B2209,coefficient2!$A$4:$B$7,2,FALSE))","v":0.2109943},{"$f":"IF(C2209=1,\"0\",VLOOKUP(C2209,coefficient2!$A$10:$B$13,2,FALSE))","v":7.0631200000000005E-2},{"$f":"IF(D2209=1,\"0\",VLOOKUP(D2209,coefficient2!$A$16:$B$19,2,FALSE))","v":0.1534855},{"$f":"IF(E2209=1,\"0\",VLOOKUP(E2209,coefficient2!$A$22:$B$25,2,FALSE))","v":5.63998E-2},{"$f":"IF(F2209=1,\"0\",VLOOKUP(F2209,coefficient2!$A$28:$B$31,2,FALSE))","v":9.5753900000000003E-2},0.41273529999999997]
[43424,4,3,4,2,4,17,{"$f":"IF(B2210=1,\"0\",VLOOKUP(B2210,coefficient2!$A$4:$B$7,2,FALSE))","v":0.2109943},{"$f":"IF(C2210=1,\"0\",VLOOKUP(C2210,coefficient2!$A$10:$B$13,2,FALSE))","v":7.0631200000000005E-2},{"$f":"IF(D2210=1,\"0\",VLOOKUP(D2210,coefficient2!$A$16:$B$19,2,FALSE))","v":0.1534855},{"$f":"IF(E2210=1,\"0\",VLOOKUP(E2210,coefficient2!$A$22:$B$25,2,FALSE))","v":5.63998E-2},{"$f":"IF(F2210=1,\"0\",VLOOKUP(F2210,coefficient2!$A$28:$B$31,2,FALSE))","v":0.23270360000000001},0.27578559999999996]
[43425,4,3,4,2,5,18,{"$f":"IF(B2211=1,\"0\",VLOOKUP(B2211,coefficient2!$A$4:$B$7,2,FALSE))","v":0.2109943},{"$f":"IF(C2211=1,\"0\",VLOOKUP(C2211,coefficient2!$A$10:$B$13,2,FALSE))","v":7.0631200000000005E-2},{"$f":"IF(D2211=1,\"0\",VLOOKUP(D2211,coefficient2!$A$16:$B$19,2,FALSE))","v":0.1534855},{"$f":"IF(E2211=1,\"0\",VLOOKUP(E2211,coefficient2!$A$22:$B$25,2,FALSE))","v":5.63998E-2},{"$f":"IF(F2211=1,\"0\",VLOOKUP(F2211,coefficient2!$A$28:$B$31,2,FALSE))","v":0.29534929999999998},0.21313989999999999]
[43431,4,3,4,3,1,15,{"$f":"IF(B2212=1,\"0\",VLOOKUP(B2212,coefficient2!$A$4:$B$7,2,FALSE))","v":0.2109943},{"$f":"IF(C2212=1,\"0\",VLOOKUP(C2212,coefficient2!$A$10:$B$13,2,FALSE))","v":7.0631200000000005E-2},{"$f":"IF(D2212=1,\"0\",VLOOKUP(D2212,coefficient2!$A$16:$B$19,2,FALSE))","v":0.1534855},{"$f":"IF(E2212=1,\"0\",VLOOKUP(E2212,coefficient2!$A$22:$B$25,2,FALSE))","v":6.6492200000000001E-2},{"$f":"IF(F2212=1,\"0\",VLOOKUP(F2212,coefficient2!$A$28:$B$31,2,FALSE))","v":"0"},0.49839679999999997]
[43432,4,3,4,3,2,16,{"$f":"IF(B2213=1,\"0\",VLOOKUP(B2213,coefficient2!$A$4:$B$7,2,FALSE))","v":0.2109943},{"$f":"IF(C2213=1,\"0\",VLOOKUP(C2213,coefficient2!$A$10:$B$13,2,FALSE))","v":7.0631200000000005E-2},{"$f":"IF(D2213=1,\"0\",VLOOKUP(D2213,coefficient2!$A$16:$B$19,2,FALSE))","v":0.1534855},{"$f":"IF(E2213=1,\"0\",VLOOKUP(E2213,coefficient2!$A$22:$B$25,2,FALSE))","v":6.6492200000000001E-2},{"$f":"IF(F2213=1,\"0\",VLOOKUP(F2213,coefficient2!$A$28:$B$31,2,FALSE))","v":5.8085699999999997E-2},0.44031109999999996]
[43433,4,3,4,3,3,17,{"$f":"IF(B2214=1,\"0\",VLOOKUP(B2214,coefficient2!$A$4:$B$7,2,FALSE))","v":0.2109943},{"$f":"IF(C2214=1,\"0\",VLOOKUP(C2214,coefficient2!$A$10:$B$13,2,FALSE))","v":7.0631200000000005E-2},{"$f":"IF(D2214=1,\"0\",VLOOKUP(D2214,coefficient2!$A$16:$B$19,2,FALSE))","v":0.1534855},{"$f":"IF(E2214=1,\"0\",VLOOKUP(E2214,coefficient2!$A$22:$B$25,2,FALSE))","v":6.6492200000000001E-2},{"$f":"IF(F2214=1,\"0\",VLOOKUP(F2214,coefficient2!$A$28:$B$31,2,FALSE))","v":9.5753900000000003E-2},0.40264289999999997]
[43434,4,3,4,3,4,18,{"$f":"IF(B2215=1,\"0\",VLOOKUP(B2215,coefficient2!$A$4:$B$7,2,FALSE))","v":0.2109943},{"$f":"IF(C2215=1,\"0\",VLOOKUP(C2215,coefficient2!$A$10:$B$13,2,FALSE))","v":7.0631200000000005E-2},{"$f":"IF(D2215=1,\"0\",VLOOKUP(D2215,coefficient2!$A$16:$B$19,2,FALSE))","v":0.1534855},{"$f":"IF(E2215=1,\"0\",VLOOKUP(E2215,coefficient2!$A$22:$B$25,2,FALSE))","v":6.6492200000000001E-2},{"$f":"IF(F2215=1,\"0\",VLOOKUP(F2215,coefficient2!$A$28:$B$31,2,FALSE))","v":0.23270360000000001},0.26569319999999996]
[43435,4,3,4,3,5,19,{"$f":"IF(B2216=1,\"0\",VLOOKUP(B2216,coefficient2!$A$4:$B$7,2,FALSE))","v":0.2109943},{"$f":"IF(C2216=1,\"0\",VLOOKUP(C2216,coefficient2!$A$10:$B$13,2,FALSE))","v":7.0631200000000005E-2},{"$f":"IF(D2216=1,\"0\",VLOOKUP(D2216,coefficient2!$A$16:$B$19,2,FALSE))","v":0.1534855},{"$f":"IF(E2216=1,\"0\",VLOOKUP(E2216,coefficient2!$A$22:$B$25,2,FALSE))","v":6.6492200000000001E-2},{"$f":"IF(F2216=1,\"0\",VLOOKUP(F2216,coefficient2!$A$28:$B$31,2,FALSE))","v":0.29534929999999998},0.20304749999999999]
[43441,4,3,4,4,1,16,{"$f":"IF(B2217=1,\"0\",VLOOKUP(B2217,coefficient2!$A$4:$B$7,2,FALSE))","v":0.2109943},{"$f":"IF(C2217=1,\"0\",VLOOKUP(C2217,coefficient2!$A$10:$B$13,2,FALSE))","v":7.0631200000000005E-2},{"$f":"IF(D2217=1,\"0\",VLOOKUP(D2217,coefficient2!$A$16:$B$19,2,FALSE))","v":0.1534855},{"$f":"IF(E2217=1,\"0\",VLOOKUP(E2217,coefficient2!$A$22:$B$25,2,FALSE))","v":0.2068864},{"$f":"IF(F2217=1,\"0\",VLOOKUP(F2217,coefficient2!$A$28:$B$31,2,FALSE))","v":"0"},0.35800259999999995]
[43442,4,3,4,4,2,17,{"$f":"IF(B2218=1,\"0\",VLOOKUP(B2218,coefficient2!$A$4:$B$7,2,FALSE))","v":0.2109943},{"$f":"IF(C2218=1,\"0\",VLOOKUP(C2218,coefficient2!$A$10:$B$13,2,FALSE))","v":7.0631200000000005E-2},{"$f":"IF(D2218=1,\"0\",VLOOKUP(D2218,coefficient2!$A$16:$B$19,2,FALSE))","v":0.1534855},{"$f":"IF(E2218=1,\"0\",VLOOKUP(E2218,coefficient2!$A$22:$B$25,2,FALSE))","v":0.2068864},{"$f":"IF(F2218=1,\"0\",VLOOKUP(F2218,coefficient2!$A$28:$B$31,2,FALSE))","v":5.8085699999999997E-2},0.29991689999999993]
[43443,4,3,4,4,3,18,{"$f":"IF(B2219=1,\"0\",VLOOKUP(B2219,coefficient2!$A$4:$B$7,2,FALSE))","v":0.2109943},{"$f":"IF(C2219=1,\"0\",VLOOKUP(C2219,coefficient2!$A$10:$B$13,2,FALSE))","v":7.0631200000000005E-2},{"$f":"IF(D2219=1,\"0\",VLOOKUP(D2219,coefficient2!$A$16:$B$19,2,FALSE))","v":0.1534855},{"$f":"IF(E2219=1,\"0\",VLOOKUP(E2219,coefficient2!$A$22:$B$25,2,FALSE))","v":0.2068864},{"$f":"IF(F2219=1,\"0\",VLOOKUP(F2219,coefficient2!$A$28:$B$31,2,FALSE))","v":9.5753900000000003E-2},0.26224869999999995]
[43444,4,3,4,4,4,19,{"$f":"IF(B2220=1,\"0\",VLOOKUP(B2220,coefficient2!$A$4:$B$7,2,FALSE))","v":0.2109943},{"$f":"IF(C2220=1,\"0\",VLOOKUP(C2220,coefficient2!$A$10:$B$13,2,FALSE))","v":7.0631200000000005E-2},{"$f":"IF(D2220=1,\"0\",VLOOKUP(D2220,coefficient2!$A$16:$B$19,2,FALSE))","v":0.1534855},{"$f":"IF(E2220=1,\"0\",VLOOKUP(E2220,coefficient2!$A$22:$B$25,2,FALSE))","v":0.2068864},{"$f":"IF(F2220=1,\"0\",VLOOKUP(F2220,coefficient2!$A$28:$B$31,2,FALSE))","v":0.23270360000000001},0.12529899999999994]
[43445,4,3,4,4,5,20,{"$f":"IF(B2221=1,\"0\",VLOOKUP(B2221,coefficient2!$A$4:$B$7,2,FALSE))","v":0.2109943},{"$f":"IF(C2221=1,\"0\",VLOOKUP(C2221,coefficient2!$A$10:$B$13,2,FALSE))","v":7.0631200000000005E-2},{"$f":"IF(D2221=1,\"0\",VLOOKUP(D2221,coefficient2!$A$16:$B$19,2,FALSE))","v":0.1534855},{"$f":"IF(E2221=1,\"0\",VLOOKUP(E2221,coefficient2!$A$22:$B$25,2,FALSE))","v":0.2068864},{"$f":"IF(F2221=1,\"0\",VLOOKUP(F2221,coefficient2!$A$28:$B$31,2,FALSE))","v":0.29534929999999998},6.2653299999999967E-2]
[43451,4,3,4,5,1,17,{"$f":"IF(B2222=1,\"0\",VLOOKUP(B2222,coefficient2!$A$4:$B$7,2,FALSE))","v":0.2109943},{"$f":"IF(C2222=1,\"0\",VLOOKUP(C2222,coefficient2!$A$10:$B$13,2,FALSE))","v":7.0631200000000005E-2},{"$f":"IF(D2222=1,\"0\",VLOOKUP(D2222,coefficient2!$A$16:$B$19,2,FALSE))","v":0.1534855},{"$f":"IF(E2222=1,\"0\",VLOOKUP(E2222,coefficient2!$A$22:$B$25,2,FALSE))","v":0.25643310000000002},{"$f":"IF(F2222=1,\"0\",VLOOKUP(F2222,coefficient2!$A$28:$B$31,2,FALSE))","v":"0"},0.30845589999999995]
[43452,4,3,4,5,2,18,{"$f":"IF(B2223=1,\"0\",VLOOKUP(B2223,coefficient2!$A$4:$B$7,2,FALSE))","v":0.2109943},{"$f":"IF(C2223=1,\"0\",VLOOKUP(C2223,coefficient2!$A$10:$B$13,2,FALSE))","v":7.0631200000000005E-2},{"$f":"IF(D2223=1,\"0\",VLOOKUP(D2223,coefficient2!$A$16:$B$19,2,FALSE))","v":0.1534855},{"$f":"IF(E2223=1,\"0\",VLOOKUP(E2223,coefficient2!$A$22:$B$25,2,FALSE))","v":0.25643310000000002},{"$f":"IF(F2223=1,\"0\",VLOOKUP(F2223,coefficient2!$A$28:$B$31,2,FALSE))","v":5.8085699999999997E-2},0.25037019999999993]
[43453,4,3,4,5,3,19,{"$f":"IF(B2224=1,\"0\",VLOOKUP(B2224,coefficient2!$A$4:$B$7,2,FALSE))","v":0.2109943},{"$f":"IF(C2224=1,\"0\",VLOOKUP(C2224,coefficient2!$A$10:$B$13,2,FALSE))","v":7.0631200000000005E-2},{"$f":"IF(D2224=1,\"0\",VLOOKUP(D2224,coefficient2!$A$16:$B$19,2,FALSE))","v":0.1534855},{"$f":"IF(E2224=1,\"0\",VLOOKUP(E2224,coefficient2!$A$22:$B$25,2,FALSE))","v":0.25643310000000002},{"$f":"IF(F2224=1,\"0\",VLOOKUP(F2224,coefficient2!$A$28:$B$31,2,FALSE))","v":9.5753900000000003E-2},0.21270199999999995]
[43454,4,3,4,5,4,20,{"$f":"IF(B2225=1,\"0\",VLOOKUP(B2225,coefficient2!$A$4:$B$7,2,FALSE))","v":0.2109943},{"$f":"IF(C2225=1,\"0\",VLOOKUP(C2225,coefficient2!$A$10:$B$13,2,FALSE))","v":7.0631200000000005E-2},{"$f":"IF(D2225=1,\"0\",VLOOKUP(D2225,coefficient2!$A$16:$B$19,2,FALSE))","v":0.1534855},{"$f":"IF(E2225=1,\"0\",VLOOKUP(E2225,coefficient2!$A$22:$B$25,2,FALSE))","v":0.25643310000000002},{"$f":"IF(F2225=1,\"0\",VLOOKUP(F2225,coefficient2!$A$28:$B$31,2,FALSE))","v":0.23270360000000001},7.5752299999999939E-2]
[43455,4,3,4,5,5,21,{"$f":"IF(B2226=1,\"0\",VLOOKUP(B2226,coefficient2!$A$4:$B$7,2,FALSE))","v":0.2109943},{"$f":"IF(C2226=1,\"0\",VLOOKUP(C2226,coefficient2!$A$10:$B$13,2,FALSE))","v":7.0631200000000005E-2},{"$f":"IF(D2226=1,\"0\",VLOOKUP(D2226,coefficient2!$A$16:$B$19,2,FALSE))","v":0.1534855},{"$f":"IF(E2226=1,\"0\",VLOOKUP(E2226,coefficient2!$A$22:$B$25,2,FALSE))","v":0.25643310000000002},{"$f":"IF(F2226=1,\"0\",VLOOKUP(F2226,coefficient2!$A$28:$B$31,2,FALSE))","v":0.29534929999999998},1.3106599999999968E-2]
[43511,4,3,5,1,1,14,{"$f":"IF(B2227=1,\"0\",VLOOKUP(B2227,coefficient2!$A$4:$B$7,2,FALSE))","v":0.2109943},{"$f":"IF(C2227=1,\"0\",VLOOKUP(C2227,coefficient2!$A$10:$B$13,2,FALSE))","v":7.0631200000000005E-2},{"$f":"IF(D2227=1,\"0\",VLOOKUP(D2227,coefficient2!$A$16:$B$19,2,FALSE))","v":0.248331},{"$f":"IF(E2227=1,\"0\",VLOOKUP(E2227,coefficient2!$A$22:$B$25,2,FALSE))","v":"0"},{"$f":"IF(F2227=1,\"0\",VLOOKUP(F2227,coefficient2!$A$28:$B$31,2,FALSE))","v":"0"},0.47004350000000006]
[43512,4,3,5,1,2,15,{"$f":"IF(B2228=1,\"0\",VLOOKUP(B2228,coefficient2!$A$4:$B$7,2,FALSE))","v":0.2109943},{"$f":"IF(C2228=1,\"0\",VLOOKUP(C2228,coefficient2!$A$10:$B$13,2,FALSE))","v":7.0631200000000005E-2},{"$f":"IF(D2228=1,\"0\",VLOOKUP(D2228,coefficient2!$A$16:$B$19,2,FALSE))","v":0.248331},{"$f":"IF(E2228=1,\"0\",VLOOKUP(E2228,coefficient2!$A$22:$B$25,2,FALSE))","v":"0"},{"$f":"IF(F2228=1,\"0\",VLOOKUP(F2228,coefficient2!$A$28:$B$31,2,FALSE))","v":5.8085699999999997E-2},0.41195780000000004]
[43513,4,3,5,1,3,16,{"$f":"IF(B2229=1,\"0\",VLOOKUP(B2229,coefficient2!$A$4:$B$7,2,FALSE))","v":0.2109943},{"$f":"IF(C2229=1,\"0\",VLOOKUP(C2229,coefficient2!$A$10:$B$13,2,FALSE))","v":7.0631200000000005E-2},{"$f":"IF(D2229=1,\"0\",VLOOKUP(D2229,coefficient2!$A$16:$B$19,2,FALSE))","v":0.248331},{"$f":"IF(E2229=1,\"0\",VLOOKUP(E2229,coefficient2!$A$22:$B$25,2,FALSE))","v":"0"},{"$f":"IF(F2229=1,\"0\",VLOOKUP(F2229,coefficient2!$A$28:$B$31,2,FALSE))","v":9.5753900000000003E-2},0.37428960000000006]
[43514,4,3,5,1,4,17,{"$f":"IF(B2230=1,\"0\",VLOOKUP(B2230,coefficient2!$A$4:$B$7,2,FALSE))","v":0.2109943},{"$f":"IF(C2230=1,\"0\",VLOOKUP(C2230,coefficient2!$A$10:$B$13,2,FALSE))","v":7.0631200000000005E-2},{"$f":"IF(D2230=1,\"0\",VLOOKUP(D2230,coefficient2!$A$16:$B$19,2,FALSE))","v":0.248331},{"$f":"IF(E2230=1,\"0\",VLOOKUP(E2230,coefficient2!$A$22:$B$25,2,FALSE))","v":"0"},{"$f":"IF(F2230=1,\"0\",VLOOKUP(F2230,coefficient2!$A$28:$B$31,2,FALSE))","v":0.23270360000000001},0.23733990000000005]
[43515,4,3,5,1,5,18,{"$f":"IF(B2231=1,\"0\",VLOOKUP(B2231,coefficient2!$A$4:$B$7,2,FALSE))","v":0.2109943},{"$f":"IF(C2231=1,\"0\",VLOOKUP(C2231,coefficient2!$A$10:$B$13,2,FALSE))","v":7.0631200000000005E-2},{"$f":"IF(D2231=1,\"0\",VLOOKUP(D2231,coefficient2!$A$16:$B$19,2,FALSE))","v":0.248331},{"$f":"IF(E2231=1,\"0\",VLOOKUP(E2231,coefficient2!$A$22:$B$25,2,FALSE))","v":"0"},{"$f":"IF(F2231=1,\"0\",VLOOKUP(F2231,coefficient2!$A$28:$B$31,2,FALSE))","v":0.29534929999999998},0.17469420000000008]
[43521,4,3,5,2,1,15,{"$f":"IF(B2232=1,\"0\",VLOOKUP(B2232,coefficient2!$A$4:$B$7,2,FALSE))","v":0.2109943},{"$f":"IF(C2232=1,\"0\",VLOOKUP(C2232,coefficient2!$A$10:$B$13,2,FALSE))","v":7.0631200000000005E-2},{"$f":"IF(D2232=1,\"0\",VLOOKUP(D2232,coefficient2!$A$16:$B$19,2,FALSE))","v":0.248331},{"$f":"IF(E2232=1,\"0\",VLOOKUP(E2232,coefficient2!$A$22:$B$25,2,FALSE))","v":5.63998E-2},{"$f":"IF(F2232=1,\"0\",VLOOKUP(F2232,coefficient2!$A$28:$B$31,2,FALSE))","v":"0"},0.41364370000000006]
[43522,4,3,5,2,2,16,{"$f":"IF(B2233=1,\"0\",VLOOKUP(B2233,coefficient2!$A$4:$B$7,2,FALSE))","v":0.2109943},{"$f":"IF(C2233=1,\"0\",VLOOKUP(C2233,coefficient2!$A$10:$B$13,2,FALSE))","v":7.0631200000000005E-2},{"$f":"IF(D2233=1,\"0\",VLOOKUP(D2233,coefficient2!$A$16:$B$19,2,FALSE))","v":0.248331},{"$f":"IF(E2233=1,\"0\",VLOOKUP(E2233,coefficient2!$A$22:$B$25,2,FALSE))","v":5.63998E-2},{"$f":"IF(F2233=1,\"0\",VLOOKUP(F2233,coefficient2!$A$28:$B$31,2,FALSE))","v":5.8085699999999997E-2},0.35555800000000004]
[43523,4,3,5,2,3,17,{"$f":"IF(B2234=1,\"0\",VLOOKUP(B2234,coefficient2!$A$4:$B$7,2,FALSE))","v":0.2109943},{"$f":"IF(C2234=1,\"0\",VLOOKUP(C2234,coefficient2!$A$10:$B$13,2,FALSE))","v":7.0631200000000005E-2},{"$f":"IF(D2234=1,\"0\",VLOOKUP(D2234,coefficient2!$A$16:$B$19,2,FALSE))","v":0.248331},{"$f":"IF(E2234=1,\"0\",VLOOKUP(E2234,coefficient2!$A$22:$B$25,2,FALSE))","v":5.63998E-2},{"$f":"IF(F2234=1,\"0\",VLOOKUP(F2234,coefficient2!$A$28:$B$31,2,FALSE))","v":9.5753900000000003E-2},0.31788980000000006]
[43524,4,3,5,2,4,18,{"$f":"IF(B2235=1,\"0\",VLOOKUP(B2235,coefficient2!$A$4:$B$7,2,FALSE))","v":0.2109943},{"$f":"IF(C2235=1,\"0\",VLOOKUP(C2235,coefficient2!$A$10:$B$13,2,FALSE))","v":7.0631200000000005E-2},{"$f":"IF(D2235=1,\"0\",VLOOKUP(D2235,coefficient2!$A$16:$B$19,2,FALSE))","v":0.248331},{"$f":"IF(E2235=1,\"0\",VLOOKUP(E2235,coefficient2!$A$22:$B$25,2,FALSE))","v":5.63998E-2},{"$f":"IF(F2235=1,\"0\",VLOOKUP(F2235,coefficient2!$A$28:$B$31,2,FALSE))","v":0.23270360000000001},0.18094010000000005]
[43525,4,3,5,2,5,19,{"$f":"IF(B2236=1,\"0\",VLOOKUP(B2236,coefficient2!$A$4:$B$7,2,FALSE))","v":0.2109943},{"$f":"IF(C2236=1,\"0\",VLOOKUP(C2236,coefficient2!$A$10:$B$13,2,FALSE))","v":7.0631200000000005E-2},{"$f":"IF(D2236=1,\"0\",VLOOKUP(D2236,coefficient2!$A$16:$B$19,2,FALSE))","v":0.248331},{"$f":"IF(E2236=1,\"0\",VLOOKUP(E2236,coefficient2!$A$22:$B$25,2,FALSE))","v":5.63998E-2},{"$f":"IF(F2236=1,\"0\",VLOOKUP(F2236,coefficient2!$A$28:$B$31,2,FALSE))","v":0.29534929999999998},0.11829440000000008]
[43531,4,3,5,3,1,16,{"$f":"IF(B2237=1,\"0\",VLOOKUP(B2237,coefficient2!$A$4:$B$7,2,FALSE))","v":0.2109943},{"$f":"IF(C2237=1,\"0\",VLOOKUP(C2237,coefficient2!$A$10:$B$13,2,FALSE))","v":7.0631200000000005E-2},{"$f":"IF(D2237=1,\"0\",VLOOKUP(D2237,coefficient2!$A$16:$B$19,2,FALSE))","v":0.248331},{"$f":"IF(E2237=1,\"0\",VLOOKUP(E2237,coefficient2!$A$22:$B$25,2,FALSE))","v":6.6492200000000001E-2},{"$f":"IF(F2237=1,\"0\",VLOOKUP(F2237,coefficient2!$A$28:$B$31,2,FALSE))","v":"0"},0.40355130000000006]
[43532,4,3,5,3,2,17,{"$f":"IF(B2238=1,\"0\",VLOOKUP(B2238,coefficient2!$A$4:$B$7,2,FALSE))","v":0.2109943},{"$f":"IF(C2238=1,\"0\",VLOOKUP(C2238,coefficient2!$A$10:$B$13,2,FALSE))","v":7.0631200000000005E-2},{"$f":"IF(D2238=1,\"0\",VLOOKUP(D2238,coefficient2!$A$16:$B$19,2,FALSE))","v":0.248331},{"$f":"IF(E2238=1,\"0\",VLOOKUP(E2238,coefficient2!$A$22:$B$25,2,FALSE))","v":6.6492200000000001E-2},{"$f":"IF(F2238=1,\"0\",VLOOKUP(F2238,coefficient2!$A$28:$B$31,2,FALSE))","v":5.8085699999999997E-2},0.34546560000000004]
[43533,4,3,5,3,3,18,{"$f":"IF(B2239=1,\"0\",VLOOKUP(B2239,coefficient2!$A$4:$B$7,2,FALSE))","v":0.2109943},{"$f":"IF(C2239=1,\"0\",VLOOKUP(C2239,coefficient2!$A$10:$B$13,2,FALSE))","v":7.0631200000000005E-2},{"$f":"IF(D2239=1,\"0\",VLOOKUP(D2239,coefficient2!$A$16:$B$19,2,FALSE))","v":0.248331},{"$f":"IF(E2239=1,\"0\",VLOOKUP(E2239,coefficient2!$A$22:$B$25,2,FALSE))","v":6.6492200000000001E-2},{"$f":"IF(F2239=1,\"0\",VLOOKUP(F2239,coefficient2!$A$28:$B$31,2,FALSE))","v":9.5753900000000003E-2},0.30779740000000005]
[43534,4,3,5,3,4,19,{"$f":"IF(B2240=1,\"0\",VLOOKUP(B2240,coefficient2!$A$4:$B$7,2,FALSE))","v":0.2109943},{"$f":"IF(C2240=1,\"0\",VLOOKUP(C2240,coefficient2!$A$10:$B$13,2,FALSE))","v":7.0631200000000005E-2},{"$f":"IF(D2240=1,\"0\",VLOOKUP(D2240,coefficient2!$A$16:$B$19,2,FALSE))","v":0.248331},{"$f":"IF(E2240=1,\"0\",VLOOKUP(E2240,coefficient2!$A$22:$B$25,2,FALSE))","v":6.6492200000000001E-2},{"$f":"IF(F2240=1,\"0\",VLOOKUP(F2240,coefficient2!$A$28:$B$31,2,FALSE))","v":0.23270360000000001},0.17084770000000005]
[43535,4,3,5,3,5,20,{"$f":"IF(B2241=1,\"0\",VLOOKUP(B2241,coefficient2!$A$4:$B$7,2,FALSE))","v":0.2109943},{"$f":"IF(C2241=1,\"0\",VLOOKUP(C2241,coefficient2!$A$10:$B$13,2,FALSE))","v":7.0631200000000005E-2},{"$f":"IF(D2241=1,\"0\",VLOOKUP(D2241,coefficient2!$A$16:$B$19,2,FALSE))","v":0.248331},{"$f":"IF(E2241=1,\"0\",VLOOKUP(E2241,coefficient2!$A$22:$B$25,2,FALSE))","v":6.6492200000000001E-2},{"$f":"IF(F2241=1,\"0\",VLOOKUP(F2241,coefficient2!$A$28:$B$31,2,FALSE))","v":0.29534929999999998},0.10820200000000008]
[43541,4,3,5,4,1,17,{"$f":"IF(B2242=1,\"0\",VLOOKUP(B2242,coefficient2!$A$4:$B$7,2,FALSE))","v":0.2109943},{"$f":"IF(C2242=1,\"0\",VLOOKUP(C2242,coefficient2!$A$10:$B$13,2,FALSE))","v":7.0631200000000005E-2},{"$f":"IF(D2242=1,\"0\",VLOOKUP(D2242,coefficient2!$A$16:$B$19,2,FALSE))","v":0.248331},{"$f":"IF(E2242=1,\"0\",VLOOKUP(E2242,coefficient2!$A$22:$B$25,2,FALSE))","v":0.2068864},{"$f":"IF(F2242=1,\"0\",VLOOKUP(F2242,coefficient2!$A$28:$B$31,2,FALSE))","v":"0"},{"$f":"1-H2242-I2242-J2242-K2242-L2242","v":0.26315710000000003}]
[43542,{"$f":"INT(LEFT(A2243,1))","v":4},{"$f":"INT(MID(A2243,2,1))","v":3},{"$f":"INT(MID(A2243,3,1))","v":5},{"$f":"INT(MID(A2243,4,1))","v":4},{"$f":"INT(RIGHT(A2243,1))","v":2},18,{"$f":"IF(B2243=1,\"0\",VLOOKUP(B2243,coefficient2!$A$4:$B$7,2,FALSE))","v":0.2109943},{"$f":"IF(C2243=1,\"0\",VLOOKUP(C2243,coefficient2!$A$10:$B$13,2,FALSE))","v":7.0631200000000005E-2},{"$f":"IF(D2243=1,\"0\",VLOOKUP(D2243,coefficient2!$A$16:$B$19,2,FALSE))","v":0.248331},{"$f":"IF(E2243=1,\"0\",VLOOKUP(E2243,coefficient2!$A$22:$B$25,2,FALSE))","v":0.2068864},{"$f":"IF(F2243=1,\"0\",VLOOKUP(F2243,coefficient2!$A$28:$B$31,2,FALSE))","v":5.8085699999999997E-2},0.20507140000000004]
[43543,4,3,5,4,3,19,{"$f":"IF(B2244=1,\"0\",VLOOKUP(B2244,coefficient2!$A$4:$B$7,2,FALSE))","v":0.2109943},{"$f":"IF(C2244=1,\"0\",VLOOKUP(C2244,coefficient2!$A$10:$B$13,2,FALSE))","v":7.0631200000000005E-2},{"$f":"IF(D2244=1,\"0\",VLOOKUP(D2244,coefficient2!$A$16:$B$19,2,FALSE))","v":0.248331},{"$f":"IF(E2244=1,\"0\",VLOOKUP(E2244,coefficient2!$A$22:$B$25,2,FALSE))","v":0.2068864},{"$f":"IF(F2244=1,\"0\",VLOOKUP(F2244,coefficient2!$A$28:$B$31,2,FALSE))","v":9.5753900000000003E-2},0.16740320000000003]
[43544,4,3,5,4,4,20,{"$f":"IF(B2245=1,\"0\",VLOOKUP(B2245,coefficient2!$A$4:$B$7,2,FALSE))","v":0.2109943},{"$f":"IF(C2245=1,\"0\",VLOOKUP(C2245,coefficient2!$A$10:$B$13,2,FALSE))","v":7.0631200000000005E-2},{"$f":"IF(D2245=1,\"0\",VLOOKUP(D2245,coefficient2!$A$16:$B$19,2,FALSE))","v":0.248331},{"$f":"IF(E2245=1,\"0\",VLOOKUP(E2245,coefficient2!$A$22:$B$25,2,FALSE))","v":0.2068864},{"$f":"IF(F2245=1,\"0\",VLOOKUP(F2245,coefficient2!$A$28:$B$31,2,FALSE))","v":0.23270360000000001},3.0453500000000022E-2]
[43545,4,3,5,4,5,21,{"$f":"IF(B2246=1,\"0\",VLOOKUP(B2246,coefficient2!$A$4:$B$7,2,FALSE))","v":0.2109943},{"$f":"IF(C2246=1,\"0\",VLOOKUP(C2246,coefficient2!$A$10:$B$13,2,FALSE))","v":7.0631200000000005E-2},{"$f":"IF(D2246=1,\"0\",VLOOKUP(D2246,coefficient2!$A$16:$B$19,2,FALSE))","v":0.248331},{"$f":"IF(E2246=1,\"0\",VLOOKUP(E2246,coefficient2!$A$22:$B$25,2,FALSE))","v":0.2068864},{"$f":"IF(F2246=1,\"0\",VLOOKUP(F2246,coefficient2!$A$28:$B$31,2,FALSE))","v":0.29534929999999998},-3.2192199999999949E-2]
[43551,4,3,5,5,1,18,{"$f":"IF(B2247=1,\"0\",VLOOKUP(B2247,coefficient2!$A$4:$B$7,2,FALSE))","v":0.2109943},{"$f":"IF(C2247=1,\"0\",VLOOKUP(C2247,coefficient2!$A$10:$B$13,2,FALSE))","v":7.0631200000000005E-2},{"$f":"IF(D2247=1,\"0\",VLOOKUP(D2247,coefficient2!$A$16:$B$19,2,FALSE))","v":0.248331},{"$f":"IF(E2247=1,\"0\",VLOOKUP(E2247,coefficient2!$A$22:$B$25,2,FALSE))","v":0.25643310000000002},{"$f":"IF(F2247=1,\"0\",VLOOKUP(F2247,coefficient2!$A$28:$B$31,2,FALSE))","v":"0"},0.21361040000000003]
[43552,4,3,5,5,2,19,{"$f":"IF(B2248=1,\"0\",VLOOKUP(B2248,coefficient2!$A$4:$B$7,2,FALSE))","v":0.2109943},{"$f":"IF(C2248=1,\"0\",VLOOKUP(C2248,coefficient2!$A$10:$B$13,2,FALSE))","v":7.0631200000000005E-2},{"$f":"IF(D2248=1,\"0\",VLOOKUP(D2248,coefficient2!$A$16:$B$19,2,FALSE))","v":0.248331},{"$f":"IF(E2248=1,\"0\",VLOOKUP(E2248,coefficient2!$A$22:$B$25,2,FALSE))","v":0.25643310000000002},{"$f":"IF(F2248=1,\"0\",VLOOKUP(F2248,coefficient2!$A$28:$B$31,2,FALSE))","v":5.8085699999999997E-2},0.15552470000000004]
[43553,4,3,5,5,3,20,{"$f":"IF(B2249=1,\"0\",VLOOKUP(B2249,coefficient2!$A$4:$B$7,2,FALSE))","v":0.2109943},{"$f":"IF(C2249=1,\"0\",VLOOKUP(C2249,coefficient2!$A$10:$B$13,2,FALSE))","v":7.0631200000000005E-2},{"$f":"IF(D2249=1,\"0\",VLOOKUP(D2249,coefficient2!$A$16:$B$19,2,FALSE))","v":0.248331},{"$f":"IF(E2249=1,\"0\",VLOOKUP(E2249,coefficient2!$A$22:$B$25,2,FALSE))","v":0.25643310000000002},{"$f":"IF(F2249=1,\"0\",VLOOKUP(F2249,coefficient2!$A$28:$B$31,2,FALSE))","v":9.5753900000000003E-2},0.11785650000000003]
[43554,4,3,5,5,4,21,{"$f":"IF(B2250=1,\"0\",VLOOKUP(B2250,coefficient2!$A$4:$B$7,2,FALSE))","v":0.2109943},{"$f":"IF(C2250=1,\"0\",VLOOKUP(C2250,coefficient2!$A$10:$B$13,2,FALSE))","v":7.0631200000000005E-2},{"$f":"IF(D2250=1,\"0\",VLOOKUP(D2250,coefficient2!$A$16:$B$19,2,FALSE))","v":0.248331},{"$f":"IF(E2250=1,\"0\",VLOOKUP(E2250,coefficient2!$A$22:$B$25,2,FALSE))","v":0.25643310000000002},{"$f":"IF(F2250=1,\"0\",VLOOKUP(F2250,coefficient2!$A$28:$B$31,2,FALSE))","v":0.23270360000000001},-1.9093199999999977E-2]
[43555,4,3,5,5,5,22,{"$f":"IF(B2251=1,\"0\",VLOOKUP(B2251,coefficient2!$A$4:$B$7,2,FALSE))","v":0.2109943},{"$f":"IF(C2251=1,\"0\",VLOOKUP(C2251,coefficient2!$A$10:$B$13,2,FALSE))","v":7.0631200000000005E-2},{"$f":"IF(D2251=1,\"0\",VLOOKUP(D2251,coefficient2!$A$16:$B$19,2,FALSE))","v":0.248331},{"$f":"IF(E2251=1,\"0\",VLOOKUP(E2251,coefficient2!$A$22:$B$25,2,FALSE))","v":0.25643310000000002},{"$f":"IF(F2251=1,\"0\",VLOOKUP(F2251,coefficient2!$A$28:$B$31,2,FALSE))","v":0.29534929999999998},-8.1738899999999948E-2]
[44111,4,4,1,1,1,11,{"$f":"IF(B2252=1,\"0\",VLOOKUP(B2252,coefficient2!$A$4:$B$7,2,FALSE))","v":0.2109943},{"$f":"IF(C2252=1,\"0\",VLOOKUP(C2252,coefficient2!$A$10:$B$13,2,FALSE))","v":0.19249050000000001},{"$f":"IF(D2252=1,\"0\",VLOOKUP(D2252,coefficient2!$A$16:$B$19,2,FALSE))","v":"0"},{"$f":"IF(E2252=1,\"0\",VLOOKUP(E2252,coefficient2!$A$22:$B$25,2,FALSE))","v":"0"},{"$f":"IF(F2252=1,\"0\",VLOOKUP(F2252,coefficient2!$A$28:$B$31,2,FALSE))","v":"0"},0.59651520000000002]
[44112,4,4,1,1,2,12,{"$f":"IF(B2253=1,\"0\",VLOOKUP(B2253,coefficient2!$A$4:$B$7,2,FALSE))","v":0.2109943},{"$f":"IF(C2253=1,\"0\",VLOOKUP(C2253,coefficient2!$A$10:$B$13,2,FALSE))","v":0.19249050000000001},{"$f":"IF(D2253=1,\"0\",VLOOKUP(D2253,coefficient2!$A$16:$B$19,2,FALSE))","v":"0"},{"$f":"IF(E2253=1,\"0\",VLOOKUP(E2253,coefficient2!$A$22:$B$25,2,FALSE))","v":"0"},{"$f":"IF(F2253=1,\"0\",VLOOKUP(F2253,coefficient2!$A$28:$B$31,2,FALSE))","v":5.8085699999999997E-2},0.53842950000000001]
[44113,4,4,1,1,3,13,{"$f":"IF(B2254=1,\"0\",VLOOKUP(B2254,coefficient2!$A$4:$B$7,2,FALSE))","v":0.2109943},{"$f":"IF(C2254=1,\"0\",VLOOKUP(C2254,coefficient2!$A$10:$B$13,2,FALSE))","v":0.19249050000000001},{"$f":"IF(D2254=1,\"0\",VLOOKUP(D2254,coefficient2!$A$16:$B$19,2,FALSE))","v":"0"},{"$f":"IF(E2254=1,\"0\",VLOOKUP(E2254,coefficient2!$A$22:$B$25,2,FALSE))","v":"0"},{"$f":"IF(F2254=1,\"0\",VLOOKUP(F2254,coefficient2!$A$28:$B$31,2,FALSE))","v":9.5753900000000003E-2},0.50076129999999996]
[44114,4,4,1,1,4,14,{"$f":"IF(B2255=1,\"0\",VLOOKUP(B2255,coefficient2!$A$4:$B$7,2,FALSE))","v":0.2109943},{"$f":"IF(C2255=1,\"0\",VLOOKUP(C2255,coefficient2!$A$10:$B$13,2,FALSE))","v":0.19249050000000001},{"$f":"IF(D2255=1,\"0\",VLOOKUP(D2255,coefficient2!$A$16:$B$19,2,FALSE))","v":"0"},{"$f":"IF(E2255=1,\"0\",VLOOKUP(E2255,coefficient2!$A$22:$B$25,2,FALSE))","v":"0"},{"$f":"IF(F2255=1,\"0\",VLOOKUP(F2255,coefficient2!$A$28:$B$31,2,FALSE))","v":0.23270360000000001},0.36381160000000001]
[44115,4,4,1,1,5,15,{"$f":"IF(B2256=1,\"0\",VLOOKUP(B2256,coefficient2!$A$4:$B$7,2,FALSE))","v":0.2109943},{"$f":"IF(C2256=1,\"0\",VLOOKUP(C2256,coefficient2!$A$10:$B$13,2,FALSE))","v":0.19249050000000001},{"$f":"IF(D2256=1,\"0\",VLOOKUP(D2256,coefficient2!$A$16:$B$19,2,FALSE))","v":"0"},{"$f":"IF(E2256=1,\"0\",VLOOKUP(E2256,coefficient2!$A$22:$B$25,2,FALSE))","v":"0"},{"$f":"IF(F2256=1,\"0\",VLOOKUP(F2256,coefficient2!$A$28:$B$31,2,FALSE))","v":0.29534929999999998},0.30116590000000004]
[44121,4,4,1,2,1,12,{"$f":"IF(B2257=1,\"0\",VLOOKUP(B2257,coefficient2!$A$4:$B$7,2,FALSE))","v":0.2109943},{"$f":"IF(C2257=1,\"0\",VLOOKUP(C2257,coefficient2!$A$10:$B$13,2,FALSE))","v":0.19249050000000001},{"$f":"IF(D2257=1,\"0\",VLOOKUP(D2257,coefficient2!$A$16:$B$19,2,FALSE))","v":"0"},{"$f":"IF(E2257=1,\"0\",VLOOKUP(E2257,coefficient2!$A$22:$B$25,2,FALSE))","v":5.63998E-2},{"$f":"IF(F2257=1,\"0\",VLOOKUP(F2257,coefficient2!$A$28:$B$31,2,FALSE))","v":"0"},0.54011540000000002]
[44122,4,4,1,2,2,13,{"$f":"IF(B2258=1,\"0\",VLOOKUP(B2258,coefficient2!$A$4:$B$7,2,FALSE))","v":0.2109943},{"$f":"IF(C2258=1,\"0\",VLOOKUP(C2258,coefficient2!$A$10:$B$13,2,FALSE))","v":0.19249050000000001},{"$f":"IF(D2258=1,\"0\",VLOOKUP(D2258,coefficient2!$A$16:$B$19,2,FALSE))","v":"0"},{"$f":"IF(E2258=1,\"0\",VLOOKUP(E2258,coefficient2!$A$22:$B$25,2,FALSE))","v":5.63998E-2},{"$f":"IF(F2258=1,\"0\",VLOOKUP(F2258,coefficient2!$A$28:$B$31,2,FALSE))","v":5.8085699999999997E-2},0.48202970000000001]
[44123,4,4,1,2,3,14,{"$f":"IF(B2259=1,\"0\",VLOOKUP(B2259,coefficient2!$A$4:$B$7,2,FALSE))","v":0.2109943},{"$f":"IF(C2259=1,\"0\",VLOOKUP(C2259,coefficient2!$A$10:$B$13,2,FALSE))","v":0.19249050000000001},{"$f":"IF(D2259=1,\"0\",VLOOKUP(D2259,coefficient2!$A$16:$B$19,2,FALSE))","v":"0"},{"$f":"IF(E2259=1,\"0\",VLOOKUP(E2259,coefficient2!$A$22:$B$25,2,FALSE))","v":5.63998E-2},{"$f":"IF(F2259=1,\"0\",VLOOKUP(F2259,coefficient2!$A$28:$B$31,2,FALSE))","v":9.5753900000000003E-2},0.44436150000000002]
[44124,4,4,1,2,4,15,{"$f":"IF(B2260=1,\"0\",VLOOKUP(B2260,coefficient2!$A$4:$B$7,2,FALSE))","v":0.2109943},{"$f":"IF(C2260=1,\"0\",VLOOKUP(C2260,coefficient2!$A$10:$B$13,2,FALSE))","v":0.19249050000000001},{"$f":"IF(D2260=1,\"0\",VLOOKUP(D2260,coefficient2!$A$16:$B$19,2,FALSE))","v":"0"},{"$f":"IF(E2260=1,\"0\",VLOOKUP(E2260,coefficient2!$A$22:$B$25,2,FALSE))","v":5.63998E-2},{"$f":"IF(F2260=1,\"0\",VLOOKUP(F2260,coefficient2!$A$28:$B$31,2,FALSE))","v":0.23270360000000001},0.30741180000000001]
[44125,4,4,1,2,5,{"$f":"SUM(B2261:F2261)","v":16},{"$f":"IF(B2261=1,\"0\",VLOOKUP(B2261,coefficient2!$A$4:$B$7,2,FALSE))","v":0.2109943},{"$f":"IF(C2261=1,\"0\",VLOOKUP(C2261,coefficient2!$A$10:$B$13,2,FALSE))","v":0.19249050000000001},{"$f":"IF(D2261=1,\"0\",VLOOKUP(D2261,coefficient2!$A$16:$B$19,2,FALSE))","v":"0"},{"$f":"IF(E2261=1,\"0\",VLOOKUP(E2261,coefficient2!$A$22:$B$25,2,FALSE))","v":5.63998E-2},{"$f":"IF(F2261=1,\"0\",VLOOKUP(F2261,coefficient2!$A$28:$B$31,2,FALSE))","v":0.29534929999999998},0.24476610000000004]
[44131,4,4,1,3,1,13,{"$f":"IF(B2262=1,\"0\",VLOOKUP(B2262,coefficient2!$A$4:$B$7,2,FALSE))","v":0.2109943},{"$f":"IF(C2262=1,\"0\",VLOOKUP(C2262,coefficient2!$A$10:$B$13,2,FALSE))","v":0.19249050000000001},{"$f":"IF(D2262=1,\"0\",VLOOKUP(D2262,coefficient2!$A$16:$B$19,2,FALSE))","v":"0"},{"$f":"IF(E2262=1,\"0\",VLOOKUP(E2262,coefficient2!$A$22:$B$25,2,FALSE))","v":6.6492200000000001E-2},{"$f":"IF(F2262=1,\"0\",VLOOKUP(F2262,coefficient2!$A$28:$B$31,2,FALSE))","v":"0"},0.53002300000000002]
[44132,4,4,1,3,2,14,{"$f":"IF(B2263=1,\"0\",VLOOKUP(B2263,coefficient2!$A$4:$B$7,2,FALSE))","v":0.2109943},{"$f":"IF(C2263=1,\"0\",VLOOKUP(C2263,coefficient2!$A$10:$B$13,2,FALSE))","v":0.19249050000000001},{"$f":"IF(D2263=1,\"0\",VLOOKUP(D2263,coefficient2!$A$16:$B$19,2,FALSE))","v":"0"},{"$f":"IF(E2263=1,\"0\",VLOOKUP(E2263,coefficient2!$A$22:$B$25,2,FALSE))","v":6.6492200000000001E-2},{"$f":"IF(F2263=1,\"0\",VLOOKUP(F2263,coefficient2!$A$28:$B$31,2,FALSE))","v":5.8085699999999997E-2},0.4719373]
[44133,4,4,1,3,3,15,{"$f":"IF(B2264=1,\"0\",VLOOKUP(B2264,coefficient2!$A$4:$B$7,2,FALSE))","v":0.2109943},{"$f":"IF(C2264=1,\"0\",VLOOKUP(C2264,coefficient2!$A$10:$B$13,2,FALSE))","v":0.19249050000000001},{"$f":"IF(D2264=1,\"0\",VLOOKUP(D2264,coefficient2!$A$16:$B$19,2,FALSE))","v":"0"},{"$f":"IF(E2264=1,\"0\",VLOOKUP(E2264,coefficient2!$A$22:$B$25,2,FALSE))","v":6.6492200000000001E-2},{"$f":"IF(F2264=1,\"0\",VLOOKUP(F2264,coefficient2!$A$28:$B$31,2,FALSE))","v":9.5753900000000003E-2},0.43426910000000002]
[44134,4,4,1,3,4,16,{"$f":"IF(B2265=1,\"0\",VLOOKUP(B2265,coefficient2!$A$4:$B$7,2,FALSE))","v":0.2109943},{"$f":"IF(C2265=1,\"0\",VLOOKUP(C2265,coefficient2!$A$10:$B$13,2,FALSE))","v":0.19249050000000001},{"$f":"IF(D2265=1,\"0\",VLOOKUP(D2265,coefficient2!$A$16:$B$19,2,FALSE))","v":"0"},{"$f":"IF(E2265=1,\"0\",VLOOKUP(E2265,coefficient2!$A$22:$B$25,2,FALSE))","v":6.6492200000000001E-2},{"$f":"IF(F2265=1,\"0\",VLOOKUP(F2265,coefficient2!$A$28:$B$31,2,FALSE))","v":0.23270360000000001},0.29731940000000001]
[44135,4,4,1,3,5,17,{"$f":"IF(B2266=1,\"0\",VLOOKUP(B2266,coefficient2!$A$4:$B$7,2,FALSE))","v":0.2109943},{"$f":"IF(C2266=1,\"0\",VLOOKUP(C2266,coefficient2!$A$10:$B$13,2,FALSE))","v":0.19249050000000001},{"$f":"IF(D2266=1,\"0\",VLOOKUP(D2266,coefficient2!$A$16:$B$19,2,FALSE))","v":"0"},{"$f":"IF(E2266=1,\"0\",VLOOKUP(E2266,coefficient2!$A$22:$B$25,2,FALSE))","v":6.6492200000000001E-2},{"$f":"IF(F2266=1,\"0\",VLOOKUP(F2266,coefficient2!$A$28:$B$31,2,FALSE))","v":0.29534929999999998},0.23467370000000004]
[44141,4,4,1,4,1,14,{"$f":"IF(B2267=1,\"0\",VLOOKUP(B2267,coefficient2!$A$4:$B$7,2,FALSE))","v":0.2109943},{"$f":"IF(C2267=1,\"0\",VLOOKUP(C2267,coefficient2!$A$10:$B$13,2,FALSE))","v":0.19249050000000001},{"$f":"IF(D2267=1,\"0\",VLOOKUP(D2267,coefficient2!$A$16:$B$19,2,FALSE))","v":"0"},{"$f":"IF(E2267=1,\"0\",VLOOKUP(E2267,coefficient2!$A$22:$B$25,2,FALSE))","v":0.2068864},{"$f":"IF(F2267=1,\"0\",VLOOKUP(F2267,coefficient2!$A$28:$B$31,2,FALSE))","v":"0"},0.3896288]
[44142,4,4,1,4,2,15,{"$f":"IF(B2268=1,\"0\",VLOOKUP(B2268,coefficient2!$A$4:$B$7,2,FALSE))","v":0.2109943},{"$f":"IF(C2268=1,\"0\",VLOOKUP(C2268,coefficient2!$A$10:$B$13,2,FALSE))","v":0.19249050000000001},{"$f":"IF(D2268=1,\"0\",VLOOKUP(D2268,coefficient2!$A$16:$B$19,2,FALSE))","v":"0"},{"$f":"IF(E2268=1,\"0\",VLOOKUP(E2268,coefficient2!$A$22:$B$25,2,FALSE))","v":0.2068864},{"$f":"IF(F2268=1,\"0\",VLOOKUP(F2268,coefficient2!$A$28:$B$31,2,FALSE))","v":5.8085699999999997E-2},0.33154309999999998]
[44143,4,4,1,4,3,16,{"$f":"IF(B2269=1,\"0\",VLOOKUP(B2269,coefficient2!$A$4:$B$7,2,FALSE))","v":0.2109943},{"$f":"IF(C2269=1,\"0\",VLOOKUP(C2269,coefficient2!$A$10:$B$13,2,FALSE))","v":0.19249050000000001},{"$f":"IF(D2269=1,\"0\",VLOOKUP(D2269,coefficient2!$A$16:$B$19,2,FALSE))","v":"0"},{"$f":"IF(E2269=1,\"0\",VLOOKUP(E2269,coefficient2!$A$22:$B$25,2,FALSE))","v":0.2068864},{"$f":"IF(F2269=1,\"0\",VLOOKUP(F2269,coefficient2!$A$28:$B$31,2,FALSE))","v":9.5753900000000003E-2},0.29387489999999999]
[44144,4,4,1,4,4,17,{"$f":"IF(B2270=1,\"0\",VLOOKUP(B2270,coefficient2!$A$4:$B$7,2,FALSE))","v":0.2109943},{"$f":"IF(C2270=1,\"0\",VLOOKUP(C2270,coefficient2!$A$10:$B$13,2,FALSE))","v":0.19249050000000001},{"$f":"IF(D2270=1,\"0\",VLOOKUP(D2270,coefficient2!$A$16:$B$19,2,FALSE))","v":"0"},{"$f":"IF(E2270=1,\"0\",VLOOKUP(E2270,coefficient2!$A$22:$B$25,2,FALSE))","v":0.2068864},{"$f":"IF(F2270=1,\"0\",VLOOKUP(F2270,coefficient2!$A$28:$B$31,2,FALSE))","v":0.23270360000000001},0.15692519999999999]
[44145,4,4,1,4,5,18,{"$f":"IF(B2271=1,\"0\",VLOOKUP(B2271,coefficient2!$A$4:$B$7,2,FALSE))","v":0.2109943},{"$f":"IF(C2271=1,\"0\",VLOOKUP(C2271,coefficient2!$A$10:$B$13,2,FALSE))","v":0.19249050000000001},{"$f":"IF(D2271=1,\"0\",VLOOKUP(D2271,coefficient2!$A$16:$B$19,2,FALSE))","v":"0"},{"$f":"IF(E2271=1,\"0\",VLOOKUP(E2271,coefficient2!$A$22:$B$25,2,FALSE))","v":0.2068864},{"$f":"IF(F2271=1,\"0\",VLOOKUP(F2271,coefficient2!$A$28:$B$31,2,FALSE))","v":0.29534929999999998},9.4279500000000016E-2]
[44151,4,4,1,5,1,15,{"$f":"IF(B2272=1,\"0\",VLOOKUP(B2272,coefficient2!$A$4:$B$7,2,FALSE))","v":0.2109943},{"$f":"IF(C2272=1,\"0\",VLOOKUP(C2272,coefficient2!$A$10:$B$13,2,FALSE))","v":0.19249050000000001},{"$f":"IF(D2272=1,\"0\",VLOOKUP(D2272,coefficient2!$A$16:$B$19,2,FALSE))","v":"0"},{"$f":"IF(E2272=1,\"0\",VLOOKUP(E2272,coefficient2!$A$22:$B$25,2,FALSE))","v":0.25643310000000002},{"$f":"IF(F2272=1,\"0\",VLOOKUP(F2272,coefficient2!$A$28:$B$31,2,FALSE))","v":"0"},0.3400821]
[44152,4,4,1,5,2,16,{"$f":"IF(B2273=1,\"0\",VLOOKUP(B2273,coefficient2!$A$4:$B$7,2,FALSE))","v":0.2109943},{"$f":"IF(C2273=1,\"0\",VLOOKUP(C2273,coefficient2!$A$10:$B$13,2,FALSE))","v":0.19249050000000001},{"$f":"IF(D2273=1,\"0\",VLOOKUP(D2273,coefficient2!$A$16:$B$19,2,FALSE))","v":"0"},{"$f":"IF(E2273=1,\"0\",VLOOKUP(E2273,coefficient2!$A$22:$B$25,2,FALSE))","v":0.25643310000000002},{"$f":"IF(F2273=1,\"0\",VLOOKUP(F2273,coefficient2!$A$28:$B$31,2,FALSE))","v":5.8085699999999997E-2},0.28199639999999998]
[44153,4,4,1,5,3,17,{"$f":"IF(B2274=1,\"0\",VLOOKUP(B2274,coefficient2!$A$4:$B$7,2,FALSE))","v":0.2109943},{"$f":"IF(C2274=1,\"0\",VLOOKUP(C2274,coefficient2!$A$10:$B$13,2,FALSE))","v":0.19249050000000001},{"$f":"IF(D2274=1,\"0\",VLOOKUP(D2274,coefficient2!$A$16:$B$19,2,FALSE))","v":"0"},{"$f":"IF(E2274=1,\"0\",VLOOKUP(E2274,coefficient2!$A$22:$B$25,2,FALSE))","v":0.25643310000000002},{"$f":"IF(F2274=1,\"0\",VLOOKUP(F2274,coefficient2!$A$28:$B$31,2,FALSE))","v":9.5753900000000003E-2},0.2443282]
[44154,4,4,1,5,4,18,{"$f":"IF(B2275=1,\"0\",VLOOKUP(B2275,coefficient2!$A$4:$B$7,2,FALSE))","v":0.2109943},{"$f":"IF(C2275=1,\"0\",VLOOKUP(C2275,coefficient2!$A$10:$B$13,2,FALSE))","v":0.19249050000000001},{"$f":"IF(D2275=1,\"0\",VLOOKUP(D2275,coefficient2!$A$16:$B$19,2,FALSE))","v":"0"},{"$f":"IF(E2275=1,\"0\",VLOOKUP(E2275,coefficient2!$A$22:$B$25,2,FALSE))","v":0.25643310000000002},{"$f":"IF(F2275=1,\"0\",VLOOKUP(F2275,coefficient2!$A$28:$B$31,2,FALSE))","v":0.23270360000000001},0.10737849999999999]
[44155,4,4,1,5,5,19,{"$f":"IF(B2276=1,\"0\",VLOOKUP(B2276,coefficient2!$A$4:$B$7,2,FALSE))","v":0.2109943},{"$f":"IF(C2276=1,\"0\",VLOOKUP(C2276,coefficient2!$A$10:$B$13,2,FALSE))","v":0.19249050000000001},{"$f":"IF(D2276=1,\"0\",VLOOKUP(D2276,coefficient2!$A$16:$B$19,2,FALSE))","v":"0"},{"$f":"IF(E2276=1,\"0\",VLOOKUP(E2276,coefficient2!$A$22:$B$25,2,FALSE))","v":0.25643310000000002},{"$f":"IF(F2276=1,\"0\",VLOOKUP(F2276,coefficient2!$A$28:$B$31,2,FALSE))","v":0.29534929999999998},4.4732800000000017E-2]
[44211,4,4,2,1,1,12,{"$f":"IF(B2277=1,\"0\",VLOOKUP(B2277,coefficient2!$A$4:$B$7,2,FALSE))","v":0.2109943},{"$f":"IF(C2277=1,\"0\",VLOOKUP(C2277,coefficient2!$A$10:$B$13,2,FALSE))","v":0.19249050000000001},{"$f":"IF(D2277=1,\"0\",VLOOKUP(D2277,coefficient2!$A$16:$B$19,2,FALSE))","v":5.8254399999999998E-2},{"$f":"IF(E2277=1,\"0\",VLOOKUP(E2277,coefficient2!$A$22:$B$25,2,FALSE))","v":"0"},{"$f":"IF(F2277=1,\"0\",VLOOKUP(F2277,coefficient2!$A$28:$B$31,2,FALSE))","v":"0"},0.53826079999999998]
[44212,4,4,2,1,2,13,{"$f":"IF(B2278=1,\"0\",VLOOKUP(B2278,coefficient2!$A$4:$B$7,2,FALSE))","v":0.2109943},{"$f":"IF(C2278=1,\"0\",VLOOKUP(C2278,coefficient2!$A$10:$B$13,2,FALSE))","v":0.19249050000000001},{"$f":"IF(D2278=1,\"0\",VLOOKUP(D2278,coefficient2!$A$16:$B$19,2,FALSE))","v":5.8254399999999998E-2},{"$f":"IF(E2278=1,\"0\",VLOOKUP(E2278,coefficient2!$A$22:$B$25,2,FALSE))","v":"0"},{"$f":"IF(F2278=1,\"0\",VLOOKUP(F2278,coefficient2!$A$28:$B$31,2,FALSE))","v":5.8085699999999997E-2},0.48017509999999997]
[44213,4,4,2,1,3,14,{"$f":"IF(B2279=1,\"0\",VLOOKUP(B2279,coefficient2!$A$4:$B$7,2,FALSE))","v":0.2109943},{"$f":"IF(C2279=1,\"0\",VLOOKUP(C2279,coefficient2!$A$10:$B$13,2,FALSE))","v":0.19249050000000001},{"$f":"IF(D2279=1,\"0\",VLOOKUP(D2279,coefficient2!$A$16:$B$19,2,FALSE))","v":5.8254399999999998E-2},{"$f":"IF(E2279=1,\"0\",VLOOKUP(E2279,coefficient2!$A$22:$B$25,2,FALSE))","v":"0"},{"$f":"IF(F2279=1,\"0\",VLOOKUP(F2279,coefficient2!$A$28:$B$31,2,FALSE))","v":9.5753900000000003E-2},0.44250689999999998]
[44214,4,4,2,1,4,15,{"$f":"IF(B2280=1,\"0\",VLOOKUP(B2280,coefficient2!$A$4:$B$7,2,FALSE))","v":0.2109943},{"$f":"IF(C2280=1,\"0\",VLOOKUP(C2280,coefficient2!$A$10:$B$13,2,FALSE))","v":0.19249050000000001},{"$f":"IF(D2280=1,\"0\",VLOOKUP(D2280,coefficient2!$A$16:$B$19,2,FALSE))","v":5.8254399999999998E-2},{"$f":"IF(E2280=1,\"0\",VLOOKUP(E2280,coefficient2!$A$22:$B$25,2,FALSE))","v":"0"},{"$f":"IF(F2280=1,\"0\",VLOOKUP(F2280,coefficient2!$A$28:$B$31,2,FALSE))","v":0.23270360000000001},0.30555719999999997]
[44215,4,4,2,1,5,16,{"$f":"IF(B2281=1,\"0\",VLOOKUP(B2281,coefficient2!$A$4:$B$7,2,FALSE))","v":0.2109943},{"$f":"IF(C2281=1,\"0\",VLOOKUP(C2281,coefficient2!$A$10:$B$13,2,FALSE))","v":0.19249050000000001},{"$f":"IF(D2281=1,\"0\",VLOOKUP(D2281,coefficient2!$A$16:$B$19,2,FALSE))","v":5.8254399999999998E-2},{"$f":"IF(E2281=1,\"0\",VLOOKUP(E2281,coefficient2!$A$22:$B$25,2,FALSE))","v":"0"},{"$f":"IF(F2281=1,\"0\",VLOOKUP(F2281,coefficient2!$A$28:$B$31,2,FALSE))","v":0.29534929999999998},0.2429115]
[44221,4,4,2,2,1,13,{"$f":"IF(B2282=1,\"0\",VLOOKUP(B2282,coefficient2!$A$4:$B$7,2,FALSE))","v":0.2109943},{"$f":"IF(C2282=1,\"0\",VLOOKUP(C2282,coefficient2!$A$10:$B$13,2,FALSE))","v":0.19249050000000001},{"$f":"IF(D2282=1,\"0\",VLOOKUP(D2282,coefficient2!$A$16:$B$19,2,FALSE))","v":5.8254399999999998E-2},{"$f":"IF(E2282=1,\"0\",VLOOKUP(E2282,coefficient2!$A$22:$B$25,2,FALSE))","v":5.63998E-2},{"$f":"IF(F2282=1,\"0\",VLOOKUP(F2282,coefficient2!$A$28:$B$31,2,FALSE))","v":"0"},0.48186099999999998]
[44222,4,4,2,2,2,14,{"$f":"IF(B2283=1,\"0\",VLOOKUP(B2283,coefficient2!$A$4:$B$7,2,FALSE))","v":0.2109943},{"$f":"IF(C2283=1,\"0\",VLOOKUP(C2283,coefficient2!$A$10:$B$13,2,FALSE))","v":0.19249050000000001},{"$f":"IF(D2283=1,\"0\",VLOOKUP(D2283,coefficient2!$A$16:$B$19,2,FALSE))","v":5.8254399999999998E-2},{"$f":"IF(E2283=1,\"0\",VLOOKUP(E2283,coefficient2!$A$22:$B$25,2,FALSE))","v":5.63998E-2},{"$f":"IF(F2283=1,\"0\",VLOOKUP(F2283,coefficient2!$A$28:$B$31,2,FALSE))","v":5.8085699999999997E-2},0.42377529999999997]
[44223,4,4,2,2,3,15,{"$f":"IF(B2284=1,\"0\",VLOOKUP(B2284,coefficient2!$A$4:$B$7,2,FALSE))","v":0.2109943},{"$f":"IF(C2284=1,\"0\",VLOOKUP(C2284,coefficient2!$A$10:$B$13,2,FALSE))","v":0.19249050000000001},{"$f":"IF(D2284=1,\"0\",VLOOKUP(D2284,coefficient2!$A$16:$B$19,2,FALSE))","v":5.8254399999999998E-2},{"$f":"IF(E2284=1,\"0\",VLOOKUP(E2284,coefficient2!$A$22:$B$25,2,FALSE))","v":5.63998E-2},{"$f":"IF(F2284=1,\"0\",VLOOKUP(F2284,coefficient2!$A$28:$B$31,2,FALSE))","v":9.5753900000000003E-2},0.38610709999999998]
[44224,4,4,2,2,4,16,{"$f":"IF(B2285=1,\"0\",VLOOKUP(B2285,coefficient2!$A$4:$B$7,2,FALSE))","v":0.2109943},{"$f":"IF(C2285=1,\"0\",VLOOKUP(C2285,coefficient2!$A$10:$B$13,2,FALSE))","v":0.19249050000000001},{"$f":"IF(D2285=1,\"0\",VLOOKUP(D2285,coefficient2!$A$16:$B$19,2,FALSE))","v":5.8254399999999998E-2},{"$f":"IF(E2285=1,\"0\",VLOOKUP(E2285,coefficient2!$A$22:$B$25,2,FALSE))","v":5.63998E-2},{"$f":"IF(F2285=1,\"0\",VLOOKUP(F2285,coefficient2!$A$28:$B$31,2,FALSE))","v":0.23270360000000001},0.24915739999999997]
[44225,4,4,2,2,5,17,{"$f":"IF(B2286=1,\"0\",VLOOKUP(B2286,coefficient2!$A$4:$B$7,2,FALSE))","v":0.2109943},{"$f":"IF(C2286=1,\"0\",VLOOKUP(C2286,coefficient2!$A$10:$B$13,2,FALSE))","v":0.19249050000000001},{"$f":"IF(D2286=1,\"0\",VLOOKUP(D2286,coefficient2!$A$16:$B$19,2,FALSE))","v":5.8254399999999998E-2},{"$f":"IF(E2286=1,\"0\",VLOOKUP(E2286,coefficient2!$A$22:$B$25,2,FALSE))","v":5.63998E-2},{"$f":"IF(F2286=1,\"0\",VLOOKUP(F2286,coefficient2!$A$28:$B$31,2,FALSE))","v":0.29534929999999998},0.1865117]
[44231,4,4,2,3,1,14,{"$f":"IF(B2287=1,\"0\",VLOOKUP(B2287,coefficient2!$A$4:$B$7,2,FALSE))","v":0.2109943},{"$f":"IF(C2287=1,\"0\",VLOOKUP(C2287,coefficient2!$A$10:$B$13,2,FALSE))","v":0.19249050000000001},{"$f":"IF(D2287=1,\"0\",VLOOKUP(D2287,coefficient2!$A$16:$B$19,2,FALSE))","v":5.8254399999999998E-2},{"$f":"IF(E2287=1,\"0\",VLOOKUP(E2287,coefficient2!$A$22:$B$25,2,FALSE))","v":6.6492200000000001E-2},{"$f":"IF(F2287=1,\"0\",VLOOKUP(F2287,coefficient2!$A$28:$B$31,2,FALSE))","v":"0"},0.47176859999999998]
[44232,4,4,2,3,2,15,{"$f":"IF(B2288=1,\"0\",VLOOKUP(B2288,coefficient2!$A$4:$B$7,2,FALSE))","v":0.2109943},{"$f":"IF(C2288=1,\"0\",VLOOKUP(C2288,coefficient2!$A$10:$B$13,2,FALSE))","v":0.19249050000000001},{"$f":"IF(D2288=1,\"0\",VLOOKUP(D2288,coefficient2!$A$16:$B$19,2,FALSE))","v":5.8254399999999998E-2},{"$f":"IF(E2288=1,\"0\",VLOOKUP(E2288,coefficient2!$A$22:$B$25,2,FALSE))","v":6.6492200000000001E-2},{"$f":"IF(F2288=1,\"0\",VLOOKUP(F2288,coefficient2!$A$28:$B$31,2,FALSE))","v":5.8085699999999997E-2},0.41368289999999996]
[44233,4,4,2,3,3,16,{"$f":"IF(B2289=1,\"0\",VLOOKUP(B2289,coefficient2!$A$4:$B$7,2,FALSE))","v":0.2109943},{"$f":"IF(C2289=1,\"0\",VLOOKUP(C2289,coefficient2!$A$10:$B$13,2,FALSE))","v":0.19249050000000001},{"$f":"IF(D2289=1,\"0\",VLOOKUP(D2289,coefficient2!$A$16:$B$19,2,FALSE))","v":5.8254399999999998E-2},{"$f":"IF(E2289=1,\"0\",VLOOKUP(E2289,coefficient2!$A$22:$B$25,2,FALSE))","v":6.6492200000000001E-2},{"$f":"IF(F2289=1,\"0\",VLOOKUP(F2289,coefficient2!$A$28:$B$31,2,FALSE))","v":9.5753900000000003E-2},0.37601469999999998]
[44234,4,4,2,3,4,17,{"$f":"IF(B2290=1,\"0\",VLOOKUP(B2290,coefficient2!$A$4:$B$7,2,FALSE))","v":0.2109943},{"$f":"IF(C2290=1,\"0\",VLOOKUP(C2290,coefficient2!$A$10:$B$13,2,FALSE))","v":0.19249050000000001},{"$f":"IF(D2290=1,\"0\",VLOOKUP(D2290,coefficient2!$A$16:$B$19,2,FALSE))","v":5.8254399999999998E-2},{"$f":"IF(E2290=1,\"0\",VLOOKUP(E2290,coefficient2!$A$22:$B$25,2,FALSE))","v":6.6492200000000001E-2},{"$f":"IF(F2290=1,\"0\",VLOOKUP(F2290,coefficient2!$A$28:$B$31,2,FALSE))","v":0.23270360000000001},0.23906499999999997]
[44235,4,4,2,3,5,18,{"$f":"IF(B2291=1,\"0\",VLOOKUP(B2291,coefficient2!$A$4:$B$7,2,FALSE))","v":0.2109943},{"$f":"IF(C2291=1,\"0\",VLOOKUP(C2291,coefficient2!$A$10:$B$13,2,FALSE))","v":0.19249050000000001},{"$f":"IF(D2291=1,\"0\",VLOOKUP(D2291,coefficient2!$A$16:$B$19,2,FALSE))","v":5.8254399999999998E-2},{"$f":"IF(E2291=1,\"0\",VLOOKUP(E2291,coefficient2!$A$22:$B$25,2,FALSE))","v":6.6492200000000001E-2},{"$f":"IF(F2291=1,\"0\",VLOOKUP(F2291,coefficient2!$A$28:$B$31,2,FALSE))","v":0.29534929999999998},0.1764193]
[44241,4,4,2,4,1,15,{"$f":"IF(B2292=1,\"0\",VLOOKUP(B2292,coefficient2!$A$4:$B$7,2,FALSE))","v":0.2109943},{"$f":"IF(C2292=1,\"0\",VLOOKUP(C2292,coefficient2!$A$10:$B$13,2,FALSE))","v":0.19249050000000001},{"$f":"IF(D2292=1,\"0\",VLOOKUP(D2292,coefficient2!$A$16:$B$19,2,FALSE))","v":5.8254399999999998E-2},{"$f":"IF(E2292=1,\"0\",VLOOKUP(E2292,coefficient2!$A$22:$B$25,2,FALSE))","v":0.2068864},{"$f":"IF(F2292=1,\"0\",VLOOKUP(F2292,coefficient2!$A$28:$B$31,2,FALSE))","v":"0"},0.33137439999999996]
[44242,4,4,2,4,2,16,{"$f":"IF(B2293=1,\"0\",VLOOKUP(B2293,coefficient2!$A$4:$B$7,2,FALSE))","v":0.2109943},{"$f":"IF(C2293=1,\"0\",VLOOKUP(C2293,coefficient2!$A$10:$B$13,2,FALSE))","v":0.19249050000000001},{"$f":"IF(D2293=1,\"0\",VLOOKUP(D2293,coefficient2!$A$16:$B$19,2,FALSE))","v":5.8254399999999998E-2},{"$f":"IF(E2293=1,\"0\",VLOOKUP(E2293,coefficient2!$A$22:$B$25,2,FALSE))","v":0.2068864},{"$f":"IF(F2293=1,\"0\",VLOOKUP(F2293,coefficient2!$A$28:$B$31,2,FALSE))","v":5.8085699999999997E-2},0.27328869999999994]
[44243,4,4,2,4,3,17,{"$f":"IF(B2294=1,\"0\",VLOOKUP(B2294,coefficient2!$A$4:$B$7,2,FALSE))","v":0.2109943},{"$f":"IF(C2294=1,\"0\",VLOOKUP(C2294,coefficient2!$A$10:$B$13,2,FALSE))","v":0.19249050000000001},{"$f":"IF(D2294=1,\"0\",VLOOKUP(D2294,coefficient2!$A$16:$B$19,2,FALSE))","v":5.8254399999999998E-2},{"$f":"IF(E2294=1,\"0\",VLOOKUP(E2294,coefficient2!$A$22:$B$25,2,FALSE))","v":0.2068864},{"$f":"IF(F2294=1,\"0\",VLOOKUP(F2294,coefficient2!$A$28:$B$31,2,FALSE))","v":9.5753900000000003E-2},0.23562049999999995]
[44244,4,4,2,4,4,18,{"$f":"IF(B2295=1,\"0\",VLOOKUP(B2295,coefficient2!$A$4:$B$7,2,FALSE))","v":0.2109943},{"$f":"IF(C2295=1,\"0\",VLOOKUP(C2295,coefficient2!$A$10:$B$13,2,FALSE))","v":0.19249050000000001},{"$f":"IF(D2295=1,\"0\",VLOOKUP(D2295,coefficient2!$A$16:$B$19,2,FALSE))","v":5.8254399999999998E-2},{"$f":"IF(E2295=1,\"0\",VLOOKUP(E2295,coefficient2!$A$22:$B$25,2,FALSE))","v":0.2068864},{"$f":"IF(F2295=1,\"0\",VLOOKUP(F2295,coefficient2!$A$28:$B$31,2,FALSE))","v":0.23270360000000001},9.8670799999999947E-2]
[44245,4,4,2,4,5,19,{"$f":"IF(B2296=1,\"0\",VLOOKUP(B2296,coefficient2!$A$4:$B$7,2,FALSE))","v":0.2109943},{"$f":"IF(C2296=1,\"0\",VLOOKUP(C2296,coefficient2!$A$10:$B$13,2,FALSE))","v":0.19249050000000001},{"$f":"IF(D2296=1,\"0\",VLOOKUP(D2296,coefficient2!$A$16:$B$19,2,FALSE))","v":5.8254399999999998E-2},{"$f":"IF(E2296=1,\"0\",VLOOKUP(E2296,coefficient2!$A$22:$B$25,2,FALSE))","v":0.2068864},{"$f":"IF(F2296=1,\"0\",VLOOKUP(F2296,coefficient2!$A$28:$B$31,2,FALSE))","v":0.29534929999999998},3.6025099999999977E-2]
[44251,4,4,2,5,1,16,{"$f":"IF(B2297=1,\"0\",VLOOKUP(B2297,coefficient2!$A$4:$B$7,2,FALSE))","v":0.2109943},{"$f":"IF(C2297=1,\"0\",VLOOKUP(C2297,coefficient2!$A$10:$B$13,2,FALSE))","v":0.19249050000000001},{"$f":"IF(D2297=1,\"0\",VLOOKUP(D2297,coefficient2!$A$16:$B$19,2,FALSE))","v":5.8254399999999998E-2},{"$f":"IF(E2297=1,\"0\",VLOOKUP(E2297,coefficient2!$A$22:$B$25,2,FALSE))","v":0.25643310000000002},{"$f":"IF(F2297=1,\"0\",VLOOKUP(F2297,coefficient2!$A$28:$B$31,2,FALSE))","v":"0"},0.28182769999999996]
[44252,4,4,2,5,2,17,{"$f":"IF(B2298=1,\"0\",VLOOKUP(B2298,coefficient2!$A$4:$B$7,2,FALSE))","v":0.2109943},{"$f":"IF(C2298=1,\"0\",VLOOKUP(C2298,coefficient2!$A$10:$B$13,2,FALSE))","v":0.19249050000000001},{"$f":"IF(D2298=1,\"0\",VLOOKUP(D2298,coefficient2!$A$16:$B$19,2,FALSE))","v":5.8254399999999998E-2},{"$f":"IF(E2298=1,\"0\",VLOOKUP(E2298,coefficient2!$A$22:$B$25,2,FALSE))","v":0.25643310000000002},{"$f":"IF(F2298=1,\"0\",VLOOKUP(F2298,coefficient2!$A$28:$B$31,2,FALSE))","v":5.8085699999999997E-2},0.22374199999999997]
[44253,4,4,2,5,3,18,{"$f":"IF(B2299=1,\"0\",VLOOKUP(B2299,coefficient2!$A$4:$B$7,2,FALSE))","v":0.2109943},{"$f":"IF(C2299=1,\"0\",VLOOKUP(C2299,coefficient2!$A$10:$B$13,2,FALSE))","v":0.19249050000000001},{"$f":"IF(D2299=1,\"0\",VLOOKUP(D2299,coefficient2!$A$16:$B$19,2,FALSE))","v":5.8254399999999998E-2},{"$f":"IF(E2299=1,\"0\",VLOOKUP(E2299,coefficient2!$A$22:$B$25,2,FALSE))","v":0.25643310000000002},{"$f":"IF(F2299=1,\"0\",VLOOKUP(F2299,coefficient2!$A$28:$B$31,2,FALSE))","v":9.5753900000000003E-2},0.18607379999999996]
[44254,4,4,2,5,4,19,{"$f":"IF(B2300=1,\"0\",VLOOKUP(B2300,coefficient2!$A$4:$B$7,2,FALSE))","v":0.2109943},{"$f":"IF(C2300=1,\"0\",VLOOKUP(C2300,coefficient2!$A$10:$B$13,2,FALSE))","v":0.19249050000000001},{"$f":"IF(D2300=1,\"0\",VLOOKUP(D2300,coefficient2!$A$16:$B$19,2,FALSE))","v":5.8254399999999998E-2},{"$f":"IF(E2300=1,\"0\",VLOOKUP(E2300,coefficient2!$A$22:$B$25,2,FALSE))","v":0.25643310000000002},{"$f":"IF(F2300=1,\"0\",VLOOKUP(F2300,coefficient2!$A$28:$B$31,2,FALSE))","v":0.23270360000000001},4.9124099999999948E-2]
[44255,4,4,2,5,5,20,{"$f":"IF(B2301=1,\"0\",VLOOKUP(B2301,coefficient2!$A$4:$B$7,2,FALSE))","v":0.2109943},{"$f":"IF(C2301=1,\"0\",VLOOKUP(C2301,coefficient2!$A$10:$B$13,2,FALSE))","v":0.19249050000000001},{"$f":"IF(D2301=1,\"0\",VLOOKUP(D2301,coefficient2!$A$16:$B$19,2,FALSE))","v":5.8254399999999998E-2},{"$f":"IF(E2301=1,\"0\",VLOOKUP(E2301,coefficient2!$A$22:$B$25,2,FALSE))","v":0.25643310000000002},{"$f":"IF(F2301=1,\"0\",VLOOKUP(F2301,coefficient2!$A$28:$B$31,2,FALSE))","v":0.29534929999999998},-1.3521600000000022E-2]
[44311,4,4,3,1,1,13,{"$f":"IF(B2302=1,\"0\",VLOOKUP(B2302,coefficient2!$A$4:$B$7,2,FALSE))","v":0.2109943},{"$f":"IF(C2302=1,\"0\",VLOOKUP(C2302,coefficient2!$A$10:$B$13,2,FALSE))","v":0.19249050000000001},{"$f":"IF(D2302=1,\"0\",VLOOKUP(D2302,coefficient2!$A$16:$B$19,2,FALSE))","v":7.1197399999999994E-2},{"$f":"IF(E2302=1,\"0\",VLOOKUP(E2302,coefficient2!$A$22:$B$25,2,FALSE))","v":"0"},{"$f":"IF(F2302=1,\"0\",VLOOKUP(F2302,coefficient2!$A$28:$B$31,2,FALSE))","v":"0"},0.52531780000000006]
[44312,4,4,3,1,2,14,{"$f":"IF(B2303=1,\"0\",VLOOKUP(B2303,coefficient2!$A$4:$B$7,2,FALSE))","v":0.2109943},{"$f":"IF(C2303=1,\"0\",VLOOKUP(C2303,coefficient2!$A$10:$B$13,2,FALSE))","v":0.19249050000000001},{"$f":"IF(D2303=1,\"0\",VLOOKUP(D2303,coefficient2!$A$16:$B$19,2,FALSE))","v":7.1197399999999994E-2},{"$f":"IF(E2303=1,\"0\",VLOOKUP(E2303,coefficient2!$A$22:$B$25,2,FALSE))","v":"0"},{"$f":"IF(F2303=1,\"0\",VLOOKUP(F2303,coefficient2!$A$28:$B$31,2,FALSE))","v":5.8085699999999997E-2},0.46723210000000004]
[44313,4,4,3,1,3,15,{"$f":"IF(B2304=1,\"0\",VLOOKUP(B2304,coefficient2!$A$4:$B$7,2,FALSE))","v":0.2109943},{"$f":"IF(C2304=1,\"0\",VLOOKUP(C2304,coefficient2!$A$10:$B$13,2,FALSE))","v":0.19249050000000001},{"$f":"IF(D2304=1,\"0\",VLOOKUP(D2304,coefficient2!$A$16:$B$19,2,FALSE))","v":7.1197399999999994E-2},{"$f":"IF(E2304=1,\"0\",VLOOKUP(E2304,coefficient2!$A$22:$B$25,2,FALSE))","v":"0"},{"$f":"IF(F2304=1,\"0\",VLOOKUP(F2304,coefficient2!$A$28:$B$31,2,FALSE))","v":9.5753900000000003E-2},0.42956390000000005]
[44314,4,4,3,1,4,16,{"$f":"IF(B2305=1,\"0\",VLOOKUP(B2305,coefficient2!$A$4:$B$7,2,FALSE))","v":0.2109943},{"$f":"IF(C2305=1,\"0\",VLOOKUP(C2305,coefficient2!$A$10:$B$13,2,FALSE))","v":0.19249050000000001},{"$f":"IF(D2305=1,\"0\",VLOOKUP(D2305,coefficient2!$A$16:$B$19,2,FALSE))","v":7.1197399999999994E-2},{"$f":"IF(E2305=1,\"0\",VLOOKUP(E2305,coefficient2!$A$22:$B$25,2,FALSE))","v":"0"},{"$f":"IF(F2305=1,\"0\",VLOOKUP(F2305,coefficient2!$A$28:$B$31,2,FALSE))","v":0.23270360000000001},0.29261420000000005]
[44315,4,4,3,1,5,17,{"$f":"IF(B2306=1,\"0\",VLOOKUP(B2306,coefficient2!$A$4:$B$7,2,FALSE))","v":0.2109943},{"$f":"IF(C2306=1,\"0\",VLOOKUP(C2306,coefficient2!$A$10:$B$13,2,FALSE))","v":0.19249050000000001},{"$f":"IF(D2306=1,\"0\",VLOOKUP(D2306,coefficient2!$A$16:$B$19,2,FALSE))","v":7.1197399999999994E-2},{"$f":"IF(E2306=1,\"0\",VLOOKUP(E2306,coefficient2!$A$22:$B$25,2,FALSE))","v":"0"},{"$f":"IF(F2306=1,\"0\",VLOOKUP(F2306,coefficient2!$A$28:$B$31,2,FALSE))","v":0.29534929999999998},{"$f":"1-H2306-I2306-J2306-K2306-L2306","v":0.22996850000000008}]
[44321,{"$f":"INT(LEFT(A2307,1))","v":4},{"$f":"INT(MID(A2307,2,1))","v":4},{"$f":"INT(MID(A2307,3,1))","v":3},{"$f":"INT(MID(A2307,4,1))","v":2},{"$f":"INT(RIGHT(A2307,1))","v":1},14,{"$f":"IF(B2307=1,\"0\",VLOOKUP(B2307,coefficient2!$A$4:$B$7,2,FALSE))","v":0.2109943},{"$f":"IF(C2307=1,\"0\",VLOOKUP(C2307,coefficient2!$A$10:$B$13,2,FALSE))","v":0.19249050000000001},{"$f":"IF(D2307=1,\"0\",VLOOKUP(D2307,coefficient2!$A$16:$B$19,2,FALSE))","v":7.1197399999999994E-2},{"$f":"IF(E2307=1,\"0\",VLOOKUP(E2307,coefficient2!$A$22:$B$25,2,FALSE))","v":5.63998E-2},{"$f":"IF(F2307=1,\"0\",VLOOKUP(F2307,coefficient2!$A$28:$B$31,2,FALSE))","v":"0"},0.46891800000000006]
[44322,4,4,3,2,2,15,{"$f":"IF(B2308=1,\"0\",VLOOKUP(B2308,coefficient2!$A$4:$B$7,2,FALSE))","v":0.2109943},{"$f":"IF(C2308=1,\"0\",VLOOKUP(C2308,coefficient2!$A$10:$B$13,2,FALSE))","v":0.19249050000000001},{"$f":"IF(D2308=1,\"0\",VLOOKUP(D2308,coefficient2!$A$16:$B$19,2,FALSE))","v":7.1197399999999994E-2},{"$f":"IF(E2308=1,\"0\",VLOOKUP(E2308,coefficient2!$A$22:$B$25,2,FALSE))","v":5.63998E-2},{"$f":"IF(F2308=1,\"0\",VLOOKUP(F2308,coefficient2!$A$28:$B$31,2,FALSE))","v":5.8085699999999997E-2},0.41083230000000004]
[44323,4,4,3,2,3,16,{"$f":"IF(B2309=1,\"0\",VLOOKUP(B2309,coefficient2!$A$4:$B$7,2,FALSE))","v":0.2109943},{"$f":"IF(C2309=1,\"0\",VLOOKUP(C2309,coefficient2!$A$10:$B$13,2,FALSE))","v":0.19249050000000001},{"$f":"IF(D2309=1,\"0\",VLOOKUP(D2309,coefficient2!$A$16:$B$19,2,FALSE))","v":7.1197399999999994E-2},{"$f":"IF(E2309=1,\"0\",VLOOKUP(E2309,coefficient2!$A$22:$B$25,2,FALSE))","v":5.63998E-2},{"$f":"IF(F2309=1,\"0\",VLOOKUP(F2309,coefficient2!$A$28:$B$31,2,FALSE))","v":9.5753900000000003E-2},0.37316410000000005]
[44324,4,4,3,2,4,17,{"$f":"IF(B2310=1,\"0\",VLOOKUP(B2310,coefficient2!$A$4:$B$7,2,FALSE))","v":0.2109943},{"$f":"IF(C2310=1,\"0\",VLOOKUP(C2310,coefficient2!$A$10:$B$13,2,FALSE))","v":0.19249050000000001},{"$f":"IF(D2310=1,\"0\",VLOOKUP(D2310,coefficient2!$A$16:$B$19,2,FALSE))","v":7.1197399999999994E-2},{"$f":"IF(E2310=1,\"0\",VLOOKUP(E2310,coefficient2!$A$22:$B$25,2,FALSE))","v":5.63998E-2},{"$f":"IF(F2310=1,\"0\",VLOOKUP(F2310,coefficient2!$A$28:$B$31,2,FALSE))","v":0.23270360000000001},0.23621440000000005]
[44325,4,4,3,2,5,18,{"$f":"IF(B2311=1,\"0\",VLOOKUP(B2311,coefficient2!$A$4:$B$7,2,FALSE))","v":0.2109943},{"$f":"IF(C2311=1,\"0\",VLOOKUP(C2311,coefficient2!$A$10:$B$13,2,FALSE))","v":0.19249050000000001},{"$f":"IF(D2311=1,\"0\",VLOOKUP(D2311,coefficient2!$A$16:$B$19,2,FALSE))","v":7.1197399999999994E-2},{"$f":"IF(E2311=1,\"0\",VLOOKUP(E2311,coefficient2!$A$22:$B$25,2,FALSE))","v":5.63998E-2},{"$f":"IF(F2311=1,\"0\",VLOOKUP(F2311,coefficient2!$A$28:$B$31,2,FALSE))","v":0.29534929999999998},0.17356870000000008]
[44331,4,4,3,3,1,15,{"$f":"IF(B2312=1,\"0\",VLOOKUP(B2312,coefficient2!$A$4:$B$7,2,FALSE))","v":0.2109943},{"$f":"IF(C2312=1,\"0\",VLOOKUP(C2312,coefficient2!$A$10:$B$13,2,FALSE))","v":0.19249050000000001},{"$f":"IF(D2312=1,\"0\",VLOOKUP(D2312,coefficient2!$A$16:$B$19,2,FALSE))","v":7.1197399999999994E-2},{"$f":"IF(E2312=1,\"0\",VLOOKUP(E2312,coefficient2!$A$22:$B$25,2,FALSE))","v":6.6492200000000001E-2},{"$f":"IF(F2312=1,\"0\",VLOOKUP(F2312,coefficient2!$A$28:$B$31,2,FALSE))","v":"0"},0.45882560000000006]
[44332,4,4,3,3,2,16,{"$f":"IF(B2313=1,\"0\",VLOOKUP(B2313,coefficient2!$A$4:$B$7,2,FALSE))","v":0.2109943},{"$f":"IF(C2313=1,\"0\",VLOOKUP(C2313,coefficient2!$A$10:$B$13,2,FALSE))","v":0.19249050000000001},{"$f":"IF(D2313=1,\"0\",VLOOKUP(D2313,coefficient2!$A$16:$B$19,2,FALSE))","v":7.1197399999999994E-2},{"$f":"IF(E2313=1,\"0\",VLOOKUP(E2313,coefficient2!$A$22:$B$25,2,FALSE))","v":6.6492200000000001E-2},{"$f":"IF(F2313=1,\"0\",VLOOKUP(F2313,coefficient2!$A$28:$B$31,2,FALSE))","v":5.8085699999999997E-2},0.40073990000000004]
[44333,4,4,3,3,3,17,{"$f":"IF(B2314=1,\"0\",VLOOKUP(B2314,coefficient2!$A$4:$B$7,2,FALSE))","v":0.2109943},{"$f":"IF(C2314=1,\"0\",VLOOKUP(C2314,coefficient2!$A$10:$B$13,2,FALSE))","v":0.19249050000000001},{"$f":"IF(D2314=1,\"0\",VLOOKUP(D2314,coefficient2!$A$16:$B$19,2,FALSE))","v":7.1197399999999994E-2},{"$f":"IF(E2314=1,\"0\",VLOOKUP(E2314,coefficient2!$A$22:$B$25,2,FALSE))","v":6.6492200000000001E-2},{"$f":"IF(F2314=1,\"0\",VLOOKUP(F2314,coefficient2!$A$28:$B$31,2,FALSE))","v":9.5753900000000003E-2},0.36307170000000005]
[44334,4,4,3,3,4,18,{"$f":"IF(B2315=1,\"0\",VLOOKUP(B2315,coefficient2!$A$4:$B$7,2,FALSE))","v":0.2109943},{"$f":"IF(C2315=1,\"0\",VLOOKUP(C2315,coefficient2!$A$10:$B$13,2,FALSE))","v":0.19249050000000001},{"$f":"IF(D2315=1,\"0\",VLOOKUP(D2315,coefficient2!$A$16:$B$19,2,FALSE))","v":7.1197399999999994E-2},{"$f":"IF(E2315=1,\"0\",VLOOKUP(E2315,coefficient2!$A$22:$B$25,2,FALSE))","v":6.6492200000000001E-2},{"$f":"IF(F2315=1,\"0\",VLOOKUP(F2315,coefficient2!$A$28:$B$31,2,FALSE))","v":0.23270360000000001},0.22612200000000005]
[44335,4,4,3,3,5,19,{"$f":"IF(B2316=1,\"0\",VLOOKUP(B2316,coefficient2!$A$4:$B$7,2,FALSE))","v":0.2109943},{"$f":"IF(C2316=1,\"0\",VLOOKUP(C2316,coefficient2!$A$10:$B$13,2,FALSE))","v":0.19249050000000001},{"$f":"IF(D2316=1,\"0\",VLOOKUP(D2316,coefficient2!$A$16:$B$19,2,FALSE))","v":7.1197399999999994E-2},{"$f":"IF(E2316=1,\"0\",VLOOKUP(E2316,coefficient2!$A$22:$B$25,2,FALSE))","v":6.6492200000000001E-2},{"$f":"IF(F2316=1,\"0\",VLOOKUP(F2316,coefficient2!$A$28:$B$31,2,FALSE))","v":0.29534929999999998},0.16347630000000007]
[44341,4,4,3,4,1,16,{"$f":"IF(B2317=1,\"0\",VLOOKUP(B2317,coefficient2!$A$4:$B$7,2,FALSE))","v":0.2109943},{"$f":"IF(C2317=1,\"0\",VLOOKUP(C2317,coefficient2!$A$10:$B$13,2,FALSE))","v":0.19249050000000001},{"$f":"IF(D2317=1,\"0\",VLOOKUP(D2317,coefficient2!$A$16:$B$19,2,FALSE))","v":7.1197399999999994E-2},{"$f":"IF(E2317=1,\"0\",VLOOKUP(E2317,coefficient2!$A$22:$B$25,2,FALSE))","v":0.2068864},{"$f":"IF(F2317=1,\"0\",VLOOKUP(F2317,coefficient2!$A$28:$B$31,2,FALSE))","v":"0"},0.31843140000000003]
[44342,4,4,3,4,2,17,{"$f":"IF(B2318=1,\"0\",VLOOKUP(B2318,coefficient2!$A$4:$B$7,2,FALSE))","v":0.2109943},{"$f":"IF(C2318=1,\"0\",VLOOKUP(C2318,coefficient2!$A$10:$B$13,2,FALSE))","v":0.19249050000000001},{"$f":"IF(D2318=1,\"0\",VLOOKUP(D2318,coefficient2!$A$16:$B$19,2,FALSE))","v":7.1197399999999994E-2},{"$f":"IF(E2318=1,\"0\",VLOOKUP(E2318,coefficient2!$A$22:$B$25,2,FALSE))","v":0.2068864},{"$f":"IF(F2318=1,\"0\",VLOOKUP(F2318,coefficient2!$A$28:$B$31,2,FALSE))","v":5.8085699999999997E-2},0.26034570000000001]
[44343,4,4,3,4,3,18,{"$f":"IF(B2319=1,\"0\",VLOOKUP(B2319,coefficient2!$A$4:$B$7,2,FALSE))","v":0.2109943},{"$f":"IF(C2319=1,\"0\",VLOOKUP(C2319,coefficient2!$A$10:$B$13,2,FALSE))","v":0.19249050000000001},{"$f":"IF(D2319=1,\"0\",VLOOKUP(D2319,coefficient2!$A$16:$B$19,2,FALSE))","v":7.1197399999999994E-2},{"$f":"IF(E2319=1,\"0\",VLOOKUP(E2319,coefficient2!$A$22:$B$25,2,FALSE))","v":0.2068864},{"$f":"IF(F2319=1,\"0\",VLOOKUP(F2319,coefficient2!$A$28:$B$31,2,FALSE))","v":9.5753900000000003E-2},0.22267750000000003]
[44344,4,4,3,4,4,19,{"$f":"IF(B2320=1,\"0\",VLOOKUP(B2320,coefficient2!$A$4:$B$7,2,FALSE))","v":0.2109943},{"$f":"IF(C2320=1,\"0\",VLOOKUP(C2320,coefficient2!$A$10:$B$13,2,FALSE))","v":0.19249050000000001},{"$f":"IF(D2320=1,\"0\",VLOOKUP(D2320,coefficient2!$A$16:$B$19,2,FALSE))","v":7.1197399999999994E-2},{"$f":"IF(E2320=1,\"0\",VLOOKUP(E2320,coefficient2!$A$22:$B$25,2,FALSE))","v":0.2068864},{"$f":"IF(F2320=1,\"0\",VLOOKUP(F2320,coefficient2!$A$28:$B$31,2,FALSE))","v":0.23270360000000001},8.5727800000000021E-2]
[44345,4,4,3,4,5,20,{"$f":"IF(B2321=1,\"0\",VLOOKUP(B2321,coefficient2!$A$4:$B$7,2,FALSE))","v":0.2109943},{"$f":"IF(C2321=1,\"0\",VLOOKUP(C2321,coefficient2!$A$10:$B$13,2,FALSE))","v":0.19249050000000001},{"$f":"IF(D2321=1,\"0\",VLOOKUP(D2321,coefficient2!$A$16:$B$19,2,FALSE))","v":7.1197399999999994E-2},{"$f":"IF(E2321=1,\"0\",VLOOKUP(E2321,coefficient2!$A$22:$B$25,2,FALSE))","v":0.2068864},{"$f":"IF(F2321=1,\"0\",VLOOKUP(F2321,coefficient2!$A$28:$B$31,2,FALSE))","v":0.29534929999999998},2.308210000000005E-2]
[44351,4,4,3,5,1,17,{"$f":"IF(B2322=1,\"0\",VLOOKUP(B2322,coefficient2!$A$4:$B$7,2,FALSE))","v":0.2109943},{"$f":"IF(C2322=1,\"0\",VLOOKUP(C2322,coefficient2!$A$10:$B$13,2,FALSE))","v":0.19249050000000001},{"$f":"IF(D2322=1,\"0\",VLOOKUP(D2322,coefficient2!$A$16:$B$19,2,FALSE))","v":7.1197399999999994E-2},{"$f":"IF(E2322=1,\"0\",VLOOKUP(E2322,coefficient2!$A$22:$B$25,2,FALSE))","v":0.25643310000000002},{"$f":"IF(F2322=1,\"0\",VLOOKUP(F2322,coefficient2!$A$28:$B$31,2,FALSE))","v":"0"},0.26888470000000003]
[44352,4,4,3,5,2,18,{"$f":"IF(B2323=1,\"0\",VLOOKUP(B2323,coefficient2!$A$4:$B$7,2,FALSE))","v":0.2109943},{"$f":"IF(C2323=1,\"0\",VLOOKUP(C2323,coefficient2!$A$10:$B$13,2,FALSE))","v":0.19249050000000001},{"$f":"IF(D2323=1,\"0\",VLOOKUP(D2323,coefficient2!$A$16:$B$19,2,FALSE))","v":7.1197399999999994E-2},{"$f":"IF(E2323=1,\"0\",VLOOKUP(E2323,coefficient2!$A$22:$B$25,2,FALSE))","v":0.25643310000000002},{"$f":"IF(F2323=1,\"0\",VLOOKUP(F2323,coefficient2!$A$28:$B$31,2,FALSE))","v":5.8085699999999997E-2},0.21079900000000004]
[44353,4,4,3,5,3,19,{"$f":"IF(B2324=1,\"0\",VLOOKUP(B2324,coefficient2!$A$4:$B$7,2,FALSE))","v":0.2109943},{"$f":"IF(C2324=1,\"0\",VLOOKUP(C2324,coefficient2!$A$10:$B$13,2,FALSE))","v":0.19249050000000001},{"$f":"IF(D2324=1,\"0\",VLOOKUP(D2324,coefficient2!$A$16:$B$19,2,FALSE))","v":7.1197399999999994E-2},{"$f":"IF(E2324=1,\"0\",VLOOKUP(E2324,coefficient2!$A$22:$B$25,2,FALSE))","v":0.25643310000000002},{"$f":"IF(F2324=1,\"0\",VLOOKUP(F2324,coefficient2!$A$28:$B$31,2,FALSE))","v":9.5753900000000003E-2},0.17313080000000003]
[44354,4,4,3,5,4,{"$f":"SUM(B2325:F2325)","v":20},{"$f":"IF(B2325=1,\"0\",VLOOKUP(B2325,coefficient2!$A$4:$B$7,2,FALSE))","v":0.2109943},{"$f":"IF(C2325=1,\"0\",VLOOKUP(C2325,coefficient2!$A$10:$B$13,2,FALSE))","v":0.19249050000000001},{"$f":"IF(D2325=1,\"0\",VLOOKUP(D2325,coefficient2!$A$16:$B$19,2,FALSE))","v":7.1197399999999994E-2},{"$f":"IF(E2325=1,\"0\",VLOOKUP(E2325,coefficient2!$A$22:$B$25,2,FALSE))","v":0.25643310000000002},{"$f":"IF(F2325=1,\"0\",VLOOKUP(F2325,coefficient2!$A$28:$B$31,2,FALSE))","v":0.23270360000000001},3.6181100000000022E-2]
[44355,4,4,3,5,5,21,{"$f":"IF(B2326=1,\"0\",VLOOKUP(B2326,coefficient2!$A$4:$B$7,2,FALSE))","v":0.2109943},{"$f":"IF(C2326=1,\"0\",VLOOKUP(C2326,coefficient2!$A$10:$B$13,2,FALSE))","v":0.19249050000000001},{"$f":"IF(D2326=1,\"0\",VLOOKUP(D2326,coefficient2!$A$16:$B$19,2,FALSE))","v":7.1197399999999994E-2},{"$f":"IF(E2326=1,\"0\",VLOOKUP(E2326,coefficient2!$A$22:$B$25,2,FALSE))","v":0.25643310000000002},{"$f":"IF(F2326=1,\"0\",VLOOKUP(F2326,coefficient2!$A$28:$B$31,2,FALSE))","v":0.29534929999999998},-2.6464599999999949E-2]
[44411,4,4,4,1,1,14,{"$f":"IF(B2327=1,\"0\",VLOOKUP(B2327,coefficient2!$A$4:$B$7,2,FALSE))","v":0.2109943},{"$f":"IF(C2327=1,\"0\",VLOOKUP(C2327,coefficient2!$A$10:$B$13,2,FALSE))","v":0.19249050000000001},{"$f":"IF(D2327=1,\"0\",VLOOKUP(D2327,coefficient2!$A$16:$B$19,2,FALSE))","v":0.1534855},{"$f":"IF(E2327=1,\"0\",VLOOKUP(E2327,coefficient2!$A$22:$B$25,2,FALSE))","v":"0"},{"$f":"IF(F2327=1,\"0\",VLOOKUP(F2327,coefficient2!$A$28:$B$31,2,FALSE))","v":"0"},0.44302970000000003]
[44412,4,4,4,1,2,15,{"$f":"IF(B2328=1,\"0\",VLOOKUP(B2328,coefficient2!$A$4:$B$7,2,FALSE))","v":0.2109943},{"$f":"IF(C2328=1,\"0\",VLOOKUP(C2328,coefficient2!$A$10:$B$13,2,FALSE))","v":0.19249050000000001},{"$f":"IF(D2328=1,\"0\",VLOOKUP(D2328,coefficient2!$A$16:$B$19,2,FALSE))","v":0.1534855},{"$f":"IF(E2328=1,\"0\",VLOOKUP(E2328,coefficient2!$A$22:$B$25,2,FALSE))","v":"0"},{"$f":"IF(F2328=1,\"0\",VLOOKUP(F2328,coefficient2!$A$28:$B$31,2,FALSE))","v":5.8085699999999997E-2},0.38494400000000001]
[44413,4,4,4,1,3,16,{"$f":"IF(B2329=1,\"0\",VLOOKUP(B2329,coefficient2!$A$4:$B$7,2,FALSE))","v":0.2109943},{"$f":"IF(C2329=1,\"0\",VLOOKUP(C2329,coefficient2!$A$10:$B$13,2,FALSE))","v":0.19249050000000001},{"$f":"IF(D2329=1,\"0\",VLOOKUP(D2329,coefficient2!$A$16:$B$19,2,FALSE))","v":0.1534855},{"$f":"IF(E2329=1,\"0\",VLOOKUP(E2329,coefficient2!$A$22:$B$25,2,FALSE))","v":"0"},{"$f":"IF(F2329=1,\"0\",VLOOKUP(F2329,coefficient2!$A$28:$B$31,2,FALSE))","v":9.5753900000000003E-2},0.34727580000000002]
[44414,4,4,4,1,4,17,{"$f":"IF(B2330=1,\"0\",VLOOKUP(B2330,coefficient2!$A$4:$B$7,2,FALSE))","v":0.2109943},{"$f":"IF(C2330=1,\"0\",VLOOKUP(C2330,coefficient2!$A$10:$B$13,2,FALSE))","v":0.19249050000000001},{"$f":"IF(D2330=1,\"0\",VLOOKUP(D2330,coefficient2!$A$16:$B$19,2,FALSE))","v":0.1534855},{"$f":"IF(E2330=1,\"0\",VLOOKUP(E2330,coefficient2!$A$22:$B$25,2,FALSE))","v":"0"},{"$f":"IF(F2330=1,\"0\",VLOOKUP(F2330,coefficient2!$A$28:$B$31,2,FALSE))","v":0.23270360000000001},0.21032610000000002]
[44415,4,4,4,1,5,18,{"$f":"IF(B2331=1,\"0\",VLOOKUP(B2331,coefficient2!$A$4:$B$7,2,FALSE))","v":0.2109943},{"$f":"IF(C2331=1,\"0\",VLOOKUP(C2331,coefficient2!$A$10:$B$13,2,FALSE))","v":0.19249050000000001},{"$f":"IF(D2331=1,\"0\",VLOOKUP(D2331,coefficient2!$A$16:$B$19,2,FALSE))","v":0.1534855},{"$f":"IF(E2331=1,\"0\",VLOOKUP(E2331,coefficient2!$A$22:$B$25,2,FALSE))","v":"0"},{"$f":"IF(F2331=1,\"0\",VLOOKUP(F2331,coefficient2!$A$28:$B$31,2,FALSE))","v":0.29534929999999998},0.14768040000000004]
[44421,4,4,4,2,1,15,{"$f":"IF(B2332=1,\"0\",VLOOKUP(B2332,coefficient2!$A$4:$B$7,2,FALSE))","v":0.2109943},{"$f":"IF(C2332=1,\"0\",VLOOKUP(C2332,coefficient2!$A$10:$B$13,2,FALSE))","v":0.19249050000000001},{"$f":"IF(D2332=1,\"0\",VLOOKUP(D2332,coefficient2!$A$16:$B$19,2,FALSE))","v":0.1534855},{"$f":"IF(E2332=1,\"0\",VLOOKUP(E2332,coefficient2!$A$22:$B$25,2,FALSE))","v":5.63998E-2},{"$f":"IF(F2332=1,\"0\",VLOOKUP(F2332,coefficient2!$A$28:$B$31,2,FALSE))","v":"0"},0.38662990000000003]
[44422,4,4,4,2,2,16,{"$f":"IF(B2333=1,\"0\",VLOOKUP(B2333,coefficient2!$A$4:$B$7,2,FALSE))","v":0.2109943},{"$f":"IF(C2333=1,\"0\",VLOOKUP(C2333,coefficient2!$A$10:$B$13,2,FALSE))","v":0.19249050000000001},{"$f":"IF(D2333=1,\"0\",VLOOKUP(D2333,coefficient2!$A$16:$B$19,2,FALSE))","v":0.1534855},{"$f":"IF(E2333=1,\"0\",VLOOKUP(E2333,coefficient2!$A$22:$B$25,2,FALSE))","v":5.63998E-2},{"$f":"IF(F2333=1,\"0\",VLOOKUP(F2333,coefficient2!$A$28:$B$31,2,FALSE))","v":5.8085699999999997E-2},0.32854420000000001]
[44423,4,4,4,2,3,17,{"$f":"IF(B2334=1,\"0\",VLOOKUP(B2334,coefficient2!$A$4:$B$7,2,FALSE))","v":0.2109943},{"$f":"IF(C2334=1,\"0\",VLOOKUP(C2334,coefficient2!$A$10:$B$13,2,FALSE))","v":0.19249050000000001},{"$f":"IF(D2334=1,\"0\",VLOOKUP(D2334,coefficient2!$A$16:$B$19,2,FALSE))","v":0.1534855},{"$f":"IF(E2334=1,\"0\",VLOOKUP(E2334,coefficient2!$A$22:$B$25,2,FALSE))","v":5.63998E-2},{"$f":"IF(F2334=1,\"0\",VLOOKUP(F2334,coefficient2!$A$28:$B$31,2,FALSE))","v":9.5753900000000003E-2},0.29087600000000002]
[44424,4,4,4,2,4,18,{"$f":"IF(B2335=1,\"0\",VLOOKUP(B2335,coefficient2!$A$4:$B$7,2,FALSE))","v":0.2109943},{"$f":"IF(C2335=1,\"0\",VLOOKUP(C2335,coefficient2!$A$10:$B$13,2,FALSE))","v":0.19249050000000001},{"$f":"IF(D2335=1,\"0\",VLOOKUP(D2335,coefficient2!$A$16:$B$19,2,FALSE))","v":0.1534855},{"$f":"IF(E2335=1,\"0\",VLOOKUP(E2335,coefficient2!$A$22:$B$25,2,FALSE))","v":5.63998E-2},{"$f":"IF(F2335=1,\"0\",VLOOKUP(F2335,coefficient2!$A$28:$B$31,2,FALSE))","v":0.23270360000000001},0.15392630000000002]
[44425,4,4,4,2,5,19,{"$f":"IF(B2336=1,\"0\",VLOOKUP(B2336,coefficient2!$A$4:$B$7,2,FALSE))","v":0.2109943},{"$f":"IF(C2336=1,\"0\",VLOOKUP(C2336,coefficient2!$A$10:$B$13,2,FALSE))","v":0.19249050000000001},{"$f":"IF(D2336=1,\"0\",VLOOKUP(D2336,coefficient2!$A$16:$B$19,2,FALSE))","v":0.1534855},{"$f":"IF(E2336=1,\"0\",VLOOKUP(E2336,coefficient2!$A$22:$B$25,2,FALSE))","v":5.63998E-2},{"$f":"IF(F2336=1,\"0\",VLOOKUP(F2336,coefficient2!$A$28:$B$31,2,FALSE))","v":0.29534929999999998},9.1280600000000045E-2]
[44431,4,4,4,3,1,16,{"$f":"IF(B2337=1,\"0\",VLOOKUP(B2337,coefficient2!$A$4:$B$7,2,FALSE))","v":0.2109943},{"$f":"IF(C2337=1,\"0\",VLOOKUP(C2337,coefficient2!$A$10:$B$13,2,FALSE))","v":0.19249050000000001},{"$f":"IF(D2337=1,\"0\",VLOOKUP(D2337,coefficient2!$A$16:$B$19,2,FALSE))","v":0.1534855},{"$f":"IF(E2337=1,\"0\",VLOOKUP(E2337,coefficient2!$A$22:$B$25,2,FALSE))","v":6.6492200000000001E-2},{"$f":"IF(F2337=1,\"0\",VLOOKUP(F2337,coefficient2!$A$28:$B$31,2,FALSE))","v":"0"},0.37653750000000002]
[44432,4,4,4,3,2,17,{"$f":"IF(B2338=1,\"0\",VLOOKUP(B2338,coefficient2!$A$4:$B$7,2,FALSE))","v":0.2109943},{"$f":"IF(C2338=1,\"0\",VLOOKUP(C2338,coefficient2!$A$10:$B$13,2,FALSE))","v":0.19249050000000001},{"$f":"IF(D2338=1,\"0\",VLOOKUP(D2338,coefficient2!$A$16:$B$19,2,FALSE))","v":0.1534855},{"$f":"IF(E2338=1,\"0\",VLOOKUP(E2338,coefficient2!$A$22:$B$25,2,FALSE))","v":6.6492200000000001E-2},{"$f":"IF(F2338=1,\"0\",VLOOKUP(F2338,coefficient2!$A$28:$B$31,2,FALSE))","v":5.8085699999999997E-2},0.31845180000000001]
[44433,4,4,4,3,3,18,{"$f":"IF(B2339=1,\"0\",VLOOKUP(B2339,coefficient2!$A$4:$B$7,2,FALSE))","v":0.2109943},{"$f":"IF(C2339=1,\"0\",VLOOKUP(C2339,coefficient2!$A$10:$B$13,2,FALSE))","v":0.19249050000000001},{"$f":"IF(D2339=1,\"0\",VLOOKUP(D2339,coefficient2!$A$16:$B$19,2,FALSE))","v":0.1534855},{"$f":"IF(E2339=1,\"0\",VLOOKUP(E2339,coefficient2!$A$22:$B$25,2,FALSE))","v":6.6492200000000001E-2},{"$f":"IF(F2339=1,\"0\",VLOOKUP(F2339,coefficient2!$A$28:$B$31,2,FALSE))","v":9.5753900000000003E-2},0.28078360000000002]
[44434,4,4,4,3,4,19,{"$f":"IF(B2340=1,\"0\",VLOOKUP(B2340,coefficient2!$A$4:$B$7,2,FALSE))","v":0.2109943},{"$f":"IF(C2340=1,\"0\",VLOOKUP(C2340,coefficient2!$A$10:$B$13,2,FALSE))","v":0.19249050000000001},{"$f":"IF(D2340=1,\"0\",VLOOKUP(D2340,coefficient2!$A$16:$B$19,2,FALSE))","v":0.1534855},{"$f":"IF(E2340=1,\"0\",VLOOKUP(E2340,coefficient2!$A$22:$B$25,2,FALSE))","v":6.6492200000000001E-2},{"$f":"IF(F2340=1,\"0\",VLOOKUP(F2340,coefficient2!$A$28:$B$31,2,FALSE))","v":0.23270360000000001},0.14383390000000001]
[44435,4,4,4,3,5,20,{"$f":"IF(B2341=1,\"0\",VLOOKUP(B2341,coefficient2!$A$4:$B$7,2,FALSE))","v":0.2109943},{"$f":"IF(C2341=1,\"0\",VLOOKUP(C2341,coefficient2!$A$10:$B$13,2,FALSE))","v":0.19249050000000001},{"$f":"IF(D2341=1,\"0\",VLOOKUP(D2341,coefficient2!$A$16:$B$19,2,FALSE))","v":0.1534855},{"$f":"IF(E2341=1,\"0\",VLOOKUP(E2341,coefficient2!$A$22:$B$25,2,FALSE))","v":6.6492200000000001E-2},{"$f":"IF(F2341=1,\"0\",VLOOKUP(F2341,coefficient2!$A$28:$B$31,2,FALSE))","v":0.29534929999999998},8.1188200000000044E-2]
[44441,4,4,4,4,1,17,{"$f":"IF(B2342=1,\"0\",VLOOKUP(B2342,coefficient2!$A$4:$B$7,2,FALSE))","v":0.2109943},{"$f":"IF(C2342=1,\"0\",VLOOKUP(C2342,coefficient2!$A$10:$B$13,2,FALSE))","v":0.19249050000000001},{"$f":"IF(D2342=1,\"0\",VLOOKUP(D2342,coefficient2!$A$16:$B$19,2,FALSE))","v":0.1534855},{"$f":"IF(E2342=1,\"0\",VLOOKUP(E2342,coefficient2!$A$22:$B$25,2,FALSE))","v":0.2068864},{"$f":"IF(F2342=1,\"0\",VLOOKUP(F2342,coefficient2!$A$28:$B$31,2,FALSE))","v":"0"},0.23614330000000003]
[44442,4,4,4,4,2,18,{"$f":"IF(B2343=1,\"0\",VLOOKUP(B2343,coefficient2!$A$4:$B$7,2,FALSE))","v":0.2109943},{"$f":"IF(C2343=1,\"0\",VLOOKUP(C2343,coefficient2!$A$10:$B$13,2,FALSE))","v":0.19249050000000001},{"$f":"IF(D2343=1,\"0\",VLOOKUP(D2343,coefficient2!$A$16:$B$19,2,FALSE))","v":0.1534855},{"$f":"IF(E2343=1,\"0\",VLOOKUP(E2343,coefficient2!$A$22:$B$25,2,FALSE))","v":0.2068864},{"$f":"IF(F2343=1,\"0\",VLOOKUP(F2343,coefficient2!$A$28:$B$31,2,FALSE))","v":5.8085699999999997E-2},0.17805760000000004]
[44443,4,4,4,4,3,19,{"$f":"IF(B2344=1,\"0\",VLOOKUP(B2344,coefficient2!$A$4:$B$7,2,FALSE))","v":0.2109943},{"$f":"IF(C2344=1,\"0\",VLOOKUP(C2344,coefficient2!$A$10:$B$13,2,FALSE))","v":0.19249050000000001},{"$f":"IF(D2344=1,\"0\",VLOOKUP(D2344,coefficient2!$A$16:$B$19,2,FALSE))","v":0.1534855},{"$f":"IF(E2344=1,\"0\",VLOOKUP(E2344,coefficient2!$A$22:$B$25,2,FALSE))","v":0.2068864},{"$f":"IF(F2344=1,\"0\",VLOOKUP(F2344,coefficient2!$A$28:$B$31,2,FALSE))","v":9.5753900000000003E-2},0.14038940000000003]
[44444,4,4,4,4,4,20,{"$f":"IF(B2345=1,\"0\",VLOOKUP(B2345,coefficient2!$A$4:$B$7,2,FALSE))","v":0.2109943},{"$f":"IF(C2345=1,\"0\",VLOOKUP(C2345,coefficient2!$A$10:$B$13,2,FALSE))","v":0.19249050000000001},{"$f":"IF(D2345=1,\"0\",VLOOKUP(D2345,coefficient2!$A$16:$B$19,2,FALSE))","v":0.1534855},{"$f":"IF(E2345=1,\"0\",VLOOKUP(E2345,coefficient2!$A$22:$B$25,2,FALSE))","v":0.2068864},{"$f":"IF(F2345=1,\"0\",VLOOKUP(F2345,coefficient2!$A$28:$B$31,2,FALSE))","v":0.23270360000000001},3.4397000000000177E-3]
[44445,4,4,4,4,5,21,{"$f":"IF(B2346=1,\"0\",VLOOKUP(B2346,coefficient2!$A$4:$B$7,2,FALSE))","v":0.2109943},{"$f":"IF(C2346=1,\"0\",VLOOKUP(C2346,coefficient2!$A$10:$B$13,2,FALSE))","v":0.19249050000000001},{"$f":"IF(D2346=1,\"0\",VLOOKUP(D2346,coefficient2!$A$16:$B$19,2,FALSE))","v":0.1534855},{"$f":"IF(E2346=1,\"0\",VLOOKUP(E2346,coefficient2!$A$22:$B$25,2,FALSE))","v":0.2068864},{"$f":"IF(F2346=1,\"0\",VLOOKUP(F2346,coefficient2!$A$28:$B$31,2,FALSE))","v":0.29534929999999998},-5.9205999999999953E-2]
[44451,4,4,4,5,1,18,{"$f":"IF(B2347=1,\"0\",VLOOKUP(B2347,coefficient2!$A$4:$B$7,2,FALSE))","v":0.2109943},{"$f":"IF(C2347=1,\"0\",VLOOKUP(C2347,coefficient2!$A$10:$B$13,2,FALSE))","v":0.19249050000000001},{"$f":"IF(D2347=1,\"0\",VLOOKUP(D2347,coefficient2!$A$16:$B$19,2,FALSE))","v":0.1534855},{"$f":"IF(E2347=1,\"0\",VLOOKUP(E2347,coefficient2!$A$22:$B$25,2,FALSE))","v":0.25643310000000002},{"$f":"IF(F2347=1,\"0\",VLOOKUP(F2347,coefficient2!$A$28:$B$31,2,FALSE))","v":"0"},0.1865966]
[44452,4,4,4,5,2,19,{"$f":"IF(B2348=1,\"0\",VLOOKUP(B2348,coefficient2!$A$4:$B$7,2,FALSE))","v":0.2109943},{"$f":"IF(C2348=1,\"0\",VLOOKUP(C2348,coefficient2!$A$10:$B$13,2,FALSE))","v":0.19249050000000001},{"$f":"IF(D2348=1,\"0\",VLOOKUP(D2348,coefficient2!$A$16:$B$19,2,FALSE))","v":0.1534855},{"$f":"IF(E2348=1,\"0\",VLOOKUP(E2348,coefficient2!$A$22:$B$25,2,FALSE))","v":0.25643310000000002},{"$f":"IF(F2348=1,\"0\",VLOOKUP(F2348,coefficient2!$A$28:$B$31,2,FALSE))","v":5.8085699999999997E-2},0.12851090000000001]
[44453,4,4,4,5,3,20,{"$f":"IF(B2349=1,\"0\",VLOOKUP(B2349,coefficient2!$A$4:$B$7,2,FALSE))","v":0.2109943},{"$f":"IF(C2349=1,\"0\",VLOOKUP(C2349,coefficient2!$A$10:$B$13,2,FALSE))","v":0.19249050000000001},{"$f":"IF(D2349=1,\"0\",VLOOKUP(D2349,coefficient2!$A$16:$B$19,2,FALSE))","v":0.1534855},{"$f":"IF(E2349=1,\"0\",VLOOKUP(E2349,coefficient2!$A$22:$B$25,2,FALSE))","v":0.25643310000000002},{"$f":"IF(F2349=1,\"0\",VLOOKUP(F2349,coefficient2!$A$28:$B$31,2,FALSE))","v":9.5753900000000003E-2},9.0842699999999998E-2]
[44454,4,4,4,5,4,21,{"$f":"IF(B2350=1,\"0\",VLOOKUP(B2350,coefficient2!$A$4:$B$7,2,FALSE))","v":0.2109943},{"$f":"IF(C2350=1,\"0\",VLOOKUP(C2350,coefficient2!$A$10:$B$13,2,FALSE))","v":0.19249050000000001},{"$f":"IF(D2350=1,\"0\",VLOOKUP(D2350,coefficient2!$A$16:$B$19,2,FALSE))","v":0.1534855},{"$f":"IF(E2350=1,\"0\",VLOOKUP(E2350,coefficient2!$A$22:$B$25,2,FALSE))","v":0.25643310000000002},{"$f":"IF(F2350=1,\"0\",VLOOKUP(F2350,coefficient2!$A$28:$B$31,2,FALSE))","v":0.23270360000000001},-4.6107000000000009E-2]
[44455,4,4,4,5,5,22,{"$f":"IF(B2351=1,\"0\",VLOOKUP(B2351,coefficient2!$A$4:$B$7,2,FALSE))","v":0.2109943},{"$f":"IF(C2351=1,\"0\",VLOOKUP(C2351,coefficient2!$A$10:$B$13,2,FALSE))","v":0.19249050000000001},{"$f":"IF(D2351=1,\"0\",VLOOKUP(D2351,coefficient2!$A$16:$B$19,2,FALSE))","v":0.1534855},{"$f":"IF(E2351=1,\"0\",VLOOKUP(E2351,coefficient2!$A$22:$B$25,2,FALSE))","v":0.25643310000000002},{"$f":"IF(F2351=1,\"0\",VLOOKUP(F2351,coefficient2!$A$28:$B$31,2,FALSE))","v":0.29534929999999998},-0.10875269999999998]
[44511,4,4,5,1,1,15,{"$f":"IF(B2352=1,\"0\",VLOOKUP(B2352,coefficient2!$A$4:$B$7,2,FALSE))","v":0.2109943},{"$f":"IF(C2352=1,\"0\",VLOOKUP(C2352,coefficient2!$A$10:$B$13,2,FALSE))","v":0.19249050000000001},{"$f":"IF(D2352=1,\"0\",VLOOKUP(D2352,coefficient2!$A$16:$B$19,2,FALSE))","v":0.248331},{"$f":"IF(E2352=1,\"0\",VLOOKUP(E2352,coefficient2!$A$22:$B$25,2,FALSE))","v":"0"},{"$f":"IF(F2352=1,\"0\",VLOOKUP(F2352,coefficient2!$A$28:$B$31,2,FALSE))","v":"0"},0.34818420000000005]
[44512,4,4,5,1,2,16,{"$f":"IF(B2353=1,\"0\",VLOOKUP(B2353,coefficient2!$A$4:$B$7,2,FALSE))","v":0.2109943},{"$f":"IF(C2353=1,\"0\",VLOOKUP(C2353,coefficient2!$A$10:$B$13,2,FALSE))","v":0.19249050000000001},{"$f":"IF(D2353=1,\"0\",VLOOKUP(D2353,coefficient2!$A$16:$B$19,2,FALSE))","v":0.248331},{"$f":"IF(E2353=1,\"0\",VLOOKUP(E2353,coefficient2!$A$22:$B$25,2,FALSE))","v":"0"},{"$f":"IF(F2353=1,\"0\",VLOOKUP(F2353,coefficient2!$A$28:$B$31,2,FALSE))","v":5.8085699999999997E-2},0.29009850000000004]
[44513,4,4,5,1,3,17,{"$f":"IF(B2354=1,\"0\",VLOOKUP(B2354,coefficient2!$A$4:$B$7,2,FALSE))","v":0.2109943},{"$f":"IF(C2354=1,\"0\",VLOOKUP(C2354,coefficient2!$A$10:$B$13,2,FALSE))","v":0.19249050000000001},{"$f":"IF(D2354=1,\"0\",VLOOKUP(D2354,coefficient2!$A$16:$B$19,2,FALSE))","v":0.248331},{"$f":"IF(E2354=1,\"0\",VLOOKUP(E2354,coefficient2!$A$22:$B$25,2,FALSE))","v":"0"},{"$f":"IF(F2354=1,\"0\",VLOOKUP(F2354,coefficient2!$A$28:$B$31,2,FALSE))","v":9.5753900000000003E-2},0.25243030000000005]
[44514,4,4,5,1,4,18,{"$f":"IF(B2355=1,\"0\",VLOOKUP(B2355,coefficient2!$A$4:$B$7,2,FALSE))","v":0.2109943},{"$f":"IF(C2355=1,\"0\",VLOOKUP(C2355,coefficient2!$A$10:$B$13,2,FALSE))","v":0.19249050000000001},{"$f":"IF(D2355=1,\"0\",VLOOKUP(D2355,coefficient2!$A$16:$B$19,2,FALSE))","v":0.248331},{"$f":"IF(E2355=1,\"0\",VLOOKUP(E2355,coefficient2!$A$22:$B$25,2,FALSE))","v":"0"},{"$f":"IF(F2355=1,\"0\",VLOOKUP(F2355,coefficient2!$A$28:$B$31,2,FALSE))","v":0.23270360000000001},0.11548060000000004]
[44515,4,4,5,1,5,19,{"$f":"IF(B2356=1,\"0\",VLOOKUP(B2356,coefficient2!$A$4:$B$7,2,FALSE))","v":0.2109943},{"$f":"IF(C2356=1,\"0\",VLOOKUP(C2356,coefficient2!$A$10:$B$13,2,FALSE))","v":0.19249050000000001},{"$f":"IF(D2356=1,\"0\",VLOOKUP(D2356,coefficient2!$A$16:$B$19,2,FALSE))","v":0.248331},{"$f":"IF(E2356=1,\"0\",VLOOKUP(E2356,coefficient2!$A$22:$B$25,2,FALSE))","v":"0"},{"$f":"IF(F2356=1,\"0\",VLOOKUP(F2356,coefficient2!$A$28:$B$31,2,FALSE))","v":0.29534929999999998},5.2834900000000073E-2]
[44521,4,4,5,2,1,16,{"$f":"IF(B2357=1,\"0\",VLOOKUP(B2357,coefficient2!$A$4:$B$7,2,FALSE))","v":0.2109943},{"$f":"IF(C2357=1,\"0\",VLOOKUP(C2357,coefficient2!$A$10:$B$13,2,FALSE))","v":0.19249050000000001},{"$f":"IF(D2357=1,\"0\",VLOOKUP(D2357,coefficient2!$A$16:$B$19,2,FALSE))","v":0.248331},{"$f":"IF(E2357=1,\"0\",VLOOKUP(E2357,coefficient2!$A$22:$B$25,2,FALSE))","v":5.63998E-2},{"$f":"IF(F2357=1,\"0\",VLOOKUP(F2357,coefficient2!$A$28:$B$31,2,FALSE))","v":"0"},0.29178440000000005]
[44522,4,4,5,2,2,17,{"$f":"IF(B2358=1,\"0\",VLOOKUP(B2358,coefficient2!$A$4:$B$7,2,FALSE))","v":0.2109943},{"$f":"IF(C2358=1,\"0\",VLOOKUP(C2358,coefficient2!$A$10:$B$13,2,FALSE))","v":0.19249050000000001},{"$f":"IF(D2358=1,\"0\",VLOOKUP(D2358,coefficient2!$A$16:$B$19,2,FALSE))","v":0.248331},{"$f":"IF(E2358=1,\"0\",VLOOKUP(E2358,coefficient2!$A$22:$B$25,2,FALSE))","v":5.63998E-2},{"$f":"IF(F2358=1,\"0\",VLOOKUP(F2358,coefficient2!$A$28:$B$31,2,FALSE))","v":5.8085699999999997E-2},0.23369870000000006]
[44523,4,4,5,2,3,18,{"$f":"IF(B2359=1,\"0\",VLOOKUP(B2359,coefficient2!$A$4:$B$7,2,FALSE))","v":0.2109943},{"$f":"IF(C2359=1,\"0\",VLOOKUP(C2359,coefficient2!$A$10:$B$13,2,FALSE))","v":0.19249050000000001},{"$f":"IF(D2359=1,\"0\",VLOOKUP(D2359,coefficient2!$A$16:$B$19,2,FALSE))","v":0.248331},{"$f":"IF(E2359=1,\"0\",VLOOKUP(E2359,coefficient2!$A$22:$B$25,2,FALSE))","v":5.63998E-2},{"$f":"IF(F2359=1,\"0\",VLOOKUP(F2359,coefficient2!$A$28:$B$31,2,FALSE))","v":9.5753900000000003E-2},0.19603050000000005]
[44524,4,4,5,2,4,19,{"$f":"IF(B2360=1,\"0\",VLOOKUP(B2360,coefficient2!$A$4:$B$7,2,FALSE))","v":0.2109943},{"$f":"IF(C2360=1,\"0\",VLOOKUP(C2360,coefficient2!$A$10:$B$13,2,FALSE))","v":0.19249050000000001},{"$f":"IF(D2360=1,\"0\",VLOOKUP(D2360,coefficient2!$A$16:$B$19,2,FALSE))","v":0.248331},{"$f":"IF(E2360=1,\"0\",VLOOKUP(E2360,coefficient2!$A$22:$B$25,2,FALSE))","v":5.63998E-2},{"$f":"IF(F2360=1,\"0\",VLOOKUP(F2360,coefficient2!$A$28:$B$31,2,FALSE))","v":0.23270360000000001},5.9080800000000044E-2]
[44525,4,4,5,2,5,20,{"$f":"IF(B2361=1,\"0\",VLOOKUP(B2361,coefficient2!$A$4:$B$7,2,FALSE))","v":0.2109943},{"$f":"IF(C2361=1,\"0\",VLOOKUP(C2361,coefficient2!$A$10:$B$13,2,FALSE))","v":0.19249050000000001},{"$f":"IF(D2361=1,\"0\",VLOOKUP(D2361,coefficient2!$A$16:$B$19,2,FALSE))","v":0.248331},{"$f":"IF(E2361=1,\"0\",VLOOKUP(E2361,coefficient2!$A$22:$B$25,2,FALSE))","v":5.63998E-2},{"$f":"IF(F2361=1,\"0\",VLOOKUP(F2361,coefficient2!$A$28:$B$31,2,FALSE))","v":0.29534929999999998},-3.5648999999999265E-3]
[44531,4,4,5,3,1,17,{"$f":"IF(B2362=1,\"0\",VLOOKUP(B2362,coefficient2!$A$4:$B$7,2,FALSE))","v":0.2109943},{"$f":"IF(C2362=1,\"0\",VLOOKUP(C2362,coefficient2!$A$10:$B$13,2,FALSE))","v":0.19249050000000001},{"$f":"IF(D2362=1,\"0\",VLOOKUP(D2362,coefficient2!$A$16:$B$19,2,FALSE))","v":0.248331},{"$f":"IF(E2362=1,\"0\",VLOOKUP(E2362,coefficient2!$A$22:$B$25,2,FALSE))","v":6.6492200000000001E-2},{"$f":"IF(F2362=1,\"0\",VLOOKUP(F2362,coefficient2!$A$28:$B$31,2,FALSE))","v":"0"},0.28169200000000005]
[44532,4,4,5,3,2,18,{"$f":"IF(B2363=1,\"0\",VLOOKUP(B2363,coefficient2!$A$4:$B$7,2,FALSE))","v":0.2109943},{"$f":"IF(C2363=1,\"0\",VLOOKUP(C2363,coefficient2!$A$10:$B$13,2,FALSE))","v":0.19249050000000001},{"$f":"IF(D2363=1,\"0\",VLOOKUP(D2363,coefficient2!$A$16:$B$19,2,FALSE))","v":0.248331},{"$f":"IF(E2363=1,\"0\",VLOOKUP(E2363,coefficient2!$A$22:$B$25,2,FALSE))","v":6.6492200000000001E-2},{"$f":"IF(F2363=1,\"0\",VLOOKUP(F2363,coefficient2!$A$28:$B$31,2,FALSE))","v":5.8085699999999997E-2},0.22360630000000006]
[44533,4,4,5,3,3,19,{"$f":"IF(B2364=1,\"0\",VLOOKUP(B2364,coefficient2!$A$4:$B$7,2,FALSE))","v":0.2109943},{"$f":"IF(C2364=1,\"0\",VLOOKUP(C2364,coefficient2!$A$10:$B$13,2,FALSE))","v":0.19249050000000001},{"$f":"IF(D2364=1,\"0\",VLOOKUP(D2364,coefficient2!$A$16:$B$19,2,FALSE))","v":0.248331},{"$f":"IF(E2364=1,\"0\",VLOOKUP(E2364,coefficient2!$A$22:$B$25,2,FALSE))","v":6.6492200000000001E-2},{"$f":"IF(F2364=1,\"0\",VLOOKUP(F2364,coefficient2!$A$28:$B$31,2,FALSE))","v":9.5753900000000003E-2},0.18593810000000005]
[44534,4,4,5,3,4,20,{"$f":"IF(B2365=1,\"0\",VLOOKUP(B2365,coefficient2!$A$4:$B$7,2,FALSE))","v":0.2109943},{"$f":"IF(C2365=1,\"0\",VLOOKUP(C2365,coefficient2!$A$10:$B$13,2,FALSE))","v":0.19249050000000001},{"$f":"IF(D2365=1,\"0\",VLOOKUP(D2365,coefficient2!$A$16:$B$19,2,FALSE))","v":0.248331},{"$f":"IF(E2365=1,\"0\",VLOOKUP(E2365,coefficient2!$A$22:$B$25,2,FALSE))","v":6.6492200000000001E-2},{"$f":"IF(F2365=1,\"0\",VLOOKUP(F2365,coefficient2!$A$28:$B$31,2,FALSE))","v":0.23270360000000001},4.8988400000000043E-2]
[44535,4,4,5,3,5,21,{"$f":"IF(B2366=1,\"0\",VLOOKUP(B2366,coefficient2!$A$4:$B$7,2,FALSE))","v":0.2109943},{"$f":"IF(C2366=1,\"0\",VLOOKUP(C2366,coefficient2!$A$10:$B$13,2,FALSE))","v":0.19249050000000001},{"$f":"IF(D2366=1,\"0\",VLOOKUP(D2366,coefficient2!$A$16:$B$19,2,FALSE))","v":0.248331},{"$f":"IF(E2366=1,\"0\",VLOOKUP(E2366,coefficient2!$A$22:$B$25,2,FALSE))","v":6.6492200000000001E-2},{"$f":"IF(F2366=1,\"0\",VLOOKUP(F2366,coefficient2!$A$28:$B$31,2,FALSE))","v":0.29534929999999998},-1.3657299999999928E-2]
[44541,4,4,5,4,1,18,{"$f":"IF(B2367=1,\"0\",VLOOKUP(B2367,coefficient2!$A$4:$B$7,2,FALSE))","v":0.2109943},{"$f":"IF(C2367=1,\"0\",VLOOKUP(C2367,coefficient2!$A$10:$B$13,2,FALSE))","v":0.19249050000000001},{"$f":"IF(D2367=1,\"0\",VLOOKUP(D2367,coefficient2!$A$16:$B$19,2,FALSE))","v":0.248331},{"$f":"IF(E2367=1,\"0\",VLOOKUP(E2367,coefficient2!$A$22:$B$25,2,FALSE))","v":0.2068864},{"$f":"IF(F2367=1,\"0\",VLOOKUP(F2367,coefficient2!$A$28:$B$31,2,FALSE))","v":"0"},0.14129780000000006]
[44542,4,4,5,4,2,19,{"$f":"IF(B2368=1,\"0\",VLOOKUP(B2368,coefficient2!$A$4:$B$7,2,FALSE))","v":0.2109943},{"$f":"IF(C2368=1,\"0\",VLOOKUP(C2368,coefficient2!$A$10:$B$13,2,FALSE))","v":0.19249050000000001},{"$f":"IF(D2368=1,\"0\",VLOOKUP(D2368,coefficient2!$A$16:$B$19,2,FALSE))","v":0.248331},{"$f":"IF(E2368=1,\"0\",VLOOKUP(E2368,coefficient2!$A$22:$B$25,2,FALSE))","v":0.2068864},{"$f":"IF(F2368=1,\"0\",VLOOKUP(F2368,coefficient2!$A$28:$B$31,2,FALSE))","v":5.8085699999999997E-2},8.3212100000000067E-2]
[44543,4,4,5,4,3,20,{"$f":"IF(B2369=1,\"0\",VLOOKUP(B2369,coefficient2!$A$4:$B$7,2,FALSE))","v":0.2109943},{"$f":"IF(C2369=1,\"0\",VLOOKUP(C2369,coefficient2!$A$10:$B$13,2,FALSE))","v":0.19249050000000001},{"$f":"IF(D2369=1,\"0\",VLOOKUP(D2369,coefficient2!$A$16:$B$19,2,FALSE))","v":0.248331},{"$f":"IF(E2369=1,\"0\",VLOOKUP(E2369,coefficient2!$A$22:$B$25,2,FALSE))","v":0.2068864},{"$f":"IF(F2369=1,\"0\",VLOOKUP(F2369,coefficient2!$A$28:$B$31,2,FALSE))","v":9.5753900000000003E-2},4.5543900000000054E-2]
[44544,4,4,5,4,4,21,{"$f":"IF(B2370=1,\"0\",VLOOKUP(B2370,coefficient2!$A$4:$B$7,2,FALSE))","v":0.2109943},{"$f":"IF(C2370=1,\"0\",VLOOKUP(C2370,coefficient2!$A$10:$B$13,2,FALSE))","v":0.19249050000000001},{"$f":"IF(D2370=1,\"0\",VLOOKUP(D2370,coefficient2!$A$16:$B$19,2,FALSE))","v":0.248331},{"$f":"IF(E2370=1,\"0\",VLOOKUP(E2370,coefficient2!$A$22:$B$25,2,FALSE))","v":0.2068864},{"$f":"IF(F2370=1,\"0\",VLOOKUP(F2370,coefficient2!$A$28:$B$31,2,FALSE))","v":0.23270360000000001},{"$f":"1-H2370-I2370-J2370-K2370-L2370","v":-9.1405799999999954E-2}]
[44545,{"$f":"INT(LEFT(A2371,1))","v":4},{"$f":"INT(MID(A2371,2,1))","v":4},{"$f":"INT(MID(A2371,3,1))","v":5},{"$f":"INT(MID(A2371,4,1))","v":4},{"$f":"INT(RIGHT(A2371,1))","v":5},22,{"$f":"IF(B2371=1,\"0\",VLOOKUP(B2371,coefficient2!$A$4:$B$7,2,FALSE))","v":0.2109943},{"$f":"IF(C2371=1,\"0\",VLOOKUP(C2371,coefficient2!$A$10:$B$13,2,FALSE))","v":0.19249050000000001},{"$f":"IF(D2371=1,\"0\",VLOOKUP(D2371,coefficient2!$A$16:$B$19,2,FALSE))","v":0.248331},{"$f":"IF(E2371=1,\"0\",VLOOKUP(E2371,coefficient2!$A$22:$B$25,2,FALSE))","v":0.2068864},{"$f":"IF(F2371=1,\"0\",VLOOKUP(F2371,coefficient2!$A$28:$B$31,2,FALSE))","v":0.29534929999999998},-0.15405149999999992]
[44551,4,4,5,5,1,19,{"$f":"IF(B2372=1,\"0\",VLOOKUP(B2372,coefficient2!$A$4:$B$7,2,FALSE))","v":0.2109943},{"$f":"IF(C2372=1,\"0\",VLOOKUP(C2372,coefficient2!$A$10:$B$13,2,FALSE))","v":0.19249050000000001},{"$f":"IF(D2372=1,\"0\",VLOOKUP(D2372,coefficient2!$A$16:$B$19,2,FALSE))","v":0.248331},{"$f":"IF(E2372=1,\"0\",VLOOKUP(E2372,coefficient2!$A$22:$B$25,2,FALSE))","v":0.25643310000000002},{"$f":"IF(F2372=1,\"0\",VLOOKUP(F2372,coefficient2!$A$28:$B$31,2,FALSE))","v":"0"},9.175110000000003E-2]
[44552,4,4,5,5,2,20,{"$f":"IF(B2373=1,\"0\",VLOOKUP(B2373,coefficient2!$A$4:$B$7,2,FALSE))","v":0.2109943},{"$f":"IF(C2373=1,\"0\",VLOOKUP(C2373,coefficient2!$A$10:$B$13,2,FALSE))","v":0.19249050000000001},{"$f":"IF(D2373=1,\"0\",VLOOKUP(D2373,coefficient2!$A$16:$B$19,2,FALSE))","v":0.248331},{"$f":"IF(E2373=1,\"0\",VLOOKUP(E2373,coefficient2!$A$22:$B$25,2,FALSE))","v":0.25643310000000002},{"$f":"IF(F2373=1,\"0\",VLOOKUP(F2373,coefficient2!$A$28:$B$31,2,FALSE))","v":5.8085699999999997E-2},3.3665400000000033E-2]
[44553,4,4,5,5,3,21,{"$f":"IF(B2374=1,\"0\",VLOOKUP(B2374,coefficient2!$A$4:$B$7,2,FALSE))","v":0.2109943},{"$f":"IF(C2374=1,\"0\",VLOOKUP(C2374,coefficient2!$A$10:$B$13,2,FALSE))","v":0.19249050000000001},{"$f":"IF(D2374=1,\"0\",VLOOKUP(D2374,coefficient2!$A$16:$B$19,2,FALSE))","v":0.248331},{"$f":"IF(E2374=1,\"0\",VLOOKUP(E2374,coefficient2!$A$22:$B$25,2,FALSE))","v":0.25643310000000002},{"$f":"IF(F2374=1,\"0\",VLOOKUP(F2374,coefficient2!$A$28:$B$31,2,FALSE))","v":9.5753900000000003E-2},-4.002799999999973E-3]
[44554,4,4,5,5,4,22,{"$f":"IF(B2375=1,\"0\",VLOOKUP(B2375,coefficient2!$A$4:$B$7,2,FALSE))","v":0.2109943},{"$f":"IF(C2375=1,\"0\",VLOOKUP(C2375,coefficient2!$A$10:$B$13,2,FALSE))","v":0.19249050000000001},{"$f":"IF(D2375=1,\"0\",VLOOKUP(D2375,coefficient2!$A$16:$B$19,2,FALSE))","v":0.248331},{"$f":"IF(E2375=1,\"0\",VLOOKUP(E2375,coefficient2!$A$22:$B$25,2,FALSE))","v":0.25643310000000002},{"$f":"IF(F2375=1,\"0\",VLOOKUP(F2375,coefficient2!$A$28:$B$31,2,FALSE))","v":0.23270360000000001},-0.14095249999999998]
[44555,4,4,5,5,5,23,{"$f":"IF(B2376=1,\"0\",VLOOKUP(B2376,coefficient2!$A$4:$B$7,2,FALSE))","v":0.2109943},{"$f":"IF(C2376=1,\"0\",VLOOKUP(C2376,coefficient2!$A$10:$B$13,2,FALSE))","v":0.19249050000000001},{"$f":"IF(D2376=1,\"0\",VLOOKUP(D2376,coefficient2!$A$16:$B$19,2,FALSE))","v":0.248331},{"$f":"IF(E2376=1,\"0\",VLOOKUP(E2376,coefficient2!$A$22:$B$25,2,FALSE))","v":0.25643310000000002},{"$f":"IF(F2376=1,\"0\",VLOOKUP(F2376,coefficient2!$A$28:$B$31,2,FALSE))","v":0.29534929999999998},-0.20359819999999995]
[45111,4,5,1,1,1,12,{"$f":"IF(B2377=1,\"0\",VLOOKUP(B2377,coefficient2!$A$4:$B$7,2,FALSE))","v":0.2109943},{"$f":"IF(C2377=1,\"0\",VLOOKUP(C2377,coefficient2!$A$10:$B$13,2,FALSE))","v":0.2498763},{"$f":"IF(D2377=1,\"0\",VLOOKUP(D2377,coefficient2!$A$16:$B$19,2,FALSE))","v":"0"},{"$f":"IF(E2377=1,\"0\",VLOOKUP(E2377,coefficient2!$A$22:$B$25,2,FALSE))","v":"0"},{"$f":"IF(F2377=1,\"0\",VLOOKUP(F2377,coefficient2!$A$28:$B$31,2,FALSE))","v":"0"},0.53912939999999998]
[45112,4,5,1,1,2,13,{"$f":"IF(B2378=1,\"0\",VLOOKUP(B2378,coefficient2!$A$4:$B$7,2,FALSE))","v":0.2109943},{"$f":"IF(C2378=1,\"0\",VLOOKUP(C2378,coefficient2!$A$10:$B$13,2,FALSE))","v":0.2498763},{"$f":"IF(D2378=1,\"0\",VLOOKUP(D2378,coefficient2!$A$16:$B$19,2,FALSE))","v":"0"},{"$f":"IF(E2378=1,\"0\",VLOOKUP(E2378,coefficient2!$A$22:$B$25,2,FALSE))","v":"0"},{"$f":"IF(F2378=1,\"0\",VLOOKUP(F2378,coefficient2!$A$28:$B$31,2,FALSE))","v":5.8085699999999997E-2},0.48104369999999996]
[45113,4,5,1,1,3,14,{"$f":"IF(B2379=1,\"0\",VLOOKUP(B2379,coefficient2!$A$4:$B$7,2,FALSE))","v":0.2109943},{"$f":"IF(C2379=1,\"0\",VLOOKUP(C2379,coefficient2!$A$10:$B$13,2,FALSE))","v":0.2498763},{"$f":"IF(D2379=1,\"0\",VLOOKUP(D2379,coefficient2!$A$16:$B$19,2,FALSE))","v":"0"},{"$f":"IF(E2379=1,\"0\",VLOOKUP(E2379,coefficient2!$A$22:$B$25,2,FALSE))","v":"0"},{"$f":"IF(F2379=1,\"0\",VLOOKUP(F2379,coefficient2!$A$28:$B$31,2,FALSE))","v":9.5753900000000003E-2},0.44337549999999998]
[45114,4,5,1,1,4,15,{"$f":"IF(B2380=1,\"0\",VLOOKUP(B2380,coefficient2!$A$4:$B$7,2,FALSE))","v":0.2109943},{"$f":"IF(C2380=1,\"0\",VLOOKUP(C2380,coefficient2!$A$10:$B$13,2,FALSE))","v":0.2498763},{"$f":"IF(D2380=1,\"0\",VLOOKUP(D2380,coefficient2!$A$16:$B$19,2,FALSE))","v":"0"},{"$f":"IF(E2380=1,\"0\",VLOOKUP(E2380,coefficient2!$A$22:$B$25,2,FALSE))","v":"0"},{"$f":"IF(F2380=1,\"0\",VLOOKUP(F2380,coefficient2!$A$28:$B$31,2,FALSE))","v":0.23270360000000001},0.30642579999999997]
[45115,4,5,1,1,5,16,{"$f":"IF(B2381=1,\"0\",VLOOKUP(B2381,coefficient2!$A$4:$B$7,2,FALSE))","v":0.2109943},{"$f":"IF(C2381=1,\"0\",VLOOKUP(C2381,coefficient2!$A$10:$B$13,2,FALSE))","v":0.2498763},{"$f":"IF(D2381=1,\"0\",VLOOKUP(D2381,coefficient2!$A$16:$B$19,2,FALSE))","v":"0"},{"$f":"IF(E2381=1,\"0\",VLOOKUP(E2381,coefficient2!$A$22:$B$25,2,FALSE))","v":"0"},{"$f":"IF(F2381=1,\"0\",VLOOKUP(F2381,coefficient2!$A$28:$B$31,2,FALSE))","v":0.29534929999999998},0.2437801]
[45121,4,5,1,2,1,13,{"$f":"IF(B2382=1,\"0\",VLOOKUP(B2382,coefficient2!$A$4:$B$7,2,FALSE))","v":0.2109943},{"$f":"IF(C2382=1,\"0\",VLOOKUP(C2382,coefficient2!$A$10:$B$13,2,FALSE))","v":0.2498763},{"$f":"IF(D2382=1,\"0\",VLOOKUP(D2382,coefficient2!$A$16:$B$19,2,FALSE))","v":"0"},{"$f":"IF(E2382=1,\"0\",VLOOKUP(E2382,coefficient2!$A$22:$B$25,2,FALSE))","v":5.63998E-2},{"$f":"IF(F2382=1,\"0\",VLOOKUP(F2382,coefficient2!$A$28:$B$31,2,FALSE))","v":"0"},0.48272959999999998]
[45122,4,5,1,2,2,14,{"$f":"IF(B2383=1,\"0\",VLOOKUP(B2383,coefficient2!$A$4:$B$7,2,FALSE))","v":0.2109943},{"$f":"IF(C2383=1,\"0\",VLOOKUP(C2383,coefficient2!$A$10:$B$13,2,FALSE))","v":0.2498763},{"$f":"IF(D2383=1,\"0\",VLOOKUP(D2383,coefficient2!$A$16:$B$19,2,FALSE))","v":"0"},{"$f":"IF(E2383=1,\"0\",VLOOKUP(E2383,coefficient2!$A$22:$B$25,2,FALSE))","v":5.63998E-2},{"$f":"IF(F2383=1,\"0\",VLOOKUP(F2383,coefficient2!$A$28:$B$31,2,FALSE))","v":5.8085699999999997E-2},0.42464389999999996]
[45123,4,5,1,2,3,15,{"$f":"IF(B2384=1,\"0\",VLOOKUP(B2384,coefficient2!$A$4:$B$7,2,FALSE))","v":0.2109943},{"$f":"IF(C2384=1,\"0\",VLOOKUP(C2384,coefficient2!$A$10:$B$13,2,FALSE))","v":0.2498763},{"$f":"IF(D2384=1,\"0\",VLOOKUP(D2384,coefficient2!$A$16:$B$19,2,FALSE))","v":"0"},{"$f":"IF(E2384=1,\"0\",VLOOKUP(E2384,coefficient2!$A$22:$B$25,2,FALSE))","v":5.63998E-2},{"$f":"IF(F2384=1,\"0\",VLOOKUP(F2384,coefficient2!$A$28:$B$31,2,FALSE))","v":9.5753900000000003E-2},0.38697569999999998]
[45124,4,5,1,2,4,16,{"$f":"IF(B2385=1,\"0\",VLOOKUP(B2385,coefficient2!$A$4:$B$7,2,FALSE))","v":0.2109943},{"$f":"IF(C2385=1,\"0\",VLOOKUP(C2385,coefficient2!$A$10:$B$13,2,FALSE))","v":0.2498763},{"$f":"IF(D2385=1,\"0\",VLOOKUP(D2385,coefficient2!$A$16:$B$19,2,FALSE))","v":"0"},{"$f":"IF(E2385=1,\"0\",VLOOKUP(E2385,coefficient2!$A$22:$B$25,2,FALSE))","v":5.63998E-2},{"$f":"IF(F2385=1,\"0\",VLOOKUP(F2385,coefficient2!$A$28:$B$31,2,FALSE))","v":0.23270360000000001},0.25002599999999997]
[45125,4,5,1,2,5,17,{"$f":"IF(B2386=1,\"0\",VLOOKUP(B2386,coefficient2!$A$4:$B$7,2,FALSE))","v":0.2109943},{"$f":"IF(C2386=1,\"0\",VLOOKUP(C2386,coefficient2!$A$10:$B$13,2,FALSE))","v":0.2498763},{"$f":"IF(D2386=1,\"0\",VLOOKUP(D2386,coefficient2!$A$16:$B$19,2,FALSE))","v":"0"},{"$f":"IF(E2386=1,\"0\",VLOOKUP(E2386,coefficient2!$A$22:$B$25,2,FALSE))","v":5.63998E-2},{"$f":"IF(F2386=1,\"0\",VLOOKUP(F2386,coefficient2!$A$28:$B$31,2,FALSE))","v":0.29534929999999998},0.1873803]
[45131,4,5,1,3,1,14,{"$f":"IF(B2387=1,\"0\",VLOOKUP(B2387,coefficient2!$A$4:$B$7,2,FALSE))","v":0.2109943},{"$f":"IF(C2387=1,\"0\",VLOOKUP(C2387,coefficient2!$A$10:$B$13,2,FALSE))","v":0.2498763},{"$f":"IF(D2387=1,\"0\",VLOOKUP(D2387,coefficient2!$A$16:$B$19,2,FALSE))","v":"0"},{"$f":"IF(E2387=1,\"0\",VLOOKUP(E2387,coefficient2!$A$22:$B$25,2,FALSE))","v":6.6492200000000001E-2},{"$f":"IF(F2387=1,\"0\",VLOOKUP(F2387,coefficient2!$A$28:$B$31,2,FALSE))","v":"0"},0.47263719999999998]
[45132,4,5,1,3,2,15,{"$f":"IF(B2388=1,\"0\",VLOOKUP(B2388,coefficient2!$A$4:$B$7,2,FALSE))","v":0.2109943},{"$f":"IF(C2388=1,\"0\",VLOOKUP(C2388,coefficient2!$A$10:$B$13,2,FALSE))","v":0.2498763},{"$f":"IF(D2388=1,\"0\",VLOOKUP(D2388,coefficient2!$A$16:$B$19,2,FALSE))","v":"0"},{"$f":"IF(E2388=1,\"0\",VLOOKUP(E2388,coefficient2!$A$22:$B$25,2,FALSE))","v":6.6492200000000001E-2},{"$f":"IF(F2388=1,\"0\",VLOOKUP(F2388,coefficient2!$A$28:$B$31,2,FALSE))","v":5.8085699999999997E-2},0.41455149999999996]
[45133,4,5,1,3,3,{"$f":"SUM(B2389:F2389)","v":16},{"$f":"IF(B2389=1,\"0\",VLOOKUP(B2389,coefficient2!$A$4:$B$7,2,FALSE))","v":0.2109943},{"$f":"IF(C2389=1,\"0\",VLOOKUP(C2389,coefficient2!$A$10:$B$13,2,FALSE))","v":0.2498763},{"$f":"IF(D2389=1,\"0\",VLOOKUP(D2389,coefficient2!$A$16:$B$19,2,FALSE))","v":"0"},{"$f":"IF(E2389=1,\"0\",VLOOKUP(E2389,coefficient2!$A$22:$B$25,2,FALSE))","v":6.6492200000000001E-2},{"$f":"IF(F2389=1,\"0\",VLOOKUP(F2389,coefficient2!$A$28:$B$31,2,FALSE))","v":9.5753900000000003E-2},0.37688329999999998]
[45134,4,5,1,3,4,17,{"$f":"IF(B2390=1,\"0\",VLOOKUP(B2390,coefficient2!$A$4:$B$7,2,FALSE))","v":0.2109943},{"$f":"IF(C2390=1,\"0\",VLOOKUP(C2390,coefficient2!$A$10:$B$13,2,FALSE))","v":0.2498763},{"$f":"IF(D2390=1,\"0\",VLOOKUP(D2390,coefficient2!$A$16:$B$19,2,FALSE))","v":"0"},{"$f":"IF(E2390=1,\"0\",VLOOKUP(E2390,coefficient2!$A$22:$B$25,2,FALSE))","v":6.6492200000000001E-2},{"$f":"IF(F2390=1,\"0\",VLOOKUP(F2390,coefficient2!$A$28:$B$31,2,FALSE))","v":0.23270360000000001},0.23993359999999997]
[45135,4,5,1,3,5,18,{"$f":"IF(B2391=1,\"0\",VLOOKUP(B2391,coefficient2!$A$4:$B$7,2,FALSE))","v":0.2109943},{"$f":"IF(C2391=1,\"0\",VLOOKUP(C2391,coefficient2!$A$10:$B$13,2,FALSE))","v":0.2498763},{"$f":"IF(D2391=1,\"0\",VLOOKUP(D2391,coefficient2!$A$16:$B$19,2,FALSE))","v":"0"},{"$f":"IF(E2391=1,\"0\",VLOOKUP(E2391,coefficient2!$A$22:$B$25,2,FALSE))","v":6.6492200000000001E-2},{"$f":"IF(F2391=1,\"0\",VLOOKUP(F2391,coefficient2!$A$28:$B$31,2,FALSE))","v":0.29534929999999998},0.1772879]
[45141,4,5,1,4,1,15,{"$f":"IF(B2392=1,\"0\",VLOOKUP(B2392,coefficient2!$A$4:$B$7,2,FALSE))","v":0.2109943},{"$f":"IF(C2392=1,\"0\",VLOOKUP(C2392,coefficient2!$A$10:$B$13,2,FALSE))","v":0.2498763},{"$f":"IF(D2392=1,\"0\",VLOOKUP(D2392,coefficient2!$A$16:$B$19,2,FALSE))","v":"0"},{"$f":"IF(E2392=1,\"0\",VLOOKUP(E2392,coefficient2!$A$22:$B$25,2,FALSE))","v":0.2068864},{"$f":"IF(F2392=1,\"0\",VLOOKUP(F2392,coefficient2!$A$28:$B$31,2,FALSE))","v":"0"},0.33224299999999996]
[45142,4,5,1,4,2,16,{"$f":"IF(B2393=1,\"0\",VLOOKUP(B2393,coefficient2!$A$4:$B$7,2,FALSE))","v":0.2109943},{"$f":"IF(C2393=1,\"0\",VLOOKUP(C2393,coefficient2!$A$10:$B$13,2,FALSE))","v":0.2498763},{"$f":"IF(D2393=1,\"0\",VLOOKUP(D2393,coefficient2!$A$16:$B$19,2,FALSE))","v":"0"},{"$f":"IF(E2393=1,\"0\",VLOOKUP(E2393,coefficient2!$A$22:$B$25,2,FALSE))","v":0.2068864},{"$f":"IF(F2393=1,\"0\",VLOOKUP(F2393,coefficient2!$A$28:$B$31,2,FALSE))","v":5.8085699999999997E-2},0.27415729999999994]
[45143,4,5,1,4,3,17,{"$f":"IF(B2394=1,\"0\",VLOOKUP(B2394,coefficient2!$A$4:$B$7,2,FALSE))","v":0.2109943},{"$f":"IF(C2394=1,\"0\",VLOOKUP(C2394,coefficient2!$A$10:$B$13,2,FALSE))","v":0.2498763},{"$f":"IF(D2394=1,\"0\",VLOOKUP(D2394,coefficient2!$A$16:$B$19,2,FALSE))","v":"0"},{"$f":"IF(E2394=1,\"0\",VLOOKUP(E2394,coefficient2!$A$22:$B$25,2,FALSE))","v":0.2068864},{"$f":"IF(F2394=1,\"0\",VLOOKUP(F2394,coefficient2!$A$28:$B$31,2,FALSE))","v":9.5753900000000003E-2},0.23648909999999995]
[45144,4,5,1,4,4,18,{"$f":"IF(B2395=1,\"0\",VLOOKUP(B2395,coefficient2!$A$4:$B$7,2,FALSE))","v":0.2109943},{"$f":"IF(C2395=1,\"0\",VLOOKUP(C2395,coefficient2!$A$10:$B$13,2,FALSE))","v":0.2498763},{"$f":"IF(D2395=1,\"0\",VLOOKUP(D2395,coefficient2!$A$16:$B$19,2,FALSE))","v":"0"},{"$f":"IF(E2395=1,\"0\",VLOOKUP(E2395,coefficient2!$A$22:$B$25,2,FALSE))","v":0.2068864},{"$f":"IF(F2395=1,\"0\",VLOOKUP(F2395,coefficient2!$A$28:$B$31,2,FALSE))","v":0.23270360000000001},9.9539399999999945E-2]
[45145,4,5,1,4,5,19,{"$f":"IF(B2396=1,\"0\",VLOOKUP(B2396,coefficient2!$A$4:$B$7,2,FALSE))","v":0.2109943},{"$f":"IF(C2396=1,\"0\",VLOOKUP(C2396,coefficient2!$A$10:$B$13,2,FALSE))","v":0.2498763},{"$f":"IF(D2396=1,\"0\",VLOOKUP(D2396,coefficient2!$A$16:$B$19,2,FALSE))","v":"0"},{"$f":"IF(E2396=1,\"0\",VLOOKUP(E2396,coefficient2!$A$22:$B$25,2,FALSE))","v":0.2068864},{"$f":"IF(F2396=1,\"0\",VLOOKUP(F2396,coefficient2!$A$28:$B$31,2,FALSE))","v":0.29534929999999998},3.6893699999999974E-2]
[45151,4,5,1,5,1,16,{"$f":"IF(B2397=1,\"0\",VLOOKUP(B2397,coefficient2!$A$4:$B$7,2,FALSE))","v":0.2109943},{"$f":"IF(C2397=1,\"0\",VLOOKUP(C2397,coefficient2!$A$10:$B$13,2,FALSE))","v":0.2498763},{"$f":"IF(D2397=1,\"0\",VLOOKUP(D2397,coefficient2!$A$16:$B$19,2,FALSE))","v":"0"},{"$f":"IF(E2397=1,\"0\",VLOOKUP(E2397,coefficient2!$A$22:$B$25,2,FALSE))","v":0.25643310000000002},{"$f":"IF(F2397=1,\"0\",VLOOKUP(F2397,coefficient2!$A$28:$B$31,2,FALSE))","v":"0"},0.28269629999999996]
[45152,4,5,1,5,2,17,{"$f":"IF(B2398=1,\"0\",VLOOKUP(B2398,coefficient2!$A$4:$B$7,2,FALSE))","v":0.2109943},{"$f":"IF(C2398=1,\"0\",VLOOKUP(C2398,coefficient2!$A$10:$B$13,2,FALSE))","v":0.2498763},{"$f":"IF(D2398=1,\"0\",VLOOKUP(D2398,coefficient2!$A$16:$B$19,2,FALSE))","v":"0"},{"$f":"IF(E2398=1,\"0\",VLOOKUP(E2398,coefficient2!$A$22:$B$25,2,FALSE))","v":0.25643310000000002},{"$f":"IF(F2398=1,\"0\",VLOOKUP(F2398,coefficient2!$A$28:$B$31,2,FALSE))","v":5.8085699999999997E-2},0.22461059999999997]
[45153,4,5,1,5,3,18,{"$f":"IF(B2399=1,\"0\",VLOOKUP(B2399,coefficient2!$A$4:$B$7,2,FALSE))","v":0.2109943},{"$f":"IF(C2399=1,\"0\",VLOOKUP(C2399,coefficient2!$A$10:$B$13,2,FALSE))","v":0.2498763},{"$f":"IF(D2399=1,\"0\",VLOOKUP(D2399,coefficient2!$A$16:$B$19,2,FALSE))","v":"0"},{"$f":"IF(E2399=1,\"0\",VLOOKUP(E2399,coefficient2!$A$22:$B$25,2,FALSE))","v":0.25643310000000002},{"$f":"IF(F2399=1,\"0\",VLOOKUP(F2399,coefficient2!$A$28:$B$31,2,FALSE))","v":9.5753900000000003E-2},0.18694239999999995]
[45154,4,5,1,5,4,19,{"$f":"IF(B2400=1,\"0\",VLOOKUP(B2400,coefficient2!$A$4:$B$7,2,FALSE))","v":0.2109943},{"$f":"IF(C2400=1,\"0\",VLOOKUP(C2400,coefficient2!$A$10:$B$13,2,FALSE))","v":0.2498763},{"$f":"IF(D2400=1,\"0\",VLOOKUP(D2400,coefficient2!$A$16:$B$19,2,FALSE))","v":"0"},{"$f":"IF(E2400=1,\"0\",VLOOKUP(E2400,coefficient2!$A$22:$B$25,2,FALSE))","v":0.25643310000000002},{"$f":"IF(F2400=1,\"0\",VLOOKUP(F2400,coefficient2!$A$28:$B$31,2,FALSE))","v":0.23270360000000001},4.9992699999999946E-2]
[45155,4,5,1,5,5,20,{"$f":"IF(B2401=1,\"0\",VLOOKUP(B2401,coefficient2!$A$4:$B$7,2,FALSE))","v":0.2109943},{"$f":"IF(C2401=1,\"0\",VLOOKUP(C2401,coefficient2!$A$10:$B$13,2,FALSE))","v":0.2498763},{"$f":"IF(D2401=1,\"0\",VLOOKUP(D2401,coefficient2!$A$16:$B$19,2,FALSE))","v":"0"},{"$f":"IF(E2401=1,\"0\",VLOOKUP(E2401,coefficient2!$A$22:$B$25,2,FALSE))","v":0.25643310000000002},{"$f":"IF(F2401=1,\"0\",VLOOKUP(F2401,coefficient2!$A$28:$B$31,2,FALSE))","v":0.29534929999999998},-1.2653000000000025E-2]
[45211,4,5,2,1,1,13,{"$f":"IF(B2402=1,\"0\",VLOOKUP(B2402,coefficient2!$A$4:$B$7,2,FALSE))","v":0.2109943},{"$f":"IF(C2402=1,\"0\",VLOOKUP(C2402,coefficient2!$A$10:$B$13,2,FALSE))","v":0.2498763},{"$f":"IF(D2402=1,\"0\",VLOOKUP(D2402,coefficient2!$A$16:$B$19,2,FALSE))","v":5.8254399999999998E-2},{"$f":"IF(E2402=1,\"0\",VLOOKUP(E2402,coefficient2!$A$22:$B$25,2,FALSE))","v":"0"},{"$f":"IF(F2402=1,\"0\",VLOOKUP(F2402,coefficient2!$A$28:$B$31,2,FALSE))","v":"0"},0.480875]
[45212,4,5,2,1,2,14,{"$f":"IF(B2403=1,\"0\",VLOOKUP(B2403,coefficient2!$A$4:$B$7,2,FALSE))","v":0.2109943},{"$f":"IF(C2403=1,\"0\",VLOOKUP(C2403,coefficient2!$A$10:$B$13,2,FALSE))","v":0.2498763},{"$f":"IF(D2403=1,\"0\",VLOOKUP(D2403,coefficient2!$A$16:$B$19,2,FALSE))","v":5.8254399999999998E-2},{"$f":"IF(E2403=1,\"0\",VLOOKUP(E2403,coefficient2!$A$22:$B$25,2,FALSE))","v":"0"},{"$f":"IF(F2403=1,\"0\",VLOOKUP(F2403,coefficient2!$A$28:$B$31,2,FALSE))","v":5.8085699999999997E-2},0.42278929999999998]
[45213,4,5,2,1,3,15,{"$f":"IF(B2404=1,\"0\",VLOOKUP(B2404,coefficient2!$A$4:$B$7,2,FALSE))","v":0.2109943},{"$f":"IF(C2404=1,\"0\",VLOOKUP(C2404,coefficient2!$A$10:$B$13,2,FALSE))","v":0.2498763},{"$f":"IF(D2404=1,\"0\",VLOOKUP(D2404,coefficient2!$A$16:$B$19,2,FALSE))","v":5.8254399999999998E-2},{"$f":"IF(E2404=1,\"0\",VLOOKUP(E2404,coefficient2!$A$22:$B$25,2,FALSE))","v":"0"},{"$f":"IF(F2404=1,\"0\",VLOOKUP(F2404,coefficient2!$A$28:$B$31,2,FALSE))","v":9.5753900000000003E-2},0.38512109999999999]
[45214,4,5,2,1,4,16,{"$f":"IF(B2405=1,\"0\",VLOOKUP(B2405,coefficient2!$A$4:$B$7,2,FALSE))","v":0.2109943},{"$f":"IF(C2405=1,\"0\",VLOOKUP(C2405,coefficient2!$A$10:$B$13,2,FALSE))","v":0.2498763},{"$f":"IF(D2405=1,\"0\",VLOOKUP(D2405,coefficient2!$A$16:$B$19,2,FALSE))","v":5.8254399999999998E-2},{"$f":"IF(E2405=1,\"0\",VLOOKUP(E2405,coefficient2!$A$22:$B$25,2,FALSE))","v":"0"},{"$f":"IF(F2405=1,\"0\",VLOOKUP(F2405,coefficient2!$A$28:$B$31,2,FALSE))","v":0.23270360000000001},0.24817139999999999]
[45215,4,5,2,1,5,17,{"$f":"IF(B2406=1,\"0\",VLOOKUP(B2406,coefficient2!$A$4:$B$7,2,FALSE))","v":0.2109943},{"$f":"IF(C2406=1,\"0\",VLOOKUP(C2406,coefficient2!$A$10:$B$13,2,FALSE))","v":0.2498763},{"$f":"IF(D2406=1,\"0\",VLOOKUP(D2406,coefficient2!$A$16:$B$19,2,FALSE))","v":5.8254399999999998E-2},{"$f":"IF(E2406=1,\"0\",VLOOKUP(E2406,coefficient2!$A$22:$B$25,2,FALSE))","v":"0"},{"$f":"IF(F2406=1,\"0\",VLOOKUP(F2406,coefficient2!$A$28:$B$31,2,FALSE))","v":0.29534929999999998},0.18552570000000002]
[45221,4,5,2,2,1,14,{"$f":"IF(B2407=1,\"0\",VLOOKUP(B2407,coefficient2!$A$4:$B$7,2,FALSE))","v":0.2109943},{"$f":"IF(C2407=1,\"0\",VLOOKUP(C2407,coefficient2!$A$10:$B$13,2,FALSE))","v":0.2498763},{"$f":"IF(D2407=1,\"0\",VLOOKUP(D2407,coefficient2!$A$16:$B$19,2,FALSE))","v":5.8254399999999998E-2},{"$f":"IF(E2407=1,\"0\",VLOOKUP(E2407,coefficient2!$A$22:$B$25,2,FALSE))","v":5.63998E-2},{"$f":"IF(F2407=1,\"0\",VLOOKUP(F2407,coefficient2!$A$28:$B$31,2,FALSE))","v":"0"},0.4244752]
[45222,4,5,2,2,2,15,{"$f":"IF(B2408=1,\"0\",VLOOKUP(B2408,coefficient2!$A$4:$B$7,2,FALSE))","v":0.2109943},{"$f":"IF(C2408=1,\"0\",VLOOKUP(C2408,coefficient2!$A$10:$B$13,2,FALSE))","v":0.2498763},{"$f":"IF(D2408=1,\"0\",VLOOKUP(D2408,coefficient2!$A$16:$B$19,2,FALSE))","v":5.8254399999999998E-2},{"$f":"IF(E2408=1,\"0\",VLOOKUP(E2408,coefficient2!$A$22:$B$25,2,FALSE))","v":5.63998E-2},{"$f":"IF(F2408=1,\"0\",VLOOKUP(F2408,coefficient2!$A$28:$B$31,2,FALSE))","v":5.8085699999999997E-2},0.36638949999999998]
[45223,4,5,2,2,3,16,{"$f":"IF(B2409=1,\"0\",VLOOKUP(B2409,coefficient2!$A$4:$B$7,2,FALSE))","v":0.2109943},{"$f":"IF(C2409=1,\"0\",VLOOKUP(C2409,coefficient2!$A$10:$B$13,2,FALSE))","v":0.2498763},{"$f":"IF(D2409=1,\"0\",VLOOKUP(D2409,coefficient2!$A$16:$B$19,2,FALSE))","v":5.8254399999999998E-2},{"$f":"IF(E2409=1,\"0\",VLOOKUP(E2409,coefficient2!$A$22:$B$25,2,FALSE))","v":5.63998E-2},{"$f":"IF(F2409=1,\"0\",VLOOKUP(F2409,coefficient2!$A$28:$B$31,2,FALSE))","v":9.5753900000000003E-2},0.32872129999999999]
[45224,4,5,2,2,4,17,{"$f":"IF(B2410=1,\"0\",VLOOKUP(B2410,coefficient2!$A$4:$B$7,2,FALSE))","v":0.2109943},{"$f":"IF(C2410=1,\"0\",VLOOKUP(C2410,coefficient2!$A$10:$B$13,2,FALSE))","v":0.2498763},{"$f":"IF(D2410=1,\"0\",VLOOKUP(D2410,coefficient2!$A$16:$B$19,2,FALSE))","v":5.8254399999999998E-2},{"$f":"IF(E2410=1,\"0\",VLOOKUP(E2410,coefficient2!$A$22:$B$25,2,FALSE))","v":5.63998E-2},{"$f":"IF(F2410=1,\"0\",VLOOKUP(F2410,coefficient2!$A$28:$B$31,2,FALSE))","v":0.23270360000000001},0.19177159999999999]
[45225,4,5,2,2,5,18,{"$f":"IF(B2411=1,\"0\",VLOOKUP(B2411,coefficient2!$A$4:$B$7,2,FALSE))","v":0.2109943},{"$f":"IF(C2411=1,\"0\",VLOOKUP(C2411,coefficient2!$A$10:$B$13,2,FALSE))","v":0.2498763},{"$f":"IF(D2411=1,\"0\",VLOOKUP(D2411,coefficient2!$A$16:$B$19,2,FALSE))","v":5.8254399999999998E-2},{"$f":"IF(E2411=1,\"0\",VLOOKUP(E2411,coefficient2!$A$22:$B$25,2,FALSE))","v":5.63998E-2},{"$f":"IF(F2411=1,\"0\",VLOOKUP(F2411,coefficient2!$A$28:$B$31,2,FALSE))","v":0.29534929999999998},0.12912590000000002]
[45231,4,5,2,3,1,15,{"$f":"IF(B2412=1,\"0\",VLOOKUP(B2412,coefficient2!$A$4:$B$7,2,FALSE))","v":0.2109943},{"$f":"IF(C2412=1,\"0\",VLOOKUP(C2412,coefficient2!$A$10:$B$13,2,FALSE))","v":0.2498763},{"$f":"IF(D2412=1,\"0\",VLOOKUP(D2412,coefficient2!$A$16:$B$19,2,FALSE))","v":5.8254399999999998E-2},{"$f":"IF(E2412=1,\"0\",VLOOKUP(E2412,coefficient2!$A$22:$B$25,2,FALSE))","v":6.6492200000000001E-2},{"$f":"IF(F2412=1,\"0\",VLOOKUP(F2412,coefficient2!$A$28:$B$31,2,FALSE))","v":"0"},0.4143828]
[45232,4,5,2,3,2,16,{"$f":"IF(B2413=1,\"0\",VLOOKUP(B2413,coefficient2!$A$4:$B$7,2,FALSE))","v":0.2109943},{"$f":"IF(C2413=1,\"0\",VLOOKUP(C2413,coefficient2!$A$10:$B$13,2,FALSE))","v":0.2498763},{"$f":"IF(D2413=1,\"0\",VLOOKUP(D2413,coefficient2!$A$16:$B$19,2,FALSE))","v":5.8254399999999998E-2},{"$f":"IF(E2413=1,\"0\",VLOOKUP(E2413,coefficient2!$A$22:$B$25,2,FALSE))","v":6.6492200000000001E-2},{"$f":"IF(F2413=1,\"0\",VLOOKUP(F2413,coefficient2!$A$28:$B$31,2,FALSE))","v":5.8085699999999997E-2},0.35629709999999998]
[45233,4,5,2,3,3,17,{"$f":"IF(B2414=1,\"0\",VLOOKUP(B2414,coefficient2!$A$4:$B$7,2,FALSE))","v":0.2109943},{"$f":"IF(C2414=1,\"0\",VLOOKUP(C2414,coefficient2!$A$10:$B$13,2,FALSE))","v":0.2498763},{"$f":"IF(D2414=1,\"0\",VLOOKUP(D2414,coefficient2!$A$16:$B$19,2,FALSE))","v":5.8254399999999998E-2},{"$f":"IF(E2414=1,\"0\",VLOOKUP(E2414,coefficient2!$A$22:$B$25,2,FALSE))","v":6.6492200000000001E-2},{"$f":"IF(F2414=1,\"0\",VLOOKUP(F2414,coefficient2!$A$28:$B$31,2,FALSE))","v":9.5753900000000003E-2},0.31862889999999999]
[45234,4,5,2,3,4,18,{"$f":"IF(B2415=1,\"0\",VLOOKUP(B2415,coefficient2!$A$4:$B$7,2,FALSE))","v":0.2109943},{"$f":"IF(C2415=1,\"0\",VLOOKUP(C2415,coefficient2!$A$10:$B$13,2,FALSE))","v":0.2498763},{"$f":"IF(D2415=1,\"0\",VLOOKUP(D2415,coefficient2!$A$16:$B$19,2,FALSE))","v":5.8254399999999998E-2},{"$f":"IF(E2415=1,\"0\",VLOOKUP(E2415,coefficient2!$A$22:$B$25,2,FALSE))","v":6.6492200000000001E-2},{"$f":"IF(F2415=1,\"0\",VLOOKUP(F2415,coefficient2!$A$28:$B$31,2,FALSE))","v":0.23270360000000001},0.18167919999999999]
[45235,4,5,2,3,5,19,{"$f":"IF(B2416=1,\"0\",VLOOKUP(B2416,coefficient2!$A$4:$B$7,2,FALSE))","v":0.2109943},{"$f":"IF(C2416=1,\"0\",VLOOKUP(C2416,coefficient2!$A$10:$B$13,2,FALSE))","v":0.2498763},{"$f":"IF(D2416=1,\"0\",VLOOKUP(D2416,coefficient2!$A$16:$B$19,2,FALSE))","v":5.8254399999999998E-2},{"$f":"IF(E2416=1,\"0\",VLOOKUP(E2416,coefficient2!$A$22:$B$25,2,FALSE))","v":6.6492200000000001E-2},{"$f":"IF(F2416=1,\"0\",VLOOKUP(F2416,coefficient2!$A$28:$B$31,2,FALSE))","v":0.29534929999999998},0.11903350000000001]
[45241,4,5,2,4,1,16,{"$f":"IF(B2417=1,\"0\",VLOOKUP(B2417,coefficient2!$A$4:$B$7,2,FALSE))","v":0.2109943},{"$f":"IF(C2417=1,\"0\",VLOOKUP(C2417,coefficient2!$A$10:$B$13,2,FALSE))","v":0.2498763},{"$f":"IF(D2417=1,\"0\",VLOOKUP(D2417,coefficient2!$A$16:$B$19,2,FALSE))","v":5.8254399999999998E-2},{"$f":"IF(E2417=1,\"0\",VLOOKUP(E2417,coefficient2!$A$22:$B$25,2,FALSE))","v":0.2068864},{"$f":"IF(F2417=1,\"0\",VLOOKUP(F2417,coefficient2!$A$28:$B$31,2,FALSE))","v":"0"},0.27398860000000003]
[45242,4,5,2,4,2,17,{"$f":"IF(B2418=1,\"0\",VLOOKUP(B2418,coefficient2!$A$4:$B$7,2,FALSE))","v":0.2109943},{"$f":"IF(C2418=1,\"0\",VLOOKUP(C2418,coefficient2!$A$10:$B$13,2,FALSE))","v":0.2498763},{"$f":"IF(D2418=1,\"0\",VLOOKUP(D2418,coefficient2!$A$16:$B$19,2,FALSE))","v":5.8254399999999998E-2},{"$f":"IF(E2418=1,\"0\",VLOOKUP(E2418,coefficient2!$A$22:$B$25,2,FALSE))","v":0.2068864},{"$f":"IF(F2418=1,\"0\",VLOOKUP(F2418,coefficient2!$A$28:$B$31,2,FALSE))","v":5.8085699999999997E-2},0.21590290000000004]
[45243,4,5,2,4,3,18,{"$f":"IF(B2419=1,\"0\",VLOOKUP(B2419,coefficient2!$A$4:$B$7,2,FALSE))","v":0.2109943},{"$f":"IF(C2419=1,\"0\",VLOOKUP(C2419,coefficient2!$A$10:$B$13,2,FALSE))","v":0.2498763},{"$f":"IF(D2419=1,\"0\",VLOOKUP(D2419,coefficient2!$A$16:$B$19,2,FALSE))","v":5.8254399999999998E-2},{"$f":"IF(E2419=1,\"0\",VLOOKUP(E2419,coefficient2!$A$22:$B$25,2,FALSE))","v":0.2068864},{"$f":"IF(F2419=1,\"0\",VLOOKUP(F2419,coefficient2!$A$28:$B$31,2,FALSE))","v":9.5753900000000003E-2},0.17823470000000002]
[45244,4,5,2,4,4,19,{"$f":"IF(B2420=1,\"0\",VLOOKUP(B2420,coefficient2!$A$4:$B$7,2,FALSE))","v":0.2109943},{"$f":"IF(C2420=1,\"0\",VLOOKUP(C2420,coefficient2!$A$10:$B$13,2,FALSE))","v":0.2498763},{"$f":"IF(D2420=1,\"0\",VLOOKUP(D2420,coefficient2!$A$16:$B$19,2,FALSE))","v":5.8254399999999998E-2},{"$f":"IF(E2420=1,\"0\",VLOOKUP(E2420,coefficient2!$A$22:$B$25,2,FALSE))","v":0.2068864},{"$f":"IF(F2420=1,\"0\",VLOOKUP(F2420,coefficient2!$A$28:$B$31,2,FALSE))","v":0.23270360000000001},4.1285000000000016E-2]
[45245,4,5,2,4,5,20,{"$f":"IF(B2421=1,\"0\",VLOOKUP(B2421,coefficient2!$A$4:$B$7,2,FALSE))","v":0.2109943},{"$f":"IF(C2421=1,\"0\",VLOOKUP(C2421,coefficient2!$A$10:$B$13,2,FALSE))","v":0.2498763},{"$f":"IF(D2421=1,\"0\",VLOOKUP(D2421,coefficient2!$A$16:$B$19,2,FALSE))","v":5.8254399999999998E-2},{"$f":"IF(E2421=1,\"0\",VLOOKUP(E2421,coefficient2!$A$22:$B$25,2,FALSE))","v":0.2068864},{"$f":"IF(F2421=1,\"0\",VLOOKUP(F2421,coefficient2!$A$28:$B$31,2,FALSE))","v":0.29534929999999998},-2.1360699999999955E-2]
[45251,4,5,2,5,1,17,{"$f":"IF(B2422=1,\"0\",VLOOKUP(B2422,coefficient2!$A$4:$B$7,2,FALSE))","v":0.2109943},{"$f":"IF(C2422=1,\"0\",VLOOKUP(C2422,coefficient2!$A$10:$B$13,2,FALSE))","v":0.2498763},{"$f":"IF(D2422=1,\"0\",VLOOKUP(D2422,coefficient2!$A$16:$B$19,2,FALSE))","v":5.8254399999999998E-2},{"$f":"IF(E2422=1,\"0\",VLOOKUP(E2422,coefficient2!$A$22:$B$25,2,FALSE))","v":0.25643310000000002},{"$f":"IF(F2422=1,\"0\",VLOOKUP(F2422,coefficient2!$A$28:$B$31,2,FALSE))","v":"0"},0.22444189999999997]
[45252,4,5,2,5,2,18,{"$f":"IF(B2423=1,\"0\",VLOOKUP(B2423,coefficient2!$A$4:$B$7,2,FALSE))","v":0.2109943},{"$f":"IF(C2423=1,\"0\",VLOOKUP(C2423,coefficient2!$A$10:$B$13,2,FALSE))","v":0.2498763},{"$f":"IF(D2423=1,\"0\",VLOOKUP(D2423,coefficient2!$A$16:$B$19,2,FALSE))","v":5.8254399999999998E-2},{"$f":"IF(E2423=1,\"0\",VLOOKUP(E2423,coefficient2!$A$22:$B$25,2,FALSE))","v":0.25643310000000002},{"$f":"IF(F2423=1,\"0\",VLOOKUP(F2423,coefficient2!$A$28:$B$31,2,FALSE))","v":5.8085699999999997E-2},0.16635619999999998]
[45253,4,5,2,5,3,19,{"$f":"IF(B2424=1,\"0\",VLOOKUP(B2424,coefficient2!$A$4:$B$7,2,FALSE))","v":0.2109943},{"$f":"IF(C2424=1,\"0\",VLOOKUP(C2424,coefficient2!$A$10:$B$13,2,FALSE))","v":0.2498763},{"$f":"IF(D2424=1,\"0\",VLOOKUP(D2424,coefficient2!$A$16:$B$19,2,FALSE))","v":5.8254399999999998E-2},{"$f":"IF(E2424=1,\"0\",VLOOKUP(E2424,coefficient2!$A$22:$B$25,2,FALSE))","v":0.25643310000000002},{"$f":"IF(F2424=1,\"0\",VLOOKUP(F2424,coefficient2!$A$28:$B$31,2,FALSE))","v":9.5753900000000003E-2},0.12868799999999997]
[45254,4,5,2,5,4,20,{"$f":"IF(B2425=1,\"0\",VLOOKUP(B2425,coefficient2!$A$4:$B$7,2,FALSE))","v":0.2109943},{"$f":"IF(C2425=1,\"0\",VLOOKUP(C2425,coefficient2!$A$10:$B$13,2,FALSE))","v":0.2498763},{"$f":"IF(D2425=1,\"0\",VLOOKUP(D2425,coefficient2!$A$16:$B$19,2,FALSE))","v":5.8254399999999998E-2},{"$f":"IF(E2425=1,\"0\",VLOOKUP(E2425,coefficient2!$A$22:$B$25,2,FALSE))","v":0.25643310000000002},{"$f":"IF(F2425=1,\"0\",VLOOKUP(F2425,coefficient2!$A$28:$B$31,2,FALSE))","v":0.23270360000000001},-8.2617000000000385E-3]
[45255,4,5,2,5,5,21,{"$f":"IF(B2426=1,\"0\",VLOOKUP(B2426,coefficient2!$A$4:$B$7,2,FALSE))","v":0.2109943},{"$f":"IF(C2426=1,\"0\",VLOOKUP(C2426,coefficient2!$A$10:$B$13,2,FALSE))","v":0.2498763},{"$f":"IF(D2426=1,\"0\",VLOOKUP(D2426,coefficient2!$A$16:$B$19,2,FALSE))","v":5.8254399999999998E-2},{"$f":"IF(E2426=1,\"0\",VLOOKUP(E2426,coefficient2!$A$22:$B$25,2,FALSE))","v":0.25643310000000002},{"$f":"IF(F2426=1,\"0\",VLOOKUP(F2426,coefficient2!$A$28:$B$31,2,FALSE))","v":0.29534929999999998},-7.0907400000000009E-2]
[45311,4,5,3,1,1,14,{"$f":"IF(B2427=1,\"0\",VLOOKUP(B2427,coefficient2!$A$4:$B$7,2,FALSE))","v":0.2109943},{"$f":"IF(C2427=1,\"0\",VLOOKUP(C2427,coefficient2!$A$10:$B$13,2,FALSE))","v":0.2498763},{"$f":"IF(D2427=1,\"0\",VLOOKUP(D2427,coefficient2!$A$16:$B$19,2,FALSE))","v":7.1197399999999994E-2},{"$f":"IF(E2427=1,\"0\",VLOOKUP(E2427,coefficient2!$A$22:$B$25,2,FALSE))","v":"0"},{"$f":"IF(F2427=1,\"0\",VLOOKUP(F2427,coefficient2!$A$28:$B$31,2,FALSE))","v":"0"},0.46793200000000001]
[45312,4,5,3,1,2,15,{"$f":"IF(B2428=1,\"0\",VLOOKUP(B2428,coefficient2!$A$4:$B$7,2,FALSE))","v":0.2109943},{"$f":"IF(C2428=1,\"0\",VLOOKUP(C2428,coefficient2!$A$10:$B$13,2,FALSE))","v":0.2498763},{"$f":"IF(D2428=1,\"0\",VLOOKUP(D2428,coefficient2!$A$16:$B$19,2,FALSE))","v":7.1197399999999994E-2},{"$f":"IF(E2428=1,\"0\",VLOOKUP(E2428,coefficient2!$A$22:$B$25,2,FALSE))","v":"0"},{"$f":"IF(F2428=1,\"0\",VLOOKUP(F2428,coefficient2!$A$28:$B$31,2,FALSE))","v":5.8085699999999997E-2},0.4098463]
[45313,4,5,3,1,3,16,{"$f":"IF(B2429=1,\"0\",VLOOKUP(B2429,coefficient2!$A$4:$B$7,2,FALSE))","v":0.2109943},{"$f":"IF(C2429=1,\"0\",VLOOKUP(C2429,coefficient2!$A$10:$B$13,2,FALSE))","v":0.2498763},{"$f":"IF(D2429=1,\"0\",VLOOKUP(D2429,coefficient2!$A$16:$B$19,2,FALSE))","v":7.1197399999999994E-2},{"$f":"IF(E2429=1,\"0\",VLOOKUP(E2429,coefficient2!$A$22:$B$25,2,FALSE))","v":"0"},{"$f":"IF(F2429=1,\"0\",VLOOKUP(F2429,coefficient2!$A$28:$B$31,2,FALSE))","v":9.5753900000000003E-2},0.37217810000000001]
[45314,4,5,3,1,4,17,{"$f":"IF(B2430=1,\"0\",VLOOKUP(B2430,coefficient2!$A$4:$B$7,2,FALSE))","v":0.2109943},{"$f":"IF(C2430=1,\"0\",VLOOKUP(C2430,coefficient2!$A$10:$B$13,2,FALSE))","v":0.2498763},{"$f":"IF(D2430=1,\"0\",VLOOKUP(D2430,coefficient2!$A$16:$B$19,2,FALSE))","v":7.1197399999999994E-2},{"$f":"IF(E2430=1,\"0\",VLOOKUP(E2430,coefficient2!$A$22:$B$25,2,FALSE))","v":"0"},{"$f":"IF(F2430=1,\"0\",VLOOKUP(F2430,coefficient2!$A$28:$B$31,2,FALSE))","v":0.23270360000000001},0.2352284]
[45315,4,5,3,1,5,18,{"$f":"IF(B2431=1,\"0\",VLOOKUP(B2431,coefficient2!$A$4:$B$7,2,FALSE))","v":0.2109943},{"$f":"IF(C2431=1,\"0\",VLOOKUP(C2431,coefficient2!$A$10:$B$13,2,FALSE))","v":0.2498763},{"$f":"IF(D2431=1,\"0\",VLOOKUP(D2431,coefficient2!$A$16:$B$19,2,FALSE))","v":7.1197399999999994E-2},{"$f":"IF(E2431=1,\"0\",VLOOKUP(E2431,coefficient2!$A$22:$B$25,2,FALSE))","v":"0"},{"$f":"IF(F2431=1,\"0\",VLOOKUP(F2431,coefficient2!$A$28:$B$31,2,FALSE))","v":0.29534929999999998},0.17258270000000003]
[45321,4,5,3,2,1,15,{"$f":"IF(B2432=1,\"0\",VLOOKUP(B2432,coefficient2!$A$4:$B$7,2,FALSE))","v":0.2109943},{"$f":"IF(C2432=1,\"0\",VLOOKUP(C2432,coefficient2!$A$10:$B$13,2,FALSE))","v":0.2498763},{"$f":"IF(D2432=1,\"0\",VLOOKUP(D2432,coefficient2!$A$16:$B$19,2,FALSE))","v":7.1197399999999994E-2},{"$f":"IF(E2432=1,\"0\",VLOOKUP(E2432,coefficient2!$A$22:$B$25,2,FALSE))","v":5.63998E-2},{"$f":"IF(F2432=1,\"0\",VLOOKUP(F2432,coefficient2!$A$28:$B$31,2,FALSE))","v":"0"},0.41153220000000001]
[45322,4,5,3,2,2,16,{"$f":"IF(B2433=1,\"0\",VLOOKUP(B2433,coefficient2!$A$4:$B$7,2,FALSE))","v":0.2109943},{"$f":"IF(C2433=1,\"0\",VLOOKUP(C2433,coefficient2!$A$10:$B$13,2,FALSE))","v":0.2498763},{"$f":"IF(D2433=1,\"0\",VLOOKUP(D2433,coefficient2!$A$16:$B$19,2,FALSE))","v":7.1197399999999994E-2},{"$f":"IF(E2433=1,\"0\",VLOOKUP(E2433,coefficient2!$A$22:$B$25,2,FALSE))","v":5.63998E-2},{"$f":"IF(F2433=1,\"0\",VLOOKUP(F2433,coefficient2!$A$28:$B$31,2,FALSE))","v":5.8085699999999997E-2},0.3534465]
[45323,4,5,3,2,3,17,{"$f":"IF(B2434=1,\"0\",VLOOKUP(B2434,coefficient2!$A$4:$B$7,2,FALSE))","v":0.2109943},{"$f":"IF(C2434=1,\"0\",VLOOKUP(C2434,coefficient2!$A$10:$B$13,2,FALSE))","v":0.2498763},{"$f":"IF(D2434=1,\"0\",VLOOKUP(D2434,coefficient2!$A$16:$B$19,2,FALSE))","v":7.1197399999999994E-2},{"$f":"IF(E2434=1,\"0\",VLOOKUP(E2434,coefficient2!$A$22:$B$25,2,FALSE))","v":5.63998E-2},{"$f":"IF(F2434=1,\"0\",VLOOKUP(F2434,coefficient2!$A$28:$B$31,2,FALSE))","v":9.5753900000000003E-2},{"$f":"1-H2434-I2434-J2434-K2434-L2434","v":0.31577830000000001}]
[45324,{"$f":"INT(LEFT(A2435,1))","v":4},{"$f":"INT(MID(A2435,2,1))","v":5},{"$f":"INT(MID(A2435,3,1))","v":3},{"$f":"INT(MID(A2435,4,1))","v":2},{"$f":"INT(RIGHT(A2435,1))","v":4},18,{"$f":"IF(B2435=1,\"0\",VLOOKUP(B2435,coefficient2!$A$4:$B$7,2,FALSE))","v":0.2109943},{"$f":"IF(C2435=1,\"0\",VLOOKUP(C2435,coefficient2!$A$10:$B$13,2,FALSE))","v":0.2498763},{"$f":"IF(D2435=1,\"0\",VLOOKUP(D2435,coefficient2!$A$16:$B$19,2,FALSE))","v":7.1197399999999994E-2},{"$f":"IF(E2435=1,\"0\",VLOOKUP(E2435,coefficient2!$A$22:$B$25,2,FALSE))","v":5.63998E-2},{"$f":"IF(F2435=1,\"0\",VLOOKUP(F2435,coefficient2!$A$28:$B$31,2,FALSE))","v":0.23270360000000001},0.1788286]
[45325,4,5,3,2,5,19,{"$f":"IF(B2436=1,\"0\",VLOOKUP(B2436,coefficient2!$A$4:$B$7,2,FALSE))","v":0.2109943},{"$f":"IF(C2436=1,\"0\",VLOOKUP(C2436,coefficient2!$A$10:$B$13,2,FALSE))","v":0.2498763},{"$f":"IF(D2436=1,\"0\",VLOOKUP(D2436,coefficient2!$A$16:$B$19,2,FALSE))","v":7.1197399999999994E-2},{"$f":"IF(E2436=1,\"0\",VLOOKUP(E2436,coefficient2!$A$22:$B$25,2,FALSE))","v":5.63998E-2},{"$f":"IF(F2436=1,\"0\",VLOOKUP(F2436,coefficient2!$A$28:$B$31,2,FALSE))","v":0.29534929999999998},0.11618290000000003]
[45331,4,5,3,3,1,16,{"$f":"IF(B2437=1,\"0\",VLOOKUP(B2437,coefficient2!$A$4:$B$7,2,FALSE))","v":0.2109943},{"$f":"IF(C2437=1,\"0\",VLOOKUP(C2437,coefficient2!$A$10:$B$13,2,FALSE))","v":0.2498763},{"$f":"IF(D2437=1,\"0\",VLOOKUP(D2437,coefficient2!$A$16:$B$19,2,FALSE))","v":7.1197399999999994E-2},{"$f":"IF(E2437=1,\"0\",VLOOKUP(E2437,coefficient2!$A$22:$B$25,2,FALSE))","v":6.6492200000000001E-2},{"$f":"IF(F2437=1,\"0\",VLOOKUP(F2437,coefficient2!$A$28:$B$31,2,FALSE))","v":"0"},0.40143980000000001]
[45332,4,5,3,3,2,17,{"$f":"IF(B2438=1,\"0\",VLOOKUP(B2438,coefficient2!$A$4:$B$7,2,FALSE))","v":0.2109943},{"$f":"IF(C2438=1,\"0\",VLOOKUP(C2438,coefficient2!$A$10:$B$13,2,FALSE))","v":0.2498763},{"$f":"IF(D2438=1,\"0\",VLOOKUP(D2438,coefficient2!$A$16:$B$19,2,FALSE))","v":7.1197399999999994E-2},{"$f":"IF(E2438=1,\"0\",VLOOKUP(E2438,coefficient2!$A$22:$B$25,2,FALSE))","v":6.6492200000000001E-2},{"$f":"IF(F2438=1,\"0\",VLOOKUP(F2438,coefficient2!$A$28:$B$31,2,FALSE))","v":5.8085699999999997E-2},0.3433541]
[45333,4,5,3,3,3,18,{"$f":"IF(B2439=1,\"0\",VLOOKUP(B2439,coefficient2!$A$4:$B$7,2,FALSE))","v":0.2109943},{"$f":"IF(C2439=1,\"0\",VLOOKUP(C2439,coefficient2!$A$10:$B$13,2,FALSE))","v":0.2498763},{"$f":"IF(D2439=1,\"0\",VLOOKUP(D2439,coefficient2!$A$16:$B$19,2,FALSE))","v":7.1197399999999994E-2},{"$f":"IF(E2439=1,\"0\",VLOOKUP(E2439,coefficient2!$A$22:$B$25,2,FALSE))","v":6.6492200000000001E-2},{"$f":"IF(F2439=1,\"0\",VLOOKUP(F2439,coefficient2!$A$28:$B$31,2,FALSE))","v":9.5753900000000003E-2},0.30568590000000001]
[45334,4,5,3,3,4,19,{"$f":"IF(B2440=1,\"0\",VLOOKUP(B2440,coefficient2!$A$4:$B$7,2,FALSE))","v":0.2109943},{"$f":"IF(C2440=1,\"0\",VLOOKUP(C2440,coefficient2!$A$10:$B$13,2,FALSE))","v":0.2498763},{"$f":"IF(D2440=1,\"0\",VLOOKUP(D2440,coefficient2!$A$16:$B$19,2,FALSE))","v":7.1197399999999994E-2},{"$f":"IF(E2440=1,\"0\",VLOOKUP(E2440,coefficient2!$A$22:$B$25,2,FALSE))","v":6.6492200000000001E-2},{"$f":"IF(F2440=1,\"0\",VLOOKUP(F2440,coefficient2!$A$28:$B$31,2,FALSE))","v":0.23270360000000001},0.1687362]
[45335,4,5,3,3,5,20,{"$f":"IF(B2441=1,\"0\",VLOOKUP(B2441,coefficient2!$A$4:$B$7,2,FALSE))","v":0.2109943},{"$f":"IF(C2441=1,\"0\",VLOOKUP(C2441,coefficient2!$A$10:$B$13,2,FALSE))","v":0.2498763},{"$f":"IF(D2441=1,\"0\",VLOOKUP(D2441,coefficient2!$A$16:$B$19,2,FALSE))","v":7.1197399999999994E-2},{"$f":"IF(E2441=1,\"0\",VLOOKUP(E2441,coefficient2!$A$22:$B$25,2,FALSE))","v":6.6492200000000001E-2},{"$f":"IF(F2441=1,\"0\",VLOOKUP(F2441,coefficient2!$A$28:$B$31,2,FALSE))","v":0.29534929999999998},0.10609050000000003]
[45341,4,5,3,4,1,17,{"$f":"IF(B2442=1,\"0\",VLOOKUP(B2442,coefficient2!$A$4:$B$7,2,FALSE))","v":0.2109943},{"$f":"IF(C2442=1,\"0\",VLOOKUP(C2442,coefficient2!$A$10:$B$13,2,FALSE))","v":0.2498763},{"$f":"IF(D2442=1,\"0\",VLOOKUP(D2442,coefficient2!$A$16:$B$19,2,FALSE))","v":7.1197399999999994E-2},{"$f":"IF(E2442=1,\"0\",VLOOKUP(E2442,coefficient2!$A$22:$B$25,2,FALSE))","v":0.2068864},{"$f":"IF(F2442=1,\"0\",VLOOKUP(F2442,coefficient2!$A$28:$B$31,2,FALSE))","v":"0"},0.26104559999999999]
[45342,4,5,3,4,2,18,{"$f":"IF(B2443=1,\"0\",VLOOKUP(B2443,coefficient2!$A$4:$B$7,2,FALSE))","v":0.2109943},{"$f":"IF(C2443=1,\"0\",VLOOKUP(C2443,coefficient2!$A$10:$B$13,2,FALSE))","v":0.2498763},{"$f":"IF(D2443=1,\"0\",VLOOKUP(D2443,coefficient2!$A$16:$B$19,2,FALSE))","v":7.1197399999999994E-2},{"$f":"IF(E2443=1,\"0\",VLOOKUP(E2443,coefficient2!$A$22:$B$25,2,FALSE))","v":0.2068864},{"$f":"IF(F2443=1,\"0\",VLOOKUP(F2443,coefficient2!$A$28:$B$31,2,FALSE))","v":5.8085699999999997E-2},0.2029599]
[45343,4,5,3,4,3,19,{"$f":"IF(B2444=1,\"0\",VLOOKUP(B2444,coefficient2!$A$4:$B$7,2,FALSE))","v":0.2109943},{"$f":"IF(C2444=1,\"0\",VLOOKUP(C2444,coefficient2!$A$10:$B$13,2,FALSE))","v":0.2498763},{"$f":"IF(D2444=1,\"0\",VLOOKUP(D2444,coefficient2!$A$16:$B$19,2,FALSE))","v":7.1197399999999994E-2},{"$f":"IF(E2444=1,\"0\",VLOOKUP(E2444,coefficient2!$A$22:$B$25,2,FALSE))","v":0.2068864},{"$f":"IF(F2444=1,\"0\",VLOOKUP(F2444,coefficient2!$A$28:$B$31,2,FALSE))","v":9.5753900000000003E-2},0.16529169999999999]
[45344,4,5,3,4,4,20,{"$f":"IF(B2445=1,\"0\",VLOOKUP(B2445,coefficient2!$A$4:$B$7,2,FALSE))","v":0.2109943},{"$f":"IF(C2445=1,\"0\",VLOOKUP(C2445,coefficient2!$A$10:$B$13,2,FALSE))","v":0.2498763},{"$f":"IF(D2445=1,\"0\",VLOOKUP(D2445,coefficient2!$A$16:$B$19,2,FALSE))","v":7.1197399999999994E-2},{"$f":"IF(E2445=1,\"0\",VLOOKUP(E2445,coefficient2!$A$22:$B$25,2,FALSE))","v":0.2068864},{"$f":"IF(F2445=1,\"0\",VLOOKUP(F2445,coefficient2!$A$28:$B$31,2,FALSE))","v":0.23270360000000001},2.8341999999999978E-2]
[45345,4,5,3,4,5,21,{"$f":"IF(B2446=1,\"0\",VLOOKUP(B2446,coefficient2!$A$4:$B$7,2,FALSE))","v":0.2109943},{"$f":"IF(C2446=1,\"0\",VLOOKUP(C2446,coefficient2!$A$10:$B$13,2,FALSE))","v":0.2498763},{"$f":"IF(D2446=1,\"0\",VLOOKUP(D2446,coefficient2!$A$16:$B$19,2,FALSE))","v":7.1197399999999994E-2},{"$f":"IF(E2446=1,\"0\",VLOOKUP(E2446,coefficient2!$A$22:$B$25,2,FALSE))","v":0.2068864},{"$f":"IF(F2446=1,\"0\",VLOOKUP(F2446,coefficient2!$A$28:$B$31,2,FALSE))","v":0.29534929999999998},-3.4303699999999993E-2]
[45351,4,5,3,5,1,18,{"$f":"IF(B2447=1,\"0\",VLOOKUP(B2447,coefficient2!$A$4:$B$7,2,FALSE))","v":0.2109943},{"$f":"IF(C2447=1,\"0\",VLOOKUP(C2447,coefficient2!$A$10:$B$13,2,FALSE))","v":0.2498763},{"$f":"IF(D2447=1,\"0\",VLOOKUP(D2447,coefficient2!$A$16:$B$19,2,FALSE))","v":7.1197399999999994E-2},{"$f":"IF(E2447=1,\"0\",VLOOKUP(E2447,coefficient2!$A$22:$B$25,2,FALSE))","v":0.25643310000000002},{"$f":"IF(F2447=1,\"0\",VLOOKUP(F2447,coefficient2!$A$28:$B$31,2,FALSE))","v":"0"},0.21149889999999999]
[45352,4,5,3,5,2,19,{"$f":"IF(B2448=1,\"0\",VLOOKUP(B2448,coefficient2!$A$4:$B$7,2,FALSE))","v":0.2109943},{"$f":"IF(C2448=1,\"0\",VLOOKUP(C2448,coefficient2!$A$10:$B$13,2,FALSE))","v":0.2498763},{"$f":"IF(D2448=1,\"0\",VLOOKUP(D2448,coefficient2!$A$16:$B$19,2,FALSE))","v":7.1197399999999994E-2},{"$f":"IF(E2448=1,\"0\",VLOOKUP(E2448,coefficient2!$A$22:$B$25,2,FALSE))","v":0.25643310000000002},{"$f":"IF(F2448=1,\"0\",VLOOKUP(F2448,coefficient2!$A$28:$B$31,2,FALSE))","v":5.8085699999999997E-2},0.1534132]
[45353,4,5,3,5,3,20,{"$f":"IF(B2449=1,\"0\",VLOOKUP(B2449,coefficient2!$A$4:$B$7,2,FALSE))","v":0.2109943},{"$f":"IF(C2449=1,\"0\",VLOOKUP(C2449,coefficient2!$A$10:$B$13,2,FALSE))","v":0.2498763},{"$f":"IF(D2449=1,\"0\",VLOOKUP(D2449,coefficient2!$A$16:$B$19,2,FALSE))","v":7.1197399999999994E-2},{"$f":"IF(E2449=1,\"0\",VLOOKUP(E2449,coefficient2!$A$22:$B$25,2,FALSE))","v":0.25643310000000002},{"$f":"IF(F2449=1,\"0\",VLOOKUP(F2449,coefficient2!$A$28:$B$31,2,FALSE))","v":9.5753900000000003E-2},0.11574499999999999]
[45354,4,5,3,5,4,21,{"$f":"IF(B2450=1,\"0\",VLOOKUP(B2450,coefficient2!$A$4:$B$7,2,FALSE))","v":0.2109943},{"$f":"IF(C2450=1,\"0\",VLOOKUP(C2450,coefficient2!$A$10:$B$13,2,FALSE))","v":0.2498763},{"$f":"IF(D2450=1,\"0\",VLOOKUP(D2450,coefficient2!$A$16:$B$19,2,FALSE))","v":7.1197399999999994E-2},{"$f":"IF(E2450=1,\"0\",VLOOKUP(E2450,coefficient2!$A$22:$B$25,2,FALSE))","v":0.25643310000000002},{"$f":"IF(F2450=1,\"0\",VLOOKUP(F2450,coefficient2!$A$28:$B$31,2,FALSE))","v":0.23270360000000001},-2.1204700000000021E-2]
[45355,4,5,3,5,5,22,{"$f":"IF(B2451=1,\"0\",VLOOKUP(B2451,coefficient2!$A$4:$B$7,2,FALSE))","v":0.2109943},{"$f":"IF(C2451=1,\"0\",VLOOKUP(C2451,coefficient2!$A$10:$B$13,2,FALSE))","v":0.2498763},{"$f":"IF(D2451=1,\"0\",VLOOKUP(D2451,coefficient2!$A$16:$B$19,2,FALSE))","v":7.1197399999999994E-2},{"$f":"IF(E2451=1,\"0\",VLOOKUP(E2451,coefficient2!$A$22:$B$25,2,FALSE))","v":0.25643310000000002},{"$f":"IF(F2451=1,\"0\",VLOOKUP(F2451,coefficient2!$A$28:$B$31,2,FALSE))","v":0.29534929999999998},-8.3850399999999992E-2]
[45411,4,5,4,1,1,15,{"$f":"IF(B2452=1,\"0\",VLOOKUP(B2452,coefficient2!$A$4:$B$7,2,FALSE))","v":0.2109943},{"$f":"IF(C2452=1,\"0\",VLOOKUP(C2452,coefficient2!$A$10:$B$13,2,FALSE))","v":0.2498763},{"$f":"IF(D2452=1,\"0\",VLOOKUP(D2452,coefficient2!$A$16:$B$19,2,FALSE))","v":0.1534855},{"$f":"IF(E2452=1,\"0\",VLOOKUP(E2452,coefficient2!$A$22:$B$25,2,FALSE))","v":"0"},{"$f":"IF(F2452=1,\"0\",VLOOKUP(F2452,coefficient2!$A$28:$B$31,2,FALSE))","v":"0"},0.38564389999999998]
[45412,4,5,4,1,2,{"$f":"SUM(B2453:F2453)","v":16},{"$f":"IF(B2453=1,\"0\",VLOOKUP(B2453,coefficient2!$A$4:$B$7,2,FALSE))","v":0.2109943},{"$f":"IF(C2453=1,\"0\",VLOOKUP(C2453,coefficient2!$A$10:$B$13,2,FALSE))","v":0.2498763},{"$f":"IF(D2453=1,\"0\",VLOOKUP(D2453,coefficient2!$A$16:$B$19,2,FALSE))","v":0.1534855},{"$f":"IF(E2453=1,\"0\",VLOOKUP(E2453,coefficient2!$A$22:$B$25,2,FALSE))","v":"0"},{"$f":"IF(F2453=1,\"0\",VLOOKUP(F2453,coefficient2!$A$28:$B$31,2,FALSE))","v":5.8085699999999997E-2},0.32755819999999997]
[45413,4,5,4,1,3,17,{"$f":"IF(B2454=1,\"0\",VLOOKUP(B2454,coefficient2!$A$4:$B$7,2,FALSE))","v":0.2109943},{"$f":"IF(C2454=1,\"0\",VLOOKUP(C2454,coefficient2!$A$10:$B$13,2,FALSE))","v":0.2498763},{"$f":"IF(D2454=1,\"0\",VLOOKUP(D2454,coefficient2!$A$16:$B$19,2,FALSE))","v":0.1534855},{"$f":"IF(E2454=1,\"0\",VLOOKUP(E2454,coefficient2!$A$22:$B$25,2,FALSE))","v":"0"},{"$f":"IF(F2454=1,\"0\",VLOOKUP(F2454,coefficient2!$A$28:$B$31,2,FALSE))","v":9.5753900000000003E-2},0.28988999999999998]
[45414,4,5,4,1,4,18,{"$f":"IF(B2455=1,\"0\",VLOOKUP(B2455,coefficient2!$A$4:$B$7,2,FALSE))","v":0.2109943},{"$f":"IF(C2455=1,\"0\",VLOOKUP(C2455,coefficient2!$A$10:$B$13,2,FALSE))","v":0.2498763},{"$f":"IF(D2455=1,\"0\",VLOOKUP(D2455,coefficient2!$A$16:$B$19,2,FALSE))","v":0.1534855},{"$f":"IF(E2455=1,\"0\",VLOOKUP(E2455,coefficient2!$A$22:$B$25,2,FALSE))","v":"0"},{"$f":"IF(F2455=1,\"0\",VLOOKUP(F2455,coefficient2!$A$28:$B$31,2,FALSE))","v":0.23270360000000001},0.15294029999999997]
[45415,4,5,4,1,5,19,{"$f":"IF(B2456=1,\"0\",VLOOKUP(B2456,coefficient2!$A$4:$B$7,2,FALSE))","v":0.2109943},{"$f":"IF(C2456=1,\"0\",VLOOKUP(C2456,coefficient2!$A$10:$B$13,2,FALSE))","v":0.2498763},{"$f":"IF(D2456=1,\"0\",VLOOKUP(D2456,coefficient2!$A$16:$B$19,2,FALSE))","v":0.1534855},{"$f":"IF(E2456=1,\"0\",VLOOKUP(E2456,coefficient2!$A$22:$B$25,2,FALSE))","v":"0"},{"$f":"IF(F2456=1,\"0\",VLOOKUP(F2456,coefficient2!$A$28:$B$31,2,FALSE))","v":0.29534929999999998},9.0294600000000003E-2]
[45421,4,5,4,2,1,16,{"$f":"IF(B2457=1,\"0\",VLOOKUP(B2457,coefficient2!$A$4:$B$7,2,FALSE))","v":0.2109943},{"$f":"IF(C2457=1,\"0\",VLOOKUP(C2457,coefficient2!$A$10:$B$13,2,FALSE))","v":0.2498763},{"$f":"IF(D2457=1,\"0\",VLOOKUP(D2457,coefficient2!$A$16:$B$19,2,FALSE))","v":0.1534855},{"$f":"IF(E2457=1,\"0\",VLOOKUP(E2457,coefficient2!$A$22:$B$25,2,FALSE))","v":5.63998E-2},{"$f":"IF(F2457=1,\"0\",VLOOKUP(F2457,coefficient2!$A$28:$B$31,2,FALSE))","v":"0"},0.32924409999999998]
[45422,4,5,4,2,2,17,{"$f":"IF(B2458=1,\"0\",VLOOKUP(B2458,coefficient2!$A$4:$B$7,2,FALSE))","v":0.2109943},{"$f":"IF(C2458=1,\"0\",VLOOKUP(C2458,coefficient2!$A$10:$B$13,2,FALSE))","v":0.2498763},{"$f":"IF(D2458=1,\"0\",VLOOKUP(D2458,coefficient2!$A$16:$B$19,2,FALSE))","v":0.1534855},{"$f":"IF(E2458=1,\"0\",VLOOKUP(E2458,coefficient2!$A$22:$B$25,2,FALSE))","v":5.63998E-2},{"$f":"IF(F2458=1,\"0\",VLOOKUP(F2458,coefficient2!$A$28:$B$31,2,FALSE))","v":5.8085699999999997E-2},0.27115839999999997]
[45423,4,5,4,2,3,18,{"$f":"IF(B2459=1,\"0\",VLOOKUP(B2459,coefficient2!$A$4:$B$7,2,FALSE))","v":0.2109943},{"$f":"IF(C2459=1,\"0\",VLOOKUP(C2459,coefficient2!$A$10:$B$13,2,FALSE))","v":0.2498763},{"$f":"IF(D2459=1,\"0\",VLOOKUP(D2459,coefficient2!$A$16:$B$19,2,FALSE))","v":0.1534855},{"$f":"IF(E2459=1,\"0\",VLOOKUP(E2459,coefficient2!$A$22:$B$25,2,FALSE))","v":5.63998E-2},{"$f":"IF(F2459=1,\"0\",VLOOKUP(F2459,coefficient2!$A$28:$B$31,2,FALSE))","v":9.5753900000000003E-2},0.23349019999999998]
[45424,4,5,4,2,4,19,{"$f":"IF(B2460=1,\"0\",VLOOKUP(B2460,coefficient2!$A$4:$B$7,2,FALSE))","v":0.2109943},{"$f":"IF(C2460=1,\"0\",VLOOKUP(C2460,coefficient2!$A$10:$B$13,2,FALSE))","v":0.2498763},{"$f":"IF(D2460=1,\"0\",VLOOKUP(D2460,coefficient2!$A$16:$B$19,2,FALSE))","v":0.1534855},{"$f":"IF(E2460=1,\"0\",VLOOKUP(E2460,coefficient2!$A$22:$B$25,2,FALSE))","v":5.63998E-2},{"$f":"IF(F2460=1,\"0\",VLOOKUP(F2460,coefficient2!$A$28:$B$31,2,FALSE))","v":0.23270360000000001},9.6540499999999974E-2]
[45425,4,5,4,2,5,20,{"$f":"IF(B2461=1,\"0\",VLOOKUP(B2461,coefficient2!$A$4:$B$7,2,FALSE))","v":0.2109943},{"$f":"IF(C2461=1,\"0\",VLOOKUP(C2461,coefficient2!$A$10:$B$13,2,FALSE))","v":0.2498763},{"$f":"IF(D2461=1,\"0\",VLOOKUP(D2461,coefficient2!$A$16:$B$19,2,FALSE))","v":0.1534855},{"$f":"IF(E2461=1,\"0\",VLOOKUP(E2461,coefficient2!$A$22:$B$25,2,FALSE))","v":5.63998E-2},{"$f":"IF(F2461=1,\"0\",VLOOKUP(F2461,coefficient2!$A$28:$B$31,2,FALSE))","v":0.29534929999999998},3.3894800000000003E-2]
[45431,4,5,4,3,1,17,{"$f":"IF(B2462=1,\"0\",VLOOKUP(B2462,coefficient2!$A$4:$B$7,2,FALSE))","v":0.2109943},{"$f":"IF(C2462=1,\"0\",VLOOKUP(C2462,coefficient2!$A$10:$B$13,2,FALSE))","v":0.2498763},{"$f":"IF(D2462=1,\"0\",VLOOKUP(D2462,coefficient2!$A$16:$B$19,2,FALSE))","v":0.1534855},{"$f":"IF(E2462=1,\"0\",VLOOKUP(E2462,coefficient2!$A$22:$B$25,2,FALSE))","v":6.6492200000000001E-2},{"$f":"IF(F2462=1,\"0\",VLOOKUP(F2462,coefficient2!$A$28:$B$31,2,FALSE))","v":"0"},0.31915169999999998]
[45432,4,5,4,3,2,18,{"$f":"IF(B2463=1,\"0\",VLOOKUP(B2463,coefficient2!$A$4:$B$7,2,FALSE))","v":0.2109943},{"$f":"IF(C2463=1,\"0\",VLOOKUP(C2463,coefficient2!$A$10:$B$13,2,FALSE))","v":0.2498763},{"$f":"IF(D2463=1,\"0\",VLOOKUP(D2463,coefficient2!$A$16:$B$19,2,FALSE))","v":0.1534855},{"$f":"IF(E2463=1,\"0\",VLOOKUP(E2463,coefficient2!$A$22:$B$25,2,FALSE))","v":6.6492200000000001E-2},{"$f":"IF(F2463=1,\"0\",VLOOKUP(F2463,coefficient2!$A$28:$B$31,2,FALSE))","v":5.8085699999999997E-2},0.26106599999999996]
[45433,4,5,4,3,3,19,{"$f":"IF(B2464=1,\"0\",VLOOKUP(B2464,coefficient2!$A$4:$B$7,2,FALSE))","v":0.2109943},{"$f":"IF(C2464=1,\"0\",VLOOKUP(C2464,coefficient2!$A$10:$B$13,2,FALSE))","v":0.2498763},{"$f":"IF(D2464=1,\"0\",VLOOKUP(D2464,coefficient2!$A$16:$B$19,2,FALSE))","v":0.1534855},{"$f":"IF(E2464=1,\"0\",VLOOKUP(E2464,coefficient2!$A$22:$B$25,2,FALSE))","v":6.6492200000000001E-2},{"$f":"IF(F2464=1,\"0\",VLOOKUP(F2464,coefficient2!$A$28:$B$31,2,FALSE))","v":9.5753900000000003E-2},0.22339779999999998]
[45434,4,5,4,3,4,20,{"$f":"IF(B2465=1,\"0\",VLOOKUP(B2465,coefficient2!$A$4:$B$7,2,FALSE))","v":0.2109943},{"$f":"IF(C2465=1,\"0\",VLOOKUP(C2465,coefficient2!$A$10:$B$13,2,FALSE))","v":0.2498763},{"$f":"IF(D2465=1,\"0\",VLOOKUP(D2465,coefficient2!$A$16:$B$19,2,FALSE))","v":0.1534855},{"$f":"IF(E2465=1,\"0\",VLOOKUP(E2465,coefficient2!$A$22:$B$25,2,FALSE))","v":6.6492200000000001E-2},{"$f":"IF(F2465=1,\"0\",VLOOKUP(F2465,coefficient2!$A$28:$B$31,2,FALSE))","v":0.23270360000000001},8.6448099999999972E-2]
[45435,4,5,4,3,5,21,{"$f":"IF(B2466=1,\"0\",VLOOKUP(B2466,coefficient2!$A$4:$B$7,2,FALSE))","v":0.2109943},{"$f":"IF(C2466=1,\"0\",VLOOKUP(C2466,coefficient2!$A$10:$B$13,2,FALSE))","v":0.2498763},{"$f":"IF(D2466=1,\"0\",VLOOKUP(D2466,coefficient2!$A$16:$B$19,2,FALSE))","v":0.1534855},{"$f":"IF(E2466=1,\"0\",VLOOKUP(E2466,coefficient2!$A$22:$B$25,2,FALSE))","v":6.6492200000000001E-2},{"$f":"IF(F2466=1,\"0\",VLOOKUP(F2466,coefficient2!$A$28:$B$31,2,FALSE))","v":0.29534929999999998},2.3802400000000001E-2]
[45441,4,5,4,4,1,18,{"$f":"IF(B2467=1,\"0\",VLOOKUP(B2467,coefficient2!$A$4:$B$7,2,FALSE))","v":0.2109943},{"$f":"IF(C2467=1,\"0\",VLOOKUP(C2467,coefficient2!$A$10:$B$13,2,FALSE))","v":0.2498763},{"$f":"IF(D2467=1,\"0\",VLOOKUP(D2467,coefficient2!$A$16:$B$19,2,FALSE))","v":0.1534855},{"$f":"IF(E2467=1,\"0\",VLOOKUP(E2467,coefficient2!$A$22:$B$25,2,FALSE))","v":0.2068864},{"$f":"IF(F2467=1,\"0\",VLOOKUP(F2467,coefficient2!$A$28:$B$31,2,FALSE))","v":"0"},0.17875749999999999]
[45442,4,5,4,4,2,19,{"$f":"IF(B2468=1,\"0\",VLOOKUP(B2468,coefficient2!$A$4:$B$7,2,FALSE))","v":0.2109943},{"$f":"IF(C2468=1,\"0\",VLOOKUP(C2468,coefficient2!$A$10:$B$13,2,FALSE))","v":0.2498763},{"$f":"IF(D2468=1,\"0\",VLOOKUP(D2468,coefficient2!$A$16:$B$19,2,FALSE))","v":0.1534855},{"$f":"IF(E2468=1,\"0\",VLOOKUP(E2468,coefficient2!$A$22:$B$25,2,FALSE))","v":0.2068864},{"$f":"IF(F2468=1,\"0\",VLOOKUP(F2468,coefficient2!$A$28:$B$31,2,FALSE))","v":5.8085699999999997E-2},0.1206718]
[45443,4,5,4,4,3,20,{"$f":"IF(B2469=1,\"0\",VLOOKUP(B2469,coefficient2!$A$4:$B$7,2,FALSE))","v":0.2109943},{"$f":"IF(C2469=1,\"0\",VLOOKUP(C2469,coefficient2!$A$10:$B$13,2,FALSE))","v":0.2498763},{"$f":"IF(D2469=1,\"0\",VLOOKUP(D2469,coefficient2!$A$16:$B$19,2,FALSE))","v":0.1534855},{"$f":"IF(E2469=1,\"0\",VLOOKUP(E2469,coefficient2!$A$22:$B$25,2,FALSE))","v":0.2068864},{"$f":"IF(F2469=1,\"0\",VLOOKUP(F2469,coefficient2!$A$28:$B$31,2,FALSE))","v":9.5753900000000003E-2},8.3003599999999983E-2]
[45444,4,5,4,4,4,21,{"$f":"IF(B2470=1,\"0\",VLOOKUP(B2470,coefficient2!$A$4:$B$7,2,FALSE))","v":0.2109943},{"$f":"IF(C2470=1,\"0\",VLOOKUP(C2470,coefficient2!$A$10:$B$13,2,FALSE))","v":0.2498763},{"$f":"IF(D2470=1,\"0\",VLOOKUP(D2470,coefficient2!$A$16:$B$19,2,FALSE))","v":0.1534855},{"$f":"IF(E2470=1,\"0\",VLOOKUP(E2470,coefficient2!$A$22:$B$25,2,FALSE))","v":0.2068864},{"$f":"IF(F2470=1,\"0\",VLOOKUP(F2470,coefficient2!$A$28:$B$31,2,FALSE))","v":0.23270360000000001},-5.3946100000000025E-2]
[45445,4,5,4,4,5,22,{"$f":"IF(B2471=1,\"0\",VLOOKUP(B2471,coefficient2!$A$4:$B$7,2,FALSE))","v":0.2109943},{"$f":"IF(C2471=1,\"0\",VLOOKUP(C2471,coefficient2!$A$10:$B$13,2,FALSE))","v":0.2498763},{"$f":"IF(D2471=1,\"0\",VLOOKUP(D2471,coefficient2!$A$16:$B$19,2,FALSE))","v":0.1534855},{"$f":"IF(E2471=1,\"0\",VLOOKUP(E2471,coefficient2!$A$22:$B$25,2,FALSE))","v":0.2068864},{"$f":"IF(F2471=1,\"0\",VLOOKUP(F2471,coefficient2!$A$28:$B$31,2,FALSE))","v":0.29534929999999998},-0.1165918]
[45451,4,5,4,5,1,19,{"$f":"IF(B2472=1,\"0\",VLOOKUP(B2472,coefficient2!$A$4:$B$7,2,FALSE))","v":0.2109943},{"$f":"IF(C2472=1,\"0\",VLOOKUP(C2472,coefficient2!$A$10:$B$13,2,FALSE))","v":0.2498763},{"$f":"IF(D2472=1,\"0\",VLOOKUP(D2472,coefficient2!$A$16:$B$19,2,FALSE))","v":0.1534855},{"$f":"IF(E2472=1,\"0\",VLOOKUP(E2472,coefficient2!$A$22:$B$25,2,FALSE))","v":0.25643310000000002},{"$f":"IF(F2472=1,\"0\",VLOOKUP(F2472,coefficient2!$A$28:$B$31,2,FALSE))","v":"0"},0.12921079999999996]
[45452,4,5,4,5,2,20,{"$f":"IF(B2473=1,\"0\",VLOOKUP(B2473,coefficient2!$A$4:$B$7,2,FALSE))","v":0.2109943},{"$f":"IF(C2473=1,\"0\",VLOOKUP(C2473,coefficient2!$A$10:$B$13,2,FALSE))","v":0.2498763},{"$f":"IF(D2473=1,\"0\",VLOOKUP(D2473,coefficient2!$A$16:$B$19,2,FALSE))","v":0.1534855},{"$f":"IF(E2473=1,\"0\",VLOOKUP(E2473,coefficient2!$A$22:$B$25,2,FALSE))","v":0.25643310000000002},{"$f":"IF(F2473=1,\"0\",VLOOKUP(F2473,coefficient2!$A$28:$B$31,2,FALSE))","v":5.8085699999999997E-2},7.1125099999999969E-2]
[45453,4,5,4,5,3,21,{"$f":"IF(B2474=1,\"0\",VLOOKUP(B2474,coefficient2!$A$4:$B$7,2,FALSE))","v":0.2109943},{"$f":"IF(C2474=1,\"0\",VLOOKUP(C2474,coefficient2!$A$10:$B$13,2,FALSE))","v":0.2498763},{"$f":"IF(D2474=1,\"0\",VLOOKUP(D2474,coefficient2!$A$16:$B$19,2,FALSE))","v":0.1534855},{"$f":"IF(E2474=1,\"0\",VLOOKUP(E2474,coefficient2!$A$22:$B$25,2,FALSE))","v":0.25643310000000002},{"$f":"IF(F2474=1,\"0\",VLOOKUP(F2474,coefficient2!$A$28:$B$31,2,FALSE))","v":9.5753900000000003E-2},3.3456899999999956E-2]
[45454,4,5,4,5,4,22,{"$f":"IF(B2475=1,\"0\",VLOOKUP(B2475,coefficient2!$A$4:$B$7,2,FALSE))","v":0.2109943},{"$f":"IF(C2475=1,\"0\",VLOOKUP(C2475,coefficient2!$A$10:$B$13,2,FALSE))","v":0.2498763},{"$f":"IF(D2475=1,\"0\",VLOOKUP(D2475,coefficient2!$A$16:$B$19,2,FALSE))","v":0.1534855},{"$f":"IF(E2475=1,\"0\",VLOOKUP(E2475,coefficient2!$A$22:$B$25,2,FALSE))","v":0.25643310000000002},{"$f":"IF(F2475=1,\"0\",VLOOKUP(F2475,coefficient2!$A$28:$B$31,2,FALSE))","v":0.23270360000000001},-0.10349280000000005]
[45455,4,5,4,5,5,23,{"$f":"IF(B2476=1,\"0\",VLOOKUP(B2476,coefficient2!$A$4:$B$7,2,FALSE))","v":0.2109943},{"$f":"IF(C2476=1,\"0\",VLOOKUP(C2476,coefficient2!$A$10:$B$13,2,FALSE))","v":0.2498763},{"$f":"IF(D2476=1,\"0\",VLOOKUP(D2476,coefficient2!$A$16:$B$19,2,FALSE))","v":0.1534855},{"$f":"IF(E2476=1,\"0\",VLOOKUP(E2476,coefficient2!$A$22:$B$25,2,FALSE))","v":0.25643310000000002},{"$f":"IF(F2476=1,\"0\",VLOOKUP(F2476,coefficient2!$A$28:$B$31,2,FALSE))","v":0.29534929999999998},-0.16613850000000002]
[45511,4,5,5,1,1,16,{"$f":"IF(B2477=1,\"0\",VLOOKUP(B2477,coefficient2!$A$4:$B$7,2,FALSE))","v":0.2109943},{"$f":"IF(C2477=1,\"0\",VLOOKUP(C2477,coefficient2!$A$10:$B$13,2,FALSE))","v":0.2498763},{"$f":"IF(D2477=1,\"0\",VLOOKUP(D2477,coefficient2!$A$16:$B$19,2,FALSE))","v":0.248331},{"$f":"IF(E2477=1,\"0\",VLOOKUP(E2477,coefficient2!$A$22:$B$25,2,FALSE))","v":"0"},{"$f":"IF(F2477=1,\"0\",VLOOKUP(F2477,coefficient2!$A$28:$B$31,2,FALSE))","v":"0"},0.29079840000000001]
[45512,4,5,5,1,2,17,{"$f":"IF(B2478=1,\"0\",VLOOKUP(B2478,coefficient2!$A$4:$B$7,2,FALSE))","v":0.2109943},{"$f":"IF(C2478=1,\"0\",VLOOKUP(C2478,coefficient2!$A$10:$B$13,2,FALSE))","v":0.2498763},{"$f":"IF(D2478=1,\"0\",VLOOKUP(D2478,coefficient2!$A$16:$B$19,2,FALSE))","v":0.248331},{"$f":"IF(E2478=1,\"0\",VLOOKUP(E2478,coefficient2!$A$22:$B$25,2,FALSE))","v":"0"},{"$f":"IF(F2478=1,\"0\",VLOOKUP(F2478,coefficient2!$A$28:$B$31,2,FALSE))","v":5.8085699999999997E-2},0.23271270000000002]
[45513,4,5,5,1,3,18,{"$f":"IF(B2479=1,\"0\",VLOOKUP(B2479,coefficient2!$A$4:$B$7,2,FALSE))","v":0.2109943},{"$f":"IF(C2479=1,\"0\",VLOOKUP(C2479,coefficient2!$A$10:$B$13,2,FALSE))","v":0.2498763},{"$f":"IF(D2479=1,\"0\",VLOOKUP(D2479,coefficient2!$A$16:$B$19,2,FALSE))","v":0.248331},{"$f":"IF(E2479=1,\"0\",VLOOKUP(E2479,coefficient2!$A$22:$B$25,2,FALSE))","v":"0"},{"$f":"IF(F2479=1,\"0\",VLOOKUP(F2479,coefficient2!$A$28:$B$31,2,FALSE))","v":9.5753900000000003E-2},0.19504450000000001]
[45514,4,5,5,1,4,19,{"$f":"IF(B2480=1,\"0\",VLOOKUP(B2480,coefficient2!$A$4:$B$7,2,FALSE))","v":0.2109943},{"$f":"IF(C2480=1,\"0\",VLOOKUP(C2480,coefficient2!$A$10:$B$13,2,FALSE))","v":0.2498763},{"$f":"IF(D2480=1,\"0\",VLOOKUP(D2480,coefficient2!$A$16:$B$19,2,FALSE))","v":0.248331},{"$f":"IF(E2480=1,\"0\",VLOOKUP(E2480,coefficient2!$A$22:$B$25,2,FALSE))","v":"0"},{"$f":"IF(F2480=1,\"0\",VLOOKUP(F2480,coefficient2!$A$28:$B$31,2,FALSE))","v":0.23270360000000001},5.8094800000000002E-2]
[45515,4,5,5,1,5,20,{"$f":"IF(B2481=1,\"0\",VLOOKUP(B2481,coefficient2!$A$4:$B$7,2,FALSE))","v":0.2109943},{"$f":"IF(C2481=1,\"0\",VLOOKUP(C2481,coefficient2!$A$10:$B$13,2,FALSE))","v":0.2498763},{"$f":"IF(D2481=1,\"0\",VLOOKUP(D2481,coefficient2!$A$16:$B$19,2,FALSE))","v":0.248331},{"$f":"IF(E2481=1,\"0\",VLOOKUP(E2481,coefficient2!$A$22:$B$25,2,FALSE))","v":"0"},{"$f":"IF(F2481=1,\"0\",VLOOKUP(F2481,coefficient2!$A$28:$B$31,2,FALSE))","v":0.29534929999999998},-4.5508999999999689E-3]
[45521,4,5,5,2,1,17,{"$f":"IF(B2482=1,\"0\",VLOOKUP(B2482,coefficient2!$A$4:$B$7,2,FALSE))","v":0.2109943},{"$f":"IF(C2482=1,\"0\",VLOOKUP(C2482,coefficient2!$A$10:$B$13,2,FALSE))","v":0.2498763},{"$f":"IF(D2482=1,\"0\",VLOOKUP(D2482,coefficient2!$A$16:$B$19,2,FALSE))","v":0.248331},{"$f":"IF(E2482=1,\"0\",VLOOKUP(E2482,coefficient2!$A$22:$B$25,2,FALSE))","v":5.63998E-2},{"$f":"IF(F2482=1,\"0\",VLOOKUP(F2482,coefficient2!$A$28:$B$31,2,FALSE))","v":"0"},0.23439860000000001]
[45522,4,5,5,2,2,18,{"$f":"IF(B2483=1,\"0\",VLOOKUP(B2483,coefficient2!$A$4:$B$7,2,FALSE))","v":0.2109943},{"$f":"IF(C2483=1,\"0\",VLOOKUP(C2483,coefficient2!$A$10:$B$13,2,FALSE))","v":0.2498763},{"$f":"IF(D2483=1,\"0\",VLOOKUP(D2483,coefficient2!$A$16:$B$19,2,FALSE))","v":0.248331},{"$f":"IF(E2483=1,\"0\",VLOOKUP(E2483,coefficient2!$A$22:$B$25,2,FALSE))","v":5.63998E-2},{"$f":"IF(F2483=1,\"0\",VLOOKUP(F2483,coefficient2!$A$28:$B$31,2,FALSE))","v":5.8085699999999997E-2},0.17631290000000002]
[45523,4,5,5,2,3,19,{"$f":"IF(B2484=1,\"0\",VLOOKUP(B2484,coefficient2!$A$4:$B$7,2,FALSE))","v":0.2109943},{"$f":"IF(C2484=1,\"0\",VLOOKUP(C2484,coefficient2!$A$10:$B$13,2,FALSE))","v":0.2498763},{"$f":"IF(D2484=1,\"0\",VLOOKUP(D2484,coefficient2!$A$16:$B$19,2,FALSE))","v":0.248331},{"$f":"IF(E2484=1,\"0\",VLOOKUP(E2484,coefficient2!$A$22:$B$25,2,FALSE))","v":5.63998E-2},{"$f":"IF(F2484=1,\"0\",VLOOKUP(F2484,coefficient2!$A$28:$B$31,2,FALSE))","v":9.5753900000000003E-2},0.13864470000000001]
[45524,4,5,5,2,4,20,{"$f":"IF(B2485=1,\"0\",VLOOKUP(B2485,coefficient2!$A$4:$B$7,2,FALSE))","v":0.2109943},{"$f":"IF(C2485=1,\"0\",VLOOKUP(C2485,coefficient2!$A$10:$B$13,2,FALSE))","v":0.2498763},{"$f":"IF(D2485=1,\"0\",VLOOKUP(D2485,coefficient2!$A$16:$B$19,2,FALSE))","v":0.248331},{"$f":"IF(E2485=1,\"0\",VLOOKUP(E2485,coefficient2!$A$22:$B$25,2,FALSE))","v":5.63998E-2},{"$f":"IF(F2485=1,\"0\",VLOOKUP(F2485,coefficient2!$A$28:$B$31,2,FALSE))","v":0.23270360000000001},1.6950000000000021E-3]
[45525,4,5,5,2,5,21,{"$f":"IF(B2486=1,\"0\",VLOOKUP(B2486,coefficient2!$A$4:$B$7,2,FALSE))","v":0.2109943},{"$f":"IF(C2486=1,\"0\",VLOOKUP(C2486,coefficient2!$A$10:$B$13,2,FALSE))","v":0.2498763},{"$f":"IF(D2486=1,\"0\",VLOOKUP(D2486,coefficient2!$A$16:$B$19,2,FALSE))","v":0.248331},{"$f":"IF(E2486=1,\"0\",VLOOKUP(E2486,coefficient2!$A$22:$B$25,2,FALSE))","v":5.63998E-2},{"$f":"IF(F2486=1,\"0\",VLOOKUP(F2486,coefficient2!$A$28:$B$31,2,FALSE))","v":0.29534929999999998},-6.0950699999999969E-2]
[45531,4,5,5,3,1,18,{"$f":"IF(B2487=1,\"0\",VLOOKUP(B2487,coefficient2!$A$4:$B$7,2,FALSE))","v":0.2109943},{"$f":"IF(C2487=1,\"0\",VLOOKUP(C2487,coefficient2!$A$10:$B$13,2,FALSE))","v":0.2498763},{"$f":"IF(D2487=1,\"0\",VLOOKUP(D2487,coefficient2!$A$16:$B$19,2,FALSE))","v":0.248331},{"$f":"IF(E2487=1,\"0\",VLOOKUP(E2487,coefficient2!$A$22:$B$25,2,FALSE))","v":6.6492200000000001E-2},{"$f":"IF(F2487=1,\"0\",VLOOKUP(F2487,coefficient2!$A$28:$B$31,2,FALSE))","v":"0"},0.22430620000000001]
[45532,4,5,5,3,2,19,{"$f":"IF(B2488=1,\"0\",VLOOKUP(B2488,coefficient2!$A$4:$B$7,2,FALSE))","v":0.2109943},{"$f":"IF(C2488=1,\"0\",VLOOKUP(C2488,coefficient2!$A$10:$B$13,2,FALSE))","v":0.2498763},{"$f":"IF(D2488=1,\"0\",VLOOKUP(D2488,coefficient2!$A$16:$B$19,2,FALSE))","v":0.248331},{"$f":"IF(E2488=1,\"0\",VLOOKUP(E2488,coefficient2!$A$22:$B$25,2,FALSE))","v":6.6492200000000001E-2},{"$f":"IF(F2488=1,\"0\",VLOOKUP(F2488,coefficient2!$A$28:$B$31,2,FALSE))","v":5.8085699999999997E-2},0.16622050000000002]
[45533,4,5,5,3,3,20,{"$f":"IF(B2489=1,\"0\",VLOOKUP(B2489,coefficient2!$A$4:$B$7,2,FALSE))","v":0.2109943},{"$f":"IF(C2489=1,\"0\",VLOOKUP(C2489,coefficient2!$A$10:$B$13,2,FALSE))","v":0.2498763},{"$f":"IF(D2489=1,\"0\",VLOOKUP(D2489,coefficient2!$A$16:$B$19,2,FALSE))","v":0.248331},{"$f":"IF(E2489=1,\"0\",VLOOKUP(E2489,coefficient2!$A$22:$B$25,2,FALSE))","v":6.6492200000000001E-2},{"$f":"IF(F2489=1,\"0\",VLOOKUP(F2489,coefficient2!$A$28:$B$31,2,FALSE))","v":9.5753900000000003E-2},0.12855230000000001]
[45534,4,5,5,3,4,21,{"$f":"IF(B2490=1,\"0\",VLOOKUP(B2490,coefficient2!$A$4:$B$7,2,FALSE))","v":0.2109943},{"$f":"IF(C2490=1,\"0\",VLOOKUP(C2490,coefficient2!$A$10:$B$13,2,FALSE))","v":0.2498763},{"$f":"IF(D2490=1,\"0\",VLOOKUP(D2490,coefficient2!$A$16:$B$19,2,FALSE))","v":0.248331},{"$f":"IF(E2490=1,\"0\",VLOOKUP(E2490,coefficient2!$A$22:$B$25,2,FALSE))","v":6.6492200000000001E-2},{"$f":"IF(F2490=1,\"0\",VLOOKUP(F2490,coefficient2!$A$28:$B$31,2,FALSE))","v":0.23270360000000001},-8.3973999999999993E-3]
[45535,4,5,5,3,5,22,{"$f":"IF(B2491=1,\"0\",VLOOKUP(B2491,coefficient2!$A$4:$B$7,2,FALSE))","v":0.2109943},{"$f":"IF(C2491=1,\"0\",VLOOKUP(C2491,coefficient2!$A$10:$B$13,2,FALSE))","v":0.2498763},{"$f":"IF(D2491=1,\"0\",VLOOKUP(D2491,coefficient2!$A$16:$B$19,2,FALSE))","v":0.248331},{"$f":"IF(E2491=1,\"0\",VLOOKUP(E2491,coefficient2!$A$22:$B$25,2,FALSE))","v":6.6492200000000001E-2},{"$f":"IF(F2491=1,\"0\",VLOOKUP(F2491,coefficient2!$A$28:$B$31,2,FALSE))","v":0.29534929999999998},-7.104309999999997E-2]
[45541,4,5,5,4,1,19,{"$f":"IF(B2492=1,\"0\",VLOOKUP(B2492,coefficient2!$A$4:$B$7,2,FALSE))","v":0.2109943},{"$f":"IF(C2492=1,\"0\",VLOOKUP(C2492,coefficient2!$A$10:$B$13,2,FALSE))","v":0.2498763},{"$f":"IF(D2492=1,\"0\",VLOOKUP(D2492,coefficient2!$A$16:$B$19,2,FALSE))","v":0.248331},{"$f":"IF(E2492=1,\"0\",VLOOKUP(E2492,coefficient2!$A$22:$B$25,2,FALSE))","v":0.2068864},{"$f":"IF(F2492=1,\"0\",VLOOKUP(F2492,coefficient2!$A$28:$B$31,2,FALSE))","v":"0"},8.3912000000000014E-2]
[45542,4,5,5,4,2,20,{"$f":"IF(B2493=1,\"0\",VLOOKUP(B2493,coefficient2!$A$4:$B$7,2,FALSE))","v":0.2109943},{"$f":"IF(C2493=1,\"0\",VLOOKUP(C2493,coefficient2!$A$10:$B$13,2,FALSE))","v":0.2498763},{"$f":"IF(D2493=1,\"0\",VLOOKUP(D2493,coefficient2!$A$16:$B$19,2,FALSE))","v":0.248331},{"$f":"IF(E2493=1,\"0\",VLOOKUP(E2493,coefficient2!$A$22:$B$25,2,FALSE))","v":0.2068864},{"$f":"IF(F2493=1,\"0\",VLOOKUP(F2493,coefficient2!$A$28:$B$31,2,FALSE))","v":5.8085699999999997E-2},2.5826300000000017E-2]
[45543,4,5,5,4,3,21,{"$f":"IF(B2494=1,\"0\",VLOOKUP(B2494,coefficient2!$A$4:$B$7,2,FALSE))","v":0.2109943},{"$f":"IF(C2494=1,\"0\",VLOOKUP(C2494,coefficient2!$A$10:$B$13,2,FALSE))","v":0.2498763},{"$f":"IF(D2494=1,\"0\",VLOOKUP(D2494,coefficient2!$A$16:$B$19,2,FALSE))","v":0.248331},{"$f":"IF(E2494=1,\"0\",VLOOKUP(E2494,coefficient2!$A$22:$B$25,2,FALSE))","v":0.2068864},{"$f":"IF(F2494=1,\"0\",VLOOKUP(F2494,coefficient2!$A$28:$B$31,2,FALSE))","v":9.5753900000000003E-2},-1.1841899999999989E-2]
[45544,4,5,5,4,4,22,{"$f":"IF(B2495=1,\"0\",VLOOKUP(B2495,coefficient2!$A$4:$B$7,2,FALSE))","v":0.2109943},{"$f":"IF(C2495=1,\"0\",VLOOKUP(C2495,coefficient2!$A$10:$B$13,2,FALSE))","v":0.2498763},{"$f":"IF(D2495=1,\"0\",VLOOKUP(D2495,coefficient2!$A$16:$B$19,2,FALSE))","v":0.248331},{"$f":"IF(E2495=1,\"0\",VLOOKUP(E2495,coefficient2!$A$22:$B$25,2,FALSE))","v":0.2068864},{"$f":"IF(F2495=1,\"0\",VLOOKUP(F2495,coefficient2!$A$28:$B$31,2,FALSE))","v":0.23270360000000001},-0.1487916]
[45545,4,5,5,4,5,23,{"$f":"IF(B2496=1,\"0\",VLOOKUP(B2496,coefficient2!$A$4:$B$7,2,FALSE))","v":0.2109943},{"$f":"IF(C2496=1,\"0\",VLOOKUP(C2496,coefficient2!$A$10:$B$13,2,FALSE))","v":0.2498763},{"$f":"IF(D2496=1,\"0\",VLOOKUP(D2496,coefficient2!$A$16:$B$19,2,FALSE))","v":0.248331},{"$f":"IF(E2496=1,\"0\",VLOOKUP(E2496,coefficient2!$A$22:$B$25,2,FALSE))","v":0.2068864},{"$f":"IF(F2496=1,\"0\",VLOOKUP(F2496,coefficient2!$A$28:$B$31,2,FALSE))","v":0.29534929999999998},-0.21143729999999997]
[45551,4,5,5,5,1,20,{"$f":"IF(B2497=1,\"0\",VLOOKUP(B2497,coefficient2!$A$4:$B$7,2,FALSE))","v":0.2109943},{"$f":"IF(C2497=1,\"0\",VLOOKUP(C2497,coefficient2!$A$10:$B$13,2,FALSE))","v":0.2498763},{"$f":"IF(D2497=1,\"0\",VLOOKUP(D2497,coefficient2!$A$16:$B$19,2,FALSE))","v":0.248331},{"$f":"IF(E2497=1,\"0\",VLOOKUP(E2497,coefficient2!$A$22:$B$25,2,FALSE))","v":0.25643310000000002},{"$f":"IF(F2497=1,\"0\",VLOOKUP(F2497,coefficient2!$A$28:$B$31,2,FALSE))","v":"0"},3.4365299999999988E-2]
[45552,4,5,5,5,2,21,{"$f":"IF(B2498=1,\"0\",VLOOKUP(B2498,coefficient2!$A$4:$B$7,2,FALSE))","v":0.2109943},{"$f":"IF(C2498=1,\"0\",VLOOKUP(C2498,coefficient2!$A$10:$B$13,2,FALSE))","v":0.2498763},{"$f":"IF(D2498=1,\"0\",VLOOKUP(D2498,coefficient2!$A$16:$B$19,2,FALSE))","v":0.248331},{"$f":"IF(E2498=1,\"0\",VLOOKUP(E2498,coefficient2!$A$22:$B$25,2,FALSE))","v":0.25643310000000002},{"$f":"IF(F2498=1,\"0\",VLOOKUP(F2498,coefficient2!$A$28:$B$31,2,FALSE))","v":5.8085699999999997E-2},{"$f":"1-H2498-I2498-J2498-K2498-L2498","v":-2.372040000000001E-2}]
[45553,{"$f":"INT(LEFT(A2499,1))","v":4},{"$f":"INT(MID(A2499,2,1))","v":5},{"$f":"INT(MID(A2499,3,1))","v":5},{"$f":"INT(MID(A2499,4,1))","v":5},{"$f":"INT(RIGHT(A2499,1))","v":3},22,{"$f":"IF(B2499=1,\"0\",VLOOKUP(B2499,coefficient2!$A$4:$B$7,2,FALSE))","v":0.2109943},{"$f":"IF(C2499=1,\"0\",VLOOKUP(C2499,coefficient2!$A$10:$B$13,2,FALSE))","v":0.2498763},{"$f":"IF(D2499=1,\"0\",VLOOKUP(D2499,coefficient2!$A$16:$B$19,2,FALSE))","v":0.248331},{"$f":"IF(E2499=1,\"0\",VLOOKUP(E2499,coefficient2!$A$22:$B$25,2,FALSE))","v":0.25643310000000002},{"$f":"IF(F2499=1,\"0\",VLOOKUP(F2499,coefficient2!$A$28:$B$31,2,FALSE))","v":9.5753900000000003E-2},-6.1388600000000015E-2]
[45554,4,5,5,5,4,23,{"$f":"IF(B2500=1,\"0\",VLOOKUP(B2500,coefficient2!$A$4:$B$7,2,FALSE))","v":0.2109943},{"$f":"IF(C2500=1,\"0\",VLOOKUP(C2500,coefficient2!$A$10:$B$13,2,FALSE))","v":0.2498763},{"$f":"IF(D2500=1,\"0\",VLOOKUP(D2500,coefficient2!$A$16:$B$19,2,FALSE))","v":0.248331},{"$f":"IF(E2500=1,\"0\",VLOOKUP(E2500,coefficient2!$A$22:$B$25,2,FALSE))","v":0.25643310000000002},{"$f":"IF(F2500=1,\"0\",VLOOKUP(F2500,coefficient2!$A$28:$B$31,2,FALSE))","v":0.23270360000000001},-0.19833830000000002]
[45555,4,5,5,5,5,24,{"$f":"IF(B2501=1,\"0\",VLOOKUP(B2501,coefficient2!$A$4:$B$7,2,FALSE))","v":0.2109943},{"$f":"IF(C2501=1,\"0\",VLOOKUP(C2501,coefficient2!$A$10:$B$13,2,FALSE))","v":0.2498763},{"$f":"IF(D2501=1,\"0\",VLOOKUP(D2501,coefficient2!$A$16:$B$19,2,FALSE))","v":0.248331},{"$f":"IF(E2501=1,\"0\",VLOOKUP(E2501,coefficient2!$A$22:$B$25,2,FALSE))","v":0.25643310000000002},{"$f":"IF(F2501=1,\"0\",VLOOKUP(F2501,coefficient2!$A$28:$B$31,2,FALSE))","v":0.29534929999999998},-0.26098399999999999]
[51111,5,1,1,1,1,9,{"$f":"IF(B2502=1,\"0\",VLOOKUP(B2502,coefficient2!$A$4:$B$7,2,FALSE))","v":0.37123109999999998},{"$f":"IF(C2502=1,\"0\",VLOOKUP(C2502,coefficient2!$A$10:$B$13,2,FALSE))","v":"0"},{"$f":"IF(D2502=1,\"0\",VLOOKUP(D2502,coefficient2!$A$16:$B$19,2,FALSE))","v":"0"},{"$f":"IF(E2502=1,\"0\",VLOOKUP(E2502,coefficient2!$A$22:$B$25,2,FALSE))","v":"0"},{"$f":"IF(F2502=1,\"0\",VLOOKUP(F2502,coefficient2!$A$28:$B$31,2,FALSE))","v":"0"},0.62876890000000007]
[51112,5,1,1,1,2,10,{"$f":"IF(B2503=1,\"0\",VLOOKUP(B2503,coefficient2!$A$4:$B$7,2,FALSE))","v":0.37123109999999998},{"$f":"IF(C2503=1,\"0\",VLOOKUP(C2503,coefficient2!$A$10:$B$13,2,FALSE))","v":"0"},{"$f":"IF(D2503=1,\"0\",VLOOKUP(D2503,coefficient2!$A$16:$B$19,2,FALSE))","v":"0"},{"$f":"IF(E2503=1,\"0\",VLOOKUP(E2503,coefficient2!$A$22:$B$25,2,FALSE))","v":"0"},{"$f":"IF(F2503=1,\"0\",VLOOKUP(F2503,coefficient2!$A$28:$B$31,2,FALSE))","v":5.8085699999999997E-2},0.57068320000000006]
[51113,5,1,1,1,3,11,{"$f":"IF(B2504=1,\"0\",VLOOKUP(B2504,coefficient2!$A$4:$B$7,2,FALSE))","v":0.37123109999999998},{"$f":"IF(C2504=1,\"0\",VLOOKUP(C2504,coefficient2!$A$10:$B$13,2,FALSE))","v":"0"},{"$f":"IF(D2504=1,\"0\",VLOOKUP(D2504,coefficient2!$A$16:$B$19,2,FALSE))","v":"0"},{"$f":"IF(E2504=1,\"0\",VLOOKUP(E2504,coefficient2!$A$22:$B$25,2,FALSE))","v":"0"},{"$f":"IF(F2504=1,\"0\",VLOOKUP(F2504,coefficient2!$A$28:$B$31,2,FALSE))","v":9.5753900000000003E-2},0.53301500000000002]
[51114,5,1,1,1,4,12,{"$f":"IF(B2505=1,\"0\",VLOOKUP(B2505,coefficient2!$A$4:$B$7,2,FALSE))","v":0.37123109999999998},{"$f":"IF(C2505=1,\"0\",VLOOKUP(C2505,coefficient2!$A$10:$B$13,2,FALSE))","v":"0"},{"$f":"IF(D2505=1,\"0\",VLOOKUP(D2505,coefficient2!$A$16:$B$19,2,FALSE))","v":"0"},{"$f":"IF(E2505=1,\"0\",VLOOKUP(E2505,coefficient2!$A$22:$B$25,2,FALSE))","v":"0"},{"$f":"IF(F2505=1,\"0\",VLOOKUP(F2505,coefficient2!$A$28:$B$31,2,FALSE))","v":0.23270360000000001},0.39606530000000006]
[51115,5,1,1,1,5,13,{"$f":"IF(B2506=1,\"0\",VLOOKUP(B2506,coefficient2!$A$4:$B$7,2,FALSE))","v":0.37123109999999998},{"$f":"IF(C2506=1,\"0\",VLOOKUP(C2506,coefficient2!$A$10:$B$13,2,FALSE))","v":"0"},{"$f":"IF(D2506=1,\"0\",VLOOKUP(D2506,coefficient2!$A$16:$B$19,2,FALSE))","v":"0"},{"$f":"IF(E2506=1,\"0\",VLOOKUP(E2506,coefficient2!$A$22:$B$25,2,FALSE))","v":"0"},{"$f":"IF(F2506=1,\"0\",VLOOKUP(F2506,coefficient2!$A$28:$B$31,2,FALSE))","v":0.29534929999999998},0.33341960000000009]
[51121,5,1,1,2,1,10,{"$f":"IF(B2507=1,\"0\",VLOOKUP(B2507,coefficient2!$A$4:$B$7,2,FALSE))","v":0.37123109999999998},{"$f":"IF(C2507=1,\"0\",VLOOKUP(C2507,coefficient2!$A$10:$B$13,2,FALSE))","v":"0"},{"$f":"IF(D2507=1,\"0\",VLOOKUP(D2507,coefficient2!$A$16:$B$19,2,FALSE))","v":"0"},{"$f":"IF(E2507=1,\"0\",VLOOKUP(E2507,coefficient2!$A$22:$B$25,2,FALSE))","v":5.63998E-2},{"$f":"IF(F2507=1,\"0\",VLOOKUP(F2507,coefficient2!$A$28:$B$31,2,FALSE))","v":"0"},0.57236910000000008]
[51122,5,1,1,2,2,11,{"$f":"IF(B2508=1,\"0\",VLOOKUP(B2508,coefficient2!$A$4:$B$7,2,FALSE))","v":0.37123109999999998},{"$f":"IF(C2508=1,\"0\",VLOOKUP(C2508,coefficient2!$A$10:$B$13,2,FALSE))","v":"0"},{"$f":"IF(D2508=1,\"0\",VLOOKUP(D2508,coefficient2!$A$16:$B$19,2,FALSE))","v":"0"},{"$f":"IF(E2508=1,\"0\",VLOOKUP(E2508,coefficient2!$A$22:$B$25,2,FALSE))","v":5.63998E-2},{"$f":"IF(F2508=1,\"0\",VLOOKUP(F2508,coefficient2!$A$28:$B$31,2,FALSE))","v":5.8085699999999997E-2},0.51428340000000006]
[51123,5,1,1,2,3,12,{"$f":"IF(B2509=1,\"0\",VLOOKUP(B2509,coefficient2!$A$4:$B$7,2,FALSE))","v":0.37123109999999998},{"$f":"IF(C2509=1,\"0\",VLOOKUP(C2509,coefficient2!$A$10:$B$13,2,FALSE))","v":"0"},{"$f":"IF(D2509=1,\"0\",VLOOKUP(D2509,coefficient2!$A$16:$B$19,2,FALSE))","v":"0"},{"$f":"IF(E2509=1,\"0\",VLOOKUP(E2509,coefficient2!$A$22:$B$25,2,FALSE))","v":5.63998E-2},{"$f":"IF(F2509=1,\"0\",VLOOKUP(F2509,coefficient2!$A$28:$B$31,2,FALSE))","v":9.5753900000000003E-2},0.47661520000000007]
[51124,5,1,1,2,4,13,{"$f":"IF(B2510=1,\"0\",VLOOKUP(B2510,coefficient2!$A$4:$B$7,2,FALSE))","v":0.37123109999999998},{"$f":"IF(C2510=1,\"0\",VLOOKUP(C2510,coefficient2!$A$10:$B$13,2,FALSE))","v":"0"},{"$f":"IF(D2510=1,\"0\",VLOOKUP(D2510,coefficient2!$A$16:$B$19,2,FALSE))","v":"0"},{"$f":"IF(E2510=1,\"0\",VLOOKUP(E2510,coefficient2!$A$22:$B$25,2,FALSE))","v":5.63998E-2},{"$f":"IF(F2510=1,\"0\",VLOOKUP(F2510,coefficient2!$A$28:$B$31,2,FALSE))","v":0.23270360000000001},0.33966550000000006]
[51125,5,1,1,2,5,14,{"$f":"IF(B2511=1,\"0\",VLOOKUP(B2511,coefficient2!$A$4:$B$7,2,FALSE))","v":0.37123109999999998},{"$f":"IF(C2511=1,\"0\",VLOOKUP(C2511,coefficient2!$A$10:$B$13,2,FALSE))","v":"0"},{"$f":"IF(D2511=1,\"0\",VLOOKUP(D2511,coefficient2!$A$16:$B$19,2,FALSE))","v":"0"},{"$f":"IF(E2511=1,\"0\",VLOOKUP(E2511,coefficient2!$A$22:$B$25,2,FALSE))","v":5.63998E-2},{"$f":"IF(F2511=1,\"0\",VLOOKUP(F2511,coefficient2!$A$28:$B$31,2,FALSE))","v":0.29534929999999998},0.27701980000000009]
[51131,5,1,1,3,1,11,{"$f":"IF(B2512=1,\"0\",VLOOKUP(B2512,coefficient2!$A$4:$B$7,2,FALSE))","v":0.37123109999999998},{"$f":"IF(C2512=1,\"0\",VLOOKUP(C2512,coefficient2!$A$10:$B$13,2,FALSE))","v":"0"},{"$f":"IF(D2512=1,\"0\",VLOOKUP(D2512,coefficient2!$A$16:$B$19,2,FALSE))","v":"0"},{"$f":"IF(E2512=1,\"0\",VLOOKUP(E2512,coefficient2!$A$22:$B$25,2,FALSE))","v":6.6492200000000001E-2},{"$f":"IF(F2512=1,\"0\",VLOOKUP(F2512,coefficient2!$A$28:$B$31,2,FALSE))","v":"0"},0.56227670000000007]
[51132,5,1,1,3,2,12,{"$f":"IF(B2513=1,\"0\",VLOOKUP(B2513,coefficient2!$A$4:$B$7,2,FALSE))","v":0.37123109999999998},{"$f":"IF(C2513=1,\"0\",VLOOKUP(C2513,coefficient2!$A$10:$B$13,2,FALSE))","v":"0"},{"$f":"IF(D2513=1,\"0\",VLOOKUP(D2513,coefficient2!$A$16:$B$19,2,FALSE))","v":"0"},{"$f":"IF(E2513=1,\"0\",VLOOKUP(E2513,coefficient2!$A$22:$B$25,2,FALSE))","v":6.6492200000000001E-2},{"$f":"IF(F2513=1,\"0\",VLOOKUP(F2513,coefficient2!$A$28:$B$31,2,FALSE))","v":5.8085699999999997E-2},0.50419100000000006]
[51133,5,1,1,3,3,13,{"$f":"IF(B2514=1,\"0\",VLOOKUP(B2514,coefficient2!$A$4:$B$7,2,FALSE))","v":0.37123109999999998},{"$f":"IF(C2514=1,\"0\",VLOOKUP(C2514,coefficient2!$A$10:$B$13,2,FALSE))","v":"0"},{"$f":"IF(D2514=1,\"0\",VLOOKUP(D2514,coefficient2!$A$16:$B$19,2,FALSE))","v":"0"},{"$f":"IF(E2514=1,\"0\",VLOOKUP(E2514,coefficient2!$A$22:$B$25,2,FALSE))","v":6.6492200000000001E-2},{"$f":"IF(F2514=1,\"0\",VLOOKUP(F2514,coefficient2!$A$28:$B$31,2,FALSE))","v":9.5753900000000003E-2},0.46652280000000007]
[51134,5,1,1,3,4,14,{"$f":"IF(B2515=1,\"0\",VLOOKUP(B2515,coefficient2!$A$4:$B$7,2,FALSE))","v":0.37123109999999998},{"$f":"IF(C2515=1,\"0\",VLOOKUP(C2515,coefficient2!$A$10:$B$13,2,FALSE))","v":"0"},{"$f":"IF(D2515=1,\"0\",VLOOKUP(D2515,coefficient2!$A$16:$B$19,2,FALSE))","v":"0"},{"$f":"IF(E2515=1,\"0\",VLOOKUP(E2515,coefficient2!$A$22:$B$25,2,FALSE))","v":6.6492200000000001E-2},{"$f":"IF(F2515=1,\"0\",VLOOKUP(F2515,coefficient2!$A$28:$B$31,2,FALSE))","v":0.23270360000000001},0.32957310000000006]
[51135,5,1,1,3,5,15,{"$f":"IF(B2516=1,\"0\",VLOOKUP(B2516,coefficient2!$A$4:$B$7,2,FALSE))","v":0.37123109999999998},{"$f":"IF(C2516=1,\"0\",VLOOKUP(C2516,coefficient2!$A$10:$B$13,2,FALSE))","v":"0"},{"$f":"IF(D2516=1,\"0\",VLOOKUP(D2516,coefficient2!$A$16:$B$19,2,FALSE))","v":"0"},{"$f":"IF(E2516=1,\"0\",VLOOKUP(E2516,coefficient2!$A$22:$B$25,2,FALSE))","v":6.6492200000000001E-2},{"$f":"IF(F2516=1,\"0\",VLOOKUP(F2516,coefficient2!$A$28:$B$31,2,FALSE))","v":0.29534929999999998},0.26692740000000009]
[51141,5,1,1,4,1,{"$f":"SUM(B2517:F2517)","v":12},{"$f":"IF(B2517=1,\"0\",VLOOKUP(B2517,coefficient2!$A$4:$B$7,2,FALSE))","v":0.37123109999999998},{"$f":"IF(C2517=1,\"0\",VLOOKUP(C2517,coefficient2!$A$10:$B$13,2,FALSE))","v":"0"},{"$f":"IF(D2517=1,\"0\",VLOOKUP(D2517,coefficient2!$A$16:$B$19,2,FALSE))","v":"0"},{"$f":"IF(E2517=1,\"0\",VLOOKUP(E2517,coefficient2!$A$22:$B$25,2,FALSE))","v":0.2068864},{"$f":"IF(F2517=1,\"0\",VLOOKUP(F2517,coefficient2!$A$28:$B$31,2,FALSE))","v":"0"},0.42188250000000005]
[51142,5,1,1,4,2,13,{"$f":"IF(B2518=1,\"0\",VLOOKUP(B2518,coefficient2!$A$4:$B$7,2,FALSE))","v":0.37123109999999998},{"$f":"IF(C2518=1,\"0\",VLOOKUP(C2518,coefficient2!$A$10:$B$13,2,FALSE))","v":"0"},{"$f":"IF(D2518=1,\"0\",VLOOKUP(D2518,coefficient2!$A$16:$B$19,2,FALSE))","v":"0"},{"$f":"IF(E2518=1,\"0\",VLOOKUP(E2518,coefficient2!$A$22:$B$25,2,FALSE))","v":0.2068864},{"$f":"IF(F2518=1,\"0\",VLOOKUP(F2518,coefficient2!$A$28:$B$31,2,FALSE))","v":5.8085699999999997E-2},0.36379680000000003]
[51143,5,1,1,4,3,14,{"$f":"IF(B2519=1,\"0\",VLOOKUP(B2519,coefficient2!$A$4:$B$7,2,FALSE))","v":0.37123109999999998},{"$f":"IF(C2519=1,\"0\",VLOOKUP(C2519,coefficient2!$A$10:$B$13,2,FALSE))","v":"0"},{"$f":"IF(D2519=1,\"0\",VLOOKUP(D2519,coefficient2!$A$16:$B$19,2,FALSE))","v":"0"},{"$f":"IF(E2519=1,\"0\",VLOOKUP(E2519,coefficient2!$A$22:$B$25,2,FALSE))","v":0.2068864},{"$f":"IF(F2519=1,\"0\",VLOOKUP(F2519,coefficient2!$A$28:$B$31,2,FALSE))","v":9.5753900000000003E-2},0.32612860000000005]
[51144,5,1,1,4,4,15,{"$f":"IF(B2520=1,\"0\",VLOOKUP(B2520,coefficient2!$A$4:$B$7,2,FALSE))","v":0.37123109999999998},{"$f":"IF(C2520=1,\"0\",VLOOKUP(C2520,coefficient2!$A$10:$B$13,2,FALSE))","v":"0"},{"$f":"IF(D2520=1,\"0\",VLOOKUP(D2520,coefficient2!$A$16:$B$19,2,FALSE))","v":"0"},{"$f":"IF(E2520=1,\"0\",VLOOKUP(E2520,coefficient2!$A$22:$B$25,2,FALSE))","v":0.2068864},{"$f":"IF(F2520=1,\"0\",VLOOKUP(F2520,coefficient2!$A$28:$B$31,2,FALSE))","v":0.23270360000000001},0.18917890000000004]
[51145,5,1,1,4,5,16,{"$f":"IF(B2521=1,\"0\",VLOOKUP(B2521,coefficient2!$A$4:$B$7,2,FALSE))","v":0.37123109999999998},{"$f":"IF(C2521=1,\"0\",VLOOKUP(C2521,coefficient2!$A$10:$B$13,2,FALSE))","v":"0"},{"$f":"IF(D2521=1,\"0\",VLOOKUP(D2521,coefficient2!$A$16:$B$19,2,FALSE))","v":"0"},{"$f":"IF(E2521=1,\"0\",VLOOKUP(E2521,coefficient2!$A$22:$B$25,2,FALSE))","v":0.2068864},{"$f":"IF(F2521=1,\"0\",VLOOKUP(F2521,coefficient2!$A$28:$B$31,2,FALSE))","v":0.29534929999999998},0.12653320000000007]
[51151,5,1,1,5,1,13,{"$f":"IF(B2522=1,\"0\",VLOOKUP(B2522,coefficient2!$A$4:$B$7,2,FALSE))","v":0.37123109999999998},{"$f":"IF(C2522=1,\"0\",VLOOKUP(C2522,coefficient2!$A$10:$B$13,2,FALSE))","v":"0"},{"$f":"IF(D2522=1,\"0\",VLOOKUP(D2522,coefficient2!$A$16:$B$19,2,FALSE))","v":"0"},{"$f":"IF(E2522=1,\"0\",VLOOKUP(E2522,coefficient2!$A$22:$B$25,2,FALSE))","v":0.25643310000000002},{"$f":"IF(F2522=1,\"0\",VLOOKUP(F2522,coefficient2!$A$28:$B$31,2,FALSE))","v":"0"},0.37233580000000005]
[51152,5,1,1,5,2,14,{"$f":"IF(B2523=1,\"0\",VLOOKUP(B2523,coefficient2!$A$4:$B$7,2,FALSE))","v":0.37123109999999998},{"$f":"IF(C2523=1,\"0\",VLOOKUP(C2523,coefficient2!$A$10:$B$13,2,FALSE))","v":"0"},{"$f":"IF(D2523=1,\"0\",VLOOKUP(D2523,coefficient2!$A$16:$B$19,2,FALSE))","v":"0"},{"$f":"IF(E2523=1,\"0\",VLOOKUP(E2523,coefficient2!$A$22:$B$25,2,FALSE))","v":0.25643310000000002},{"$f":"IF(F2523=1,\"0\",VLOOKUP(F2523,coefficient2!$A$28:$B$31,2,FALSE))","v":5.8085699999999997E-2},0.31425010000000003]
[51153,5,1,1,5,3,15,{"$f":"IF(B2524=1,\"0\",VLOOKUP(B2524,coefficient2!$A$4:$B$7,2,FALSE))","v":0.37123109999999998},{"$f":"IF(C2524=1,\"0\",VLOOKUP(C2524,coefficient2!$A$10:$B$13,2,FALSE))","v":"0"},{"$f":"IF(D2524=1,\"0\",VLOOKUP(D2524,coefficient2!$A$16:$B$19,2,FALSE))","v":"0"},{"$f":"IF(E2524=1,\"0\",VLOOKUP(E2524,coefficient2!$A$22:$B$25,2,FALSE))","v":0.25643310000000002},{"$f":"IF(F2524=1,\"0\",VLOOKUP(F2524,coefficient2!$A$28:$B$31,2,FALSE))","v":9.5753900000000003E-2},0.27658190000000005]
[51154,5,1,1,5,4,16,{"$f":"IF(B2525=1,\"0\",VLOOKUP(B2525,coefficient2!$A$4:$B$7,2,FALSE))","v":0.37123109999999998},{"$f":"IF(C2525=1,\"0\",VLOOKUP(C2525,coefficient2!$A$10:$B$13,2,FALSE))","v":"0"},{"$f":"IF(D2525=1,\"0\",VLOOKUP(D2525,coefficient2!$A$16:$B$19,2,FALSE))","v":"0"},{"$f":"IF(E2525=1,\"0\",VLOOKUP(E2525,coefficient2!$A$22:$B$25,2,FALSE))","v":0.25643310000000002},{"$f":"IF(F2525=1,\"0\",VLOOKUP(F2525,coefficient2!$A$28:$B$31,2,FALSE))","v":0.23270360000000001},0.13963220000000004]
[51155,5,1,1,5,5,17,{"$f":"IF(B2526=1,\"0\",VLOOKUP(B2526,coefficient2!$A$4:$B$7,2,FALSE))","v":0.37123109999999998},{"$f":"IF(C2526=1,\"0\",VLOOKUP(C2526,coefficient2!$A$10:$B$13,2,FALSE))","v":"0"},{"$f":"IF(D2526=1,\"0\",VLOOKUP(D2526,coefficient2!$A$16:$B$19,2,FALSE))","v":"0"},{"$f":"IF(E2526=1,\"0\",VLOOKUP(E2526,coefficient2!$A$22:$B$25,2,FALSE))","v":0.25643310000000002},{"$f":"IF(F2526=1,\"0\",VLOOKUP(F2526,coefficient2!$A$28:$B$31,2,FALSE))","v":0.29534929999999998},7.6986500000000069E-2]
[51211,5,1,2,1,1,10,{"$f":"IF(B2527=1,\"0\",VLOOKUP(B2527,coefficient2!$A$4:$B$7,2,FALSE))","v":0.37123109999999998},{"$f":"IF(C2527=1,\"0\",VLOOKUP(C2527,coefficient2!$A$10:$B$13,2,FALSE))","v":"0"},{"$f":"IF(D2527=1,\"0\",VLOOKUP(D2527,coefficient2!$A$16:$B$19,2,FALSE))","v":5.8254399999999998E-2},{"$f":"IF(E2527=1,\"0\",VLOOKUP(E2527,coefficient2!$A$22:$B$25,2,FALSE))","v":"0"},{"$f":"IF(F2527=1,\"0\",VLOOKUP(F2527,coefficient2!$A$28:$B$31,2,FALSE))","v":"0"},0.57051450000000004]
[51212,5,1,2,1,2,11,{"$f":"IF(B2528=1,\"0\",VLOOKUP(B2528,coefficient2!$A$4:$B$7,2,FALSE))","v":0.37123109999999998},{"$f":"IF(C2528=1,\"0\",VLOOKUP(C2528,coefficient2!$A$10:$B$13,2,FALSE))","v":"0"},{"$f":"IF(D2528=1,\"0\",VLOOKUP(D2528,coefficient2!$A$16:$B$19,2,FALSE))","v":5.8254399999999998E-2},{"$f":"IF(E2528=1,\"0\",VLOOKUP(E2528,coefficient2!$A$22:$B$25,2,FALSE))","v":"0"},{"$f":"IF(F2528=1,\"0\",VLOOKUP(F2528,coefficient2!$A$28:$B$31,2,FALSE))","v":5.8085699999999997E-2},0.51242880000000002]
[51213,5,1,2,1,3,12,{"$f":"IF(B2529=1,\"0\",VLOOKUP(B2529,coefficient2!$A$4:$B$7,2,FALSE))","v":0.37123109999999998},{"$f":"IF(C2529=1,\"0\",VLOOKUP(C2529,coefficient2!$A$10:$B$13,2,FALSE))","v":"0"},{"$f":"IF(D2529=1,\"0\",VLOOKUP(D2529,coefficient2!$A$16:$B$19,2,FALSE))","v":5.8254399999999998E-2},{"$f":"IF(E2529=1,\"0\",VLOOKUP(E2529,coefficient2!$A$22:$B$25,2,FALSE))","v":"0"},{"$f":"IF(F2529=1,\"0\",VLOOKUP(F2529,coefficient2!$A$28:$B$31,2,FALSE))","v":9.5753900000000003E-2},0.47476060000000003]
[51214,5,1,2,1,4,13,{"$f":"IF(B2530=1,\"0\",VLOOKUP(B2530,coefficient2!$A$4:$B$7,2,FALSE))","v":0.37123109999999998},{"$f":"IF(C2530=1,\"0\",VLOOKUP(C2530,coefficient2!$A$10:$B$13,2,FALSE))","v":"0"},{"$f":"IF(D2530=1,\"0\",VLOOKUP(D2530,coefficient2!$A$16:$B$19,2,FALSE))","v":5.8254399999999998E-2},{"$f":"IF(E2530=1,\"0\",VLOOKUP(E2530,coefficient2!$A$22:$B$25,2,FALSE))","v":"0"},{"$f":"IF(F2530=1,\"0\",VLOOKUP(F2530,coefficient2!$A$28:$B$31,2,FALSE))","v":0.23270360000000001},0.33781090000000003]
[51215,5,1,2,1,5,14,{"$f":"IF(B2531=1,\"0\",VLOOKUP(B2531,coefficient2!$A$4:$B$7,2,FALSE))","v":0.37123109999999998},{"$f":"IF(C2531=1,\"0\",VLOOKUP(C2531,coefficient2!$A$10:$B$13,2,FALSE))","v":"0"},{"$f":"IF(D2531=1,\"0\",VLOOKUP(D2531,coefficient2!$A$16:$B$19,2,FALSE))","v":5.8254399999999998E-2},{"$f":"IF(E2531=1,\"0\",VLOOKUP(E2531,coefficient2!$A$22:$B$25,2,FALSE))","v":"0"},{"$f":"IF(F2531=1,\"0\",VLOOKUP(F2531,coefficient2!$A$28:$B$31,2,FALSE))","v":0.29534929999999998},0.27516520000000005]
[51221,5,1,2,2,1,11,{"$f":"IF(B2532=1,\"0\",VLOOKUP(B2532,coefficient2!$A$4:$B$7,2,FALSE))","v":0.37123109999999998},{"$f":"IF(C2532=1,\"0\",VLOOKUP(C2532,coefficient2!$A$10:$B$13,2,FALSE))","v":"0"},{"$f":"IF(D2532=1,\"0\",VLOOKUP(D2532,coefficient2!$A$16:$B$19,2,FALSE))","v":5.8254399999999998E-2},{"$f":"IF(E2532=1,\"0\",VLOOKUP(E2532,coefficient2!$A$22:$B$25,2,FALSE))","v":5.63998E-2},{"$f":"IF(F2532=1,\"0\",VLOOKUP(F2532,coefficient2!$A$28:$B$31,2,FALSE))","v":"0"},0.51411470000000004]
[51222,5,1,2,2,2,12,{"$f":"IF(B2533=1,\"0\",VLOOKUP(B2533,coefficient2!$A$4:$B$7,2,FALSE))","v":0.37123109999999998},{"$f":"IF(C2533=1,\"0\",VLOOKUP(C2533,coefficient2!$A$10:$B$13,2,FALSE))","v":"0"},{"$f":"IF(D2533=1,\"0\",VLOOKUP(D2533,coefficient2!$A$16:$B$19,2,FALSE))","v":5.8254399999999998E-2},{"$f":"IF(E2533=1,\"0\",VLOOKUP(E2533,coefficient2!$A$22:$B$25,2,FALSE))","v":5.63998E-2},{"$f":"IF(F2533=1,\"0\",VLOOKUP(F2533,coefficient2!$A$28:$B$31,2,FALSE))","v":5.8085699999999997E-2},0.45602900000000002]
[51223,5,1,2,2,3,13,{"$f":"IF(B2534=1,\"0\",VLOOKUP(B2534,coefficient2!$A$4:$B$7,2,FALSE))","v":0.37123109999999998},{"$f":"IF(C2534=1,\"0\",VLOOKUP(C2534,coefficient2!$A$10:$B$13,2,FALSE))","v":"0"},{"$f":"IF(D2534=1,\"0\",VLOOKUP(D2534,coefficient2!$A$16:$B$19,2,FALSE))","v":5.8254399999999998E-2},{"$f":"IF(E2534=1,\"0\",VLOOKUP(E2534,coefficient2!$A$22:$B$25,2,FALSE))","v":5.63998E-2},{"$f":"IF(F2534=1,\"0\",VLOOKUP(F2534,coefficient2!$A$28:$B$31,2,FALSE))","v":9.5753900000000003E-2},0.41836080000000003]
[51224,5,1,2,2,4,14,{"$f":"IF(B2535=1,\"0\",VLOOKUP(B2535,coefficient2!$A$4:$B$7,2,FALSE))","v":0.37123109999999998},{"$f":"IF(C2535=1,\"0\",VLOOKUP(C2535,coefficient2!$A$10:$B$13,2,FALSE))","v":"0"},{"$f":"IF(D2535=1,\"0\",VLOOKUP(D2535,coefficient2!$A$16:$B$19,2,FALSE))","v":5.8254399999999998E-2},{"$f":"IF(E2535=1,\"0\",VLOOKUP(E2535,coefficient2!$A$22:$B$25,2,FALSE))","v":5.63998E-2},{"$f":"IF(F2535=1,\"0\",VLOOKUP(F2535,coefficient2!$A$28:$B$31,2,FALSE))","v":0.23270360000000001},0.28141110000000003]
[51225,5,1,2,2,5,15,{"$f":"IF(B2536=1,\"0\",VLOOKUP(B2536,coefficient2!$A$4:$B$7,2,FALSE))","v":0.37123109999999998},{"$f":"IF(C2536=1,\"0\",VLOOKUP(C2536,coefficient2!$A$10:$B$13,2,FALSE))","v":"0"},{"$f":"IF(D2536=1,\"0\",VLOOKUP(D2536,coefficient2!$A$16:$B$19,2,FALSE))","v":5.8254399999999998E-2},{"$f":"IF(E2536=1,\"0\",VLOOKUP(E2536,coefficient2!$A$22:$B$25,2,FALSE))","v":5.63998E-2},{"$f":"IF(F2536=1,\"0\",VLOOKUP(F2536,coefficient2!$A$28:$B$31,2,FALSE))","v":0.29534929999999998},0.21876540000000005]
[51231,5,1,2,3,1,12,{"$f":"IF(B2537=1,\"0\",VLOOKUP(B2537,coefficient2!$A$4:$B$7,2,FALSE))","v":0.37123109999999998},{"$f":"IF(C2537=1,\"0\",VLOOKUP(C2537,coefficient2!$A$10:$B$13,2,FALSE))","v":"0"},{"$f":"IF(D2537=1,\"0\",VLOOKUP(D2537,coefficient2!$A$16:$B$19,2,FALSE))","v":5.8254399999999998E-2},{"$f":"IF(E2537=1,\"0\",VLOOKUP(E2537,coefficient2!$A$22:$B$25,2,FALSE))","v":6.6492200000000001E-2},{"$f":"IF(F2537=1,\"0\",VLOOKUP(F2537,coefficient2!$A$28:$B$31,2,FALSE))","v":"0"},0.50402230000000003]
[51232,5,1,2,3,2,13,{"$f":"IF(B2538=1,\"0\",VLOOKUP(B2538,coefficient2!$A$4:$B$7,2,FALSE))","v":0.37123109999999998},{"$f":"IF(C2538=1,\"0\",VLOOKUP(C2538,coefficient2!$A$10:$B$13,2,FALSE))","v":"0"},{"$f":"IF(D2538=1,\"0\",VLOOKUP(D2538,coefficient2!$A$16:$B$19,2,FALSE))","v":5.8254399999999998E-2},{"$f":"IF(E2538=1,\"0\",VLOOKUP(E2538,coefficient2!$A$22:$B$25,2,FALSE))","v":6.6492200000000001E-2},{"$f":"IF(F2538=1,\"0\",VLOOKUP(F2538,coefficient2!$A$28:$B$31,2,FALSE))","v":5.8085699999999997E-2},0.44593660000000002]
[51233,5,1,2,3,3,14,{"$f":"IF(B2539=1,\"0\",VLOOKUP(B2539,coefficient2!$A$4:$B$7,2,FALSE))","v":0.37123109999999998},{"$f":"IF(C2539=1,\"0\",VLOOKUP(C2539,coefficient2!$A$10:$B$13,2,FALSE))","v":"0"},{"$f":"IF(D2539=1,\"0\",VLOOKUP(D2539,coefficient2!$A$16:$B$19,2,FALSE))","v":5.8254399999999998E-2},{"$f":"IF(E2539=1,\"0\",VLOOKUP(E2539,coefficient2!$A$22:$B$25,2,FALSE))","v":6.6492200000000001E-2},{"$f":"IF(F2539=1,\"0\",VLOOKUP(F2539,coefficient2!$A$28:$B$31,2,FALSE))","v":9.5753900000000003E-2},0.40826840000000003]
[51234,5,1,2,3,4,15,{"$f":"IF(B2540=1,\"0\",VLOOKUP(B2540,coefficient2!$A$4:$B$7,2,FALSE))","v":0.37123109999999998},{"$f":"IF(C2540=1,\"0\",VLOOKUP(C2540,coefficient2!$A$10:$B$13,2,FALSE))","v":"0"},{"$f":"IF(D2540=1,\"0\",VLOOKUP(D2540,coefficient2!$A$16:$B$19,2,FALSE))","v":5.8254399999999998E-2},{"$f":"IF(E2540=1,\"0\",VLOOKUP(E2540,coefficient2!$A$22:$B$25,2,FALSE))","v":6.6492200000000001E-2},{"$f":"IF(F2540=1,\"0\",VLOOKUP(F2540,coefficient2!$A$28:$B$31,2,FALSE))","v":0.23270360000000001},0.27131870000000002]
[51235,5,1,2,3,5,16,{"$f":"IF(B2541=1,\"0\",VLOOKUP(B2541,coefficient2!$A$4:$B$7,2,FALSE))","v":0.37123109999999998},{"$f":"IF(C2541=1,\"0\",VLOOKUP(C2541,coefficient2!$A$10:$B$13,2,FALSE))","v":"0"},{"$f":"IF(D2541=1,\"0\",VLOOKUP(D2541,coefficient2!$A$16:$B$19,2,FALSE))","v":5.8254399999999998E-2},{"$f":"IF(E2541=1,\"0\",VLOOKUP(E2541,coefficient2!$A$22:$B$25,2,FALSE))","v":6.6492200000000001E-2},{"$f":"IF(F2541=1,\"0\",VLOOKUP(F2541,coefficient2!$A$28:$B$31,2,FALSE))","v":0.29534929999999998},0.20867300000000005]
[51241,5,1,2,4,1,13,{"$f":"IF(B2542=1,\"0\",VLOOKUP(B2542,coefficient2!$A$4:$B$7,2,FALSE))","v":0.37123109999999998},{"$f":"IF(C2542=1,\"0\",VLOOKUP(C2542,coefficient2!$A$10:$B$13,2,FALSE))","v":"0"},{"$f":"IF(D2542=1,\"0\",VLOOKUP(D2542,coefficient2!$A$16:$B$19,2,FALSE))","v":5.8254399999999998E-2},{"$f":"IF(E2542=1,\"0\",VLOOKUP(E2542,coefficient2!$A$22:$B$25,2,FALSE))","v":0.2068864},{"$f":"IF(F2542=1,\"0\",VLOOKUP(F2542,coefficient2!$A$28:$B$31,2,FALSE))","v":"0"},0.36362810000000001]
[51242,5,1,2,4,2,14,{"$f":"IF(B2543=1,\"0\",VLOOKUP(B2543,coefficient2!$A$4:$B$7,2,FALSE))","v":0.37123109999999998},{"$f":"IF(C2543=1,\"0\",VLOOKUP(C2543,coefficient2!$A$10:$B$13,2,FALSE))","v":"0"},{"$f":"IF(D2543=1,\"0\",VLOOKUP(D2543,coefficient2!$A$16:$B$19,2,FALSE))","v":5.8254399999999998E-2},{"$f":"IF(E2543=1,\"0\",VLOOKUP(E2543,coefficient2!$A$22:$B$25,2,FALSE))","v":0.2068864},{"$f":"IF(F2543=1,\"0\",VLOOKUP(F2543,coefficient2!$A$28:$B$31,2,FALSE))","v":5.8085699999999997E-2},0.30554239999999999]
[51243,5,1,2,4,3,15,{"$f":"IF(B2544=1,\"0\",VLOOKUP(B2544,coefficient2!$A$4:$B$7,2,FALSE))","v":0.37123109999999998},{"$f":"IF(C2544=1,\"0\",VLOOKUP(C2544,coefficient2!$A$10:$B$13,2,FALSE))","v":"0"},{"$f":"IF(D2544=1,\"0\",VLOOKUP(D2544,coefficient2!$A$16:$B$19,2,FALSE))","v":5.8254399999999998E-2},{"$f":"IF(E2544=1,\"0\",VLOOKUP(E2544,coefficient2!$A$22:$B$25,2,FALSE))","v":0.2068864},{"$f":"IF(F2544=1,\"0\",VLOOKUP(F2544,coefficient2!$A$28:$B$31,2,FALSE))","v":9.5753900000000003E-2},0.26787420000000001]
[51244,5,1,2,4,4,16,{"$f":"IF(B2545=1,\"0\",VLOOKUP(B2545,coefficient2!$A$4:$B$7,2,FALSE))","v":0.37123109999999998},{"$f":"IF(C2545=1,\"0\",VLOOKUP(C2545,coefficient2!$A$10:$B$13,2,FALSE))","v":"0"},{"$f":"IF(D2545=1,\"0\",VLOOKUP(D2545,coefficient2!$A$16:$B$19,2,FALSE))","v":5.8254399999999998E-2},{"$f":"IF(E2545=1,\"0\",VLOOKUP(E2545,coefficient2!$A$22:$B$25,2,FALSE))","v":0.2068864},{"$f":"IF(F2545=1,\"0\",VLOOKUP(F2545,coefficient2!$A$28:$B$31,2,FALSE))","v":0.23270360000000001},0.1309245]
[51245,5,1,2,4,5,17,{"$f":"IF(B2546=1,\"0\",VLOOKUP(B2546,coefficient2!$A$4:$B$7,2,FALSE))","v":0.37123109999999998},{"$f":"IF(C2546=1,\"0\",VLOOKUP(C2546,coefficient2!$A$10:$B$13,2,FALSE))","v":"0"},{"$f":"IF(D2546=1,\"0\",VLOOKUP(D2546,coefficient2!$A$16:$B$19,2,FALSE))","v":5.8254399999999998E-2},{"$f":"IF(E2546=1,\"0\",VLOOKUP(E2546,coefficient2!$A$22:$B$25,2,FALSE))","v":0.2068864},{"$f":"IF(F2546=1,\"0\",VLOOKUP(F2546,coefficient2!$A$28:$B$31,2,FALSE))","v":0.29534929999999998},6.8278800000000028E-2]
[51251,5,1,2,5,1,14,{"$f":"IF(B2547=1,\"0\",VLOOKUP(B2547,coefficient2!$A$4:$B$7,2,FALSE))","v":0.37123109999999998},{"$f":"IF(C2547=1,\"0\",VLOOKUP(C2547,coefficient2!$A$10:$B$13,2,FALSE))","v":"0"},{"$f":"IF(D2547=1,\"0\",VLOOKUP(D2547,coefficient2!$A$16:$B$19,2,FALSE))","v":5.8254399999999998E-2},{"$f":"IF(E2547=1,\"0\",VLOOKUP(E2547,coefficient2!$A$22:$B$25,2,FALSE))","v":0.25643310000000002},{"$f":"IF(F2547=1,\"0\",VLOOKUP(F2547,coefficient2!$A$28:$B$31,2,FALSE))","v":"0"},0.31408140000000001]
[51252,5,1,2,5,2,15,{"$f":"IF(B2548=1,\"0\",VLOOKUP(B2548,coefficient2!$A$4:$B$7,2,FALSE))","v":0.37123109999999998},{"$f":"IF(C2548=1,\"0\",VLOOKUP(C2548,coefficient2!$A$10:$B$13,2,FALSE))","v":"0"},{"$f":"IF(D2548=1,\"0\",VLOOKUP(D2548,coefficient2!$A$16:$B$19,2,FALSE))","v":5.8254399999999998E-2},{"$f":"IF(E2548=1,\"0\",VLOOKUP(E2548,coefficient2!$A$22:$B$25,2,FALSE))","v":0.25643310000000002},{"$f":"IF(F2548=1,\"0\",VLOOKUP(F2548,coefficient2!$A$28:$B$31,2,FALSE))","v":5.8085699999999997E-2},0.25599569999999999]
[51253,5,1,2,5,3,16,{"$f":"IF(B2549=1,\"0\",VLOOKUP(B2549,coefficient2!$A$4:$B$7,2,FALSE))","v":0.37123109999999998},{"$f":"IF(C2549=1,\"0\",VLOOKUP(C2549,coefficient2!$A$10:$B$13,2,FALSE))","v":"0"},{"$f":"IF(D2549=1,\"0\",VLOOKUP(D2549,coefficient2!$A$16:$B$19,2,FALSE))","v":5.8254399999999998E-2},{"$f":"IF(E2549=1,\"0\",VLOOKUP(E2549,coefficient2!$A$22:$B$25,2,FALSE))","v":0.25643310000000002},{"$f":"IF(F2549=1,\"0\",VLOOKUP(F2549,coefficient2!$A$28:$B$31,2,FALSE))","v":9.5753900000000003E-2},0.21832750000000001]
[51254,5,1,2,5,4,17,{"$f":"IF(B2550=1,\"0\",VLOOKUP(B2550,coefficient2!$A$4:$B$7,2,FALSE))","v":0.37123109999999998},{"$f":"IF(C2550=1,\"0\",VLOOKUP(C2550,coefficient2!$A$10:$B$13,2,FALSE))","v":"0"},{"$f":"IF(D2550=1,\"0\",VLOOKUP(D2550,coefficient2!$A$16:$B$19,2,FALSE))","v":5.8254399999999998E-2},{"$f":"IF(E2550=1,\"0\",VLOOKUP(E2550,coefficient2!$A$22:$B$25,2,FALSE))","v":0.25643310000000002},{"$f":"IF(F2550=1,\"0\",VLOOKUP(F2550,coefficient2!$A$28:$B$31,2,FALSE))","v":0.23270360000000001},8.13778E-2]
[51255,5,1,2,5,5,18,{"$f":"IF(B2551=1,\"0\",VLOOKUP(B2551,coefficient2!$A$4:$B$7,2,FALSE))","v":0.37123109999999998},{"$f":"IF(C2551=1,\"0\",VLOOKUP(C2551,coefficient2!$A$10:$B$13,2,FALSE))","v":"0"},{"$f":"IF(D2551=1,\"0\",VLOOKUP(D2551,coefficient2!$A$16:$B$19,2,FALSE))","v":5.8254399999999998E-2},{"$f":"IF(E2551=1,\"0\",VLOOKUP(E2551,coefficient2!$A$22:$B$25,2,FALSE))","v":0.25643310000000002},{"$f":"IF(F2551=1,\"0\",VLOOKUP(F2551,coefficient2!$A$28:$B$31,2,FALSE))","v":0.29534929999999998},1.8732100000000029E-2]
[51311,5,1,3,1,1,11,{"$f":"IF(B2552=1,\"0\",VLOOKUP(B2552,coefficient2!$A$4:$B$7,2,FALSE))","v":0.37123109999999998},{"$f":"IF(C2552=1,\"0\",VLOOKUP(C2552,coefficient2!$A$10:$B$13,2,FALSE))","v":"0"},{"$f":"IF(D2552=1,\"0\",VLOOKUP(D2552,coefficient2!$A$16:$B$19,2,FALSE))","v":7.1197399999999994E-2},{"$f":"IF(E2552=1,\"0\",VLOOKUP(E2552,coefficient2!$A$22:$B$25,2,FALSE))","v":"0"},{"$f":"IF(F2552=1,\"0\",VLOOKUP(F2552,coefficient2!$A$28:$B$31,2,FALSE))","v":"0"},0.55757150000000011]
[51312,5,1,3,1,2,12,{"$f":"IF(B2553=1,\"0\",VLOOKUP(B2553,coefficient2!$A$4:$B$7,2,FALSE))","v":0.37123109999999998},{"$f":"IF(C2553=1,\"0\",VLOOKUP(C2553,coefficient2!$A$10:$B$13,2,FALSE))","v":"0"},{"$f":"IF(D2553=1,\"0\",VLOOKUP(D2553,coefficient2!$A$16:$B$19,2,FALSE))","v":7.1197399999999994E-2},{"$f":"IF(E2553=1,\"0\",VLOOKUP(E2553,coefficient2!$A$22:$B$25,2,FALSE))","v":"0"},{"$f":"IF(F2553=1,\"0\",VLOOKUP(F2553,coefficient2!$A$28:$B$31,2,FALSE))","v":5.8085699999999997E-2},0.49948580000000009]
[51313,5,1,3,1,3,13,{"$f":"IF(B2554=1,\"0\",VLOOKUP(B2554,coefficient2!$A$4:$B$7,2,FALSE))","v":0.37123109999999998},{"$f":"IF(C2554=1,\"0\",VLOOKUP(C2554,coefficient2!$A$10:$B$13,2,FALSE))","v":"0"},{"$f":"IF(D2554=1,\"0\",VLOOKUP(D2554,coefficient2!$A$16:$B$19,2,FALSE))","v":7.1197399999999994E-2},{"$f":"IF(E2554=1,\"0\",VLOOKUP(E2554,coefficient2!$A$22:$B$25,2,FALSE))","v":"0"},{"$f":"IF(F2554=1,\"0\",VLOOKUP(F2554,coefficient2!$A$28:$B$31,2,FALSE))","v":9.5753900000000003E-2},0.46181760000000011]
[51314,5,1,3,1,4,14,{"$f":"IF(B2555=1,\"0\",VLOOKUP(B2555,coefficient2!$A$4:$B$7,2,FALSE))","v":0.37123109999999998},{"$f":"IF(C2555=1,\"0\",VLOOKUP(C2555,coefficient2!$A$10:$B$13,2,FALSE))","v":"0"},{"$f":"IF(D2555=1,\"0\",VLOOKUP(D2555,coefficient2!$A$16:$B$19,2,FALSE))","v":7.1197399999999994E-2},{"$f":"IF(E2555=1,\"0\",VLOOKUP(E2555,coefficient2!$A$22:$B$25,2,FALSE))","v":"0"},{"$f":"IF(F2555=1,\"0\",VLOOKUP(F2555,coefficient2!$A$28:$B$31,2,FALSE))","v":0.23270360000000001},0.3248679000000001]
[51315,5,1,3,1,5,15,{"$f":"IF(B2556=1,\"0\",VLOOKUP(B2556,coefficient2!$A$4:$B$7,2,FALSE))","v":0.37123109999999998},{"$f":"IF(C2556=1,\"0\",VLOOKUP(C2556,coefficient2!$A$10:$B$13,2,FALSE))","v":"0"},{"$f":"IF(D2556=1,\"0\",VLOOKUP(D2556,coefficient2!$A$16:$B$19,2,FALSE))","v":7.1197399999999994E-2},{"$f":"IF(E2556=1,\"0\",VLOOKUP(E2556,coefficient2!$A$22:$B$25,2,FALSE))","v":"0"},{"$f":"IF(F2556=1,\"0\",VLOOKUP(F2556,coefficient2!$A$28:$B$31,2,FALSE))","v":0.29534929999999998},0.26222220000000013]
[51321,5,1,3,2,1,12,{"$f":"IF(B2557=1,\"0\",VLOOKUP(B2557,coefficient2!$A$4:$B$7,2,FALSE))","v":0.37123109999999998},{"$f":"IF(C2557=1,\"0\",VLOOKUP(C2557,coefficient2!$A$10:$B$13,2,FALSE))","v":"0"},{"$f":"IF(D2557=1,\"0\",VLOOKUP(D2557,coefficient2!$A$16:$B$19,2,FALSE))","v":7.1197399999999994E-2},{"$f":"IF(E2557=1,\"0\",VLOOKUP(E2557,coefficient2!$A$22:$B$25,2,FALSE))","v":5.63998E-2},{"$f":"IF(F2557=1,\"0\",VLOOKUP(F2557,coefficient2!$A$28:$B$31,2,FALSE))","v":"0"},0.50117170000000011]
[51322,5,1,3,2,2,13,{"$f":"IF(B2558=1,\"0\",VLOOKUP(B2558,coefficient2!$A$4:$B$7,2,FALSE))","v":0.37123109999999998},{"$f":"IF(C2558=1,\"0\",VLOOKUP(C2558,coefficient2!$A$10:$B$13,2,FALSE))","v":"0"},{"$f":"IF(D2558=1,\"0\",VLOOKUP(D2558,coefficient2!$A$16:$B$19,2,FALSE))","v":7.1197399999999994E-2},{"$f":"IF(E2558=1,\"0\",VLOOKUP(E2558,coefficient2!$A$22:$B$25,2,FALSE))","v":5.63998E-2},{"$f":"IF(F2558=1,\"0\",VLOOKUP(F2558,coefficient2!$A$28:$B$31,2,FALSE))","v":5.8085699999999997E-2},0.44308600000000009]
[51323,5,1,3,2,3,14,{"$f":"IF(B2559=1,\"0\",VLOOKUP(B2559,coefficient2!$A$4:$B$7,2,FALSE))","v":0.37123109999999998},{"$f":"IF(C2559=1,\"0\",VLOOKUP(C2559,coefficient2!$A$10:$B$13,2,FALSE))","v":"0"},{"$f":"IF(D2559=1,\"0\",VLOOKUP(D2559,coefficient2!$A$16:$B$19,2,FALSE))","v":7.1197399999999994E-2},{"$f":"IF(E2559=1,\"0\",VLOOKUP(E2559,coefficient2!$A$22:$B$25,2,FALSE))","v":5.63998E-2},{"$f":"IF(F2559=1,\"0\",VLOOKUP(F2559,coefficient2!$A$28:$B$31,2,FALSE))","v":9.5753900000000003E-2},0.40541780000000011]
[51324,5,1,3,2,4,15,{"$f":"IF(B2560=1,\"0\",VLOOKUP(B2560,coefficient2!$A$4:$B$7,2,FALSE))","v":0.37123109999999998},{"$f":"IF(C2560=1,\"0\",VLOOKUP(C2560,coefficient2!$A$10:$B$13,2,FALSE))","v":"0"},{"$f":"IF(D2560=1,\"0\",VLOOKUP(D2560,coefficient2!$A$16:$B$19,2,FALSE))","v":7.1197399999999994E-2},{"$f":"IF(E2560=1,\"0\",VLOOKUP(E2560,coefficient2!$A$22:$B$25,2,FALSE))","v":5.63998E-2},{"$f":"IF(F2560=1,\"0\",VLOOKUP(F2560,coefficient2!$A$28:$B$31,2,FALSE))","v":0.23270360000000001},0.2684681000000001]
[51325,5,1,3,2,5,16,{"$f":"IF(B2561=1,\"0\",VLOOKUP(B2561,coefficient2!$A$4:$B$7,2,FALSE))","v":0.37123109999999998},{"$f":"IF(C2561=1,\"0\",VLOOKUP(C2561,coefficient2!$A$10:$B$13,2,FALSE))","v":"0"},{"$f":"IF(D2561=1,\"0\",VLOOKUP(D2561,coefficient2!$A$16:$B$19,2,FALSE))","v":7.1197399999999994E-2},{"$f":"IF(E2561=1,\"0\",VLOOKUP(E2561,coefficient2!$A$22:$B$25,2,FALSE))","v":5.63998E-2},{"$f":"IF(F2561=1,\"0\",VLOOKUP(F2561,coefficient2!$A$28:$B$31,2,FALSE))","v":0.29534929999999998},0.20582240000000013]
[51331,5,1,3,3,1,13,{"$f":"IF(B2562=1,\"0\",VLOOKUP(B2562,coefficient2!$A$4:$B$7,2,FALSE))","v":0.37123109999999998},{"$f":"IF(C2562=1,\"0\",VLOOKUP(C2562,coefficient2!$A$10:$B$13,2,FALSE))","v":"0"},{"$f":"IF(D2562=1,\"0\",VLOOKUP(D2562,coefficient2!$A$16:$B$19,2,FALSE))","v":7.1197399999999994E-2},{"$f":"IF(E2562=1,\"0\",VLOOKUP(E2562,coefficient2!$A$22:$B$25,2,FALSE))","v":6.6492200000000001E-2},{"$f":"IF(F2562=1,\"0\",VLOOKUP(F2562,coefficient2!$A$28:$B$31,2,FALSE))","v":"0"},{"$f":"1-H2562-I2562-J2562-K2562-L2562","v":0.49107930000000011}]
[51332,{"$f":"INT(LEFT(A2563,1))","v":5},{"$f":"INT(MID(A2563,2,1))","v":1},{"$f":"INT(MID(A2563,3,1))","v":3},{"$f":"INT(MID(A2563,4,1))","v":3},{"$f":"INT(RIGHT(A2563,1))","v":2},14,{"$f":"IF(B2563=1,\"0\",VLOOKUP(B2563,coefficient2!$A$4:$B$7,2,FALSE))","v":0.37123109999999998},{"$f":"IF(C2563=1,\"0\",VLOOKUP(C2563,coefficient2!$A$10:$B$13,2,FALSE))","v":"0"},{"$f":"IF(D2563=1,\"0\",VLOOKUP(D2563,coefficient2!$A$16:$B$19,2,FALSE))","v":7.1197399999999994E-2},{"$f":"IF(E2563=1,\"0\",VLOOKUP(E2563,coefficient2!$A$22:$B$25,2,FALSE))","v":6.6492200000000001E-2},{"$f":"IF(F2563=1,\"0\",VLOOKUP(F2563,coefficient2!$A$28:$B$31,2,FALSE))","v":5.8085699999999997E-2},0.43299360000000009]
[51333,5,1,3,3,3,15,{"$f":"IF(B2564=1,\"0\",VLOOKUP(B2564,coefficient2!$A$4:$B$7,2,FALSE))","v":0.37123109999999998},{"$f":"IF(C2564=1,\"0\",VLOOKUP(C2564,coefficient2!$A$10:$B$13,2,FALSE))","v":"0"},{"$f":"IF(D2564=1,\"0\",VLOOKUP(D2564,coefficient2!$A$16:$B$19,2,FALSE))","v":7.1197399999999994E-2},{"$f":"IF(E2564=1,\"0\",VLOOKUP(E2564,coefficient2!$A$22:$B$25,2,FALSE))","v":6.6492200000000001E-2},{"$f":"IF(F2564=1,\"0\",VLOOKUP(F2564,coefficient2!$A$28:$B$31,2,FALSE))","v":9.5753900000000003E-2},0.3953254000000001]
[51334,5,1,3,3,4,16,{"$f":"IF(B2565=1,\"0\",VLOOKUP(B2565,coefficient2!$A$4:$B$7,2,FALSE))","v":0.37123109999999998},{"$f":"IF(C2565=1,\"0\",VLOOKUP(C2565,coefficient2!$A$10:$B$13,2,FALSE))","v":"0"},{"$f":"IF(D2565=1,\"0\",VLOOKUP(D2565,coefficient2!$A$16:$B$19,2,FALSE))","v":7.1197399999999994E-2},{"$f":"IF(E2565=1,\"0\",VLOOKUP(E2565,coefficient2!$A$22:$B$25,2,FALSE))","v":6.6492200000000001E-2},{"$f":"IF(F2565=1,\"0\",VLOOKUP(F2565,coefficient2!$A$28:$B$31,2,FALSE))","v":0.23270360000000001},0.2583757000000001]
[51335,5,1,3,3,5,17,{"$f":"IF(B2566=1,\"0\",VLOOKUP(B2566,coefficient2!$A$4:$B$7,2,FALSE))","v":0.37123109999999998},{"$f":"IF(C2566=1,\"0\",VLOOKUP(C2566,coefficient2!$A$10:$B$13,2,FALSE))","v":"0"},{"$f":"IF(D2566=1,\"0\",VLOOKUP(D2566,coefficient2!$A$16:$B$19,2,FALSE))","v":7.1197399999999994E-2},{"$f":"IF(E2566=1,\"0\",VLOOKUP(E2566,coefficient2!$A$22:$B$25,2,FALSE))","v":6.6492200000000001E-2},{"$f":"IF(F2566=1,\"0\",VLOOKUP(F2566,coefficient2!$A$28:$B$31,2,FALSE))","v":0.29534929999999998},0.19573000000000013]
[51341,5,1,3,4,1,14,{"$f":"IF(B2567=1,\"0\",VLOOKUP(B2567,coefficient2!$A$4:$B$7,2,FALSE))","v":0.37123109999999998},{"$f":"IF(C2567=1,\"0\",VLOOKUP(C2567,coefficient2!$A$10:$B$13,2,FALSE))","v":"0"},{"$f":"IF(D2567=1,\"0\",VLOOKUP(D2567,coefficient2!$A$16:$B$19,2,FALSE))","v":7.1197399999999994E-2},{"$f":"IF(E2567=1,\"0\",VLOOKUP(E2567,coefficient2!$A$22:$B$25,2,FALSE))","v":0.2068864},{"$f":"IF(F2567=1,\"0\",VLOOKUP(F2567,coefficient2!$A$28:$B$31,2,FALSE))","v":"0"},0.35068510000000008]
[51342,5,1,3,4,2,15,{"$f":"IF(B2568=1,\"0\",VLOOKUP(B2568,coefficient2!$A$4:$B$7,2,FALSE))","v":0.37123109999999998},{"$f":"IF(C2568=1,\"0\",VLOOKUP(C2568,coefficient2!$A$10:$B$13,2,FALSE))","v":"0"},{"$f":"IF(D2568=1,\"0\",VLOOKUP(D2568,coefficient2!$A$16:$B$19,2,FALSE))","v":7.1197399999999994E-2},{"$f":"IF(E2568=1,\"0\",VLOOKUP(E2568,coefficient2!$A$22:$B$25,2,FALSE))","v":0.2068864},{"$f":"IF(F2568=1,\"0\",VLOOKUP(F2568,coefficient2!$A$28:$B$31,2,FALSE))","v":5.8085699999999997E-2},0.29259940000000006]
[51343,5,1,3,4,3,16,{"$f":"IF(B2569=1,\"0\",VLOOKUP(B2569,coefficient2!$A$4:$B$7,2,FALSE))","v":0.37123109999999998},{"$f":"IF(C2569=1,\"0\",VLOOKUP(C2569,coefficient2!$A$10:$B$13,2,FALSE))","v":"0"},{"$f":"IF(D2569=1,\"0\",VLOOKUP(D2569,coefficient2!$A$16:$B$19,2,FALSE))","v":7.1197399999999994E-2},{"$f":"IF(E2569=1,\"0\",VLOOKUP(E2569,coefficient2!$A$22:$B$25,2,FALSE))","v":0.2068864},{"$f":"IF(F2569=1,\"0\",VLOOKUP(F2569,coefficient2!$A$28:$B$31,2,FALSE))","v":9.5753900000000003E-2},0.25493120000000008]
[51344,5,1,3,4,4,17,{"$f":"IF(B2570=1,\"0\",VLOOKUP(B2570,coefficient2!$A$4:$B$7,2,FALSE))","v":0.37123109999999998},{"$f":"IF(C2570=1,\"0\",VLOOKUP(C2570,coefficient2!$A$10:$B$13,2,FALSE))","v":"0"},{"$f":"IF(D2570=1,\"0\",VLOOKUP(D2570,coefficient2!$A$16:$B$19,2,FALSE))","v":7.1197399999999994E-2},{"$f":"IF(E2570=1,\"0\",VLOOKUP(E2570,coefficient2!$A$22:$B$25,2,FALSE))","v":0.2068864},{"$f":"IF(F2570=1,\"0\",VLOOKUP(F2570,coefficient2!$A$28:$B$31,2,FALSE))","v":0.23270360000000001},0.11798150000000007]
[51345,5,1,3,4,5,18,{"$f":"IF(B2571=1,\"0\",VLOOKUP(B2571,coefficient2!$A$4:$B$7,2,FALSE))","v":0.37123109999999998},{"$f":"IF(C2571=1,\"0\",VLOOKUP(C2571,coefficient2!$A$10:$B$13,2,FALSE))","v":"0"},{"$f":"IF(D2571=1,\"0\",VLOOKUP(D2571,coefficient2!$A$16:$B$19,2,FALSE))","v":7.1197399999999994E-2},{"$f":"IF(E2571=1,\"0\",VLOOKUP(E2571,coefficient2!$A$22:$B$25,2,FALSE))","v":0.2068864},{"$f":"IF(F2571=1,\"0\",VLOOKUP(F2571,coefficient2!$A$28:$B$31,2,FALSE))","v":0.29534929999999998},5.5335800000000102E-2]
[51351,5,1,3,5,1,15,{"$f":"IF(B2572=1,\"0\",VLOOKUP(B2572,coefficient2!$A$4:$B$7,2,FALSE))","v":0.37123109999999998},{"$f":"IF(C2572=1,\"0\",VLOOKUP(C2572,coefficient2!$A$10:$B$13,2,FALSE))","v":"0"},{"$f":"IF(D2572=1,\"0\",VLOOKUP(D2572,coefficient2!$A$16:$B$19,2,FALSE))","v":7.1197399999999994E-2},{"$f":"IF(E2572=1,\"0\",VLOOKUP(E2572,coefficient2!$A$22:$B$25,2,FALSE))","v":0.25643310000000002},{"$f":"IF(F2572=1,\"0\",VLOOKUP(F2572,coefficient2!$A$28:$B$31,2,FALSE))","v":"0"},0.30113840000000008]
[51352,5,1,3,5,2,16,{"$f":"IF(B2573=1,\"0\",VLOOKUP(B2573,coefficient2!$A$4:$B$7,2,FALSE))","v":0.37123109999999998},{"$f":"IF(C2573=1,\"0\",VLOOKUP(C2573,coefficient2!$A$10:$B$13,2,FALSE))","v":"0"},{"$f":"IF(D2573=1,\"0\",VLOOKUP(D2573,coefficient2!$A$16:$B$19,2,FALSE))","v":7.1197399999999994E-2},{"$f":"IF(E2573=1,\"0\",VLOOKUP(E2573,coefficient2!$A$22:$B$25,2,FALSE))","v":0.25643310000000002},{"$f":"IF(F2573=1,\"0\",VLOOKUP(F2573,coefficient2!$A$28:$B$31,2,FALSE))","v":5.8085699999999997E-2},0.24305270000000009]
[51353,5,1,3,5,3,17,{"$f":"IF(B2574=1,\"0\",VLOOKUP(B2574,coefficient2!$A$4:$B$7,2,FALSE))","v":0.37123109999999998},{"$f":"IF(C2574=1,\"0\",VLOOKUP(C2574,coefficient2!$A$10:$B$13,2,FALSE))","v":"0"},{"$f":"IF(D2574=1,\"0\",VLOOKUP(D2574,coefficient2!$A$16:$B$19,2,FALSE))","v":7.1197399999999994E-2},{"$f":"IF(E2574=1,\"0\",VLOOKUP(E2574,coefficient2!$A$22:$B$25,2,FALSE))","v":0.25643310000000002},{"$f":"IF(F2574=1,\"0\",VLOOKUP(F2574,coefficient2!$A$28:$B$31,2,FALSE))","v":9.5753900000000003E-2},0.20538450000000008]
[51354,5,1,3,5,4,18,{"$f":"IF(B2575=1,\"0\",VLOOKUP(B2575,coefficient2!$A$4:$B$7,2,FALSE))","v":0.37123109999999998},{"$f":"IF(C2575=1,\"0\",VLOOKUP(C2575,coefficient2!$A$10:$B$13,2,FALSE))","v":"0"},{"$f":"IF(D2575=1,\"0\",VLOOKUP(D2575,coefficient2!$A$16:$B$19,2,FALSE))","v":7.1197399999999994E-2},{"$f":"IF(E2575=1,\"0\",VLOOKUP(E2575,coefficient2!$A$22:$B$25,2,FALSE))","v":0.25643310000000002},{"$f":"IF(F2575=1,\"0\",VLOOKUP(F2575,coefficient2!$A$28:$B$31,2,FALSE))","v":0.23270360000000001},6.8434800000000073E-2]
[51355,5,1,3,5,5,19,{"$f":"IF(B2576=1,\"0\",VLOOKUP(B2576,coefficient2!$A$4:$B$7,2,FALSE))","v":0.37123109999999998},{"$f":"IF(C2576=1,\"0\",VLOOKUP(C2576,coefficient2!$A$10:$B$13,2,FALSE))","v":"0"},{"$f":"IF(D2576=1,\"0\",VLOOKUP(D2576,coefficient2!$A$16:$B$19,2,FALSE))","v":7.1197399999999994E-2},{"$f":"IF(E2576=1,\"0\",VLOOKUP(E2576,coefficient2!$A$22:$B$25,2,FALSE))","v":0.25643310000000002},{"$f":"IF(F2576=1,\"0\",VLOOKUP(F2576,coefficient2!$A$28:$B$31,2,FALSE))","v":0.29534929999999998},5.7891000000001025E-3]
[51411,5,1,4,1,1,12,{"$f":"IF(B2577=1,\"0\",VLOOKUP(B2577,coefficient2!$A$4:$B$7,2,FALSE))","v":0.37123109999999998},{"$f":"IF(C2577=1,\"0\",VLOOKUP(C2577,coefficient2!$A$10:$B$13,2,FALSE))","v":"0"},{"$f":"IF(D2577=1,\"0\",VLOOKUP(D2577,coefficient2!$A$16:$B$19,2,FALSE))","v":0.1534855},{"$f":"IF(E2577=1,\"0\",VLOOKUP(E2577,coefficient2!$A$22:$B$25,2,FALSE))","v":"0"},{"$f":"IF(F2577=1,\"0\",VLOOKUP(F2577,coefficient2!$A$28:$B$31,2,FALSE))","v":"0"},0.47528340000000008]
[51412,5,1,4,1,2,13,{"$f":"IF(B2578=1,\"0\",VLOOKUP(B2578,coefficient2!$A$4:$B$7,2,FALSE))","v":0.37123109999999998},{"$f":"IF(C2578=1,\"0\",VLOOKUP(C2578,coefficient2!$A$10:$B$13,2,FALSE))","v":"0"},{"$f":"IF(D2578=1,\"0\",VLOOKUP(D2578,coefficient2!$A$16:$B$19,2,FALSE))","v":0.1534855},{"$f":"IF(E2578=1,\"0\",VLOOKUP(E2578,coefficient2!$A$22:$B$25,2,FALSE))","v":"0"},{"$f":"IF(F2578=1,\"0\",VLOOKUP(F2578,coefficient2!$A$28:$B$31,2,FALSE))","v":5.8085699999999997E-2},0.41719770000000006]
[51413,5,1,4,1,3,14,{"$f":"IF(B2579=1,\"0\",VLOOKUP(B2579,coefficient2!$A$4:$B$7,2,FALSE))","v":0.37123109999999998},{"$f":"IF(C2579=1,\"0\",VLOOKUP(C2579,coefficient2!$A$10:$B$13,2,FALSE))","v":"0"},{"$f":"IF(D2579=1,\"0\",VLOOKUP(D2579,coefficient2!$A$16:$B$19,2,FALSE))","v":0.1534855},{"$f":"IF(E2579=1,\"0\",VLOOKUP(E2579,coefficient2!$A$22:$B$25,2,FALSE))","v":"0"},{"$f":"IF(F2579=1,\"0\",VLOOKUP(F2579,coefficient2!$A$28:$B$31,2,FALSE))","v":9.5753900000000003E-2},0.37952950000000008]
[51414,5,1,4,1,4,15,{"$f":"IF(B2580=1,\"0\",VLOOKUP(B2580,coefficient2!$A$4:$B$7,2,FALSE))","v":0.37123109999999998},{"$f":"IF(C2580=1,\"0\",VLOOKUP(C2580,coefficient2!$A$10:$B$13,2,FALSE))","v":"0"},{"$f":"IF(D2580=1,\"0\",VLOOKUP(D2580,coefficient2!$A$16:$B$19,2,FALSE))","v":0.1534855},{"$f":"IF(E2580=1,\"0\",VLOOKUP(E2580,coefficient2!$A$22:$B$25,2,FALSE))","v":"0"},{"$f":"IF(F2580=1,\"0\",VLOOKUP(F2580,coefficient2!$A$28:$B$31,2,FALSE))","v":0.23270360000000001},0.24257980000000007]
[51415,5,1,4,1,5,{"$f":"SUM(B2581:F2581)","v":16},{"$f":"IF(B2581=1,\"0\",VLOOKUP(B2581,coefficient2!$A$4:$B$7,2,FALSE))","v":0.37123109999999998},{"$f":"IF(C2581=1,\"0\",VLOOKUP(C2581,coefficient2!$A$10:$B$13,2,FALSE))","v":"0"},{"$f":"IF(D2581=1,\"0\",VLOOKUP(D2581,coefficient2!$A$16:$B$19,2,FALSE))","v":0.1534855},{"$f":"IF(E2581=1,\"0\",VLOOKUP(E2581,coefficient2!$A$22:$B$25,2,FALSE))","v":"0"},{"$f":"IF(F2581=1,\"0\",VLOOKUP(F2581,coefficient2!$A$28:$B$31,2,FALSE))","v":0.29534929999999998},0.1799341000000001]
[51421,5,1,4,2,1,13,{"$f":"IF(B2582=1,\"0\",VLOOKUP(B2582,coefficient2!$A$4:$B$7,2,FALSE))","v":0.37123109999999998},{"$f":"IF(C2582=1,\"0\",VLOOKUP(C2582,coefficient2!$A$10:$B$13,2,FALSE))","v":"0"},{"$f":"IF(D2582=1,\"0\",VLOOKUP(D2582,coefficient2!$A$16:$B$19,2,FALSE))","v":0.1534855},{"$f":"IF(E2582=1,\"0\",VLOOKUP(E2582,coefficient2!$A$22:$B$25,2,FALSE))","v":5.63998E-2},{"$f":"IF(F2582=1,\"0\",VLOOKUP(F2582,coefficient2!$A$28:$B$31,2,FALSE))","v":"0"},0.41888360000000008]
[51422,5,1,4,2,2,14,{"$f":"IF(B2583=1,\"0\",VLOOKUP(B2583,coefficient2!$A$4:$B$7,2,FALSE))","v":0.37123109999999998},{"$f":"IF(C2583=1,\"0\",VLOOKUP(C2583,coefficient2!$A$10:$B$13,2,FALSE))","v":"0"},{"$f":"IF(D2583=1,\"0\",VLOOKUP(D2583,coefficient2!$A$16:$B$19,2,FALSE))","v":0.1534855},{"$f":"IF(E2583=1,\"0\",VLOOKUP(E2583,coefficient2!$A$22:$B$25,2,FALSE))","v":5.63998E-2},{"$f":"IF(F2583=1,\"0\",VLOOKUP(F2583,coefficient2!$A$28:$B$31,2,FALSE))","v":5.8085699999999997E-2},0.36079790000000006]
[51423,5,1,4,2,3,15,{"$f":"IF(B2584=1,\"0\",VLOOKUP(B2584,coefficient2!$A$4:$B$7,2,FALSE))","v":0.37123109999999998},{"$f":"IF(C2584=1,\"0\",VLOOKUP(C2584,coefficient2!$A$10:$B$13,2,FALSE))","v":"0"},{"$f":"IF(D2584=1,\"0\",VLOOKUP(D2584,coefficient2!$A$16:$B$19,2,FALSE))","v":0.1534855},{"$f":"IF(E2584=1,\"0\",VLOOKUP(E2584,coefficient2!$A$22:$B$25,2,FALSE))","v":5.63998E-2},{"$f":"IF(F2584=1,\"0\",VLOOKUP(F2584,coefficient2!$A$28:$B$31,2,FALSE))","v":9.5753900000000003E-2},0.32312970000000008]
[51424,5,1,4,2,4,16,{"$f":"IF(B2585=1,\"0\",VLOOKUP(B2585,coefficient2!$A$4:$B$7,2,FALSE))","v":0.37123109999999998},{"$f":"IF(C2585=1,\"0\",VLOOKUP(C2585,coefficient2!$A$10:$B$13,2,FALSE))","v":"0"},{"$f":"IF(D2585=1,\"0\",VLOOKUP(D2585,coefficient2!$A$16:$B$19,2,FALSE))","v":0.1534855},{"$f":"IF(E2585=1,\"0\",VLOOKUP(E2585,coefficient2!$A$22:$B$25,2,FALSE))","v":5.63998E-2},{"$f":"IF(F2585=1,\"0\",VLOOKUP(F2585,coefficient2!$A$28:$B$31,2,FALSE))","v":0.23270360000000001},0.18618000000000007]
[51425,5,1,4,2,5,17,{"$f":"IF(B2586=1,\"0\",VLOOKUP(B2586,coefficient2!$A$4:$B$7,2,FALSE))","v":0.37123109999999998},{"$f":"IF(C2586=1,\"0\",VLOOKUP(C2586,coefficient2!$A$10:$B$13,2,FALSE))","v":"0"},{"$f":"IF(D2586=1,\"0\",VLOOKUP(D2586,coefficient2!$A$16:$B$19,2,FALSE))","v":0.1534855},{"$f":"IF(E2586=1,\"0\",VLOOKUP(E2586,coefficient2!$A$22:$B$25,2,FALSE))","v":5.63998E-2},{"$f":"IF(F2586=1,\"0\",VLOOKUP(F2586,coefficient2!$A$28:$B$31,2,FALSE))","v":0.29534929999999998},0.1235343000000001]
[51431,5,1,4,3,1,14,{"$f":"IF(B2587=1,\"0\",VLOOKUP(B2587,coefficient2!$A$4:$B$7,2,FALSE))","v":0.37123109999999998},{"$f":"IF(C2587=1,\"0\",VLOOKUP(C2587,coefficient2!$A$10:$B$13,2,FALSE))","v":"0"},{"$f":"IF(D2587=1,\"0\",VLOOKUP(D2587,coefficient2!$A$16:$B$19,2,FALSE))","v":0.1534855},{"$f":"IF(E2587=1,\"0\",VLOOKUP(E2587,coefficient2!$A$22:$B$25,2,FALSE))","v":6.6492200000000001E-2},{"$f":"IF(F2587=1,\"0\",VLOOKUP(F2587,coefficient2!$A$28:$B$31,2,FALSE))","v":"0"},0.40879120000000008]
[51432,5,1,4,3,2,15,{"$f":"IF(B2588=1,\"0\",VLOOKUP(B2588,coefficient2!$A$4:$B$7,2,FALSE))","v":0.37123109999999998},{"$f":"IF(C2588=1,\"0\",VLOOKUP(C2588,coefficient2!$A$10:$B$13,2,FALSE))","v":"0"},{"$f":"IF(D2588=1,\"0\",VLOOKUP(D2588,coefficient2!$A$16:$B$19,2,FALSE))","v":0.1534855},{"$f":"IF(E2588=1,\"0\",VLOOKUP(E2588,coefficient2!$A$22:$B$25,2,FALSE))","v":6.6492200000000001E-2},{"$f":"IF(F2588=1,\"0\",VLOOKUP(F2588,coefficient2!$A$28:$B$31,2,FALSE))","v":5.8085699999999997E-2},0.35070550000000006]
[51433,5,1,4,3,3,16,{"$f":"IF(B2589=1,\"0\",VLOOKUP(B2589,coefficient2!$A$4:$B$7,2,FALSE))","v":0.37123109999999998},{"$f":"IF(C2589=1,\"0\",VLOOKUP(C2589,coefficient2!$A$10:$B$13,2,FALSE))","v":"0"},{"$f":"IF(D2589=1,\"0\",VLOOKUP(D2589,coefficient2!$A$16:$B$19,2,FALSE))","v":0.1534855},{"$f":"IF(E2589=1,\"0\",VLOOKUP(E2589,coefficient2!$A$22:$B$25,2,FALSE))","v":6.6492200000000001E-2},{"$f":"IF(F2589=1,\"0\",VLOOKUP(F2589,coefficient2!$A$28:$B$31,2,FALSE))","v":9.5753900000000003E-2},0.31303730000000007]
[51434,5,1,4,3,4,17,{"$f":"IF(B2590=1,\"0\",VLOOKUP(B2590,coefficient2!$A$4:$B$7,2,FALSE))","v":0.37123109999999998},{"$f":"IF(C2590=1,\"0\",VLOOKUP(C2590,coefficient2!$A$10:$B$13,2,FALSE))","v":"0"},{"$f":"IF(D2590=1,\"0\",VLOOKUP(D2590,coefficient2!$A$16:$B$19,2,FALSE))","v":0.1534855},{"$f":"IF(E2590=1,\"0\",VLOOKUP(E2590,coefficient2!$A$22:$B$25,2,FALSE))","v":6.6492200000000001E-2},{"$f":"IF(F2590=1,\"0\",VLOOKUP(F2590,coefficient2!$A$28:$B$31,2,FALSE))","v":0.23270360000000001},0.17608760000000007]
[51435,5,1,4,3,5,18,{"$f":"IF(B2591=1,\"0\",VLOOKUP(B2591,coefficient2!$A$4:$B$7,2,FALSE))","v":0.37123109999999998},{"$f":"IF(C2591=1,\"0\",VLOOKUP(C2591,coefficient2!$A$10:$B$13,2,FALSE))","v":"0"},{"$f":"IF(D2591=1,\"0\",VLOOKUP(D2591,coefficient2!$A$16:$B$19,2,FALSE))","v":0.1534855},{"$f":"IF(E2591=1,\"0\",VLOOKUP(E2591,coefficient2!$A$22:$B$25,2,FALSE))","v":6.6492200000000001E-2},{"$f":"IF(F2591=1,\"0\",VLOOKUP(F2591,coefficient2!$A$28:$B$31,2,FALSE))","v":0.29534929999999998},0.1134419000000001]
[51441,5,1,4,4,1,15,{"$f":"IF(B2592=1,\"0\",VLOOKUP(B2592,coefficient2!$A$4:$B$7,2,FALSE))","v":0.37123109999999998},{"$f":"IF(C2592=1,\"0\",VLOOKUP(C2592,coefficient2!$A$10:$B$13,2,FALSE))","v":"0"},{"$f":"IF(D2592=1,\"0\",VLOOKUP(D2592,coefficient2!$A$16:$B$19,2,FALSE))","v":0.1534855},{"$f":"IF(E2592=1,\"0\",VLOOKUP(E2592,coefficient2!$A$22:$B$25,2,FALSE))","v":0.2068864},{"$f":"IF(F2592=1,\"0\",VLOOKUP(F2592,coefficient2!$A$28:$B$31,2,FALSE))","v":"0"},0.26839700000000011]
[51442,5,1,4,4,2,16,{"$f":"IF(B2593=1,\"0\",VLOOKUP(B2593,coefficient2!$A$4:$B$7,2,FALSE))","v":0.37123109999999998},{"$f":"IF(C2593=1,\"0\",VLOOKUP(C2593,coefficient2!$A$10:$B$13,2,FALSE))","v":"0"},{"$f":"IF(D2593=1,\"0\",VLOOKUP(D2593,coefficient2!$A$16:$B$19,2,FALSE))","v":0.1534855},{"$f":"IF(E2593=1,\"0\",VLOOKUP(E2593,coefficient2!$A$22:$B$25,2,FALSE))","v":0.2068864},{"$f":"IF(F2593=1,\"0\",VLOOKUP(F2593,coefficient2!$A$28:$B$31,2,FALSE))","v":5.8085699999999997E-2},0.21031130000000012]
[51443,5,1,4,4,3,17,{"$f":"IF(B2594=1,\"0\",VLOOKUP(B2594,coefficient2!$A$4:$B$7,2,FALSE))","v":0.37123109999999998},{"$f":"IF(C2594=1,\"0\",VLOOKUP(C2594,coefficient2!$A$10:$B$13,2,FALSE))","v":"0"},{"$f":"IF(D2594=1,\"0\",VLOOKUP(D2594,coefficient2!$A$16:$B$19,2,FALSE))","v":0.1534855},{"$f":"IF(E2594=1,\"0\",VLOOKUP(E2594,coefficient2!$A$22:$B$25,2,FALSE))","v":0.2068864},{"$f":"IF(F2594=1,\"0\",VLOOKUP(F2594,coefficient2!$A$28:$B$31,2,FALSE))","v":9.5753900000000003E-2},0.1726431000000001]
[51444,5,1,4,4,4,18,{"$f":"IF(B2595=1,\"0\",VLOOKUP(B2595,coefficient2!$A$4:$B$7,2,FALSE))","v":0.37123109999999998},{"$f":"IF(C2595=1,\"0\",VLOOKUP(C2595,coefficient2!$A$10:$B$13,2,FALSE))","v":"0"},{"$f":"IF(D2595=1,\"0\",VLOOKUP(D2595,coefficient2!$A$16:$B$19,2,FALSE))","v":0.1534855},{"$f":"IF(E2595=1,\"0\",VLOOKUP(E2595,coefficient2!$A$22:$B$25,2,FALSE))","v":0.2068864},{"$f":"IF(F2595=1,\"0\",VLOOKUP(F2595,coefficient2!$A$28:$B$31,2,FALSE))","v":0.23270360000000001},3.5693400000000097E-2]
[51445,5,1,4,4,5,19,{"$f":"IF(B2596=1,\"0\",VLOOKUP(B2596,coefficient2!$A$4:$B$7,2,FALSE))","v":0.37123109999999998},{"$f":"IF(C2596=1,\"0\",VLOOKUP(C2596,coefficient2!$A$10:$B$13,2,FALSE))","v":"0"},{"$f":"IF(D2596=1,\"0\",VLOOKUP(D2596,coefficient2!$A$16:$B$19,2,FALSE))","v":0.1534855},{"$f":"IF(E2596=1,\"0\",VLOOKUP(E2596,coefficient2!$A$22:$B$25,2,FALSE))","v":0.2068864},{"$f":"IF(F2596=1,\"0\",VLOOKUP(F2596,coefficient2!$A$28:$B$31,2,FALSE))","v":0.29534929999999998},-2.6952299999999874E-2]
[51451,5,1,4,5,1,16,{"$f":"IF(B2597=1,\"0\",VLOOKUP(B2597,coefficient2!$A$4:$B$7,2,FALSE))","v":0.37123109999999998},{"$f":"IF(C2597=1,\"0\",VLOOKUP(C2597,coefficient2!$A$10:$B$13,2,FALSE))","v":"0"},{"$f":"IF(D2597=1,\"0\",VLOOKUP(D2597,coefficient2!$A$16:$B$19,2,FALSE))","v":0.1534855},{"$f":"IF(E2597=1,\"0\",VLOOKUP(E2597,coefficient2!$A$22:$B$25,2,FALSE))","v":0.25643310000000002},{"$f":"IF(F2597=1,\"0\",VLOOKUP(F2597,coefficient2!$A$28:$B$31,2,FALSE))","v":"0"},0.21885030000000005]
[51452,5,1,4,5,2,17,{"$f":"IF(B2598=1,\"0\",VLOOKUP(B2598,coefficient2!$A$4:$B$7,2,FALSE))","v":0.37123109999999998},{"$f":"IF(C2598=1,\"0\",VLOOKUP(C2598,coefficient2!$A$10:$B$13,2,FALSE))","v":"0"},{"$f":"IF(D2598=1,\"0\",VLOOKUP(D2598,coefficient2!$A$16:$B$19,2,FALSE))","v":0.1534855},{"$f":"IF(E2598=1,\"0\",VLOOKUP(E2598,coefficient2!$A$22:$B$25,2,FALSE))","v":0.25643310000000002},{"$f":"IF(F2598=1,\"0\",VLOOKUP(F2598,coefficient2!$A$28:$B$31,2,FALSE))","v":5.8085699999999997E-2},0.16076460000000006]
[51453,5,1,4,5,3,18,{"$f":"IF(B2599=1,\"0\",VLOOKUP(B2599,coefficient2!$A$4:$B$7,2,FALSE))","v":0.37123109999999998},{"$f":"IF(C2599=1,\"0\",VLOOKUP(C2599,coefficient2!$A$10:$B$13,2,FALSE))","v":"0"},{"$f":"IF(D2599=1,\"0\",VLOOKUP(D2599,coefficient2!$A$16:$B$19,2,FALSE))","v":0.1534855},{"$f":"IF(E2599=1,\"0\",VLOOKUP(E2599,coefficient2!$A$22:$B$25,2,FALSE))","v":0.25643310000000002},{"$f":"IF(F2599=1,\"0\",VLOOKUP(F2599,coefficient2!$A$28:$B$31,2,FALSE))","v":9.5753900000000003E-2},0.12309640000000005]
[51454,5,1,4,5,4,19,{"$f":"IF(B2600=1,\"0\",VLOOKUP(B2600,coefficient2!$A$4:$B$7,2,FALSE))","v":0.37123109999999998},{"$f":"IF(C2600=1,\"0\",VLOOKUP(C2600,coefficient2!$A$10:$B$13,2,FALSE))","v":"0"},{"$f":"IF(D2600=1,\"0\",VLOOKUP(D2600,coefficient2!$A$16:$B$19,2,FALSE))","v":0.1534855},{"$f":"IF(E2600=1,\"0\",VLOOKUP(E2600,coefficient2!$A$22:$B$25,2,FALSE))","v":0.25643310000000002},{"$f":"IF(F2600=1,\"0\",VLOOKUP(F2600,coefficient2!$A$28:$B$31,2,FALSE))","v":0.23270360000000001},-1.3853299999999957E-2]
[51455,5,1,4,5,5,20,{"$f":"IF(B2601=1,\"0\",VLOOKUP(B2601,coefficient2!$A$4:$B$7,2,FALSE))","v":0.37123109999999998},{"$f":"IF(C2601=1,\"0\",VLOOKUP(C2601,coefficient2!$A$10:$B$13,2,FALSE))","v":"0"},{"$f":"IF(D2601=1,\"0\",VLOOKUP(D2601,coefficient2!$A$16:$B$19,2,FALSE))","v":0.1534855},{"$f":"IF(E2601=1,\"0\",VLOOKUP(E2601,coefficient2!$A$22:$B$25,2,FALSE))","v":0.25643310000000002},{"$f":"IF(F2601=1,\"0\",VLOOKUP(F2601,coefficient2!$A$28:$B$31,2,FALSE))","v":0.29534929999999998},-7.6498999999999928E-2]
[51511,5,1,5,1,1,13,{"$f":"IF(B2602=1,\"0\",VLOOKUP(B2602,coefficient2!$A$4:$B$7,2,FALSE))","v":0.37123109999999998},{"$f":"IF(C2602=1,\"0\",VLOOKUP(C2602,coefficient2!$A$10:$B$13,2,FALSE))","v":"0"},{"$f":"IF(D2602=1,\"0\",VLOOKUP(D2602,coefficient2!$A$16:$B$19,2,FALSE))","v":0.248331},{"$f":"IF(E2602=1,\"0\",VLOOKUP(E2602,coefficient2!$A$22:$B$25,2,FALSE))","v":"0"},{"$f":"IF(F2602=1,\"0\",VLOOKUP(F2602,coefficient2!$A$28:$B$31,2,FALSE))","v":"0"},0.38043790000000011]
[51512,5,1,5,1,2,14,{"$f":"IF(B2603=1,\"0\",VLOOKUP(B2603,coefficient2!$A$4:$B$7,2,FALSE))","v":0.37123109999999998},{"$f":"IF(C2603=1,\"0\",VLOOKUP(C2603,coefficient2!$A$10:$B$13,2,FALSE))","v":"0"},{"$f":"IF(D2603=1,\"0\",VLOOKUP(D2603,coefficient2!$A$16:$B$19,2,FALSE))","v":0.248331},{"$f":"IF(E2603=1,\"0\",VLOOKUP(E2603,coefficient2!$A$22:$B$25,2,FALSE))","v":"0"},{"$f":"IF(F2603=1,\"0\",VLOOKUP(F2603,coefficient2!$A$28:$B$31,2,FALSE))","v":5.8085699999999997E-2},0.32235220000000009]
[51513,5,1,5,1,3,15,{"$f":"IF(B2604=1,\"0\",VLOOKUP(B2604,coefficient2!$A$4:$B$7,2,FALSE))","v":0.37123109999999998},{"$f":"IF(C2604=1,\"0\",VLOOKUP(C2604,coefficient2!$A$10:$B$13,2,FALSE))","v":"0"},{"$f":"IF(D2604=1,\"0\",VLOOKUP(D2604,coefficient2!$A$16:$B$19,2,FALSE))","v":0.248331},{"$f":"IF(E2604=1,\"0\",VLOOKUP(E2604,coefficient2!$A$22:$B$25,2,FALSE))","v":"0"},{"$f":"IF(F2604=1,\"0\",VLOOKUP(F2604,coefficient2!$A$28:$B$31,2,FALSE))","v":9.5753900000000003E-2},0.2846840000000001]
[51514,5,1,5,1,4,16,{"$f":"IF(B2605=1,\"0\",VLOOKUP(B2605,coefficient2!$A$4:$B$7,2,FALSE))","v":0.37123109999999998},{"$f":"IF(C2605=1,\"0\",VLOOKUP(C2605,coefficient2!$A$10:$B$13,2,FALSE))","v":"0"},{"$f":"IF(D2605=1,\"0\",VLOOKUP(D2605,coefficient2!$A$16:$B$19,2,FALSE))","v":0.248331},{"$f":"IF(E2605=1,\"0\",VLOOKUP(E2605,coefficient2!$A$22:$B$25,2,FALSE))","v":"0"},{"$f":"IF(F2605=1,\"0\",VLOOKUP(F2605,coefficient2!$A$28:$B$31,2,FALSE))","v":0.23270360000000001},0.1477343000000001]
[51515,5,1,5,1,5,17,{"$f":"IF(B2606=1,\"0\",VLOOKUP(B2606,coefficient2!$A$4:$B$7,2,FALSE))","v":0.37123109999999998},{"$f":"IF(C2606=1,\"0\",VLOOKUP(C2606,coefficient2!$A$10:$B$13,2,FALSE))","v":"0"},{"$f":"IF(D2606=1,\"0\",VLOOKUP(D2606,coefficient2!$A$16:$B$19,2,FALSE))","v":0.248331},{"$f":"IF(E2606=1,\"0\",VLOOKUP(E2606,coefficient2!$A$22:$B$25,2,FALSE))","v":"0"},{"$f":"IF(F2606=1,\"0\",VLOOKUP(F2606,coefficient2!$A$28:$B$31,2,FALSE))","v":0.29534929999999998},8.5088600000000125E-2]
[51521,5,1,5,2,1,14,{"$f":"IF(B2607=1,\"0\",VLOOKUP(B2607,coefficient2!$A$4:$B$7,2,FALSE))","v":0.37123109999999998},{"$f":"IF(C2607=1,\"0\",VLOOKUP(C2607,coefficient2!$A$10:$B$13,2,FALSE))","v":"0"},{"$f":"IF(D2607=1,\"0\",VLOOKUP(D2607,coefficient2!$A$16:$B$19,2,FALSE))","v":0.248331},{"$f":"IF(E2607=1,\"0\",VLOOKUP(E2607,coefficient2!$A$22:$B$25,2,FALSE))","v":5.63998E-2},{"$f":"IF(F2607=1,\"0\",VLOOKUP(F2607,coefficient2!$A$28:$B$31,2,FALSE))","v":"0"},0.32403810000000011]
[51522,5,1,5,2,2,15,{"$f":"IF(B2608=1,\"0\",VLOOKUP(B2608,coefficient2!$A$4:$B$7,2,FALSE))","v":0.37123109999999998},{"$f":"IF(C2608=1,\"0\",VLOOKUP(C2608,coefficient2!$A$10:$B$13,2,FALSE))","v":"0"},{"$f":"IF(D2608=1,\"0\",VLOOKUP(D2608,coefficient2!$A$16:$B$19,2,FALSE))","v":0.248331},{"$f":"IF(E2608=1,\"0\",VLOOKUP(E2608,coefficient2!$A$22:$B$25,2,FALSE))","v":5.63998E-2},{"$f":"IF(F2608=1,\"0\",VLOOKUP(F2608,coefficient2!$A$28:$B$31,2,FALSE))","v":5.8085699999999997E-2},0.26595240000000009]
[51523,5,1,5,2,3,16,{"$f":"IF(B2609=1,\"0\",VLOOKUP(B2609,coefficient2!$A$4:$B$7,2,FALSE))","v":0.37123109999999998},{"$f":"IF(C2609=1,\"0\",VLOOKUP(C2609,coefficient2!$A$10:$B$13,2,FALSE))","v":"0"},{"$f":"IF(D2609=1,\"0\",VLOOKUP(D2609,coefficient2!$A$16:$B$19,2,FALSE))","v":0.248331},{"$f":"IF(E2609=1,\"0\",VLOOKUP(E2609,coefficient2!$A$22:$B$25,2,FALSE))","v":5.63998E-2},{"$f":"IF(F2609=1,\"0\",VLOOKUP(F2609,coefficient2!$A$28:$B$31,2,FALSE))","v":9.5753900000000003E-2},0.2282842000000001]
[51524,5,1,5,2,4,17,{"$f":"IF(B2610=1,\"0\",VLOOKUP(B2610,coefficient2!$A$4:$B$7,2,FALSE))","v":0.37123109999999998},{"$f":"IF(C2610=1,\"0\",VLOOKUP(C2610,coefficient2!$A$10:$B$13,2,FALSE))","v":"0"},{"$f":"IF(D2610=1,\"0\",VLOOKUP(D2610,coefficient2!$A$16:$B$19,2,FALSE))","v":0.248331},{"$f":"IF(E2610=1,\"0\",VLOOKUP(E2610,coefficient2!$A$22:$B$25,2,FALSE))","v":5.63998E-2},{"$f":"IF(F2610=1,\"0\",VLOOKUP(F2610,coefficient2!$A$28:$B$31,2,FALSE))","v":0.23270360000000001},9.1334500000000096E-2]
[51525,5,1,5,2,5,18,{"$f":"IF(B2611=1,\"0\",VLOOKUP(B2611,coefficient2!$A$4:$B$7,2,FALSE))","v":0.37123109999999998},{"$f":"IF(C2611=1,\"0\",VLOOKUP(C2611,coefficient2!$A$10:$B$13,2,FALSE))","v":"0"},{"$f":"IF(D2611=1,\"0\",VLOOKUP(D2611,coefficient2!$A$16:$B$19,2,FALSE))","v":0.248331},{"$f":"IF(E2611=1,\"0\",VLOOKUP(E2611,coefficient2!$A$22:$B$25,2,FALSE))","v":5.63998E-2},{"$f":"IF(F2611=1,\"0\",VLOOKUP(F2611,coefficient2!$A$28:$B$31,2,FALSE))","v":0.29534929999999998},2.8688800000000125E-2]
[51531,5,1,5,3,1,15,{"$f":"IF(B2612=1,\"0\",VLOOKUP(B2612,coefficient2!$A$4:$B$7,2,FALSE))","v":0.37123109999999998},{"$f":"IF(C2612=1,\"0\",VLOOKUP(C2612,coefficient2!$A$10:$B$13,2,FALSE))","v":"0"},{"$f":"IF(D2612=1,\"0\",VLOOKUP(D2612,coefficient2!$A$16:$B$19,2,FALSE))","v":0.248331},{"$f":"IF(E2612=1,\"0\",VLOOKUP(E2612,coefficient2!$A$22:$B$25,2,FALSE))","v":6.6492200000000001E-2},{"$f":"IF(F2612=1,\"0\",VLOOKUP(F2612,coefficient2!$A$28:$B$31,2,FALSE))","v":"0"},0.31394570000000011]
[51532,5,1,5,3,2,16,{"$f":"IF(B2613=1,\"0\",VLOOKUP(B2613,coefficient2!$A$4:$B$7,2,FALSE))","v":0.37123109999999998},{"$f":"IF(C2613=1,\"0\",VLOOKUP(C2613,coefficient2!$A$10:$B$13,2,FALSE))","v":"0"},{"$f":"IF(D2613=1,\"0\",VLOOKUP(D2613,coefficient2!$A$16:$B$19,2,FALSE))","v":0.248331},{"$f":"IF(E2613=1,\"0\",VLOOKUP(E2613,coefficient2!$A$22:$B$25,2,FALSE))","v":6.6492200000000001E-2},{"$f":"IF(F2613=1,\"0\",VLOOKUP(F2613,coefficient2!$A$28:$B$31,2,FALSE))","v":5.8085699999999997E-2},0.25586000000000009]
[51533,5,1,5,3,3,17,{"$f":"IF(B2614=1,\"0\",VLOOKUP(B2614,coefficient2!$A$4:$B$7,2,FALSE))","v":0.37123109999999998},{"$f":"IF(C2614=1,\"0\",VLOOKUP(C2614,coefficient2!$A$10:$B$13,2,FALSE))","v":"0"},{"$f":"IF(D2614=1,\"0\",VLOOKUP(D2614,coefficient2!$A$16:$B$19,2,FALSE))","v":0.248331},{"$f":"IF(E2614=1,\"0\",VLOOKUP(E2614,coefficient2!$A$22:$B$25,2,FALSE))","v":6.6492200000000001E-2},{"$f":"IF(F2614=1,\"0\",VLOOKUP(F2614,coefficient2!$A$28:$B$31,2,FALSE))","v":9.5753900000000003E-2},0.2181918000000001]
[51534,5,1,5,3,4,18,{"$f":"IF(B2615=1,\"0\",VLOOKUP(B2615,coefficient2!$A$4:$B$7,2,FALSE))","v":0.37123109999999998},{"$f":"IF(C2615=1,\"0\",VLOOKUP(C2615,coefficient2!$A$10:$B$13,2,FALSE))","v":"0"},{"$f":"IF(D2615=1,\"0\",VLOOKUP(D2615,coefficient2!$A$16:$B$19,2,FALSE))","v":0.248331},{"$f":"IF(E2615=1,\"0\",VLOOKUP(E2615,coefficient2!$A$22:$B$25,2,FALSE))","v":6.6492200000000001E-2},{"$f":"IF(F2615=1,\"0\",VLOOKUP(F2615,coefficient2!$A$28:$B$31,2,FALSE))","v":0.23270360000000001},8.1242100000000095E-2]
[51535,5,1,5,3,5,19,{"$f":"IF(B2616=1,\"0\",VLOOKUP(B2616,coefficient2!$A$4:$B$7,2,FALSE))","v":0.37123109999999998},{"$f":"IF(C2616=1,\"0\",VLOOKUP(C2616,coefficient2!$A$10:$B$13,2,FALSE))","v":"0"},{"$f":"IF(D2616=1,\"0\",VLOOKUP(D2616,coefficient2!$A$16:$B$19,2,FALSE))","v":0.248331},{"$f":"IF(E2616=1,\"0\",VLOOKUP(E2616,coefficient2!$A$22:$B$25,2,FALSE))","v":6.6492200000000001E-2},{"$f":"IF(F2616=1,\"0\",VLOOKUP(F2616,coefficient2!$A$28:$B$31,2,FALSE))","v":0.29534929999999998},1.8596400000000124E-2]
[51541,5,1,5,4,1,16,{"$f":"IF(B2617=1,\"0\",VLOOKUP(B2617,coefficient2!$A$4:$B$7,2,FALSE))","v":0.37123109999999998},{"$f":"IF(C2617=1,\"0\",VLOOKUP(C2617,coefficient2!$A$10:$B$13,2,FALSE))","v":"0"},{"$f":"IF(D2617=1,\"0\",VLOOKUP(D2617,coefficient2!$A$16:$B$19,2,FALSE))","v":0.248331},{"$f":"IF(E2617=1,\"0\",VLOOKUP(E2617,coefficient2!$A$22:$B$25,2,FALSE))","v":0.2068864},{"$f":"IF(F2617=1,\"0\",VLOOKUP(F2617,coefficient2!$A$28:$B$31,2,FALSE))","v":"0"},0.17355150000000011]
[51542,5,1,5,4,2,17,{"$f":"IF(B2618=1,\"0\",VLOOKUP(B2618,coefficient2!$A$4:$B$7,2,FALSE))","v":0.37123109999999998},{"$f":"IF(C2618=1,\"0\",VLOOKUP(C2618,coefficient2!$A$10:$B$13,2,FALSE))","v":"0"},{"$f":"IF(D2618=1,\"0\",VLOOKUP(D2618,coefficient2!$A$16:$B$19,2,FALSE))","v":0.248331},{"$f":"IF(E2618=1,\"0\",VLOOKUP(E2618,coefficient2!$A$22:$B$25,2,FALSE))","v":0.2068864},{"$f":"IF(F2618=1,\"0\",VLOOKUP(F2618,coefficient2!$A$28:$B$31,2,FALSE))","v":5.8085699999999997E-2},0.11546580000000012]
[51543,5,1,5,4,3,18,{"$f":"IF(B2619=1,\"0\",VLOOKUP(B2619,coefficient2!$A$4:$B$7,2,FALSE))","v":0.37123109999999998},{"$f":"IF(C2619=1,\"0\",VLOOKUP(C2619,coefficient2!$A$10:$B$13,2,FALSE))","v":"0"},{"$f":"IF(D2619=1,\"0\",VLOOKUP(D2619,coefficient2!$A$16:$B$19,2,FALSE))","v":0.248331},{"$f":"IF(E2619=1,\"0\",VLOOKUP(E2619,coefficient2!$A$22:$B$25,2,FALSE))","v":0.2068864},{"$f":"IF(F2619=1,\"0\",VLOOKUP(F2619,coefficient2!$A$28:$B$31,2,FALSE))","v":9.5753900000000003E-2},7.7797600000000106E-2]
[51544,5,1,5,4,4,19,{"$f":"IF(B2620=1,\"0\",VLOOKUP(B2620,coefficient2!$A$4:$B$7,2,FALSE))","v":0.37123109999999998},{"$f":"IF(C2620=1,\"0\",VLOOKUP(C2620,coefficient2!$A$10:$B$13,2,FALSE))","v":"0"},{"$f":"IF(D2620=1,\"0\",VLOOKUP(D2620,coefficient2!$A$16:$B$19,2,FALSE))","v":0.248331},{"$f":"IF(E2620=1,\"0\",VLOOKUP(E2620,coefficient2!$A$22:$B$25,2,FALSE))","v":0.2068864},{"$f":"IF(F2620=1,\"0\",VLOOKUP(F2620,coefficient2!$A$28:$B$31,2,FALSE))","v":0.23270360000000001},-5.9152099999999902E-2]
[51545,5,1,5,4,5,20,{"$f":"IF(B2621=1,\"0\",VLOOKUP(B2621,coefficient2!$A$4:$B$7,2,FALSE))","v":0.37123109999999998},{"$f":"IF(C2621=1,\"0\",VLOOKUP(C2621,coefficient2!$A$10:$B$13,2,FALSE))","v":"0"},{"$f":"IF(D2621=1,\"0\",VLOOKUP(D2621,coefficient2!$A$16:$B$19,2,FALSE))","v":0.248331},{"$f":"IF(E2621=1,\"0\",VLOOKUP(E2621,coefficient2!$A$22:$B$25,2,FALSE))","v":0.2068864},{"$f":"IF(F2621=1,\"0\",VLOOKUP(F2621,coefficient2!$A$28:$B$31,2,FALSE))","v":0.29534929999999998},-0.12179779999999987]
[51551,5,1,5,5,1,17,{"$f":"IF(B2622=1,\"0\",VLOOKUP(B2622,coefficient2!$A$4:$B$7,2,FALSE))","v":0.37123109999999998},{"$f":"IF(C2622=1,\"0\",VLOOKUP(C2622,coefficient2!$A$10:$B$13,2,FALSE))","v":"0"},{"$f":"IF(D2622=1,\"0\",VLOOKUP(D2622,coefficient2!$A$16:$B$19,2,FALSE))","v":0.248331},{"$f":"IF(E2622=1,\"0\",VLOOKUP(E2622,coefficient2!$A$22:$B$25,2,FALSE))","v":0.25643310000000002},{"$f":"IF(F2622=1,\"0\",VLOOKUP(F2622,coefficient2!$A$28:$B$31,2,FALSE))","v":"0"},0.12400480000000008]
[51552,5,1,5,5,2,18,{"$f":"IF(B2623=1,\"0\",VLOOKUP(B2623,coefficient2!$A$4:$B$7,2,FALSE))","v":0.37123109999999998},{"$f":"IF(C2623=1,\"0\",VLOOKUP(C2623,coefficient2!$A$10:$B$13,2,FALSE))","v":"0"},{"$f":"IF(D2623=1,\"0\",VLOOKUP(D2623,coefficient2!$A$16:$B$19,2,FALSE))","v":0.248331},{"$f":"IF(E2623=1,\"0\",VLOOKUP(E2623,coefficient2!$A$22:$B$25,2,FALSE))","v":0.25643310000000002},{"$f":"IF(F2623=1,\"0\",VLOOKUP(F2623,coefficient2!$A$28:$B$31,2,FALSE))","v":5.8085699999999997E-2},6.5919100000000092E-2]
[51553,5,1,5,5,3,19,{"$f":"IF(B2624=1,\"0\",VLOOKUP(B2624,coefficient2!$A$4:$B$7,2,FALSE))","v":0.37123109999999998},{"$f":"IF(C2624=1,\"0\",VLOOKUP(C2624,coefficient2!$A$10:$B$13,2,FALSE))","v":"0"},{"$f":"IF(D2624=1,\"0\",VLOOKUP(D2624,coefficient2!$A$16:$B$19,2,FALSE))","v":0.248331},{"$f":"IF(E2624=1,\"0\",VLOOKUP(E2624,coefficient2!$A$22:$B$25,2,FALSE))","v":0.25643310000000002},{"$f":"IF(F2624=1,\"0\",VLOOKUP(F2624,coefficient2!$A$28:$B$31,2,FALSE))","v":9.5753900000000003E-2},2.8250900000000079E-2]
[51554,5,1,5,5,4,20,{"$f":"IF(B2625=1,\"0\",VLOOKUP(B2625,coefficient2!$A$4:$B$7,2,FALSE))","v":0.37123109999999998},{"$f":"IF(C2625=1,\"0\",VLOOKUP(C2625,coefficient2!$A$10:$B$13,2,FALSE))","v":"0"},{"$f":"IF(D2625=1,\"0\",VLOOKUP(D2625,coefficient2!$A$16:$B$19,2,FALSE))","v":0.248331},{"$f":"IF(E2625=1,\"0\",VLOOKUP(E2625,coefficient2!$A$22:$B$25,2,FALSE))","v":0.25643310000000002},{"$f":"IF(F2625=1,\"0\",VLOOKUP(F2625,coefficient2!$A$28:$B$31,2,FALSE))","v":0.23270360000000001},-0.10869879999999993]
[51555,5,1,5,5,5,21,{"$f":"IF(B2626=1,\"0\",VLOOKUP(B2626,coefficient2!$A$4:$B$7,2,FALSE))","v":0.37123109999999998},{"$f":"IF(C2626=1,\"0\",VLOOKUP(C2626,coefficient2!$A$10:$B$13,2,FALSE))","v":"0"},{"$f":"IF(D2626=1,\"0\",VLOOKUP(D2626,coefficient2!$A$16:$B$19,2,FALSE))","v":0.248331},{"$f":"IF(E2626=1,\"0\",VLOOKUP(E2626,coefficient2!$A$22:$B$25,2,FALSE))","v":0.25643310000000002},{"$f":"IF(F2626=1,\"0\",VLOOKUP(F2626,coefficient2!$A$28:$B$31,2,FALSE))","v":0.29534929999999998},{"$f":"1-H2626-I2626-J2626-K2626-L2626","v":-0.1713444999999999}]
[52111,{"$f":"INT(LEFT(A2627,1))","v":5},{"$f":"INT(MID(A2627,2,1))","v":2},{"$f":"INT(MID(A2627,3,1))","v":1},{"$f":"INT(MID(A2627,4,1))","v":1},{"$f":"INT(RIGHT(A2627,1))","v":1},10,{"$f":"IF(B2627=1,\"0\",VLOOKUP(B2627,coefficient2!$A$4:$B$7,2,FALSE))","v":0.37123109999999998},{"$f":"IF(C2627=1,\"0\",VLOOKUP(C2627,coefficient2!$A$10:$B$13,2,FALSE))","v":5.8129300000000002E-2},{"$f":"IF(D2627=1,\"0\",VLOOKUP(D2627,coefficient2!$A$16:$B$19,2,FALSE))","v":"0"},{"$f":"IF(E2627=1,\"0\",VLOOKUP(E2627,coefficient2!$A$22:$B$25,2,FALSE))","v":"0"},{"$f":"IF(F2627=1,\"0\",VLOOKUP(F2627,coefficient2!$A$28:$B$31,2,FALSE))","v":"0"},0.57063960000000002]
[52112,5,2,1,1,2,11,{"$f":"IF(B2628=1,\"0\",VLOOKUP(B2628,coefficient2!$A$4:$B$7,2,FALSE))","v":0.37123109999999998},{"$f":"IF(C2628=1,\"0\",VLOOKUP(C2628,coefficient2!$A$10:$B$13,2,FALSE))","v":5.8129300000000002E-2},{"$f":"IF(D2628=1,\"0\",VLOOKUP(D2628,coefficient2!$A$16:$B$19,2,FALSE))","v":"0"},{"$f":"IF(E2628=1,\"0\",VLOOKUP(E2628,coefficient2!$A$22:$B$25,2,FALSE))","v":"0"},{"$f":"IF(F2628=1,\"0\",VLOOKUP(F2628,coefficient2!$A$28:$B$31,2,FALSE))","v":5.8085699999999997E-2},0.51255390000000001]
[52113,5,2,1,1,3,12,{"$f":"IF(B2629=1,\"0\",VLOOKUP(B2629,coefficient2!$A$4:$B$7,2,FALSE))","v":0.37123109999999998},{"$f":"IF(C2629=1,\"0\",VLOOKUP(C2629,coefficient2!$A$10:$B$13,2,FALSE))","v":5.8129300000000002E-2},{"$f":"IF(D2629=1,\"0\",VLOOKUP(D2629,coefficient2!$A$16:$B$19,2,FALSE))","v":"0"},{"$f":"IF(E2629=1,\"0\",VLOOKUP(E2629,coefficient2!$A$22:$B$25,2,FALSE))","v":"0"},{"$f":"IF(F2629=1,\"0\",VLOOKUP(F2629,coefficient2!$A$28:$B$31,2,FALSE))","v":9.5753900000000003E-2},0.47488570000000002]
[52114,5,2,1,1,4,13,{"$f":"IF(B2630=1,\"0\",VLOOKUP(B2630,coefficient2!$A$4:$B$7,2,FALSE))","v":0.37123109999999998},{"$f":"IF(C2630=1,\"0\",VLOOKUP(C2630,coefficient2!$A$10:$B$13,2,FALSE))","v":5.8129300000000002E-2},{"$f":"IF(D2630=1,\"0\",VLOOKUP(D2630,coefficient2!$A$16:$B$19,2,FALSE))","v":"0"},{"$f":"IF(E2630=1,\"0\",VLOOKUP(E2630,coefficient2!$A$22:$B$25,2,FALSE))","v":"0"},{"$f":"IF(F2630=1,\"0\",VLOOKUP(F2630,coefficient2!$A$28:$B$31,2,FALSE))","v":0.23270360000000001},0.33793600000000001]
[52115,5,2,1,1,5,14,{"$f":"IF(B2631=1,\"0\",VLOOKUP(B2631,coefficient2!$A$4:$B$7,2,FALSE))","v":0.37123109999999998},{"$f":"IF(C2631=1,\"0\",VLOOKUP(C2631,coefficient2!$A$10:$B$13,2,FALSE))","v":5.8129300000000002E-2},{"$f":"IF(D2631=1,\"0\",VLOOKUP(D2631,coefficient2!$A$16:$B$19,2,FALSE))","v":"0"},{"$f":"IF(E2631=1,\"0\",VLOOKUP(E2631,coefficient2!$A$22:$B$25,2,FALSE))","v":"0"},{"$f":"IF(F2631=1,\"0\",VLOOKUP(F2631,coefficient2!$A$28:$B$31,2,FALSE))","v":0.29534929999999998},0.27529030000000004]
[52121,5,2,1,2,1,11,{"$f":"IF(B2632=1,\"0\",VLOOKUP(B2632,coefficient2!$A$4:$B$7,2,FALSE))","v":0.37123109999999998},{"$f":"IF(C2632=1,\"0\",VLOOKUP(C2632,coefficient2!$A$10:$B$13,2,FALSE))","v":5.8129300000000002E-2},{"$f":"IF(D2632=1,\"0\",VLOOKUP(D2632,coefficient2!$A$16:$B$19,2,FALSE))","v":"0"},{"$f":"IF(E2632=1,\"0\",VLOOKUP(E2632,coefficient2!$A$22:$B$25,2,FALSE))","v":5.63998E-2},{"$f":"IF(F2632=1,\"0\",VLOOKUP(F2632,coefficient2!$A$28:$B$31,2,FALSE))","v":"0"},0.51423980000000002]
[52122,5,2,1,2,2,12,{"$f":"IF(B2633=1,\"0\",VLOOKUP(B2633,coefficient2!$A$4:$B$7,2,FALSE))","v":0.37123109999999998},{"$f":"IF(C2633=1,\"0\",VLOOKUP(C2633,coefficient2!$A$10:$B$13,2,FALSE))","v":5.8129300000000002E-2},{"$f":"IF(D2633=1,\"0\",VLOOKUP(D2633,coefficient2!$A$16:$B$19,2,FALSE))","v":"0"},{"$f":"IF(E2633=1,\"0\",VLOOKUP(E2633,coefficient2!$A$22:$B$25,2,FALSE))","v":5.63998E-2},{"$f":"IF(F2633=1,\"0\",VLOOKUP(F2633,coefficient2!$A$28:$B$31,2,FALSE))","v":5.8085699999999997E-2},0.45615410000000001]
[52123,5,2,1,2,3,13,{"$f":"IF(B2634=1,\"0\",VLOOKUP(B2634,coefficient2!$A$4:$B$7,2,FALSE))","v":0.37123109999999998},{"$f":"IF(C2634=1,\"0\",VLOOKUP(C2634,coefficient2!$A$10:$B$13,2,FALSE))","v":5.8129300000000002E-2},{"$f":"IF(D2634=1,\"0\",VLOOKUP(D2634,coefficient2!$A$16:$B$19,2,FALSE))","v":"0"},{"$f":"IF(E2634=1,\"0\",VLOOKUP(E2634,coefficient2!$A$22:$B$25,2,FALSE))","v":5.63998E-2},{"$f":"IF(F2634=1,\"0\",VLOOKUP(F2634,coefficient2!$A$28:$B$31,2,FALSE))","v":9.5753900000000003E-2},0.41848590000000002]
[52124,5,2,1,2,4,14,{"$f":"IF(B2635=1,\"0\",VLOOKUP(B2635,coefficient2!$A$4:$B$7,2,FALSE))","v":0.37123109999999998},{"$f":"IF(C2635=1,\"0\",VLOOKUP(C2635,coefficient2!$A$10:$B$13,2,FALSE))","v":5.8129300000000002E-2},{"$f":"IF(D2635=1,\"0\",VLOOKUP(D2635,coefficient2!$A$16:$B$19,2,FALSE))","v":"0"},{"$f":"IF(E2635=1,\"0\",VLOOKUP(E2635,coefficient2!$A$22:$B$25,2,FALSE))","v":5.63998E-2},{"$f":"IF(F2635=1,\"0\",VLOOKUP(F2635,coefficient2!$A$28:$B$31,2,FALSE))","v":0.23270360000000001},0.28153620000000001]
[52125,5,2,1,2,5,15,{"$f":"IF(B2636=1,\"0\",VLOOKUP(B2636,coefficient2!$A$4:$B$7,2,FALSE))","v":0.37123109999999998},{"$f":"IF(C2636=1,\"0\",VLOOKUP(C2636,coefficient2!$A$10:$B$13,2,FALSE))","v":5.8129300000000002E-2},{"$f":"IF(D2636=1,\"0\",VLOOKUP(D2636,coefficient2!$A$16:$B$19,2,FALSE))","v":"0"},{"$f":"IF(E2636=1,\"0\",VLOOKUP(E2636,coefficient2!$A$22:$B$25,2,FALSE))","v":5.63998E-2},{"$f":"IF(F2636=1,\"0\",VLOOKUP(F2636,coefficient2!$A$28:$B$31,2,FALSE))","v":0.29534929999999998},0.21889050000000004]
[52131,5,2,1,3,1,12,{"$f":"IF(B2637=1,\"0\",VLOOKUP(B2637,coefficient2!$A$4:$B$7,2,FALSE))","v":0.37123109999999998},{"$f":"IF(C2637=1,\"0\",VLOOKUP(C2637,coefficient2!$A$10:$B$13,2,FALSE))","v":5.8129300000000002E-2},{"$f":"IF(D2637=1,\"0\",VLOOKUP(D2637,coefficient2!$A$16:$B$19,2,FALSE))","v":"0"},{"$f":"IF(E2637=1,\"0\",VLOOKUP(E2637,coefficient2!$A$22:$B$25,2,FALSE))","v":6.6492200000000001E-2},{"$f":"IF(F2637=1,\"0\",VLOOKUP(F2637,coefficient2!$A$28:$B$31,2,FALSE))","v":"0"},0.50414740000000002]
[52132,5,2,1,3,2,13,{"$f":"IF(B2638=1,\"0\",VLOOKUP(B2638,coefficient2!$A$4:$B$7,2,FALSE))","v":0.37123109999999998},{"$f":"IF(C2638=1,\"0\",VLOOKUP(C2638,coefficient2!$A$10:$B$13,2,FALSE))","v":5.8129300000000002E-2},{"$f":"IF(D2638=1,\"0\",VLOOKUP(D2638,coefficient2!$A$16:$B$19,2,FALSE))","v":"0"},{"$f":"IF(E2638=1,\"0\",VLOOKUP(E2638,coefficient2!$A$22:$B$25,2,FALSE))","v":6.6492200000000001E-2},{"$f":"IF(F2638=1,\"0\",VLOOKUP(F2638,coefficient2!$A$28:$B$31,2,FALSE))","v":5.8085699999999997E-2},0.44606170000000001]
[52133,5,2,1,3,3,14,{"$f":"IF(B2639=1,\"0\",VLOOKUP(B2639,coefficient2!$A$4:$B$7,2,FALSE))","v":0.37123109999999998},{"$f":"IF(C2639=1,\"0\",VLOOKUP(C2639,coefficient2!$A$10:$B$13,2,FALSE))","v":5.8129300000000002E-2},{"$f":"IF(D2639=1,\"0\",VLOOKUP(D2639,coefficient2!$A$16:$B$19,2,FALSE))","v":"0"},{"$f":"IF(E2639=1,\"0\",VLOOKUP(E2639,coefficient2!$A$22:$B$25,2,FALSE))","v":6.6492200000000001E-2},{"$f":"IF(F2639=1,\"0\",VLOOKUP(F2639,coefficient2!$A$28:$B$31,2,FALSE))","v":9.5753900000000003E-2},0.40839350000000002]
[52134,5,2,1,3,4,15,{"$f":"IF(B2640=1,\"0\",VLOOKUP(B2640,coefficient2!$A$4:$B$7,2,FALSE))","v":0.37123109999999998},{"$f":"IF(C2640=1,\"0\",VLOOKUP(C2640,coefficient2!$A$10:$B$13,2,FALSE))","v":5.8129300000000002E-2},{"$f":"IF(D2640=1,\"0\",VLOOKUP(D2640,coefficient2!$A$16:$B$19,2,FALSE))","v":"0"},{"$f":"IF(E2640=1,\"0\",VLOOKUP(E2640,coefficient2!$A$22:$B$25,2,FALSE))","v":6.6492200000000001E-2},{"$f":"IF(F2640=1,\"0\",VLOOKUP(F2640,coefficient2!$A$28:$B$31,2,FALSE))","v":0.23270360000000001},0.27144380000000001]
[52135,5,2,1,3,5,16,{"$f":"IF(B2641=1,\"0\",VLOOKUP(B2641,coefficient2!$A$4:$B$7,2,FALSE))","v":0.37123109999999998},{"$f":"IF(C2641=1,\"0\",VLOOKUP(C2641,coefficient2!$A$10:$B$13,2,FALSE))","v":5.8129300000000002E-2},{"$f":"IF(D2641=1,\"0\",VLOOKUP(D2641,coefficient2!$A$16:$B$19,2,FALSE))","v":"0"},{"$f":"IF(E2641=1,\"0\",VLOOKUP(E2641,coefficient2!$A$22:$B$25,2,FALSE))","v":6.6492200000000001E-2},{"$f":"IF(F2641=1,\"0\",VLOOKUP(F2641,coefficient2!$A$28:$B$31,2,FALSE))","v":0.29534929999999998},0.20879810000000004]
[52141,5,2,1,4,1,13,{"$f":"IF(B2642=1,\"0\",VLOOKUP(B2642,coefficient2!$A$4:$B$7,2,FALSE))","v":0.37123109999999998},{"$f":"IF(C2642=1,\"0\",VLOOKUP(C2642,coefficient2!$A$10:$B$13,2,FALSE))","v":5.8129300000000002E-2},{"$f":"IF(D2642=1,\"0\",VLOOKUP(D2642,coefficient2!$A$16:$B$19,2,FALSE))","v":"0"},{"$f":"IF(E2642=1,\"0\",VLOOKUP(E2642,coefficient2!$A$22:$B$25,2,FALSE))","v":0.2068864},{"$f":"IF(F2642=1,\"0\",VLOOKUP(F2642,coefficient2!$A$28:$B$31,2,FALSE))","v":"0"},0.3637532]
[52142,5,2,1,4,2,14,{"$f":"IF(B2643=1,\"0\",VLOOKUP(B2643,coefficient2!$A$4:$B$7,2,FALSE))","v":0.37123109999999998},{"$f":"IF(C2643=1,\"0\",VLOOKUP(C2643,coefficient2!$A$10:$B$13,2,FALSE))","v":5.8129300000000002E-2},{"$f":"IF(D2643=1,\"0\",VLOOKUP(D2643,coefficient2!$A$16:$B$19,2,FALSE))","v":"0"},{"$f":"IF(E2643=1,\"0\",VLOOKUP(E2643,coefficient2!$A$22:$B$25,2,FALSE))","v":0.2068864},{"$f":"IF(F2643=1,\"0\",VLOOKUP(F2643,coefficient2!$A$28:$B$31,2,FALSE))","v":5.8085699999999997E-2},0.30566749999999998]
[52143,5,2,1,4,3,15,{"$f":"IF(B2644=1,\"0\",VLOOKUP(B2644,coefficient2!$A$4:$B$7,2,FALSE))","v":0.37123109999999998},{"$f":"IF(C2644=1,\"0\",VLOOKUP(C2644,coefficient2!$A$10:$B$13,2,FALSE))","v":5.8129300000000002E-2},{"$f":"IF(D2644=1,\"0\",VLOOKUP(D2644,coefficient2!$A$16:$B$19,2,FALSE))","v":"0"},{"$f":"IF(E2644=1,\"0\",VLOOKUP(E2644,coefficient2!$A$22:$B$25,2,FALSE))","v":0.2068864},{"$f":"IF(F2644=1,\"0\",VLOOKUP(F2644,coefficient2!$A$28:$B$31,2,FALSE))","v":9.5753900000000003E-2},0.2679993]
[52144,5,2,1,4,4,{"$f":"SUM(B2645:F2645)","v":16},{"$f":"IF(B2645=1,\"0\",VLOOKUP(B2645,coefficient2!$A$4:$B$7,2,FALSE))","v":0.37123109999999998},{"$f":"IF(C2645=1,\"0\",VLOOKUP(C2645,coefficient2!$A$10:$B$13,2,FALSE))","v":5.8129300000000002E-2},{"$f":"IF(D2645=1,\"0\",VLOOKUP(D2645,coefficient2!$A$16:$B$19,2,FALSE))","v":"0"},{"$f":"IF(E2645=1,\"0\",VLOOKUP(E2645,coefficient2!$A$22:$B$25,2,FALSE))","v":0.2068864},{"$f":"IF(F2645=1,\"0\",VLOOKUP(F2645,coefficient2!$A$28:$B$31,2,FALSE))","v":0.23270360000000001},0.13104959999999999]
[52145,5,2,1,4,5,17,{"$f":"IF(B2646=1,\"0\",VLOOKUP(B2646,coefficient2!$A$4:$B$7,2,FALSE))","v":0.37123109999999998},{"$f":"IF(C2646=1,\"0\",VLOOKUP(C2646,coefficient2!$A$10:$B$13,2,FALSE))","v":5.8129300000000002E-2},{"$f":"IF(D2646=1,\"0\",VLOOKUP(D2646,coefficient2!$A$16:$B$19,2,FALSE))","v":"0"},{"$f":"IF(E2646=1,\"0\",VLOOKUP(E2646,coefficient2!$A$22:$B$25,2,FALSE))","v":0.2068864},{"$f":"IF(F2646=1,\"0\",VLOOKUP(F2646,coefficient2!$A$28:$B$31,2,FALSE))","v":0.29534929999999998},6.8403900000000017E-2]
[52151,5,2,1,5,1,14,{"$f":"IF(B2647=1,\"0\",VLOOKUP(B2647,coefficient2!$A$4:$B$7,2,FALSE))","v":0.37123109999999998},{"$f":"IF(C2647=1,\"0\",VLOOKUP(C2647,coefficient2!$A$10:$B$13,2,FALSE))","v":5.8129300000000002E-2},{"$f":"IF(D2647=1,\"0\",VLOOKUP(D2647,coefficient2!$A$16:$B$19,2,FALSE))","v":"0"},{"$f":"IF(E2647=1,\"0\",VLOOKUP(E2647,coefficient2!$A$22:$B$25,2,FALSE))","v":0.25643310000000002},{"$f":"IF(F2647=1,\"0\",VLOOKUP(F2647,coefficient2!$A$28:$B$31,2,FALSE))","v":"0"},0.3142065]
[52152,5,2,1,5,2,15,{"$f":"IF(B2648=1,\"0\",VLOOKUP(B2648,coefficient2!$A$4:$B$7,2,FALSE))","v":0.37123109999999998},{"$f":"IF(C2648=1,\"0\",VLOOKUP(C2648,coefficient2!$A$10:$B$13,2,FALSE))","v":5.8129300000000002E-2},{"$f":"IF(D2648=1,\"0\",VLOOKUP(D2648,coefficient2!$A$16:$B$19,2,FALSE))","v":"0"},{"$f":"IF(E2648=1,\"0\",VLOOKUP(E2648,coefficient2!$A$22:$B$25,2,FALSE))","v":0.25643310000000002},{"$f":"IF(F2648=1,\"0\",VLOOKUP(F2648,coefficient2!$A$28:$B$31,2,FALSE))","v":5.8085699999999997E-2},0.25612079999999998]
[52153,5,2,1,5,3,16,{"$f":"IF(B2649=1,\"0\",VLOOKUP(B2649,coefficient2!$A$4:$B$7,2,FALSE))","v":0.37123109999999998},{"$f":"IF(C2649=1,\"0\",VLOOKUP(C2649,coefficient2!$A$10:$B$13,2,FALSE))","v":5.8129300000000002E-2},{"$f":"IF(D2649=1,\"0\",VLOOKUP(D2649,coefficient2!$A$16:$B$19,2,FALSE))","v":"0"},{"$f":"IF(E2649=1,\"0\",VLOOKUP(E2649,coefficient2!$A$22:$B$25,2,FALSE))","v":0.25643310000000002},{"$f":"IF(F2649=1,\"0\",VLOOKUP(F2649,coefficient2!$A$28:$B$31,2,FALSE))","v":9.5753900000000003E-2},0.2184526]
[52154,5,2,1,5,4,17,{"$f":"IF(B2650=1,\"0\",VLOOKUP(B2650,coefficient2!$A$4:$B$7,2,FALSE))","v":0.37123109999999998},{"$f":"IF(C2650=1,\"0\",VLOOKUP(C2650,coefficient2!$A$10:$B$13,2,FALSE))","v":5.8129300000000002E-2},{"$f":"IF(D2650=1,\"0\",VLOOKUP(D2650,coefficient2!$A$16:$B$19,2,FALSE))","v":"0"},{"$f":"IF(E2650=1,\"0\",VLOOKUP(E2650,coefficient2!$A$22:$B$25,2,FALSE))","v":0.25643310000000002},{"$f":"IF(F2650=1,\"0\",VLOOKUP(F2650,coefficient2!$A$28:$B$31,2,FALSE))","v":0.23270360000000001},8.1502899999999989E-2]
[52155,5,2,1,5,5,18,{"$f":"IF(B2651=1,\"0\",VLOOKUP(B2651,coefficient2!$A$4:$B$7,2,FALSE))","v":0.37123109999999998},{"$f":"IF(C2651=1,\"0\",VLOOKUP(C2651,coefficient2!$A$10:$B$13,2,FALSE))","v":5.8129300000000002E-2},{"$f":"IF(D2651=1,\"0\",VLOOKUP(D2651,coefficient2!$A$16:$B$19,2,FALSE))","v":"0"},{"$f":"IF(E2651=1,\"0\",VLOOKUP(E2651,coefficient2!$A$22:$B$25,2,FALSE))","v":0.25643310000000002},{"$f":"IF(F2651=1,\"0\",VLOOKUP(F2651,coefficient2!$A$28:$B$31,2,FALSE))","v":0.29534929999999998},1.8857200000000018E-2]
[52211,5,2,2,1,1,11,{"$f":"IF(B2652=1,\"0\",VLOOKUP(B2652,coefficient2!$A$4:$B$7,2,FALSE))","v":0.37123109999999998},{"$f":"IF(C2652=1,\"0\",VLOOKUP(C2652,coefficient2!$A$10:$B$13,2,FALSE))","v":5.8129300000000002E-2},{"$f":"IF(D2652=1,\"0\",VLOOKUP(D2652,coefficient2!$A$16:$B$19,2,FALSE))","v":5.8254399999999998E-2},{"$f":"IF(E2652=1,\"0\",VLOOKUP(E2652,coefficient2!$A$22:$B$25,2,FALSE))","v":"0"},{"$f":"IF(F2652=1,\"0\",VLOOKUP(F2652,coefficient2!$A$28:$B$31,2,FALSE))","v":"0"},0.51238519999999999]
[52212,5,2,2,1,2,12,{"$f":"IF(B2653=1,\"0\",VLOOKUP(B2653,coefficient2!$A$4:$B$7,2,FALSE))","v":0.37123109999999998},{"$f":"IF(C2653=1,\"0\",VLOOKUP(C2653,coefficient2!$A$10:$B$13,2,FALSE))","v":5.8129300000000002E-2},{"$f":"IF(D2653=1,\"0\",VLOOKUP(D2653,coefficient2!$A$16:$B$19,2,FALSE))","v":5.8254399999999998E-2},{"$f":"IF(E2653=1,\"0\",VLOOKUP(E2653,coefficient2!$A$22:$B$25,2,FALSE))","v":"0"},{"$f":"IF(F2653=1,\"0\",VLOOKUP(F2653,coefficient2!$A$28:$B$31,2,FALSE))","v":5.8085699999999997E-2},0.45429949999999997]
[52213,5,2,2,1,3,13,{"$f":"IF(B2654=1,\"0\",VLOOKUP(B2654,coefficient2!$A$4:$B$7,2,FALSE))","v":0.37123109999999998},{"$f":"IF(C2654=1,\"0\",VLOOKUP(C2654,coefficient2!$A$10:$B$13,2,FALSE))","v":5.8129300000000002E-2},{"$f":"IF(D2654=1,\"0\",VLOOKUP(D2654,coefficient2!$A$16:$B$19,2,FALSE))","v":5.8254399999999998E-2},{"$f":"IF(E2654=1,\"0\",VLOOKUP(E2654,coefficient2!$A$22:$B$25,2,FALSE))","v":"0"},{"$f":"IF(F2654=1,\"0\",VLOOKUP(F2654,coefficient2!$A$28:$B$31,2,FALSE))","v":9.5753900000000003E-2},0.41663129999999998]
[52214,5,2,2,1,4,14,{"$f":"IF(B2655=1,\"0\",VLOOKUP(B2655,coefficient2!$A$4:$B$7,2,FALSE))","v":0.37123109999999998},{"$f":"IF(C2655=1,\"0\",VLOOKUP(C2655,coefficient2!$A$10:$B$13,2,FALSE))","v":5.8129300000000002E-2},{"$f":"IF(D2655=1,\"0\",VLOOKUP(D2655,coefficient2!$A$16:$B$19,2,FALSE))","v":5.8254399999999998E-2},{"$f":"IF(E2655=1,\"0\",VLOOKUP(E2655,coefficient2!$A$22:$B$25,2,FALSE))","v":"0"},{"$f":"IF(F2655=1,\"0\",VLOOKUP(F2655,coefficient2!$A$28:$B$31,2,FALSE))","v":0.23270360000000001},0.27968159999999997]
[52215,5,2,2,1,5,15,{"$f":"IF(B2656=1,\"0\",VLOOKUP(B2656,coefficient2!$A$4:$B$7,2,FALSE))","v":0.37123109999999998},{"$f":"IF(C2656=1,\"0\",VLOOKUP(C2656,coefficient2!$A$10:$B$13,2,FALSE))","v":5.8129300000000002E-2},{"$f":"IF(D2656=1,\"0\",VLOOKUP(D2656,coefficient2!$A$16:$B$19,2,FALSE))","v":5.8254399999999998E-2},{"$f":"IF(E2656=1,\"0\",VLOOKUP(E2656,coefficient2!$A$22:$B$25,2,FALSE))","v":"0"},{"$f":"IF(F2656=1,\"0\",VLOOKUP(F2656,coefficient2!$A$28:$B$31,2,FALSE))","v":0.29534929999999998},0.2170359]
[52221,5,2,2,2,1,12,{"$f":"IF(B2657=1,\"0\",VLOOKUP(B2657,coefficient2!$A$4:$B$7,2,FALSE))","v":0.37123109999999998},{"$f":"IF(C2657=1,\"0\",VLOOKUP(C2657,coefficient2!$A$10:$B$13,2,FALSE))","v":5.8129300000000002E-2},{"$f":"IF(D2657=1,\"0\",VLOOKUP(D2657,coefficient2!$A$16:$B$19,2,FALSE))","v":5.8254399999999998E-2},{"$f":"IF(E2657=1,\"0\",VLOOKUP(E2657,coefficient2!$A$22:$B$25,2,FALSE))","v":5.63998E-2},{"$f":"IF(F2657=1,\"0\",VLOOKUP(F2657,coefficient2!$A$28:$B$31,2,FALSE))","v":"0"},0.45598539999999999]
[52222,5,2,2,2,2,13,{"$f":"IF(B2658=1,\"0\",VLOOKUP(B2658,coefficient2!$A$4:$B$7,2,FALSE))","v":0.37123109999999998},{"$f":"IF(C2658=1,\"0\",VLOOKUP(C2658,coefficient2!$A$10:$B$13,2,FALSE))","v":5.8129300000000002E-2},{"$f":"IF(D2658=1,\"0\",VLOOKUP(D2658,coefficient2!$A$16:$B$19,2,FALSE))","v":5.8254399999999998E-2},{"$f":"IF(E2658=1,\"0\",VLOOKUP(E2658,coefficient2!$A$22:$B$25,2,FALSE))","v":5.63998E-2},{"$f":"IF(F2658=1,\"0\",VLOOKUP(F2658,coefficient2!$A$28:$B$31,2,FALSE))","v":5.8085699999999997E-2},0.39789969999999997]
[52223,5,2,2,2,3,14,{"$f":"IF(B2659=1,\"0\",VLOOKUP(B2659,coefficient2!$A$4:$B$7,2,FALSE))","v":0.37123109999999998},{"$f":"IF(C2659=1,\"0\",VLOOKUP(C2659,coefficient2!$A$10:$B$13,2,FALSE))","v":5.8129300000000002E-2},{"$f":"IF(D2659=1,\"0\",VLOOKUP(D2659,coefficient2!$A$16:$B$19,2,FALSE))","v":5.8254399999999998E-2},{"$f":"IF(E2659=1,\"0\",VLOOKUP(E2659,coefficient2!$A$22:$B$25,2,FALSE))","v":5.63998E-2},{"$f":"IF(F2659=1,\"0\",VLOOKUP(F2659,coefficient2!$A$28:$B$31,2,FALSE))","v":9.5753900000000003E-2},0.36023149999999998]
[52224,5,2,2,2,4,15,{"$f":"IF(B2660=1,\"0\",VLOOKUP(B2660,coefficient2!$A$4:$B$7,2,FALSE))","v":0.37123109999999998},{"$f":"IF(C2660=1,\"0\",VLOOKUP(C2660,coefficient2!$A$10:$B$13,2,FALSE))","v":5.8129300000000002E-2},{"$f":"IF(D2660=1,\"0\",VLOOKUP(D2660,coefficient2!$A$16:$B$19,2,FALSE))","v":5.8254399999999998E-2},{"$f":"IF(E2660=1,\"0\",VLOOKUP(E2660,coefficient2!$A$22:$B$25,2,FALSE))","v":5.63998E-2},{"$f":"IF(F2660=1,\"0\",VLOOKUP(F2660,coefficient2!$A$28:$B$31,2,FALSE))","v":0.23270360000000001},0.22328179999999997]
[52225,5,2,2,2,5,16,{"$f":"IF(B2661=1,\"0\",VLOOKUP(B2661,coefficient2!$A$4:$B$7,2,FALSE))","v":0.37123109999999998},{"$f":"IF(C2661=1,\"0\",VLOOKUP(C2661,coefficient2!$A$10:$B$13,2,FALSE))","v":5.8129300000000002E-2},{"$f":"IF(D2661=1,\"0\",VLOOKUP(D2661,coefficient2!$A$16:$B$19,2,FALSE))","v":5.8254399999999998E-2},{"$f":"IF(E2661=1,\"0\",VLOOKUP(E2661,coefficient2!$A$22:$B$25,2,FALSE))","v":5.63998E-2},{"$f":"IF(F2661=1,\"0\",VLOOKUP(F2661,coefficient2!$A$28:$B$31,2,FALSE))","v":0.29534929999999998},0.1606361]
[52231,5,2,2,3,1,13,{"$f":"IF(B2662=1,\"0\",VLOOKUP(B2662,coefficient2!$A$4:$B$7,2,FALSE))","v":0.37123109999999998},{"$f":"IF(C2662=1,\"0\",VLOOKUP(C2662,coefficient2!$A$10:$B$13,2,FALSE))","v":5.8129300000000002E-2},{"$f":"IF(D2662=1,\"0\",VLOOKUP(D2662,coefficient2!$A$16:$B$19,2,FALSE))","v":5.8254399999999998E-2},{"$f":"IF(E2662=1,\"0\",VLOOKUP(E2662,coefficient2!$A$22:$B$25,2,FALSE))","v":6.6492200000000001E-2},{"$f":"IF(F2662=1,\"0\",VLOOKUP(F2662,coefficient2!$A$28:$B$31,2,FALSE))","v":"0"},0.44589299999999998]
[52232,5,2,2,3,2,14,{"$f":"IF(B2663=1,\"0\",VLOOKUP(B2663,coefficient2!$A$4:$B$7,2,FALSE))","v":0.37123109999999998},{"$f":"IF(C2663=1,\"0\",VLOOKUP(C2663,coefficient2!$A$10:$B$13,2,FALSE))","v":5.8129300000000002E-2},{"$f":"IF(D2663=1,\"0\",VLOOKUP(D2663,coefficient2!$A$16:$B$19,2,FALSE))","v":5.8254399999999998E-2},{"$f":"IF(E2663=1,\"0\",VLOOKUP(E2663,coefficient2!$A$22:$B$25,2,FALSE))","v":6.6492200000000001E-2},{"$f":"IF(F2663=1,\"0\",VLOOKUP(F2663,coefficient2!$A$28:$B$31,2,FALSE))","v":5.8085699999999997E-2},0.38780729999999997]
[52233,5,2,2,3,3,15,{"$f":"IF(B2664=1,\"0\",VLOOKUP(B2664,coefficient2!$A$4:$B$7,2,FALSE))","v":0.37123109999999998},{"$f":"IF(C2664=1,\"0\",VLOOKUP(C2664,coefficient2!$A$10:$B$13,2,FALSE))","v":5.8129300000000002E-2},{"$f":"IF(D2664=1,\"0\",VLOOKUP(D2664,coefficient2!$A$16:$B$19,2,FALSE))","v":5.8254399999999998E-2},{"$f":"IF(E2664=1,\"0\",VLOOKUP(E2664,coefficient2!$A$22:$B$25,2,FALSE))","v":6.6492200000000001E-2},{"$f":"IF(F2664=1,\"0\",VLOOKUP(F2664,coefficient2!$A$28:$B$31,2,FALSE))","v":9.5753900000000003E-2},0.35013909999999998]
[52234,5,2,2,3,4,16,{"$f":"IF(B2665=1,\"0\",VLOOKUP(B2665,coefficient2!$A$4:$B$7,2,FALSE))","v":0.37123109999999998},{"$f":"IF(C2665=1,\"0\",VLOOKUP(C2665,coefficient2!$A$10:$B$13,2,FALSE))","v":5.8129300000000002E-2},{"$f":"IF(D2665=1,\"0\",VLOOKUP(D2665,coefficient2!$A$16:$B$19,2,FALSE))","v":5.8254399999999998E-2},{"$f":"IF(E2665=1,\"0\",VLOOKUP(E2665,coefficient2!$A$22:$B$25,2,FALSE))","v":6.6492200000000001E-2},{"$f":"IF(F2665=1,\"0\",VLOOKUP(F2665,coefficient2!$A$28:$B$31,2,FALSE))","v":0.23270360000000001},0.21318939999999997]
[52235,5,2,2,3,5,17,{"$f":"IF(B2666=1,\"0\",VLOOKUP(B2666,coefficient2!$A$4:$B$7,2,FALSE))","v":0.37123109999999998},{"$f":"IF(C2666=1,\"0\",VLOOKUP(C2666,coefficient2!$A$10:$B$13,2,FALSE))","v":5.8129300000000002E-2},{"$f":"IF(D2666=1,\"0\",VLOOKUP(D2666,coefficient2!$A$16:$B$19,2,FALSE))","v":5.8254399999999998E-2},{"$f":"IF(E2666=1,\"0\",VLOOKUP(E2666,coefficient2!$A$22:$B$25,2,FALSE))","v":6.6492200000000001E-2},{"$f":"IF(F2666=1,\"0\",VLOOKUP(F2666,coefficient2!$A$28:$B$31,2,FALSE))","v":0.29534929999999998},0.1505437]
[52241,5,2,2,4,1,14,{"$f":"IF(B2667=1,\"0\",VLOOKUP(B2667,coefficient2!$A$4:$B$7,2,FALSE))","v":0.37123109999999998},{"$f":"IF(C2667=1,\"0\",VLOOKUP(C2667,coefficient2!$A$10:$B$13,2,FALSE))","v":5.8129300000000002E-2},{"$f":"IF(D2667=1,\"0\",VLOOKUP(D2667,coefficient2!$A$16:$B$19,2,FALSE))","v":5.8254399999999998E-2},{"$f":"IF(E2667=1,\"0\",VLOOKUP(E2667,coefficient2!$A$22:$B$25,2,FALSE))","v":0.2068864},{"$f":"IF(F2667=1,\"0\",VLOOKUP(F2667,coefficient2!$A$28:$B$31,2,FALSE))","v":"0"},0.30549879999999996]
[52242,5,2,2,4,2,15,{"$f":"IF(B2668=1,\"0\",VLOOKUP(B2668,coefficient2!$A$4:$B$7,2,FALSE))","v":0.37123109999999998},{"$f":"IF(C2668=1,\"0\",VLOOKUP(C2668,coefficient2!$A$10:$B$13,2,FALSE))","v":5.8129300000000002E-2},{"$f":"IF(D2668=1,\"0\",VLOOKUP(D2668,coefficient2!$A$16:$B$19,2,FALSE))","v":5.8254399999999998E-2},{"$f":"IF(E2668=1,\"0\",VLOOKUP(E2668,coefficient2!$A$22:$B$25,2,FALSE))","v":0.2068864},{"$f":"IF(F2668=1,\"0\",VLOOKUP(F2668,coefficient2!$A$28:$B$31,2,FALSE))","v":5.8085699999999997E-2},0.24741309999999997]
[52243,5,2,2,4,3,16,{"$f":"IF(B2669=1,\"0\",VLOOKUP(B2669,coefficient2!$A$4:$B$7,2,FALSE))","v":0.37123109999999998},{"$f":"IF(C2669=1,\"0\",VLOOKUP(C2669,coefficient2!$A$10:$B$13,2,FALSE))","v":5.8129300000000002E-2},{"$f":"IF(D2669=1,\"0\",VLOOKUP(D2669,coefficient2!$A$16:$B$19,2,FALSE))","v":5.8254399999999998E-2},{"$f":"IF(E2669=1,\"0\",VLOOKUP(E2669,coefficient2!$A$22:$B$25,2,FALSE))","v":0.2068864},{"$f":"IF(F2669=1,\"0\",VLOOKUP(F2669,coefficient2!$A$28:$B$31,2,FALSE))","v":9.5753900000000003E-2},0.20974489999999996]
[52244,5,2,2,4,4,17,{"$f":"IF(B2670=1,\"0\",VLOOKUP(B2670,coefficient2!$A$4:$B$7,2,FALSE))","v":0.37123109999999998},{"$f":"IF(C2670=1,\"0\",VLOOKUP(C2670,coefficient2!$A$10:$B$13,2,FALSE))","v":5.8129300000000002E-2},{"$f":"IF(D2670=1,\"0\",VLOOKUP(D2670,coefficient2!$A$16:$B$19,2,FALSE))","v":5.8254399999999998E-2},{"$f":"IF(E2670=1,\"0\",VLOOKUP(E2670,coefficient2!$A$22:$B$25,2,FALSE))","v":0.2068864},{"$f":"IF(F2670=1,\"0\",VLOOKUP(F2670,coefficient2!$A$28:$B$31,2,FALSE))","v":0.23270360000000001},7.2795199999999949E-2]
[52245,5,2,2,4,5,18,{"$f":"IF(B2671=1,\"0\",VLOOKUP(B2671,coefficient2!$A$4:$B$7,2,FALSE))","v":0.37123109999999998},{"$f":"IF(C2671=1,\"0\",VLOOKUP(C2671,coefficient2!$A$10:$B$13,2,FALSE))","v":5.8129300000000002E-2},{"$f":"IF(D2671=1,\"0\",VLOOKUP(D2671,coefficient2!$A$16:$B$19,2,FALSE))","v":5.8254399999999998E-2},{"$f":"IF(E2671=1,\"0\",VLOOKUP(E2671,coefficient2!$A$22:$B$25,2,FALSE))","v":0.2068864},{"$f":"IF(F2671=1,\"0\",VLOOKUP(F2671,coefficient2!$A$28:$B$31,2,FALSE))","v":0.29534929999999998},1.0149499999999978E-2]
[52251,5,2,2,5,1,15,{"$f":"IF(B2672=1,\"0\",VLOOKUP(B2672,coefficient2!$A$4:$B$7,2,FALSE))","v":0.37123109999999998},{"$f":"IF(C2672=1,\"0\",VLOOKUP(C2672,coefficient2!$A$10:$B$13,2,FALSE))","v":5.8129300000000002E-2},{"$f":"IF(D2672=1,\"0\",VLOOKUP(D2672,coefficient2!$A$16:$B$19,2,FALSE))","v":5.8254399999999998E-2},{"$f":"IF(E2672=1,\"0\",VLOOKUP(E2672,coefficient2!$A$22:$B$25,2,FALSE))","v":0.25643310000000002},{"$f":"IF(F2672=1,\"0\",VLOOKUP(F2672,coefficient2!$A$28:$B$31,2,FALSE))","v":"0"},0.25595209999999996]
[52252,5,2,2,5,2,16,{"$f":"IF(B2673=1,\"0\",VLOOKUP(B2673,coefficient2!$A$4:$B$7,2,FALSE))","v":0.37123109999999998},{"$f":"IF(C2673=1,\"0\",VLOOKUP(C2673,coefficient2!$A$10:$B$13,2,FALSE))","v":5.8129300000000002E-2},{"$f":"IF(D2673=1,\"0\",VLOOKUP(D2673,coefficient2!$A$16:$B$19,2,FALSE))","v":5.8254399999999998E-2},{"$f":"IF(E2673=1,\"0\",VLOOKUP(E2673,coefficient2!$A$22:$B$25,2,FALSE))","v":0.25643310000000002},{"$f":"IF(F2673=1,\"0\",VLOOKUP(F2673,coefficient2!$A$28:$B$31,2,FALSE))","v":5.8085699999999997E-2},0.19786639999999997]
[52253,5,2,2,5,3,17,{"$f":"IF(B2674=1,\"0\",VLOOKUP(B2674,coefficient2!$A$4:$B$7,2,FALSE))","v":0.37123109999999998},{"$f":"IF(C2674=1,\"0\",VLOOKUP(C2674,coefficient2!$A$10:$B$13,2,FALSE))","v":5.8129300000000002E-2},{"$f":"IF(D2674=1,\"0\",VLOOKUP(D2674,coefficient2!$A$16:$B$19,2,FALSE))","v":5.8254399999999998E-2},{"$f":"IF(E2674=1,\"0\",VLOOKUP(E2674,coefficient2!$A$22:$B$25,2,FALSE))","v":0.25643310000000002},{"$f":"IF(F2674=1,\"0\",VLOOKUP(F2674,coefficient2!$A$28:$B$31,2,FALSE))","v":9.5753900000000003E-2},0.16019819999999996]
[52254,5,2,2,5,4,18,{"$f":"IF(B2675=1,\"0\",VLOOKUP(B2675,coefficient2!$A$4:$B$7,2,FALSE))","v":0.37123109999999998},{"$f":"IF(C2675=1,\"0\",VLOOKUP(C2675,coefficient2!$A$10:$B$13,2,FALSE))","v":5.8129300000000002E-2},{"$f":"IF(D2675=1,\"0\",VLOOKUP(D2675,coefficient2!$A$16:$B$19,2,FALSE))","v":5.8254399999999998E-2},{"$f":"IF(E2675=1,\"0\",VLOOKUP(E2675,coefficient2!$A$22:$B$25,2,FALSE))","v":0.25643310000000002},{"$f":"IF(F2675=1,\"0\",VLOOKUP(F2675,coefficient2!$A$28:$B$31,2,FALSE))","v":0.23270360000000001},2.324849999999995E-2]
[52255,5,2,2,5,5,19,{"$f":"IF(B2676=1,\"0\",VLOOKUP(B2676,coefficient2!$A$4:$B$7,2,FALSE))","v":0.37123109999999998},{"$f":"IF(C2676=1,\"0\",VLOOKUP(C2676,coefficient2!$A$10:$B$13,2,FALSE))","v":5.8129300000000002E-2},{"$f":"IF(D2676=1,\"0\",VLOOKUP(D2676,coefficient2!$A$16:$B$19,2,FALSE))","v":5.8254399999999998E-2},{"$f":"IF(E2676=1,\"0\",VLOOKUP(E2676,coefficient2!$A$22:$B$25,2,FALSE))","v":0.25643310000000002},{"$f":"IF(F2676=1,\"0\",VLOOKUP(F2676,coefficient2!$A$28:$B$31,2,FALSE))","v":0.29534929999999998},-3.9397200000000021E-2]
[52311,5,2,3,1,1,12,{"$f":"IF(B2677=1,\"0\",VLOOKUP(B2677,coefficient2!$A$4:$B$7,2,FALSE))","v":0.37123109999999998},{"$f":"IF(C2677=1,\"0\",VLOOKUP(C2677,coefficient2!$A$10:$B$13,2,FALSE))","v":5.8129300000000002E-2},{"$f":"IF(D2677=1,\"0\",VLOOKUP(D2677,coefficient2!$A$16:$B$19,2,FALSE))","v":7.1197399999999994E-2},{"$f":"IF(E2677=1,\"0\",VLOOKUP(E2677,coefficient2!$A$22:$B$25,2,FALSE))","v":"0"},{"$f":"IF(F2677=1,\"0\",VLOOKUP(F2677,coefficient2!$A$28:$B$31,2,FALSE))","v":"0"},0.49944220000000006]
[52312,5,2,3,1,2,13,{"$f":"IF(B2678=1,\"0\",VLOOKUP(B2678,coefficient2!$A$4:$B$7,2,FALSE))","v":0.37123109999999998},{"$f":"IF(C2678=1,\"0\",VLOOKUP(C2678,coefficient2!$A$10:$B$13,2,FALSE))","v":5.8129300000000002E-2},{"$f":"IF(D2678=1,\"0\",VLOOKUP(D2678,coefficient2!$A$16:$B$19,2,FALSE))","v":7.1197399999999994E-2},{"$f":"IF(E2678=1,\"0\",VLOOKUP(E2678,coefficient2!$A$22:$B$25,2,FALSE))","v":"0"},{"$f":"IF(F2678=1,\"0\",VLOOKUP(F2678,coefficient2!$A$28:$B$31,2,FALSE))","v":5.8085699999999997E-2},0.44135650000000004]
[52313,5,2,3,1,3,14,{"$f":"IF(B2679=1,\"0\",VLOOKUP(B2679,coefficient2!$A$4:$B$7,2,FALSE))","v":0.37123109999999998},{"$f":"IF(C2679=1,\"0\",VLOOKUP(C2679,coefficient2!$A$10:$B$13,2,FALSE))","v":5.8129300000000002E-2},{"$f":"IF(D2679=1,\"0\",VLOOKUP(D2679,coefficient2!$A$16:$B$19,2,FALSE))","v":7.1197399999999994E-2},{"$f":"IF(E2679=1,\"0\",VLOOKUP(E2679,coefficient2!$A$22:$B$25,2,FALSE))","v":"0"},{"$f":"IF(F2679=1,\"0\",VLOOKUP(F2679,coefficient2!$A$28:$B$31,2,FALSE))","v":9.5753900000000003E-2},0.40368830000000006]
[52314,5,2,3,1,4,15,{"$f":"IF(B2680=1,\"0\",VLOOKUP(B2680,coefficient2!$A$4:$B$7,2,FALSE))","v":0.37123109999999998},{"$f":"IF(C2680=1,\"0\",VLOOKUP(C2680,coefficient2!$A$10:$B$13,2,FALSE))","v":5.8129300000000002E-2},{"$f":"IF(D2680=1,\"0\",VLOOKUP(D2680,coefficient2!$A$16:$B$19,2,FALSE))","v":7.1197399999999994E-2},{"$f":"IF(E2680=1,\"0\",VLOOKUP(E2680,coefficient2!$A$22:$B$25,2,FALSE))","v":"0"},{"$f":"IF(F2680=1,\"0\",VLOOKUP(F2680,coefficient2!$A$28:$B$31,2,FALSE))","v":0.23270360000000001},0.26673860000000005]
[52315,5,2,3,1,5,16,{"$f":"IF(B2681=1,\"0\",VLOOKUP(B2681,coefficient2!$A$4:$B$7,2,FALSE))","v":0.37123109999999998},{"$f":"IF(C2681=1,\"0\",VLOOKUP(C2681,coefficient2!$A$10:$B$13,2,FALSE))","v":5.8129300000000002E-2},{"$f":"IF(D2681=1,\"0\",VLOOKUP(D2681,coefficient2!$A$16:$B$19,2,FALSE))","v":7.1197399999999994E-2},{"$f":"IF(E2681=1,\"0\",VLOOKUP(E2681,coefficient2!$A$22:$B$25,2,FALSE))","v":"0"},{"$f":"IF(F2681=1,\"0\",VLOOKUP(F2681,coefficient2!$A$28:$B$31,2,FALSE))","v":0.29534929999999998},0.20409290000000008]
[52321,5,2,3,2,1,13,{"$f":"IF(B2682=1,\"0\",VLOOKUP(B2682,coefficient2!$A$4:$B$7,2,FALSE))","v":0.37123109999999998},{"$f":"IF(C2682=1,\"0\",VLOOKUP(C2682,coefficient2!$A$10:$B$13,2,FALSE))","v":5.8129300000000002E-2},{"$f":"IF(D2682=1,\"0\",VLOOKUP(D2682,coefficient2!$A$16:$B$19,2,FALSE))","v":7.1197399999999994E-2},{"$f":"IF(E2682=1,\"0\",VLOOKUP(E2682,coefficient2!$A$22:$B$25,2,FALSE))","v":5.63998E-2},{"$f":"IF(F2682=1,\"0\",VLOOKUP(F2682,coefficient2!$A$28:$B$31,2,FALSE))","v":"0"},0.44304240000000006]
[52322,5,2,3,2,2,14,{"$f":"IF(B2683=1,\"0\",VLOOKUP(B2683,coefficient2!$A$4:$B$7,2,FALSE))","v":0.37123109999999998},{"$f":"IF(C2683=1,\"0\",VLOOKUP(C2683,coefficient2!$A$10:$B$13,2,FALSE))","v":5.8129300000000002E-2},{"$f":"IF(D2683=1,\"0\",VLOOKUP(D2683,coefficient2!$A$16:$B$19,2,FALSE))","v":7.1197399999999994E-2},{"$f":"IF(E2683=1,\"0\",VLOOKUP(E2683,coefficient2!$A$22:$B$25,2,FALSE))","v":5.63998E-2},{"$f":"IF(F2683=1,\"0\",VLOOKUP(F2683,coefficient2!$A$28:$B$31,2,FALSE))","v":5.8085699999999997E-2},0.38495670000000004]
[52323,5,2,3,2,3,15,{"$f":"IF(B2684=1,\"0\",VLOOKUP(B2684,coefficient2!$A$4:$B$7,2,FALSE))","v":0.37123109999999998},{"$f":"IF(C2684=1,\"0\",VLOOKUP(C2684,coefficient2!$A$10:$B$13,2,FALSE))","v":5.8129300000000002E-2},{"$f":"IF(D2684=1,\"0\",VLOOKUP(D2684,coefficient2!$A$16:$B$19,2,FALSE))","v":7.1197399999999994E-2},{"$f":"IF(E2684=1,\"0\",VLOOKUP(E2684,coefficient2!$A$22:$B$25,2,FALSE))","v":5.63998E-2},{"$f":"IF(F2684=1,\"0\",VLOOKUP(F2684,coefficient2!$A$28:$B$31,2,FALSE))","v":9.5753900000000003E-2},0.34728850000000006]
[52324,5,2,3,2,4,16,{"$f":"IF(B2685=1,\"0\",VLOOKUP(B2685,coefficient2!$A$4:$B$7,2,FALSE))","v":0.37123109999999998},{"$f":"IF(C2685=1,\"0\",VLOOKUP(C2685,coefficient2!$A$10:$B$13,2,FALSE))","v":5.8129300000000002E-2},{"$f":"IF(D2685=1,\"0\",VLOOKUP(D2685,coefficient2!$A$16:$B$19,2,FALSE))","v":7.1197399999999994E-2},{"$f":"IF(E2685=1,\"0\",VLOOKUP(E2685,coefficient2!$A$22:$B$25,2,FALSE))","v":5.63998E-2},{"$f":"IF(F2685=1,\"0\",VLOOKUP(F2685,coefficient2!$A$28:$B$31,2,FALSE))","v":0.23270360000000001},0.21033880000000005]
[52325,5,2,3,2,5,17,{"$f":"IF(B2686=1,\"0\",VLOOKUP(B2686,coefficient2!$A$4:$B$7,2,FALSE))","v":0.37123109999999998},{"$f":"IF(C2686=1,\"0\",VLOOKUP(C2686,coefficient2!$A$10:$B$13,2,FALSE))","v":5.8129300000000002E-2},{"$f":"IF(D2686=1,\"0\",VLOOKUP(D2686,coefficient2!$A$16:$B$19,2,FALSE))","v":7.1197399999999994E-2},{"$f":"IF(E2686=1,\"0\",VLOOKUP(E2686,coefficient2!$A$22:$B$25,2,FALSE))","v":5.63998E-2},{"$f":"IF(F2686=1,\"0\",VLOOKUP(F2686,coefficient2!$A$28:$B$31,2,FALSE))","v":0.29534929999999998},0.14769310000000008]
[52331,5,2,3,3,1,14,{"$f":"IF(B2687=1,\"0\",VLOOKUP(B2687,coefficient2!$A$4:$B$7,2,FALSE))","v":0.37123109999999998},{"$f":"IF(C2687=1,\"0\",VLOOKUP(C2687,coefficient2!$A$10:$B$13,2,FALSE))","v":5.8129300000000002E-2},{"$f":"IF(D2687=1,\"0\",VLOOKUP(D2687,coefficient2!$A$16:$B$19,2,FALSE))","v":7.1197399999999994E-2},{"$f":"IF(E2687=1,\"0\",VLOOKUP(E2687,coefficient2!$A$22:$B$25,2,FALSE))","v":6.6492200000000001E-2},{"$f":"IF(F2687=1,\"0\",VLOOKUP(F2687,coefficient2!$A$28:$B$31,2,FALSE))","v":"0"},0.43295000000000006]
[52332,5,2,3,3,2,15,{"$f":"IF(B2688=1,\"0\",VLOOKUP(B2688,coefficient2!$A$4:$B$7,2,FALSE))","v":0.37123109999999998},{"$f":"IF(C2688=1,\"0\",VLOOKUP(C2688,coefficient2!$A$10:$B$13,2,FALSE))","v":5.8129300000000002E-2},{"$f":"IF(D2688=1,\"0\",VLOOKUP(D2688,coefficient2!$A$16:$B$19,2,FALSE))","v":7.1197399999999994E-2},{"$f":"IF(E2688=1,\"0\",VLOOKUP(E2688,coefficient2!$A$22:$B$25,2,FALSE))","v":6.6492200000000001E-2},{"$f":"IF(F2688=1,\"0\",VLOOKUP(F2688,coefficient2!$A$28:$B$31,2,FALSE))","v":5.8085699999999997E-2},0.37486430000000004]
[52333,5,2,3,3,3,16,{"$f":"IF(B2689=1,\"0\",VLOOKUP(B2689,coefficient2!$A$4:$B$7,2,FALSE))","v":0.37123109999999998},{"$f":"IF(C2689=1,\"0\",VLOOKUP(C2689,coefficient2!$A$10:$B$13,2,FALSE))","v":5.8129300000000002E-2},{"$f":"IF(D2689=1,\"0\",VLOOKUP(D2689,coefficient2!$A$16:$B$19,2,FALSE))","v":7.1197399999999994E-2},{"$f":"IF(E2689=1,\"0\",VLOOKUP(E2689,coefficient2!$A$22:$B$25,2,FALSE))","v":6.6492200000000001E-2},{"$f":"IF(F2689=1,\"0\",VLOOKUP(F2689,coefficient2!$A$28:$B$31,2,FALSE))","v":9.5753900000000003E-2},0.33719610000000005]
[52334,5,2,3,3,4,17,{"$f":"IF(B2690=1,\"0\",VLOOKUP(B2690,coefficient2!$A$4:$B$7,2,FALSE))","v":0.37123109999999998},{"$f":"IF(C2690=1,\"0\",VLOOKUP(C2690,coefficient2!$A$10:$B$13,2,FALSE))","v":5.8129300000000002E-2},{"$f":"IF(D2690=1,\"0\",VLOOKUP(D2690,coefficient2!$A$16:$B$19,2,FALSE))","v":7.1197399999999994E-2},{"$f":"IF(E2690=1,\"0\",VLOOKUP(E2690,coefficient2!$A$22:$B$25,2,FALSE))","v":6.6492200000000001E-2},{"$f":"IF(F2690=1,\"0\",VLOOKUP(F2690,coefficient2!$A$28:$B$31,2,FALSE))","v":0.23270360000000001},{"$f":"1-H2690-I2690-J2690-K2690-L2690","v":0.20024640000000005}]
[52335,{"$f":"INT(LEFT(A2691,1))","v":5},{"$f":"INT(MID(A2691,2,1))","v":2},{"$f":"INT(MID(A2691,3,1))","v":3},{"$f":"INT(MID(A2691,4,1))","v":3},{"$f":"INT(RIGHT(A2691,1))","v":5},18,{"$f":"IF(B2691=1,\"0\",VLOOKUP(B2691,coefficient2!$A$4:$B$7,2,FALSE))","v":0.37123109999999998},{"$f":"IF(C2691=1,\"0\",VLOOKUP(C2691,coefficient2!$A$10:$B$13,2,FALSE))","v":5.8129300000000002E-2},{"$f":"IF(D2691=1,\"0\",VLOOKUP(D2691,coefficient2!$A$16:$B$19,2,FALSE))","v":7.1197399999999994E-2},{"$f":"IF(E2691=1,\"0\",VLOOKUP(E2691,coefficient2!$A$22:$B$25,2,FALSE))","v":6.6492200000000001E-2},{"$f":"IF(F2691=1,\"0\",VLOOKUP(F2691,coefficient2!$A$28:$B$31,2,FALSE))","v":0.29534929999999998},0.13760070000000008]
[52341,5,2,3,4,1,15,{"$f":"IF(B2692=1,\"0\",VLOOKUP(B2692,coefficient2!$A$4:$B$7,2,FALSE))","v":0.37123109999999998},{"$f":"IF(C2692=1,\"0\",VLOOKUP(C2692,coefficient2!$A$10:$B$13,2,FALSE))","v":5.8129300000000002E-2},{"$f":"IF(D2692=1,\"0\",VLOOKUP(D2692,coefficient2!$A$16:$B$19,2,FALSE))","v":7.1197399999999994E-2},{"$f":"IF(E2692=1,\"0\",VLOOKUP(E2692,coefficient2!$A$22:$B$25,2,FALSE))","v":0.2068864},{"$f":"IF(F2692=1,\"0\",VLOOKUP(F2692,coefficient2!$A$28:$B$31,2,FALSE))","v":"0"},0.29255580000000003]
[52342,5,2,3,4,2,16,{"$f":"IF(B2693=1,\"0\",VLOOKUP(B2693,coefficient2!$A$4:$B$7,2,FALSE))","v":0.37123109999999998},{"$f":"IF(C2693=1,\"0\",VLOOKUP(C2693,coefficient2!$A$10:$B$13,2,FALSE))","v":5.8129300000000002E-2},{"$f":"IF(D2693=1,\"0\",VLOOKUP(D2693,coefficient2!$A$16:$B$19,2,FALSE))","v":7.1197399999999994E-2},{"$f":"IF(E2693=1,\"0\",VLOOKUP(E2693,coefficient2!$A$22:$B$25,2,FALSE))","v":0.2068864},{"$f":"IF(F2693=1,\"0\",VLOOKUP(F2693,coefficient2!$A$28:$B$31,2,FALSE))","v":5.8085699999999997E-2},0.23447010000000004]
[52343,5,2,3,4,3,17,{"$f":"IF(B2694=1,\"0\",VLOOKUP(B2694,coefficient2!$A$4:$B$7,2,FALSE))","v":0.37123109999999998},{"$f":"IF(C2694=1,\"0\",VLOOKUP(C2694,coefficient2!$A$10:$B$13,2,FALSE))","v":5.8129300000000002E-2},{"$f":"IF(D2694=1,\"0\",VLOOKUP(D2694,coefficient2!$A$16:$B$19,2,FALSE))","v":7.1197399999999994E-2},{"$f":"IF(E2694=1,\"0\",VLOOKUP(E2694,coefficient2!$A$22:$B$25,2,FALSE))","v":0.2068864},{"$f":"IF(F2694=1,\"0\",VLOOKUP(F2694,coefficient2!$A$28:$B$31,2,FALSE))","v":9.5753900000000003E-2},0.19680190000000003]
[52344,5,2,3,4,4,18,{"$f":"IF(B2695=1,\"0\",VLOOKUP(B2695,coefficient2!$A$4:$B$7,2,FALSE))","v":0.37123109999999998},{"$f":"IF(C2695=1,\"0\",VLOOKUP(C2695,coefficient2!$A$10:$B$13,2,FALSE))","v":5.8129300000000002E-2},{"$f":"IF(D2695=1,\"0\",VLOOKUP(D2695,coefficient2!$A$16:$B$19,2,FALSE))","v":7.1197399999999994E-2},{"$f":"IF(E2695=1,\"0\",VLOOKUP(E2695,coefficient2!$A$22:$B$25,2,FALSE))","v":0.2068864},{"$f":"IF(F2695=1,\"0\",VLOOKUP(F2695,coefficient2!$A$28:$B$31,2,FALSE))","v":0.23270360000000001},5.9852200000000022E-2]
[52345,5,2,3,4,5,19,{"$f":"IF(B2696=1,\"0\",VLOOKUP(B2696,coefficient2!$A$4:$B$7,2,FALSE))","v":0.37123109999999998},{"$f":"IF(C2696=1,\"0\",VLOOKUP(C2696,coefficient2!$A$10:$B$13,2,FALSE))","v":5.8129300000000002E-2},{"$f":"IF(D2696=1,\"0\",VLOOKUP(D2696,coefficient2!$A$16:$B$19,2,FALSE))","v":7.1197399999999994E-2},{"$f":"IF(E2696=1,\"0\",VLOOKUP(E2696,coefficient2!$A$22:$B$25,2,FALSE))","v":0.2068864},{"$f":"IF(F2696=1,\"0\",VLOOKUP(F2696,coefficient2!$A$28:$B$31,2,FALSE))","v":0.29534929999999998},-2.7934999999999488E-3]
[52351,5,2,3,5,1,16,{"$f":"IF(B2697=1,\"0\",VLOOKUP(B2697,coefficient2!$A$4:$B$7,2,FALSE))","v":0.37123109999999998},{"$f":"IF(C2697=1,\"0\",VLOOKUP(C2697,coefficient2!$A$10:$B$13,2,FALSE))","v":5.8129300000000002E-2},{"$f":"IF(D2697=1,\"0\",VLOOKUP(D2697,coefficient2!$A$16:$B$19,2,FALSE))","v":7.1197399999999994E-2},{"$f":"IF(E2697=1,\"0\",VLOOKUP(E2697,coefficient2!$A$22:$B$25,2,FALSE))","v":0.25643310000000002},{"$f":"IF(F2697=1,\"0\",VLOOKUP(F2697,coefficient2!$A$28:$B$31,2,FALSE))","v":"0"},0.24300910000000003]
[52352,5,2,3,5,2,17,{"$f":"IF(B2698=1,\"0\",VLOOKUP(B2698,coefficient2!$A$4:$B$7,2,FALSE))","v":0.37123109999999998},{"$f":"IF(C2698=1,\"0\",VLOOKUP(C2698,coefficient2!$A$10:$B$13,2,FALSE))","v":5.8129300000000002E-2},{"$f":"IF(D2698=1,\"0\",VLOOKUP(D2698,coefficient2!$A$16:$B$19,2,FALSE))","v":7.1197399999999994E-2},{"$f":"IF(E2698=1,\"0\",VLOOKUP(E2698,coefficient2!$A$22:$B$25,2,FALSE))","v":0.25643310000000002},{"$f":"IF(F2698=1,\"0\",VLOOKUP(F2698,coefficient2!$A$28:$B$31,2,FALSE))","v":5.8085699999999997E-2},0.18492340000000004]
[52353,5,2,3,5,3,18,{"$f":"IF(B2699=1,\"0\",VLOOKUP(B2699,coefficient2!$A$4:$B$7,2,FALSE))","v":0.37123109999999998},{"$f":"IF(C2699=1,\"0\",VLOOKUP(C2699,coefficient2!$A$10:$B$13,2,FALSE))","v":5.8129300000000002E-2},{"$f":"IF(D2699=1,\"0\",VLOOKUP(D2699,coefficient2!$A$16:$B$19,2,FALSE))","v":7.1197399999999994E-2},{"$f":"IF(E2699=1,\"0\",VLOOKUP(E2699,coefficient2!$A$22:$B$25,2,FALSE))","v":0.25643310000000002},{"$f":"IF(F2699=1,\"0\",VLOOKUP(F2699,coefficient2!$A$28:$B$31,2,FALSE))","v":9.5753900000000003E-2},0.14725520000000003]
[52354,5,2,3,5,4,19,{"$f":"IF(B2700=1,\"0\",VLOOKUP(B2700,coefficient2!$A$4:$B$7,2,FALSE))","v":0.37123109999999998},{"$f":"IF(C2700=1,\"0\",VLOOKUP(C2700,coefficient2!$A$10:$B$13,2,FALSE))","v":5.8129300000000002E-2},{"$f":"IF(D2700=1,\"0\",VLOOKUP(D2700,coefficient2!$A$16:$B$19,2,FALSE))","v":7.1197399999999994E-2},{"$f":"IF(E2700=1,\"0\",VLOOKUP(E2700,coefficient2!$A$22:$B$25,2,FALSE))","v":0.25643310000000002},{"$f":"IF(F2700=1,\"0\",VLOOKUP(F2700,coefficient2!$A$28:$B$31,2,FALSE))","v":0.23270360000000001},1.0305500000000023E-2]
[52355,5,2,3,5,5,20,{"$f":"IF(B2701=1,\"0\",VLOOKUP(B2701,coefficient2!$A$4:$B$7,2,FALSE))","v":0.37123109999999998},{"$f":"IF(C2701=1,\"0\",VLOOKUP(C2701,coefficient2!$A$10:$B$13,2,FALSE))","v":5.8129300000000002E-2},{"$f":"IF(D2701=1,\"0\",VLOOKUP(D2701,coefficient2!$A$16:$B$19,2,FALSE))","v":7.1197399999999994E-2},{"$f":"IF(E2701=1,\"0\",VLOOKUP(E2701,coefficient2!$A$22:$B$25,2,FALSE))","v":0.25643310000000002},{"$f":"IF(F2701=1,\"0\",VLOOKUP(F2701,coefficient2!$A$28:$B$31,2,FALSE))","v":0.29534929999999998},-5.2340199999999948E-2]
[52411,5,2,4,1,1,13,{"$f":"IF(B2702=1,\"0\",VLOOKUP(B2702,coefficient2!$A$4:$B$7,2,FALSE))","v":0.37123109999999998},{"$f":"IF(C2702=1,\"0\",VLOOKUP(C2702,coefficient2!$A$10:$B$13,2,FALSE))","v":5.8129300000000002E-2},{"$f":"IF(D2702=1,\"0\",VLOOKUP(D2702,coefficient2!$A$16:$B$19,2,FALSE))","v":0.1534855},{"$f":"IF(E2702=1,\"0\",VLOOKUP(E2702,coefficient2!$A$22:$B$25,2,FALSE))","v":"0"},{"$f":"IF(F2702=1,\"0\",VLOOKUP(F2702,coefficient2!$A$28:$B$31,2,FALSE))","v":"0"},0.41715410000000003]
[52412,5,2,4,1,2,14,{"$f":"IF(B2703=1,\"0\",VLOOKUP(B2703,coefficient2!$A$4:$B$7,2,FALSE))","v":0.37123109999999998},{"$f":"IF(C2703=1,\"0\",VLOOKUP(C2703,coefficient2!$A$10:$B$13,2,FALSE))","v":5.8129300000000002E-2},{"$f":"IF(D2703=1,\"0\",VLOOKUP(D2703,coefficient2!$A$16:$B$19,2,FALSE))","v":0.1534855},{"$f":"IF(E2703=1,\"0\",VLOOKUP(E2703,coefficient2!$A$22:$B$25,2,FALSE))","v":"0"},{"$f":"IF(F2703=1,\"0\",VLOOKUP(F2703,coefficient2!$A$28:$B$31,2,FALSE))","v":5.8085699999999997E-2},0.35906840000000001]
[52413,5,2,4,1,3,15,{"$f":"IF(B2704=1,\"0\",VLOOKUP(B2704,coefficient2!$A$4:$B$7,2,FALSE))","v":0.37123109999999998},{"$f":"IF(C2704=1,\"0\",VLOOKUP(C2704,coefficient2!$A$10:$B$13,2,FALSE))","v":5.8129300000000002E-2},{"$f":"IF(D2704=1,\"0\",VLOOKUP(D2704,coefficient2!$A$16:$B$19,2,FALSE))","v":0.1534855},{"$f":"IF(E2704=1,\"0\",VLOOKUP(E2704,coefficient2!$A$22:$B$25,2,FALSE))","v":"0"},{"$f":"IF(F2704=1,\"0\",VLOOKUP(F2704,coefficient2!$A$28:$B$31,2,FALSE))","v":9.5753900000000003E-2},0.32140020000000002]
[52414,5,2,4,1,4,16,{"$f":"IF(B2705=1,\"0\",VLOOKUP(B2705,coefficient2!$A$4:$B$7,2,FALSE))","v":0.37123109999999998},{"$f":"IF(C2705=1,\"0\",VLOOKUP(C2705,coefficient2!$A$10:$B$13,2,FALSE))","v":5.8129300000000002E-2},{"$f":"IF(D2705=1,\"0\",VLOOKUP(D2705,coefficient2!$A$16:$B$19,2,FALSE))","v":0.1534855},{"$f":"IF(E2705=1,\"0\",VLOOKUP(E2705,coefficient2!$A$22:$B$25,2,FALSE))","v":"0"},{"$f":"IF(F2705=1,\"0\",VLOOKUP(F2705,coefficient2!$A$28:$B$31,2,FALSE))","v":0.23270360000000001},0.18445050000000002]
[52415,5,2,4,1,5,17,{"$f":"IF(B2706=1,\"0\",VLOOKUP(B2706,coefficient2!$A$4:$B$7,2,FALSE))","v":0.37123109999999998},{"$f":"IF(C2706=1,\"0\",VLOOKUP(C2706,coefficient2!$A$10:$B$13,2,FALSE))","v":5.8129300000000002E-2},{"$f":"IF(D2706=1,\"0\",VLOOKUP(D2706,coefficient2!$A$16:$B$19,2,FALSE))","v":0.1534855},{"$f":"IF(E2706=1,\"0\",VLOOKUP(E2706,coefficient2!$A$22:$B$25,2,FALSE))","v":"0"},{"$f":"IF(F2706=1,\"0\",VLOOKUP(F2706,coefficient2!$A$28:$B$31,2,FALSE))","v":0.29534929999999998},0.12180480000000005]
[52421,5,2,4,2,1,14,{"$f":"IF(B2707=1,\"0\",VLOOKUP(B2707,coefficient2!$A$4:$B$7,2,FALSE))","v":0.37123109999999998},{"$f":"IF(C2707=1,\"0\",VLOOKUP(C2707,coefficient2!$A$10:$B$13,2,FALSE))","v":5.8129300000000002E-2},{"$f":"IF(D2707=1,\"0\",VLOOKUP(D2707,coefficient2!$A$16:$B$19,2,FALSE))","v":0.1534855},{"$f":"IF(E2707=1,\"0\",VLOOKUP(E2707,coefficient2!$A$22:$B$25,2,FALSE))","v":5.63998E-2},{"$f":"IF(F2707=1,\"0\",VLOOKUP(F2707,coefficient2!$A$28:$B$31,2,FALSE))","v":"0"},0.36075430000000003]
[52422,5,2,4,2,2,15,{"$f":"IF(B2708=1,\"0\",VLOOKUP(B2708,coefficient2!$A$4:$B$7,2,FALSE))","v":0.37123109999999998},{"$f":"IF(C2708=1,\"0\",VLOOKUP(C2708,coefficient2!$A$10:$B$13,2,FALSE))","v":5.8129300000000002E-2},{"$f":"IF(D2708=1,\"0\",VLOOKUP(D2708,coefficient2!$A$16:$B$19,2,FALSE))","v":0.1534855},{"$f":"IF(E2708=1,\"0\",VLOOKUP(E2708,coefficient2!$A$22:$B$25,2,FALSE))","v":5.63998E-2},{"$f":"IF(F2708=1,\"0\",VLOOKUP(F2708,coefficient2!$A$28:$B$31,2,FALSE))","v":5.8085699999999997E-2},0.30266860000000001]
[52423,5,2,4,2,3,{"$f":"SUM(B2709:F2709)","v":16},{"$f":"IF(B2709=1,\"0\",VLOOKUP(B2709,coefficient2!$A$4:$B$7,2,FALSE))","v":0.37123109999999998},{"$f":"IF(C2709=1,\"0\",VLOOKUP(C2709,coefficient2!$A$10:$B$13,2,FALSE))","v":5.8129300000000002E-2},{"$f":"IF(D2709=1,\"0\",VLOOKUP(D2709,coefficient2!$A$16:$B$19,2,FALSE))","v":0.1534855},{"$f":"IF(E2709=1,\"0\",VLOOKUP(E2709,coefficient2!$A$22:$B$25,2,FALSE))","v":5.63998E-2},{"$f":"IF(F2709=1,\"0\",VLOOKUP(F2709,coefficient2!$A$28:$B$31,2,FALSE))","v":9.5753900000000003E-2},0.26500040000000002]
[52424,5,2,4,2,4,17,{"$f":"IF(B2710=1,\"0\",VLOOKUP(B2710,coefficient2!$A$4:$B$7,2,FALSE))","v":0.37123109999999998},{"$f":"IF(C2710=1,\"0\",VLOOKUP(C2710,coefficient2!$A$10:$B$13,2,FALSE))","v":5.8129300000000002E-2},{"$f":"IF(D2710=1,\"0\",VLOOKUP(D2710,coefficient2!$A$16:$B$19,2,FALSE))","v":0.1534855},{"$f":"IF(E2710=1,\"0\",VLOOKUP(E2710,coefficient2!$A$22:$B$25,2,FALSE))","v":5.63998E-2},{"$f":"IF(F2710=1,\"0\",VLOOKUP(F2710,coefficient2!$A$28:$B$31,2,FALSE))","v":0.23270360000000001},0.12805070000000002]
[52425,5,2,4,2,5,18,{"$f":"IF(B2711=1,\"0\",VLOOKUP(B2711,coefficient2!$A$4:$B$7,2,FALSE))","v":0.37123109999999998},{"$f":"IF(C2711=1,\"0\",VLOOKUP(C2711,coefficient2!$A$10:$B$13,2,FALSE))","v":5.8129300000000002E-2},{"$f":"IF(D2711=1,\"0\",VLOOKUP(D2711,coefficient2!$A$16:$B$19,2,FALSE))","v":0.1534855},{"$f":"IF(E2711=1,\"0\",VLOOKUP(E2711,coefficient2!$A$22:$B$25,2,FALSE))","v":5.63998E-2},{"$f":"IF(F2711=1,\"0\",VLOOKUP(F2711,coefficient2!$A$28:$B$31,2,FALSE))","v":0.29534929999999998},6.5405000000000046E-2]
[52431,5,2,4,3,1,15,{"$f":"IF(B2712=1,\"0\",VLOOKUP(B2712,coefficient2!$A$4:$B$7,2,FALSE))","v":0.37123109999999998},{"$f":"IF(C2712=1,\"0\",VLOOKUP(C2712,coefficient2!$A$10:$B$13,2,FALSE))","v":5.8129300000000002E-2},{"$f":"IF(D2712=1,\"0\",VLOOKUP(D2712,coefficient2!$A$16:$B$19,2,FALSE))","v":0.1534855},{"$f":"IF(E2712=1,\"0\",VLOOKUP(E2712,coefficient2!$A$22:$B$25,2,FALSE))","v":6.6492200000000001E-2},{"$f":"IF(F2712=1,\"0\",VLOOKUP(F2712,coefficient2!$A$28:$B$31,2,FALSE))","v":"0"},0.35066190000000003]
[52432,5,2,4,3,2,16,{"$f":"IF(B2713=1,\"0\",VLOOKUP(B2713,coefficient2!$A$4:$B$7,2,FALSE))","v":0.37123109999999998},{"$f":"IF(C2713=1,\"0\",VLOOKUP(C2713,coefficient2!$A$10:$B$13,2,FALSE))","v":5.8129300000000002E-2},{"$f":"IF(D2713=1,\"0\",VLOOKUP(D2713,coefficient2!$A$16:$B$19,2,FALSE))","v":0.1534855},{"$f":"IF(E2713=1,\"0\",VLOOKUP(E2713,coefficient2!$A$22:$B$25,2,FALSE))","v":6.6492200000000001E-2},{"$f":"IF(F2713=1,\"0\",VLOOKUP(F2713,coefficient2!$A$28:$B$31,2,FALSE))","v":5.8085699999999997E-2},0.29257620000000001]
[52433,5,2,4,3,3,17,{"$f":"IF(B2714=1,\"0\",VLOOKUP(B2714,coefficient2!$A$4:$B$7,2,FALSE))","v":0.37123109999999998},{"$f":"IF(C2714=1,\"0\",VLOOKUP(C2714,coefficient2!$A$10:$B$13,2,FALSE))","v":5.8129300000000002E-2},{"$f":"IF(D2714=1,\"0\",VLOOKUP(D2714,coefficient2!$A$16:$B$19,2,FALSE))","v":0.1534855},{"$f":"IF(E2714=1,\"0\",VLOOKUP(E2714,coefficient2!$A$22:$B$25,2,FALSE))","v":6.6492200000000001E-2},{"$f":"IF(F2714=1,\"0\",VLOOKUP(F2714,coefficient2!$A$28:$B$31,2,FALSE))","v":9.5753900000000003E-2},0.25490800000000002]
[52434,5,2,4,3,4,18,{"$f":"IF(B2715=1,\"0\",VLOOKUP(B2715,coefficient2!$A$4:$B$7,2,FALSE))","v":0.37123109999999998},{"$f":"IF(C2715=1,\"0\",VLOOKUP(C2715,coefficient2!$A$10:$B$13,2,FALSE))","v":5.8129300000000002E-2},{"$f":"IF(D2715=1,\"0\",VLOOKUP(D2715,coefficient2!$A$16:$B$19,2,FALSE))","v":0.1534855},{"$f":"IF(E2715=1,\"0\",VLOOKUP(E2715,coefficient2!$A$22:$B$25,2,FALSE))","v":6.6492200000000001E-2},{"$f":"IF(F2715=1,\"0\",VLOOKUP(F2715,coefficient2!$A$28:$B$31,2,FALSE))","v":0.23270360000000001},0.11795830000000002]
[52435,5,2,4,3,5,19,{"$f":"IF(B2716=1,\"0\",VLOOKUP(B2716,coefficient2!$A$4:$B$7,2,FALSE))","v":0.37123109999999998},{"$f":"IF(C2716=1,\"0\",VLOOKUP(C2716,coefficient2!$A$10:$B$13,2,FALSE))","v":5.8129300000000002E-2},{"$f":"IF(D2716=1,\"0\",VLOOKUP(D2716,coefficient2!$A$16:$B$19,2,FALSE))","v":0.1534855},{"$f":"IF(E2716=1,\"0\",VLOOKUP(E2716,coefficient2!$A$22:$B$25,2,FALSE))","v":6.6492200000000001E-2},{"$f":"IF(F2716=1,\"0\",VLOOKUP(F2716,coefficient2!$A$28:$B$31,2,FALSE))","v":0.29534929999999998},5.5312600000000045E-2]
[52441,5,2,4,4,1,16,{"$f":"IF(B2717=1,\"0\",VLOOKUP(B2717,coefficient2!$A$4:$B$7,2,FALSE))","v":0.37123109999999998},{"$f":"IF(C2717=1,\"0\",VLOOKUP(C2717,coefficient2!$A$10:$B$13,2,FALSE))","v":5.8129300000000002E-2},{"$f":"IF(D2717=1,\"0\",VLOOKUP(D2717,coefficient2!$A$16:$B$19,2,FALSE))","v":0.1534855},{"$f":"IF(E2717=1,\"0\",VLOOKUP(E2717,coefficient2!$A$22:$B$25,2,FALSE))","v":0.2068864},{"$f":"IF(F2717=1,\"0\",VLOOKUP(F2717,coefficient2!$A$28:$B$31,2,FALSE))","v":"0"},0.21026770000000003]
[52442,5,2,4,4,2,17,{"$f":"IF(B2718=1,\"0\",VLOOKUP(B2718,coefficient2!$A$4:$B$7,2,FALSE))","v":0.37123109999999998},{"$f":"IF(C2718=1,\"0\",VLOOKUP(C2718,coefficient2!$A$10:$B$13,2,FALSE))","v":5.8129300000000002E-2},{"$f":"IF(D2718=1,\"0\",VLOOKUP(D2718,coefficient2!$A$16:$B$19,2,FALSE))","v":0.1534855},{"$f":"IF(E2718=1,\"0\",VLOOKUP(E2718,coefficient2!$A$22:$B$25,2,FALSE))","v":0.2068864},{"$f":"IF(F2718=1,\"0\",VLOOKUP(F2718,coefficient2!$A$28:$B$31,2,FALSE))","v":5.8085699999999997E-2},0.15218200000000004]
[52443,5,2,4,4,3,18,{"$f":"IF(B2719=1,\"0\",VLOOKUP(B2719,coefficient2!$A$4:$B$7,2,FALSE))","v":0.37123109999999998},{"$f":"IF(C2719=1,\"0\",VLOOKUP(C2719,coefficient2!$A$10:$B$13,2,FALSE))","v":5.8129300000000002E-2},{"$f":"IF(D2719=1,\"0\",VLOOKUP(D2719,coefficient2!$A$16:$B$19,2,FALSE))","v":0.1534855},{"$f":"IF(E2719=1,\"0\",VLOOKUP(E2719,coefficient2!$A$22:$B$25,2,FALSE))","v":0.2068864},{"$f":"IF(F2719=1,\"0\",VLOOKUP(F2719,coefficient2!$A$28:$B$31,2,FALSE))","v":9.5753900000000003E-2},0.11451380000000003]
[52444,5,2,4,4,4,19,{"$f":"IF(B2720=1,\"0\",VLOOKUP(B2720,coefficient2!$A$4:$B$7,2,FALSE))","v":0.37123109999999998},{"$f":"IF(C2720=1,\"0\",VLOOKUP(C2720,coefficient2!$A$10:$B$13,2,FALSE))","v":5.8129300000000002E-2},{"$f":"IF(D2720=1,\"0\",VLOOKUP(D2720,coefficient2!$A$16:$B$19,2,FALSE))","v":0.1534855},{"$f":"IF(E2720=1,\"0\",VLOOKUP(E2720,coefficient2!$A$22:$B$25,2,FALSE))","v":0.2068864},{"$f":"IF(F2720=1,\"0\",VLOOKUP(F2720,coefficient2!$A$28:$B$31,2,FALSE))","v":0.23270360000000001},-2.2435899999999981E-2]
[52445,5,2,4,4,5,20,{"$f":"IF(B2721=1,\"0\",VLOOKUP(B2721,coefficient2!$A$4:$B$7,2,FALSE))","v":0.37123109999999998},{"$f":"IF(C2721=1,\"0\",VLOOKUP(C2721,coefficient2!$A$10:$B$13,2,FALSE))","v":5.8129300000000002E-2},{"$f":"IF(D2721=1,\"0\",VLOOKUP(D2721,coefficient2!$A$16:$B$19,2,FALSE))","v":0.1534855},{"$f":"IF(E2721=1,\"0\",VLOOKUP(E2721,coefficient2!$A$22:$B$25,2,FALSE))","v":0.2068864},{"$f":"IF(F2721=1,\"0\",VLOOKUP(F2721,coefficient2!$A$28:$B$31,2,FALSE))","v":0.29534929999999998},-8.5081599999999952E-2]
[52451,5,2,4,5,1,17,{"$f":"IF(B2722=1,\"0\",VLOOKUP(B2722,coefficient2!$A$4:$B$7,2,FALSE))","v":0.37123109999999998},{"$f":"IF(C2722=1,\"0\",VLOOKUP(C2722,coefficient2!$A$10:$B$13,2,FALSE))","v":5.8129300000000002E-2},{"$f":"IF(D2722=1,\"0\",VLOOKUP(D2722,coefficient2!$A$16:$B$19,2,FALSE))","v":0.1534855},{"$f":"IF(E2722=1,\"0\",VLOOKUP(E2722,coefficient2!$A$22:$B$25,2,FALSE))","v":0.25643310000000002},{"$f":"IF(F2722=1,\"0\",VLOOKUP(F2722,coefficient2!$A$28:$B$31,2,FALSE))","v":"0"},0.160721]
[52452,5,2,4,5,2,18,{"$f":"IF(B2723=1,\"0\",VLOOKUP(B2723,coefficient2!$A$4:$B$7,2,FALSE))","v":0.37123109999999998},{"$f":"IF(C2723=1,\"0\",VLOOKUP(C2723,coefficient2!$A$10:$B$13,2,FALSE))","v":5.8129300000000002E-2},{"$f":"IF(D2723=1,\"0\",VLOOKUP(D2723,coefficient2!$A$16:$B$19,2,FALSE))","v":0.1534855},{"$f":"IF(E2723=1,\"0\",VLOOKUP(E2723,coefficient2!$A$22:$B$25,2,FALSE))","v":0.25643310000000002},{"$f":"IF(F2723=1,\"0\",VLOOKUP(F2723,coefficient2!$A$28:$B$31,2,FALSE))","v":5.8085699999999997E-2},0.10263530000000001]
[52453,5,2,4,5,3,19,{"$f":"IF(B2724=1,\"0\",VLOOKUP(B2724,coefficient2!$A$4:$B$7,2,FALSE))","v":0.37123109999999998},{"$f":"IF(C2724=1,\"0\",VLOOKUP(C2724,coefficient2!$A$10:$B$13,2,FALSE))","v":5.8129300000000002E-2},{"$f":"IF(D2724=1,\"0\",VLOOKUP(D2724,coefficient2!$A$16:$B$19,2,FALSE))","v":0.1534855},{"$f":"IF(E2724=1,\"0\",VLOOKUP(E2724,coefficient2!$A$22:$B$25,2,FALSE))","v":0.25643310000000002},{"$f":"IF(F2724=1,\"0\",VLOOKUP(F2724,coefficient2!$A$28:$B$31,2,FALSE))","v":9.5753900000000003E-2},6.49671E-2]
[52454,5,2,4,5,4,20,{"$f":"IF(B2725=1,\"0\",VLOOKUP(B2725,coefficient2!$A$4:$B$7,2,FALSE))","v":0.37123109999999998},{"$f":"IF(C2725=1,\"0\",VLOOKUP(C2725,coefficient2!$A$10:$B$13,2,FALSE))","v":5.8129300000000002E-2},{"$f":"IF(D2725=1,\"0\",VLOOKUP(D2725,coefficient2!$A$16:$B$19,2,FALSE))","v":0.1534855},{"$f":"IF(E2725=1,\"0\",VLOOKUP(E2725,coefficient2!$A$22:$B$25,2,FALSE))","v":0.25643310000000002},{"$f":"IF(F2725=1,\"0\",VLOOKUP(F2725,coefficient2!$A$28:$B$31,2,FALSE))","v":0.23270360000000001},-7.1982600000000008E-2]
[52455,5,2,4,5,5,21,{"$f":"IF(B2726=1,\"0\",VLOOKUP(B2726,coefficient2!$A$4:$B$7,2,FALSE))","v":0.37123109999999998},{"$f":"IF(C2726=1,\"0\",VLOOKUP(C2726,coefficient2!$A$10:$B$13,2,FALSE))","v":5.8129300000000002E-2},{"$f":"IF(D2726=1,\"0\",VLOOKUP(D2726,coefficient2!$A$16:$B$19,2,FALSE))","v":0.1534855},{"$f":"IF(E2726=1,\"0\",VLOOKUP(E2726,coefficient2!$A$22:$B$25,2,FALSE))","v":0.25643310000000002},{"$f":"IF(F2726=1,\"0\",VLOOKUP(F2726,coefficient2!$A$28:$B$31,2,FALSE))","v":0.29534929999999998},-0.13462829999999998]
[52511,5,2,5,1,1,14,{"$f":"IF(B2727=1,\"0\",VLOOKUP(B2727,coefficient2!$A$4:$B$7,2,FALSE))","v":0.37123109999999998},{"$f":"IF(C2727=1,\"0\",VLOOKUP(C2727,coefficient2!$A$10:$B$13,2,FALSE))","v":5.8129300000000002E-2},{"$f":"IF(D2727=1,\"0\",VLOOKUP(D2727,coefficient2!$A$16:$B$19,2,FALSE))","v":0.248331},{"$f":"IF(E2727=1,\"0\",VLOOKUP(E2727,coefficient2!$A$22:$B$25,2,FALSE))","v":"0"},{"$f":"IF(F2727=1,\"0\",VLOOKUP(F2727,coefficient2!$A$28:$B$31,2,FALSE))","v":"0"},0.32230860000000006]
[52512,5,2,5,1,2,15,{"$f":"IF(B2728=1,\"0\",VLOOKUP(B2728,coefficient2!$A$4:$B$7,2,FALSE))","v":0.37123109999999998},{"$f":"IF(C2728=1,\"0\",VLOOKUP(C2728,coefficient2!$A$10:$B$13,2,FALSE))","v":5.8129300000000002E-2},{"$f":"IF(D2728=1,\"0\",VLOOKUP(D2728,coefficient2!$A$16:$B$19,2,FALSE))","v":0.248331},{"$f":"IF(E2728=1,\"0\",VLOOKUP(E2728,coefficient2!$A$22:$B$25,2,FALSE))","v":"0"},{"$f":"IF(F2728=1,\"0\",VLOOKUP(F2728,coefficient2!$A$28:$B$31,2,FALSE))","v":5.8085699999999997E-2},0.26422290000000004]
[52513,5,2,5,1,3,16,{"$f":"IF(B2729=1,\"0\",VLOOKUP(B2729,coefficient2!$A$4:$B$7,2,FALSE))","v":0.37123109999999998},{"$f":"IF(C2729=1,\"0\",VLOOKUP(C2729,coefficient2!$A$10:$B$13,2,FALSE))","v":5.8129300000000002E-2},{"$f":"IF(D2729=1,\"0\",VLOOKUP(D2729,coefficient2!$A$16:$B$19,2,FALSE))","v":0.248331},{"$f":"IF(E2729=1,\"0\",VLOOKUP(E2729,coefficient2!$A$22:$B$25,2,FALSE))","v":"0"},{"$f":"IF(F2729=1,\"0\",VLOOKUP(F2729,coefficient2!$A$28:$B$31,2,FALSE))","v":9.5753900000000003E-2},0.22655470000000005]
[52514,5,2,5,1,4,17,{"$f":"IF(B2730=1,\"0\",VLOOKUP(B2730,coefficient2!$A$4:$B$7,2,FALSE))","v":0.37123109999999998},{"$f":"IF(C2730=1,\"0\",VLOOKUP(C2730,coefficient2!$A$10:$B$13,2,FALSE))","v":5.8129300000000002E-2},{"$f":"IF(D2730=1,\"0\",VLOOKUP(D2730,coefficient2!$A$16:$B$19,2,FALSE))","v":0.248331},{"$f":"IF(E2730=1,\"0\",VLOOKUP(E2730,coefficient2!$A$22:$B$25,2,FALSE))","v":"0"},{"$f":"IF(F2730=1,\"0\",VLOOKUP(F2730,coefficient2!$A$28:$B$31,2,FALSE))","v":0.23270360000000001},8.9605000000000046E-2]
[52515,5,2,5,1,5,18,{"$f":"IF(B2731=1,\"0\",VLOOKUP(B2731,coefficient2!$A$4:$B$7,2,FALSE))","v":0.37123109999999998},{"$f":"IF(C2731=1,\"0\",VLOOKUP(C2731,coefficient2!$A$10:$B$13,2,FALSE))","v":5.8129300000000002E-2},{"$f":"IF(D2731=1,\"0\",VLOOKUP(D2731,coefficient2!$A$16:$B$19,2,FALSE))","v":0.248331},{"$f":"IF(E2731=1,\"0\",VLOOKUP(E2731,coefficient2!$A$22:$B$25,2,FALSE))","v":"0"},{"$f":"IF(F2731=1,\"0\",VLOOKUP(F2731,coefficient2!$A$28:$B$31,2,FALSE))","v":0.29534929999999998},2.6959300000000075E-2]
[52521,5,2,5,2,1,15,{"$f":"IF(B2732=1,\"0\",VLOOKUP(B2732,coefficient2!$A$4:$B$7,2,FALSE))","v":0.37123109999999998},{"$f":"IF(C2732=1,\"0\",VLOOKUP(C2732,coefficient2!$A$10:$B$13,2,FALSE))","v":5.8129300000000002E-2},{"$f":"IF(D2732=1,\"0\",VLOOKUP(D2732,coefficient2!$A$16:$B$19,2,FALSE))","v":0.248331},{"$f":"IF(E2732=1,\"0\",VLOOKUP(E2732,coefficient2!$A$22:$B$25,2,FALSE))","v":5.63998E-2},{"$f":"IF(F2732=1,\"0\",VLOOKUP(F2732,coefficient2!$A$28:$B$31,2,FALSE))","v":"0"},0.26590880000000006]
[52522,5,2,5,2,2,16,{"$f":"IF(B2733=1,\"0\",VLOOKUP(B2733,coefficient2!$A$4:$B$7,2,FALSE))","v":0.37123109999999998},{"$f":"IF(C2733=1,\"0\",VLOOKUP(C2733,coefficient2!$A$10:$B$13,2,FALSE))","v":5.8129300000000002E-2},{"$f":"IF(D2733=1,\"0\",VLOOKUP(D2733,coefficient2!$A$16:$B$19,2,FALSE))","v":0.248331},{"$f":"IF(E2733=1,\"0\",VLOOKUP(E2733,coefficient2!$A$22:$B$25,2,FALSE))","v":5.63998E-2},{"$f":"IF(F2733=1,\"0\",VLOOKUP(F2733,coefficient2!$A$28:$B$31,2,FALSE))","v":5.8085699999999997E-2},0.20782310000000007]
[52523,5,2,5,2,3,17,{"$f":"IF(B2734=1,\"0\",VLOOKUP(B2734,coefficient2!$A$4:$B$7,2,FALSE))","v":0.37123109999999998},{"$f":"IF(C2734=1,\"0\",VLOOKUP(C2734,coefficient2!$A$10:$B$13,2,FALSE))","v":5.8129300000000002E-2},{"$f":"IF(D2734=1,\"0\",VLOOKUP(D2734,coefficient2!$A$16:$B$19,2,FALSE))","v":0.248331},{"$f":"IF(E2734=1,\"0\",VLOOKUP(E2734,coefficient2!$A$22:$B$25,2,FALSE))","v":5.63998E-2},{"$f":"IF(F2734=1,\"0\",VLOOKUP(F2734,coefficient2!$A$28:$B$31,2,FALSE))","v":9.5753900000000003E-2},0.17015490000000005]
[52524,5,2,5,2,4,18,{"$f":"IF(B2735=1,\"0\",VLOOKUP(B2735,coefficient2!$A$4:$B$7,2,FALSE))","v":0.37123109999999998},{"$f":"IF(C2735=1,\"0\",VLOOKUP(C2735,coefficient2!$A$10:$B$13,2,FALSE))","v":5.8129300000000002E-2},{"$f":"IF(D2735=1,\"0\",VLOOKUP(D2735,coefficient2!$A$16:$B$19,2,FALSE))","v":0.248331},{"$f":"IF(E2735=1,\"0\",VLOOKUP(E2735,coefficient2!$A$22:$B$25,2,FALSE))","v":5.63998E-2},{"$f":"IF(F2735=1,\"0\",VLOOKUP(F2735,coefficient2!$A$28:$B$31,2,FALSE))","v":0.23270360000000001},3.3205200000000046E-2]
[52525,5,2,5,2,5,19,{"$f":"IF(B2736=1,\"0\",VLOOKUP(B2736,coefficient2!$A$4:$B$7,2,FALSE))","v":0.37123109999999998},{"$f":"IF(C2736=1,\"0\",VLOOKUP(C2736,coefficient2!$A$10:$B$13,2,FALSE))","v":5.8129300000000002E-2},{"$f":"IF(D2736=1,\"0\",VLOOKUP(D2736,coefficient2!$A$16:$B$19,2,FALSE))","v":0.248331},{"$f":"IF(E2736=1,\"0\",VLOOKUP(E2736,coefficient2!$A$22:$B$25,2,FALSE))","v":5.63998E-2},{"$f":"IF(F2736=1,\"0\",VLOOKUP(F2736,coefficient2!$A$28:$B$31,2,FALSE))","v":0.29534929999999998},-2.9440499999999925E-2]
[52531,5,2,5,3,1,16,{"$f":"IF(B2737=1,\"0\",VLOOKUP(B2737,coefficient2!$A$4:$B$7,2,FALSE))","v":0.37123109999999998},{"$f":"IF(C2737=1,\"0\",VLOOKUP(C2737,coefficient2!$A$10:$B$13,2,FALSE))","v":5.8129300000000002E-2},{"$f":"IF(D2737=1,\"0\",VLOOKUP(D2737,coefficient2!$A$16:$B$19,2,FALSE))","v":0.248331},{"$f":"IF(E2737=1,\"0\",VLOOKUP(E2737,coefficient2!$A$22:$B$25,2,FALSE))","v":6.6492200000000001E-2},{"$f":"IF(F2737=1,\"0\",VLOOKUP(F2737,coefficient2!$A$28:$B$31,2,FALSE))","v":"0"},0.25581640000000005]
[52532,5,2,5,3,2,17,{"$f":"IF(B2738=1,\"0\",VLOOKUP(B2738,coefficient2!$A$4:$B$7,2,FALSE))","v":0.37123109999999998},{"$f":"IF(C2738=1,\"0\",VLOOKUP(C2738,coefficient2!$A$10:$B$13,2,FALSE))","v":5.8129300000000002E-2},{"$f":"IF(D2738=1,\"0\",VLOOKUP(D2738,coefficient2!$A$16:$B$19,2,FALSE))","v":0.248331},{"$f":"IF(E2738=1,\"0\",VLOOKUP(E2738,coefficient2!$A$22:$B$25,2,FALSE))","v":6.6492200000000001E-2},{"$f":"IF(F2738=1,\"0\",VLOOKUP(F2738,coefficient2!$A$28:$B$31,2,FALSE))","v":5.8085699999999997E-2},0.19773070000000006]
[52533,5,2,5,3,3,18,{"$f":"IF(B2739=1,\"0\",VLOOKUP(B2739,coefficient2!$A$4:$B$7,2,FALSE))","v":0.37123109999999998},{"$f":"IF(C2739=1,\"0\",VLOOKUP(C2739,coefficient2!$A$10:$B$13,2,FALSE))","v":5.8129300000000002E-2},{"$f":"IF(D2739=1,\"0\",VLOOKUP(D2739,coefficient2!$A$16:$B$19,2,FALSE))","v":0.248331},{"$f":"IF(E2739=1,\"0\",VLOOKUP(E2739,coefficient2!$A$22:$B$25,2,FALSE))","v":6.6492200000000001E-2},{"$f":"IF(F2739=1,\"0\",VLOOKUP(F2739,coefficient2!$A$28:$B$31,2,FALSE))","v":9.5753900000000003E-2},0.16006250000000005]
[52534,5,2,5,3,4,19,{"$f":"IF(B2740=1,\"0\",VLOOKUP(B2740,coefficient2!$A$4:$B$7,2,FALSE))","v":0.37123109999999998},{"$f":"IF(C2740=1,\"0\",VLOOKUP(C2740,coefficient2!$A$10:$B$13,2,FALSE))","v":5.8129300000000002E-2},{"$f":"IF(D2740=1,\"0\",VLOOKUP(D2740,coefficient2!$A$16:$B$19,2,FALSE))","v":0.248331},{"$f":"IF(E2740=1,\"0\",VLOOKUP(E2740,coefficient2!$A$22:$B$25,2,FALSE))","v":6.6492200000000001E-2},{"$f":"IF(F2740=1,\"0\",VLOOKUP(F2740,coefficient2!$A$28:$B$31,2,FALSE))","v":0.23270360000000001},2.3112800000000044E-2]
[52535,5,2,5,3,5,20,{"$f":"IF(B2741=1,\"0\",VLOOKUP(B2741,coefficient2!$A$4:$B$7,2,FALSE))","v":0.37123109999999998},{"$f":"IF(C2741=1,\"0\",VLOOKUP(C2741,coefficient2!$A$10:$B$13,2,FALSE))","v":5.8129300000000002E-2},{"$f":"IF(D2741=1,\"0\",VLOOKUP(D2741,coefficient2!$A$16:$B$19,2,FALSE))","v":0.248331},{"$f":"IF(E2741=1,\"0\",VLOOKUP(E2741,coefficient2!$A$22:$B$25,2,FALSE))","v":6.6492200000000001E-2},{"$f":"IF(F2741=1,\"0\",VLOOKUP(F2741,coefficient2!$A$28:$B$31,2,FALSE))","v":0.29534929999999998},-3.9532899999999926E-2]
[52541,5,2,5,4,1,17,{"$f":"IF(B2742=1,\"0\",VLOOKUP(B2742,coefficient2!$A$4:$B$7,2,FALSE))","v":0.37123109999999998},{"$f":"IF(C2742=1,\"0\",VLOOKUP(C2742,coefficient2!$A$10:$B$13,2,FALSE))","v":5.8129300000000002E-2},{"$f":"IF(D2742=1,\"0\",VLOOKUP(D2742,coefficient2!$A$16:$B$19,2,FALSE))","v":0.248331},{"$f":"IF(E2742=1,\"0\",VLOOKUP(E2742,coefficient2!$A$22:$B$25,2,FALSE))","v":0.2068864},{"$f":"IF(F2742=1,\"0\",VLOOKUP(F2742,coefficient2!$A$28:$B$31,2,FALSE))","v":"0"},0.11542220000000006]
[52542,5,2,5,4,2,18,{"$f":"IF(B2743=1,\"0\",VLOOKUP(B2743,coefficient2!$A$4:$B$7,2,FALSE))","v":0.37123109999999998},{"$f":"IF(C2743=1,\"0\",VLOOKUP(C2743,coefficient2!$A$10:$B$13,2,FALSE))","v":5.8129300000000002E-2},{"$f":"IF(D2743=1,\"0\",VLOOKUP(D2743,coefficient2!$A$16:$B$19,2,FALSE))","v":0.248331},{"$f":"IF(E2743=1,\"0\",VLOOKUP(E2743,coefficient2!$A$22:$B$25,2,FALSE))","v":0.2068864},{"$f":"IF(F2743=1,\"0\",VLOOKUP(F2743,coefficient2!$A$28:$B$31,2,FALSE))","v":5.8085699999999997E-2},5.7336500000000061E-2]
[52543,5,2,5,4,3,19,{"$f":"IF(B2744=1,\"0\",VLOOKUP(B2744,coefficient2!$A$4:$B$7,2,FALSE))","v":0.37123109999999998},{"$f":"IF(C2744=1,\"0\",VLOOKUP(C2744,coefficient2!$A$10:$B$13,2,FALSE))","v":5.8129300000000002E-2},{"$f":"IF(D2744=1,\"0\",VLOOKUP(D2744,coefficient2!$A$16:$B$19,2,FALSE))","v":0.248331},{"$f":"IF(E2744=1,\"0\",VLOOKUP(E2744,coefficient2!$A$22:$B$25,2,FALSE))","v":0.2068864},{"$f":"IF(F2744=1,\"0\",VLOOKUP(F2744,coefficient2!$A$28:$B$31,2,FALSE))","v":9.5753900000000003E-2},1.9668300000000055E-2]
[52544,5,2,5,4,4,20,{"$f":"IF(B2745=1,\"0\",VLOOKUP(B2745,coefficient2!$A$4:$B$7,2,FALSE))","v":0.37123109999999998},{"$f":"IF(C2745=1,\"0\",VLOOKUP(C2745,coefficient2!$A$10:$B$13,2,FALSE))","v":5.8129300000000002E-2},{"$f":"IF(D2745=1,\"0\",VLOOKUP(D2745,coefficient2!$A$16:$B$19,2,FALSE))","v":0.248331},{"$f":"IF(E2745=1,\"0\",VLOOKUP(E2745,coefficient2!$A$22:$B$25,2,FALSE))","v":0.2068864},{"$f":"IF(F2745=1,\"0\",VLOOKUP(F2745,coefficient2!$A$28:$B$31,2,FALSE))","v":0.23270360000000001},-0.11728139999999995]
[52545,5,2,5,4,5,21,{"$f":"IF(B2746=1,\"0\",VLOOKUP(B2746,coefficient2!$A$4:$B$7,2,FALSE))","v":0.37123109999999998},{"$f":"IF(C2746=1,\"0\",VLOOKUP(C2746,coefficient2!$A$10:$B$13,2,FALSE))","v":5.8129300000000002E-2},{"$f":"IF(D2746=1,\"0\",VLOOKUP(D2746,coefficient2!$A$16:$B$19,2,FALSE))","v":0.248331},{"$f":"IF(E2746=1,\"0\",VLOOKUP(E2746,coefficient2!$A$22:$B$25,2,FALSE))","v":0.2068864},{"$f":"IF(F2746=1,\"0\",VLOOKUP(F2746,coefficient2!$A$28:$B$31,2,FALSE))","v":0.29534929999999998},-0.17992709999999992]
[52551,5,2,5,5,1,18,{"$f":"IF(B2747=1,\"0\",VLOOKUP(B2747,coefficient2!$A$4:$B$7,2,FALSE))","v":0.37123109999999998},{"$f":"IF(C2747=1,\"0\",VLOOKUP(C2747,coefficient2!$A$10:$B$13,2,FALSE))","v":5.8129300000000002E-2},{"$f":"IF(D2747=1,\"0\",VLOOKUP(D2747,coefficient2!$A$16:$B$19,2,FALSE))","v":0.248331},{"$f":"IF(E2747=1,\"0\",VLOOKUP(E2747,coefficient2!$A$22:$B$25,2,FALSE))","v":0.25643310000000002},{"$f":"IF(F2747=1,\"0\",VLOOKUP(F2747,coefficient2!$A$28:$B$31,2,FALSE))","v":"0"},6.5875500000000031E-2]
[52552,5,2,5,5,2,19,{"$f":"IF(B2748=1,\"0\",VLOOKUP(B2748,coefficient2!$A$4:$B$7,2,FALSE))","v":0.37123109999999998},{"$f":"IF(C2748=1,\"0\",VLOOKUP(C2748,coefficient2!$A$10:$B$13,2,FALSE))","v":5.8129300000000002E-2},{"$f":"IF(D2748=1,\"0\",VLOOKUP(D2748,coefficient2!$A$16:$B$19,2,FALSE))","v":0.248331},{"$f":"IF(E2748=1,\"0\",VLOOKUP(E2748,coefficient2!$A$22:$B$25,2,FALSE))","v":0.25643310000000002},{"$f":"IF(F2748=1,\"0\",VLOOKUP(F2748,coefficient2!$A$28:$B$31,2,FALSE))","v":5.8085699999999997E-2},7.7898000000000342E-3]
[52553,5,2,5,5,3,20,{"$f":"IF(B2749=1,\"0\",VLOOKUP(B2749,coefficient2!$A$4:$B$7,2,FALSE))","v":0.37123109999999998},{"$f":"IF(C2749=1,\"0\",VLOOKUP(C2749,coefficient2!$A$10:$B$13,2,FALSE))","v":5.8129300000000002E-2},{"$f":"IF(D2749=1,\"0\",VLOOKUP(D2749,coefficient2!$A$16:$B$19,2,FALSE))","v":0.248331},{"$f":"IF(E2749=1,\"0\",VLOOKUP(E2749,coefficient2!$A$22:$B$25,2,FALSE))","v":0.25643310000000002},{"$f":"IF(F2749=1,\"0\",VLOOKUP(F2749,coefficient2!$A$28:$B$31,2,FALSE))","v":9.5753900000000003E-2},-2.9878399999999972E-2]
[52554,5,2,5,5,4,21,{"$f":"IF(B2750=1,\"0\",VLOOKUP(B2750,coefficient2!$A$4:$B$7,2,FALSE))","v":0.37123109999999998},{"$f":"IF(C2750=1,\"0\",VLOOKUP(C2750,coefficient2!$A$10:$B$13,2,FALSE))","v":5.8129300000000002E-2},{"$f":"IF(D2750=1,\"0\",VLOOKUP(D2750,coefficient2!$A$16:$B$19,2,FALSE))","v":0.248331},{"$f":"IF(E2750=1,\"0\",VLOOKUP(E2750,coefficient2!$A$22:$B$25,2,FALSE))","v":0.25643310000000002},{"$f":"IF(F2750=1,\"0\",VLOOKUP(F2750,coefficient2!$A$28:$B$31,2,FALSE))","v":0.23270360000000001},-0.16682809999999998]
[52555,5,2,5,5,5,22,{"$f":"IF(B2751=1,\"0\",VLOOKUP(B2751,coefficient2!$A$4:$B$7,2,FALSE))","v":0.37123109999999998},{"$f":"IF(C2751=1,\"0\",VLOOKUP(C2751,coefficient2!$A$10:$B$13,2,FALSE))","v":5.8129300000000002E-2},{"$f":"IF(D2751=1,\"0\",VLOOKUP(D2751,coefficient2!$A$16:$B$19,2,FALSE))","v":0.248331},{"$f":"IF(E2751=1,\"0\",VLOOKUP(E2751,coefficient2!$A$22:$B$25,2,FALSE))","v":0.25643310000000002},{"$f":"IF(F2751=1,\"0\",VLOOKUP(F2751,coefficient2!$A$28:$B$31,2,FALSE))","v":0.29534929999999998},-0.22947379999999995]
[53111,5,3,1,1,1,11,{"$f":"IF(B2752=1,\"0\",VLOOKUP(B2752,coefficient2!$A$4:$B$7,2,FALSE))","v":0.37123109999999998},{"$f":"IF(C2752=1,\"0\",VLOOKUP(C2752,coefficient2!$A$10:$B$13,2,FALSE))","v":7.0631200000000005E-2},{"$f":"IF(D2752=1,\"0\",VLOOKUP(D2752,coefficient2!$A$16:$B$19,2,FALSE))","v":"0"},{"$f":"IF(E2752=1,\"0\",VLOOKUP(E2752,coefficient2!$A$22:$B$25,2,FALSE))","v":"0"},{"$f":"IF(F2752=1,\"0\",VLOOKUP(F2752,coefficient2!$A$28:$B$31,2,FALSE))","v":"0"},0.55813770000000007]
[53112,5,3,1,1,2,12,{"$f":"IF(B2753=1,\"0\",VLOOKUP(B2753,coefficient2!$A$4:$B$7,2,FALSE))","v":0.37123109999999998},{"$f":"IF(C2753=1,\"0\",VLOOKUP(C2753,coefficient2!$A$10:$B$13,2,FALSE))","v":7.0631200000000005E-2},{"$f":"IF(D2753=1,\"0\",VLOOKUP(D2753,coefficient2!$A$16:$B$19,2,FALSE))","v":"0"},{"$f":"IF(E2753=1,\"0\",VLOOKUP(E2753,coefficient2!$A$22:$B$25,2,FALSE))","v":"0"},{"$f":"IF(F2753=1,\"0\",VLOOKUP(F2753,coefficient2!$A$28:$B$31,2,FALSE))","v":5.8085699999999997E-2},0.50005200000000005]
[53113,5,3,1,1,3,13,{"$f":"IF(B2754=1,\"0\",VLOOKUP(B2754,coefficient2!$A$4:$B$7,2,FALSE))","v":0.37123109999999998},{"$f":"IF(C2754=1,\"0\",VLOOKUP(C2754,coefficient2!$A$10:$B$13,2,FALSE))","v":7.0631200000000005E-2},{"$f":"IF(D2754=1,\"0\",VLOOKUP(D2754,coefficient2!$A$16:$B$19,2,FALSE))","v":"0"},{"$f":"IF(E2754=1,\"0\",VLOOKUP(E2754,coefficient2!$A$22:$B$25,2,FALSE))","v":"0"},{"$f":"IF(F2754=1,\"0\",VLOOKUP(F2754,coefficient2!$A$28:$B$31,2,FALSE))","v":9.5753900000000003E-2},{"$f":"1-H2754-I2754-J2754-K2754-L2754","v":0.46238380000000007}]
[53114,{"$f":"INT(LEFT(A2755,1))","v":5},{"$f":"INT(MID(A2755,2,1))","v":3},{"$f":"INT(MID(A2755,3,1))","v":1},{"$f":"INT(MID(A2755,4,1))","v":1},{"$f":"INT(RIGHT(A2755,1))","v":4},14,{"$f":"IF(B2755=1,\"0\",VLOOKUP(B2755,coefficient2!$A$4:$B$7,2,FALSE))","v":0.37123109999999998},{"$f":"IF(C2755=1,\"0\",VLOOKUP(C2755,coefficient2!$A$10:$B$13,2,FALSE))","v":7.0631200000000005E-2},{"$f":"IF(D2755=1,\"0\",VLOOKUP(D2755,coefficient2!$A$16:$B$19,2,FALSE))","v":"0"},{"$f":"IF(E2755=1,\"0\",VLOOKUP(E2755,coefficient2!$A$22:$B$25,2,FALSE))","v":"0"},{"$f":"IF(F2755=1,\"0\",VLOOKUP(F2755,coefficient2!$A$28:$B$31,2,FALSE))","v":0.23270360000000001},0.32543410000000006]
[53115,5,3,1,1,5,15,{"$f":"IF(B2756=1,\"0\",VLOOKUP(B2756,coefficient2!$A$4:$B$7,2,FALSE))","v":0.37123109999999998},{"$f":"IF(C2756=1,\"0\",VLOOKUP(C2756,coefficient2!$A$10:$B$13,2,FALSE))","v":7.0631200000000005E-2},{"$f":"IF(D2756=1,\"0\",VLOOKUP(D2756,coefficient2!$A$16:$B$19,2,FALSE))","v":"0"},{"$f":"IF(E2756=1,\"0\",VLOOKUP(E2756,coefficient2!$A$22:$B$25,2,FALSE))","v":"0"},{"$f":"IF(F2756=1,\"0\",VLOOKUP(F2756,coefficient2!$A$28:$B$31,2,FALSE))","v":0.29534929999999998},0.26278840000000009]
[53121,5,3,1,2,1,12,{"$f":"IF(B2757=1,\"0\",VLOOKUP(B2757,coefficient2!$A$4:$B$7,2,FALSE))","v":0.37123109999999998},{"$f":"IF(C2757=1,\"0\",VLOOKUP(C2757,coefficient2!$A$10:$B$13,2,FALSE))","v":7.0631200000000005E-2},{"$f":"IF(D2757=1,\"0\",VLOOKUP(D2757,coefficient2!$A$16:$B$19,2,FALSE))","v":"0"},{"$f":"IF(E2757=1,\"0\",VLOOKUP(E2757,coefficient2!$A$22:$B$25,2,FALSE))","v":5.63998E-2},{"$f":"IF(F2757=1,\"0\",VLOOKUP(F2757,coefficient2!$A$28:$B$31,2,FALSE))","v":"0"},0.50173790000000007]
[53122,5,3,1,2,2,13,{"$f":"IF(B2758=1,\"0\",VLOOKUP(B2758,coefficient2!$A$4:$B$7,2,FALSE))","v":0.37123109999999998},{"$f":"IF(C2758=1,\"0\",VLOOKUP(C2758,coefficient2!$A$10:$B$13,2,FALSE))","v":7.0631200000000005E-2},{"$f":"IF(D2758=1,\"0\",VLOOKUP(D2758,coefficient2!$A$16:$B$19,2,FALSE))","v":"0"},{"$f":"IF(E2758=1,\"0\",VLOOKUP(E2758,coefficient2!$A$22:$B$25,2,FALSE))","v":5.63998E-2},{"$f":"IF(F2758=1,\"0\",VLOOKUP(F2758,coefficient2!$A$28:$B$31,2,FALSE))","v":5.8085699999999997E-2},0.44365220000000005]
[53123,5,3,1,2,3,14,{"$f":"IF(B2759=1,\"0\",VLOOKUP(B2759,coefficient2!$A$4:$B$7,2,FALSE))","v":0.37123109999999998},{"$f":"IF(C2759=1,\"0\",VLOOKUP(C2759,coefficient2!$A$10:$B$13,2,FALSE))","v":7.0631200000000005E-2},{"$f":"IF(D2759=1,\"0\",VLOOKUP(D2759,coefficient2!$A$16:$B$19,2,FALSE))","v":"0"},{"$f":"IF(E2759=1,\"0\",VLOOKUP(E2759,coefficient2!$A$22:$B$25,2,FALSE))","v":5.63998E-2},{"$f":"IF(F2759=1,\"0\",VLOOKUP(F2759,coefficient2!$A$28:$B$31,2,FALSE))","v":9.5753900000000003E-2},0.40598400000000007]
[53124,5,3,1,2,4,15,{"$f":"IF(B2760=1,\"0\",VLOOKUP(B2760,coefficient2!$A$4:$B$7,2,FALSE))","v":0.37123109999999998},{"$f":"IF(C2760=1,\"0\",VLOOKUP(C2760,coefficient2!$A$10:$B$13,2,FALSE))","v":7.0631200000000005E-2},{"$f":"IF(D2760=1,\"0\",VLOOKUP(D2760,coefficient2!$A$16:$B$19,2,FALSE))","v":"0"},{"$f":"IF(E2760=1,\"0\",VLOOKUP(E2760,coefficient2!$A$22:$B$25,2,FALSE))","v":5.63998E-2},{"$f":"IF(F2760=1,\"0\",VLOOKUP(F2760,coefficient2!$A$28:$B$31,2,FALSE))","v":0.23270360000000001},0.26903430000000006]
[53125,5,3,1,2,5,16,{"$f":"IF(B2761=1,\"0\",VLOOKUP(B2761,coefficient2!$A$4:$B$7,2,FALSE))","v":0.37123109999999998},{"$f":"IF(C2761=1,\"0\",VLOOKUP(C2761,coefficient2!$A$10:$B$13,2,FALSE))","v":7.0631200000000005E-2},{"$f":"IF(D2761=1,\"0\",VLOOKUP(D2761,coefficient2!$A$16:$B$19,2,FALSE))","v":"0"},{"$f":"IF(E2761=1,\"0\",VLOOKUP(E2761,coefficient2!$A$22:$B$25,2,FALSE))","v":5.63998E-2},{"$f":"IF(F2761=1,\"0\",VLOOKUP(F2761,coefficient2!$A$28:$B$31,2,FALSE))","v":0.29534929999999998},0.20638860000000009]
[53131,5,3,1,3,1,13,{"$f":"IF(B2762=1,\"0\",VLOOKUP(B2762,coefficient2!$A$4:$B$7,2,FALSE))","v":0.37123109999999998},{"$f":"IF(C2762=1,\"0\",VLOOKUP(C2762,coefficient2!$A$10:$B$13,2,FALSE))","v":7.0631200000000005E-2},{"$f":"IF(D2762=1,\"0\",VLOOKUP(D2762,coefficient2!$A$16:$B$19,2,FALSE))","v":"0"},{"$f":"IF(E2762=1,\"0\",VLOOKUP(E2762,coefficient2!$A$22:$B$25,2,FALSE))","v":6.6492200000000001E-2},{"$f":"IF(F2762=1,\"0\",VLOOKUP(F2762,coefficient2!$A$28:$B$31,2,FALSE))","v":"0"},0.49164550000000007]
[53132,5,3,1,3,2,14,{"$f":"IF(B2763=1,\"0\",VLOOKUP(B2763,coefficient2!$A$4:$B$7,2,FALSE))","v":0.37123109999999998},{"$f":"IF(C2763=1,\"0\",VLOOKUP(C2763,coefficient2!$A$10:$B$13,2,FALSE))","v":7.0631200000000005E-2},{"$f":"IF(D2763=1,\"0\",VLOOKUP(D2763,coefficient2!$A$16:$B$19,2,FALSE))","v":"0"},{"$f":"IF(E2763=1,\"0\",VLOOKUP(E2763,coefficient2!$A$22:$B$25,2,FALSE))","v":6.6492200000000001E-2},{"$f":"IF(F2763=1,\"0\",VLOOKUP(F2763,coefficient2!$A$28:$B$31,2,FALSE))","v":5.8085699999999997E-2},0.43355980000000005]
[53133,5,3,1,3,3,15,{"$f":"IF(B2764=1,\"0\",VLOOKUP(B2764,coefficient2!$A$4:$B$7,2,FALSE))","v":0.37123109999999998},{"$f":"IF(C2764=1,\"0\",VLOOKUP(C2764,coefficient2!$A$10:$B$13,2,FALSE))","v":7.0631200000000005E-2},{"$f":"IF(D2764=1,\"0\",VLOOKUP(D2764,coefficient2!$A$16:$B$19,2,FALSE))","v":"0"},{"$f":"IF(E2764=1,\"0\",VLOOKUP(E2764,coefficient2!$A$22:$B$25,2,FALSE))","v":6.6492200000000001E-2},{"$f":"IF(F2764=1,\"0\",VLOOKUP(F2764,coefficient2!$A$28:$B$31,2,FALSE))","v":9.5753900000000003E-2},0.39589160000000007]
[53134,5,3,1,3,4,16,{"$f":"IF(B2765=1,\"0\",VLOOKUP(B2765,coefficient2!$A$4:$B$7,2,FALSE))","v":0.37123109999999998},{"$f":"IF(C2765=1,\"0\",VLOOKUP(C2765,coefficient2!$A$10:$B$13,2,FALSE))","v":7.0631200000000005E-2},{"$f":"IF(D2765=1,\"0\",VLOOKUP(D2765,coefficient2!$A$16:$B$19,2,FALSE))","v":"0"},{"$f":"IF(E2765=1,\"0\",VLOOKUP(E2765,coefficient2!$A$22:$B$25,2,FALSE))","v":6.6492200000000001E-2},{"$f":"IF(F2765=1,\"0\",VLOOKUP(F2765,coefficient2!$A$28:$B$31,2,FALSE))","v":0.23270360000000001},0.25894190000000006]
[53135,5,3,1,3,5,17,{"$f":"IF(B2766=1,\"0\",VLOOKUP(B2766,coefficient2!$A$4:$B$7,2,FALSE))","v":0.37123109999999998},{"$f":"IF(C2766=1,\"0\",VLOOKUP(C2766,coefficient2!$A$10:$B$13,2,FALSE))","v":7.0631200000000005E-2},{"$f":"IF(D2766=1,\"0\",VLOOKUP(D2766,coefficient2!$A$16:$B$19,2,FALSE))","v":"0"},{"$f":"IF(E2766=1,\"0\",VLOOKUP(E2766,coefficient2!$A$22:$B$25,2,FALSE))","v":6.6492200000000001E-2},{"$f":"IF(F2766=1,\"0\",VLOOKUP(F2766,coefficient2!$A$28:$B$31,2,FALSE))","v":0.29534929999999998},0.19629620000000009]
[53141,5,3,1,4,1,14,{"$f":"IF(B2767=1,\"0\",VLOOKUP(B2767,coefficient2!$A$4:$B$7,2,FALSE))","v":0.37123109999999998},{"$f":"IF(C2767=1,\"0\",VLOOKUP(C2767,coefficient2!$A$10:$B$13,2,FALSE))","v":7.0631200000000005E-2},{"$f":"IF(D2767=1,\"0\",VLOOKUP(D2767,coefficient2!$A$16:$B$19,2,FALSE))","v":"0"},{"$f":"IF(E2767=1,\"0\",VLOOKUP(E2767,coefficient2!$A$22:$B$25,2,FALSE))","v":0.2068864},{"$f":"IF(F2767=1,\"0\",VLOOKUP(F2767,coefficient2!$A$28:$B$31,2,FALSE))","v":"0"},0.35125130000000004]
[53142,5,3,1,4,2,15,{"$f":"IF(B2768=1,\"0\",VLOOKUP(B2768,coefficient2!$A$4:$B$7,2,FALSE))","v":0.37123109999999998},{"$f":"IF(C2768=1,\"0\",VLOOKUP(C2768,coefficient2!$A$10:$B$13,2,FALSE))","v":7.0631200000000005E-2},{"$f":"IF(D2768=1,\"0\",VLOOKUP(D2768,coefficient2!$A$16:$B$19,2,FALSE))","v":"0"},{"$f":"IF(E2768=1,\"0\",VLOOKUP(E2768,coefficient2!$A$22:$B$25,2,FALSE))","v":0.2068864},{"$f":"IF(F2768=1,\"0\",VLOOKUP(F2768,coefficient2!$A$28:$B$31,2,FALSE))","v":5.8085699999999997E-2},0.29316560000000003]
[53143,5,3,1,4,3,16,{"$f":"IF(B2769=1,\"0\",VLOOKUP(B2769,coefficient2!$A$4:$B$7,2,FALSE))","v":0.37123109999999998},{"$f":"IF(C2769=1,\"0\",VLOOKUP(C2769,coefficient2!$A$10:$B$13,2,FALSE))","v":7.0631200000000005E-2},{"$f":"IF(D2769=1,\"0\",VLOOKUP(D2769,coefficient2!$A$16:$B$19,2,FALSE))","v":"0"},{"$f":"IF(E2769=1,\"0\",VLOOKUP(E2769,coefficient2!$A$22:$B$25,2,FALSE))","v":0.2068864},{"$f":"IF(F2769=1,\"0\",VLOOKUP(F2769,coefficient2!$A$28:$B$31,2,FALSE))","v":9.5753900000000003E-2},0.25549740000000004]
[53144,5,3,1,4,4,17,{"$f":"IF(B2770=1,\"0\",VLOOKUP(B2770,coefficient2!$A$4:$B$7,2,FALSE))","v":0.37123109999999998},{"$f":"IF(C2770=1,\"0\",VLOOKUP(C2770,coefficient2!$A$10:$B$13,2,FALSE))","v":7.0631200000000005E-2},{"$f":"IF(D2770=1,\"0\",VLOOKUP(D2770,coefficient2!$A$16:$B$19,2,FALSE))","v":"0"},{"$f":"IF(E2770=1,\"0\",VLOOKUP(E2770,coefficient2!$A$22:$B$25,2,FALSE))","v":0.2068864},{"$f":"IF(F2770=1,\"0\",VLOOKUP(F2770,coefficient2!$A$28:$B$31,2,FALSE))","v":0.23270360000000001},0.11854770000000003]
[53145,5,3,1,4,5,18,{"$f":"IF(B2771=1,\"0\",VLOOKUP(B2771,coefficient2!$A$4:$B$7,2,FALSE))","v":0.37123109999999998},{"$f":"IF(C2771=1,\"0\",VLOOKUP(C2771,coefficient2!$A$10:$B$13,2,FALSE))","v":7.0631200000000005E-2},{"$f":"IF(D2771=1,\"0\",VLOOKUP(D2771,coefficient2!$A$16:$B$19,2,FALSE))","v":"0"},{"$f":"IF(E2771=1,\"0\",VLOOKUP(E2771,coefficient2!$A$22:$B$25,2,FALSE))","v":0.2068864},{"$f":"IF(F2771=1,\"0\",VLOOKUP(F2771,coefficient2!$A$28:$B$31,2,FALSE))","v":0.29534929999999998},5.5902000000000063E-2]
[53151,5,3,1,5,1,15,{"$f":"IF(B2772=1,\"0\",VLOOKUP(B2772,coefficient2!$A$4:$B$7,2,FALSE))","v":0.37123109999999998},{"$f":"IF(C2772=1,\"0\",VLOOKUP(C2772,coefficient2!$A$10:$B$13,2,FALSE))","v":7.0631200000000005E-2},{"$f":"IF(D2772=1,\"0\",VLOOKUP(D2772,coefficient2!$A$16:$B$19,2,FALSE))","v":"0"},{"$f":"IF(E2772=1,\"0\",VLOOKUP(E2772,coefficient2!$A$22:$B$25,2,FALSE))","v":0.25643310000000002},{"$f":"IF(F2772=1,\"0\",VLOOKUP(F2772,coefficient2!$A$28:$B$31,2,FALSE))","v":"0"},0.30170460000000004]
[53152,5,3,1,5,2,{"$f":"SUM(B2773:F2773)","v":16},{"$f":"IF(B2773=1,\"0\",VLOOKUP(B2773,coefficient2!$A$4:$B$7,2,FALSE))","v":0.37123109999999998},{"$f":"IF(C2773=1,\"0\",VLOOKUP(C2773,coefficient2!$A$10:$B$13,2,FALSE))","v":7.0631200000000005E-2},{"$f":"IF(D2773=1,\"0\",VLOOKUP(D2773,coefficient2!$A$16:$B$19,2,FALSE))","v":"0"},{"$f":"IF(E2773=1,\"0\",VLOOKUP(E2773,coefficient2!$A$22:$B$25,2,FALSE))","v":0.25643310000000002},{"$f":"IF(F2773=1,\"0\",VLOOKUP(F2773,coefficient2!$A$28:$B$31,2,FALSE))","v":5.8085699999999997E-2},0.24361890000000005]
[53153,5,3,1,5,3,17,{"$f":"IF(B2774=1,\"0\",VLOOKUP(B2774,coefficient2!$A$4:$B$7,2,FALSE))","v":0.37123109999999998},{"$f":"IF(C2774=1,\"0\",VLOOKUP(C2774,coefficient2!$A$10:$B$13,2,FALSE))","v":7.0631200000000005E-2},{"$f":"IF(D2774=1,\"0\",VLOOKUP(D2774,coefficient2!$A$16:$B$19,2,FALSE))","v":"0"},{"$f":"IF(E2774=1,\"0\",VLOOKUP(E2774,coefficient2!$A$22:$B$25,2,FALSE))","v":0.25643310000000002},{"$f":"IF(F2774=1,\"0\",VLOOKUP(F2774,coefficient2!$A$28:$B$31,2,FALSE))","v":9.5753900000000003E-2},0.20595070000000004]
[53154,5,3,1,5,4,18,{"$f":"IF(B2775=1,\"0\",VLOOKUP(B2775,coefficient2!$A$4:$B$7,2,FALSE))","v":0.37123109999999998},{"$f":"IF(C2775=1,\"0\",VLOOKUP(C2775,coefficient2!$A$10:$B$13,2,FALSE))","v":7.0631200000000005E-2},{"$f":"IF(D2775=1,\"0\",VLOOKUP(D2775,coefficient2!$A$16:$B$19,2,FALSE))","v":"0"},{"$f":"IF(E2775=1,\"0\",VLOOKUP(E2775,coefficient2!$A$22:$B$25,2,FALSE))","v":0.25643310000000002},{"$f":"IF(F2775=1,\"0\",VLOOKUP(F2775,coefficient2!$A$28:$B$31,2,FALSE))","v":0.23270360000000001},6.9001000000000035E-2]
[53155,5,3,1,5,5,19,{"$f":"IF(B2776=1,\"0\",VLOOKUP(B2776,coefficient2!$A$4:$B$7,2,FALSE))","v":0.37123109999999998},{"$f":"IF(C2776=1,\"0\",VLOOKUP(C2776,coefficient2!$A$10:$B$13,2,FALSE))","v":7.0631200000000005E-2},{"$f":"IF(D2776=1,\"0\",VLOOKUP(D2776,coefficient2!$A$16:$B$19,2,FALSE))","v":"0"},{"$f":"IF(E2776=1,\"0\",VLOOKUP(E2776,coefficient2!$A$22:$B$25,2,FALSE))","v":0.25643310000000002},{"$f":"IF(F2776=1,\"0\",VLOOKUP(F2776,coefficient2!$A$28:$B$31,2,FALSE))","v":0.29534929999999998},6.3553000000000637E-3]
[53211,5,3,2,1,1,12,{"$f":"IF(B2777=1,\"0\",VLOOKUP(B2777,coefficient2!$A$4:$B$7,2,FALSE))","v":0.37123109999999998},{"$f":"IF(C2777=1,\"0\",VLOOKUP(C2777,coefficient2!$A$10:$B$13,2,FALSE))","v":7.0631200000000005E-2},{"$f":"IF(D2777=1,\"0\",VLOOKUP(D2777,coefficient2!$A$16:$B$19,2,FALSE))","v":5.8254399999999998E-2},{"$f":"IF(E2777=1,\"0\",VLOOKUP(E2777,coefficient2!$A$22:$B$25,2,FALSE))","v":"0"},{"$f":"IF(F2777=1,\"0\",VLOOKUP(F2777,coefficient2!$A$28:$B$31,2,FALSE))","v":"0"},0.49988330000000009]
[53212,5,3,2,1,2,13,{"$f":"IF(B2778=1,\"0\",VLOOKUP(B2778,coefficient2!$A$4:$B$7,2,FALSE))","v":0.37123109999999998},{"$f":"IF(C2778=1,\"0\",VLOOKUP(C2778,coefficient2!$A$10:$B$13,2,FALSE))","v":7.0631200000000005E-2},{"$f":"IF(D2778=1,\"0\",VLOOKUP(D2778,coefficient2!$A$16:$B$19,2,FALSE))","v":5.8254399999999998E-2},{"$f":"IF(E2778=1,\"0\",VLOOKUP(E2778,coefficient2!$A$22:$B$25,2,FALSE))","v":"0"},{"$f":"IF(F2778=1,\"0\",VLOOKUP(F2778,coefficient2!$A$28:$B$31,2,FALSE))","v":5.8085699999999997E-2},0.44179760000000007]
[53213,5,3,2,1,3,14,{"$f":"IF(B2779=1,\"0\",VLOOKUP(B2779,coefficient2!$A$4:$B$7,2,FALSE))","v":0.37123109999999998},{"$f":"IF(C2779=1,\"0\",VLOOKUP(C2779,coefficient2!$A$10:$B$13,2,FALSE))","v":7.0631200000000005E-2},{"$f":"IF(D2779=1,\"0\",VLOOKUP(D2779,coefficient2!$A$16:$B$19,2,FALSE))","v":5.8254399999999998E-2},{"$f":"IF(E2779=1,\"0\",VLOOKUP(E2779,coefficient2!$A$22:$B$25,2,FALSE))","v":"0"},{"$f":"IF(F2779=1,\"0\",VLOOKUP(F2779,coefficient2!$A$28:$B$31,2,FALSE))","v":9.5753900000000003E-2},0.40412940000000008]
[53214,5,3,2,1,4,15,{"$f":"IF(B2780=1,\"0\",VLOOKUP(B2780,coefficient2!$A$4:$B$7,2,FALSE))","v":0.37123109999999998},{"$f":"IF(C2780=1,\"0\",VLOOKUP(C2780,coefficient2!$A$10:$B$13,2,FALSE))","v":7.0631200000000005E-2},{"$f":"IF(D2780=1,\"0\",VLOOKUP(D2780,coefficient2!$A$16:$B$19,2,FALSE))","v":5.8254399999999998E-2},{"$f":"IF(E2780=1,\"0\",VLOOKUP(E2780,coefficient2!$A$22:$B$25,2,FALSE))","v":"0"},{"$f":"IF(F2780=1,\"0\",VLOOKUP(F2780,coefficient2!$A$28:$B$31,2,FALSE))","v":0.23270360000000001},0.26717970000000008]
[53215,5,3,2,1,5,16,{"$f":"IF(B2781=1,\"0\",VLOOKUP(B2781,coefficient2!$A$4:$B$7,2,FALSE))","v":0.37123109999999998},{"$f":"IF(C2781=1,\"0\",VLOOKUP(C2781,coefficient2!$A$10:$B$13,2,FALSE))","v":7.0631200000000005E-2},{"$f":"IF(D2781=1,\"0\",VLOOKUP(D2781,coefficient2!$A$16:$B$19,2,FALSE))","v":5.8254399999999998E-2},{"$f":"IF(E2781=1,\"0\",VLOOKUP(E2781,coefficient2!$A$22:$B$25,2,FALSE))","v":"0"},{"$f":"IF(F2781=1,\"0\",VLOOKUP(F2781,coefficient2!$A$28:$B$31,2,FALSE))","v":0.29534929999999998},0.2045340000000001]
[53221,5,3,2,2,1,13,{"$f":"IF(B2782=1,\"0\",VLOOKUP(B2782,coefficient2!$A$4:$B$7,2,FALSE))","v":0.37123109999999998},{"$f":"IF(C2782=1,\"0\",VLOOKUP(C2782,coefficient2!$A$10:$B$13,2,FALSE))","v":7.0631200000000005E-2},{"$f":"IF(D2782=1,\"0\",VLOOKUP(D2782,coefficient2!$A$16:$B$19,2,FALSE))","v":5.8254399999999998E-2},{"$f":"IF(E2782=1,\"0\",VLOOKUP(E2782,coefficient2!$A$22:$B$25,2,FALSE))","v":5.63998E-2},{"$f":"IF(F2782=1,\"0\",VLOOKUP(F2782,coefficient2!$A$28:$B$31,2,FALSE))","v":"0"},0.44348350000000009]
[53222,5,3,2,2,2,14,{"$f":"IF(B2783=1,\"0\",VLOOKUP(B2783,coefficient2!$A$4:$B$7,2,FALSE))","v":0.37123109999999998},{"$f":"IF(C2783=1,\"0\",VLOOKUP(C2783,coefficient2!$A$10:$B$13,2,FALSE))","v":7.0631200000000005E-2},{"$f":"IF(D2783=1,\"0\",VLOOKUP(D2783,coefficient2!$A$16:$B$19,2,FALSE))","v":5.8254399999999998E-2},{"$f":"IF(E2783=1,\"0\",VLOOKUP(E2783,coefficient2!$A$22:$B$25,2,FALSE))","v":5.63998E-2},{"$f":"IF(F2783=1,\"0\",VLOOKUP(F2783,coefficient2!$A$28:$B$31,2,FALSE))","v":5.8085699999999997E-2},0.38539780000000007]
[53223,5,3,2,2,3,15,{"$f":"IF(B2784=1,\"0\",VLOOKUP(B2784,coefficient2!$A$4:$B$7,2,FALSE))","v":0.37123109999999998},{"$f":"IF(C2784=1,\"0\",VLOOKUP(C2784,coefficient2!$A$10:$B$13,2,FALSE))","v":7.0631200000000005E-2},{"$f":"IF(D2784=1,\"0\",VLOOKUP(D2784,coefficient2!$A$16:$B$19,2,FALSE))","v":5.8254399999999998E-2},{"$f":"IF(E2784=1,\"0\",VLOOKUP(E2784,coefficient2!$A$22:$B$25,2,FALSE))","v":5.63998E-2},{"$f":"IF(F2784=1,\"0\",VLOOKUP(F2784,coefficient2!$A$28:$B$31,2,FALSE))","v":9.5753900000000003E-2},0.34772960000000008]
[53224,5,3,2,2,4,16,{"$f":"IF(B2785=1,\"0\",VLOOKUP(B2785,coefficient2!$A$4:$B$7,2,FALSE))","v":0.37123109999999998},{"$f":"IF(C2785=1,\"0\",VLOOKUP(C2785,coefficient2!$A$10:$B$13,2,FALSE))","v":7.0631200000000005E-2},{"$f":"IF(D2785=1,\"0\",VLOOKUP(D2785,coefficient2!$A$16:$B$19,2,FALSE))","v":5.8254399999999998E-2},{"$f":"IF(E2785=1,\"0\",VLOOKUP(E2785,coefficient2!$A$22:$B$25,2,FALSE))","v":5.63998E-2},{"$f":"IF(F2785=1,\"0\",VLOOKUP(F2785,coefficient2!$A$28:$B$31,2,FALSE))","v":0.23270360000000001},0.21077990000000008]
[53225,5,3,2,2,5,17,{"$f":"IF(B2786=1,\"0\",VLOOKUP(B2786,coefficient2!$A$4:$B$7,2,FALSE))","v":0.37123109999999998},{"$f":"IF(C2786=1,\"0\",VLOOKUP(C2786,coefficient2!$A$10:$B$13,2,FALSE))","v":7.0631200000000005E-2},{"$f":"IF(D2786=1,\"0\",VLOOKUP(D2786,coefficient2!$A$16:$B$19,2,FALSE))","v":5.8254399999999998E-2},{"$f":"IF(E2786=1,\"0\",VLOOKUP(E2786,coefficient2!$A$22:$B$25,2,FALSE))","v":5.63998E-2},{"$f":"IF(F2786=1,\"0\",VLOOKUP(F2786,coefficient2!$A$28:$B$31,2,FALSE))","v":0.29534929999999998},0.1481342000000001]
[53231,5,3,2,3,1,14,{"$f":"IF(B2787=1,\"0\",VLOOKUP(B2787,coefficient2!$A$4:$B$7,2,FALSE))","v":0.37123109999999998},{"$f":"IF(C2787=1,\"0\",VLOOKUP(C2787,coefficient2!$A$10:$B$13,2,FALSE))","v":7.0631200000000005E-2},{"$f":"IF(D2787=1,\"0\",VLOOKUP(D2787,coefficient2!$A$16:$B$19,2,FALSE))","v":5.8254399999999998E-2},{"$f":"IF(E2787=1,\"0\",VLOOKUP(E2787,coefficient2!$A$22:$B$25,2,FALSE))","v":6.6492200000000001E-2},{"$f":"IF(F2787=1,\"0\",VLOOKUP(F2787,coefficient2!$A$28:$B$31,2,FALSE))","v":"0"},0.43339110000000008]
[53232,5,3,2,3,2,15,{"$f":"IF(B2788=1,\"0\",VLOOKUP(B2788,coefficient2!$A$4:$B$7,2,FALSE))","v":0.37123109999999998},{"$f":"IF(C2788=1,\"0\",VLOOKUP(C2788,coefficient2!$A$10:$B$13,2,FALSE))","v":7.0631200000000005E-2},{"$f":"IF(D2788=1,\"0\",VLOOKUP(D2788,coefficient2!$A$16:$B$19,2,FALSE))","v":5.8254399999999998E-2},{"$f":"IF(E2788=1,\"0\",VLOOKUP(E2788,coefficient2!$A$22:$B$25,2,FALSE))","v":6.6492200000000001E-2},{"$f":"IF(F2788=1,\"0\",VLOOKUP(F2788,coefficient2!$A$28:$B$31,2,FALSE))","v":5.8085699999999997E-2},0.37530540000000007]
[53233,5,3,2,3,3,16,{"$f":"IF(B2789=1,\"0\",VLOOKUP(B2789,coefficient2!$A$4:$B$7,2,FALSE))","v":0.37123109999999998},{"$f":"IF(C2789=1,\"0\",VLOOKUP(C2789,coefficient2!$A$10:$B$13,2,FALSE))","v":7.0631200000000005E-2},{"$f":"IF(D2789=1,\"0\",VLOOKUP(D2789,coefficient2!$A$16:$B$19,2,FALSE))","v":5.8254399999999998E-2},{"$f":"IF(E2789=1,\"0\",VLOOKUP(E2789,coefficient2!$A$22:$B$25,2,FALSE))","v":6.6492200000000001E-2},{"$f":"IF(F2789=1,\"0\",VLOOKUP(F2789,coefficient2!$A$28:$B$31,2,FALSE))","v":9.5753900000000003E-2},0.33763720000000008]
[53234,5,3,2,3,4,17,{"$f":"IF(B2790=1,\"0\",VLOOKUP(B2790,coefficient2!$A$4:$B$7,2,FALSE))","v":0.37123109999999998},{"$f":"IF(C2790=1,\"0\",VLOOKUP(C2790,coefficient2!$A$10:$B$13,2,FALSE))","v":7.0631200000000005E-2},{"$f":"IF(D2790=1,\"0\",VLOOKUP(D2790,coefficient2!$A$16:$B$19,2,FALSE))","v":5.8254399999999998E-2},{"$f":"IF(E2790=1,\"0\",VLOOKUP(E2790,coefficient2!$A$22:$B$25,2,FALSE))","v":6.6492200000000001E-2},{"$f":"IF(F2790=1,\"0\",VLOOKUP(F2790,coefficient2!$A$28:$B$31,2,FALSE))","v":0.23270360000000001},0.20068750000000007]
[53235,5,3,2,3,5,18,{"$f":"IF(B2791=1,\"0\",VLOOKUP(B2791,coefficient2!$A$4:$B$7,2,FALSE))","v":0.37123109999999998},{"$f":"IF(C2791=1,\"0\",VLOOKUP(C2791,coefficient2!$A$10:$B$13,2,FALSE))","v":7.0631200000000005E-2},{"$f":"IF(D2791=1,\"0\",VLOOKUP(D2791,coefficient2!$A$16:$B$19,2,FALSE))","v":5.8254399999999998E-2},{"$f":"IF(E2791=1,\"0\",VLOOKUP(E2791,coefficient2!$A$22:$B$25,2,FALSE))","v":6.6492200000000001E-2},{"$f":"IF(F2791=1,\"0\",VLOOKUP(F2791,coefficient2!$A$28:$B$31,2,FALSE))","v":0.29534929999999998},0.1380418000000001]
[53241,5,3,2,4,1,15,{"$f":"IF(B2792=1,\"0\",VLOOKUP(B2792,coefficient2!$A$4:$B$7,2,FALSE))","v":0.37123109999999998},{"$f":"IF(C2792=1,\"0\",VLOOKUP(C2792,coefficient2!$A$10:$B$13,2,FALSE))","v":7.0631200000000005E-2},{"$f":"IF(D2792=1,\"0\",VLOOKUP(D2792,coefficient2!$A$16:$B$19,2,FALSE))","v":5.8254399999999998E-2},{"$f":"IF(E2792=1,\"0\",VLOOKUP(E2792,coefficient2!$A$22:$B$25,2,FALSE))","v":0.2068864},{"$f":"IF(F2792=1,\"0\",VLOOKUP(F2792,coefficient2!$A$28:$B$31,2,FALSE))","v":"0"},0.29299690000000012]
[53242,5,3,2,4,2,16,{"$f":"IF(B2793=1,\"0\",VLOOKUP(B2793,coefficient2!$A$4:$B$7,2,FALSE))","v":0.37123109999999998},{"$f":"IF(C2793=1,\"0\",VLOOKUP(C2793,coefficient2!$A$10:$B$13,2,FALSE))","v":7.0631200000000005E-2},{"$f":"IF(D2793=1,\"0\",VLOOKUP(D2793,coefficient2!$A$16:$B$19,2,FALSE))","v":5.8254399999999998E-2},{"$f":"IF(E2793=1,\"0\",VLOOKUP(E2793,coefficient2!$A$22:$B$25,2,FALSE))","v":0.2068864},{"$f":"IF(F2793=1,\"0\",VLOOKUP(F2793,coefficient2!$A$28:$B$31,2,FALSE))","v":5.8085699999999997E-2},0.23491120000000013]
[53243,5,3,2,4,3,17,{"$f":"IF(B2794=1,\"0\",VLOOKUP(B2794,coefficient2!$A$4:$B$7,2,FALSE))","v":0.37123109999999998},{"$f":"IF(C2794=1,\"0\",VLOOKUP(C2794,coefficient2!$A$10:$B$13,2,FALSE))","v":7.0631200000000005E-2},{"$f":"IF(D2794=1,\"0\",VLOOKUP(D2794,coefficient2!$A$16:$B$19,2,FALSE))","v":5.8254399999999998E-2},{"$f":"IF(E2794=1,\"0\",VLOOKUP(E2794,coefficient2!$A$22:$B$25,2,FALSE))","v":0.2068864},{"$f":"IF(F2794=1,\"0\",VLOOKUP(F2794,coefficient2!$A$28:$B$31,2,FALSE))","v":9.5753900000000003E-2},0.19724300000000011]
[53244,5,3,2,4,4,18,{"$f":"IF(B2795=1,\"0\",VLOOKUP(B2795,coefficient2!$A$4:$B$7,2,FALSE))","v":0.37123109999999998},{"$f":"IF(C2795=1,\"0\",VLOOKUP(C2795,coefficient2!$A$10:$B$13,2,FALSE))","v":7.0631200000000005E-2},{"$f":"IF(D2795=1,\"0\",VLOOKUP(D2795,coefficient2!$A$16:$B$19,2,FALSE))","v":5.8254399999999998E-2},{"$f":"IF(E2795=1,\"0\",VLOOKUP(E2795,coefficient2!$A$22:$B$25,2,FALSE))","v":0.2068864},{"$f":"IF(F2795=1,\"0\",VLOOKUP(F2795,coefficient2!$A$28:$B$31,2,FALSE))","v":0.23270360000000001},6.0293300000000105E-2]
[53245,5,3,2,4,5,19,{"$f":"IF(B2796=1,\"0\",VLOOKUP(B2796,coefficient2!$A$4:$B$7,2,FALSE))","v":0.37123109999999998},{"$f":"IF(C2796=1,\"0\",VLOOKUP(C2796,coefficient2!$A$10:$B$13,2,FALSE))","v":7.0631200000000005E-2},{"$f":"IF(D2796=1,\"0\",VLOOKUP(D2796,coefficient2!$A$16:$B$19,2,FALSE))","v":5.8254399999999998E-2},{"$f":"IF(E2796=1,\"0\",VLOOKUP(E2796,coefficient2!$A$22:$B$25,2,FALSE))","v":0.2068864},{"$f":"IF(F2796=1,\"0\",VLOOKUP(F2796,coefficient2!$A$28:$B$31,2,FALSE))","v":0.29534929999999998},-2.3523999999998657E-3]
[53251,5,3,2,5,1,16,{"$f":"IF(B2797=1,\"0\",VLOOKUP(B2797,coefficient2!$A$4:$B$7,2,FALSE))","v":0.37123109999999998},{"$f":"IF(C2797=1,\"0\",VLOOKUP(C2797,coefficient2!$A$10:$B$13,2,FALSE))","v":7.0631200000000005E-2},{"$f":"IF(D2797=1,\"0\",VLOOKUP(D2797,coefficient2!$A$16:$B$19,2,FALSE))","v":5.8254399999999998E-2},{"$f":"IF(E2797=1,\"0\",VLOOKUP(E2797,coefficient2!$A$22:$B$25,2,FALSE))","v":0.25643310000000002},{"$f":"IF(F2797=1,\"0\",VLOOKUP(F2797,coefficient2!$A$28:$B$31,2,FALSE))","v":"0"},0.24345020000000006]
[53252,5,3,2,5,2,17,{"$f":"IF(B2798=1,\"0\",VLOOKUP(B2798,coefficient2!$A$4:$B$7,2,FALSE))","v":0.37123109999999998},{"$f":"IF(C2798=1,\"0\",VLOOKUP(C2798,coefficient2!$A$10:$B$13,2,FALSE))","v":7.0631200000000005E-2},{"$f":"IF(D2798=1,\"0\",VLOOKUP(D2798,coefficient2!$A$16:$B$19,2,FALSE))","v":5.8254399999999998E-2},{"$f":"IF(E2798=1,\"0\",VLOOKUP(E2798,coefficient2!$A$22:$B$25,2,FALSE))","v":0.25643310000000002},{"$f":"IF(F2798=1,\"0\",VLOOKUP(F2798,coefficient2!$A$28:$B$31,2,FALSE))","v":5.8085699999999997E-2},0.18536450000000007]
[53253,5,3,2,5,3,18,{"$f":"IF(B2799=1,\"0\",VLOOKUP(B2799,coefficient2!$A$4:$B$7,2,FALSE))","v":0.37123109999999998},{"$f":"IF(C2799=1,\"0\",VLOOKUP(C2799,coefficient2!$A$10:$B$13,2,FALSE))","v":7.0631200000000005E-2},{"$f":"IF(D2799=1,\"0\",VLOOKUP(D2799,coefficient2!$A$16:$B$19,2,FALSE))","v":5.8254399999999998E-2},{"$f":"IF(E2799=1,\"0\",VLOOKUP(E2799,coefficient2!$A$22:$B$25,2,FALSE))","v":0.25643310000000002},{"$f":"IF(F2799=1,\"0\",VLOOKUP(F2799,coefficient2!$A$28:$B$31,2,FALSE))","v":9.5753900000000003E-2},0.14769630000000006]
[53254,5,3,2,5,4,19,{"$f":"IF(B2800=1,\"0\",VLOOKUP(B2800,coefficient2!$A$4:$B$7,2,FALSE))","v":0.37123109999999998},{"$f":"IF(C2800=1,\"0\",VLOOKUP(C2800,coefficient2!$A$10:$B$13,2,FALSE))","v":7.0631200000000005E-2},{"$f":"IF(D2800=1,\"0\",VLOOKUP(D2800,coefficient2!$A$16:$B$19,2,FALSE))","v":5.8254399999999998E-2},{"$f":"IF(E2800=1,\"0\",VLOOKUP(E2800,coefficient2!$A$22:$B$25,2,FALSE))","v":0.25643310000000002},{"$f":"IF(F2800=1,\"0\",VLOOKUP(F2800,coefficient2!$A$28:$B$31,2,FALSE))","v":0.23270360000000001},1.0746600000000051E-2]
[53255,5,3,2,5,5,20,{"$f":"IF(B2801=1,\"0\",VLOOKUP(B2801,coefficient2!$A$4:$B$7,2,FALSE))","v":0.37123109999999998},{"$f":"IF(C2801=1,\"0\",VLOOKUP(C2801,coefficient2!$A$10:$B$13,2,FALSE))","v":7.0631200000000005E-2},{"$f":"IF(D2801=1,\"0\",VLOOKUP(D2801,coefficient2!$A$16:$B$19,2,FALSE))","v":5.8254399999999998E-2},{"$f":"IF(E2801=1,\"0\",VLOOKUP(E2801,coefficient2!$A$22:$B$25,2,FALSE))","v":0.25643310000000002},{"$f":"IF(F2801=1,\"0\",VLOOKUP(F2801,coefficient2!$A$28:$B$31,2,FALSE))","v":0.29534929999999998},-5.189909999999992E-2]
[53311,5,3,3,1,1,13,{"$f":"IF(B2802=1,\"0\",VLOOKUP(B2802,coefficient2!$A$4:$B$7,2,FALSE))","v":0.37123109999999998},{"$f":"IF(C2802=1,\"0\",VLOOKUP(C2802,coefficient2!$A$10:$B$13,2,FALSE))","v":7.0631200000000005E-2},{"$f":"IF(D2802=1,\"0\",VLOOKUP(D2802,coefficient2!$A$16:$B$19,2,FALSE))","v":7.1197399999999994E-2},{"$f":"IF(E2802=1,\"0\",VLOOKUP(E2802,coefficient2!$A$22:$B$25,2,FALSE))","v":"0"},{"$f":"IF(F2802=1,\"0\",VLOOKUP(F2802,coefficient2!$A$28:$B$31,2,FALSE))","v":"0"},0.4869403000000001]
[53312,5,3,3,1,2,14,{"$f":"IF(B2803=1,\"0\",VLOOKUP(B2803,coefficient2!$A$4:$B$7,2,FALSE))","v":0.37123109999999998},{"$f":"IF(C2803=1,\"0\",VLOOKUP(C2803,coefficient2!$A$10:$B$13,2,FALSE))","v":7.0631200000000005E-2},{"$f":"IF(D2803=1,\"0\",VLOOKUP(D2803,coefficient2!$A$16:$B$19,2,FALSE))","v":7.1197399999999994E-2},{"$f":"IF(E2803=1,\"0\",VLOOKUP(E2803,coefficient2!$A$22:$B$25,2,FALSE))","v":"0"},{"$f":"IF(F2803=1,\"0\",VLOOKUP(F2803,coefficient2!$A$28:$B$31,2,FALSE))","v":5.8085699999999997E-2},0.42885460000000009]
[53313,5,3,3,1,3,15,{"$f":"IF(B2804=1,\"0\",VLOOKUP(B2804,coefficient2!$A$4:$B$7,2,FALSE))","v":0.37123109999999998},{"$f":"IF(C2804=1,\"0\",VLOOKUP(C2804,coefficient2!$A$10:$B$13,2,FALSE))","v":7.0631200000000005E-2},{"$f":"IF(D2804=1,\"0\",VLOOKUP(D2804,coefficient2!$A$16:$B$19,2,FALSE))","v":7.1197399999999994E-2},{"$f":"IF(E2804=1,\"0\",VLOOKUP(E2804,coefficient2!$A$22:$B$25,2,FALSE))","v":"0"},{"$f":"IF(F2804=1,\"0\",VLOOKUP(F2804,coefficient2!$A$28:$B$31,2,FALSE))","v":9.5753900000000003E-2},0.3911864000000001]
[53314,5,3,3,1,4,16,{"$f":"IF(B2805=1,\"0\",VLOOKUP(B2805,coefficient2!$A$4:$B$7,2,FALSE))","v":0.37123109999999998},{"$f":"IF(C2805=1,\"0\",VLOOKUP(C2805,coefficient2!$A$10:$B$13,2,FALSE))","v":7.0631200000000005E-2},{"$f":"IF(D2805=1,\"0\",VLOOKUP(D2805,coefficient2!$A$16:$B$19,2,FALSE))","v":7.1197399999999994E-2},{"$f":"IF(E2805=1,\"0\",VLOOKUP(E2805,coefficient2!$A$22:$B$25,2,FALSE))","v":"0"},{"$f":"IF(F2805=1,\"0\",VLOOKUP(F2805,coefficient2!$A$28:$B$31,2,FALSE))","v":0.23270360000000001},0.25423670000000009]
[53315,5,3,3,1,5,17,{"$f":"IF(B2806=1,\"0\",VLOOKUP(B2806,coefficient2!$A$4:$B$7,2,FALSE))","v":0.37123109999999998},{"$f":"IF(C2806=1,\"0\",VLOOKUP(C2806,coefficient2!$A$10:$B$13,2,FALSE))","v":7.0631200000000005E-2},{"$f":"IF(D2806=1,\"0\",VLOOKUP(D2806,coefficient2!$A$16:$B$19,2,FALSE))","v":7.1197399999999994E-2},{"$f":"IF(E2806=1,\"0\",VLOOKUP(E2806,coefficient2!$A$22:$B$25,2,FALSE))","v":"0"},{"$f":"IF(F2806=1,\"0\",VLOOKUP(F2806,coefficient2!$A$28:$B$31,2,FALSE))","v":0.29534929999999998},0.19159100000000012]
[53321,5,3,3,2,1,14,{"$f":"IF(B2807=1,\"0\",VLOOKUP(B2807,coefficient2!$A$4:$B$7,2,FALSE))","v":0.37123109999999998},{"$f":"IF(C2807=1,\"0\",VLOOKUP(C2807,coefficient2!$A$10:$B$13,2,FALSE))","v":7.0631200000000005E-2},{"$f":"IF(D2807=1,\"0\",VLOOKUP(D2807,coefficient2!$A$16:$B$19,2,FALSE))","v":7.1197399999999994E-2},{"$f":"IF(E2807=1,\"0\",VLOOKUP(E2807,coefficient2!$A$22:$B$25,2,FALSE))","v":5.63998E-2},{"$f":"IF(F2807=1,\"0\",VLOOKUP(F2807,coefficient2!$A$28:$B$31,2,FALSE))","v":"0"},0.4305405000000001]
[53322,5,3,3,2,2,15,{"$f":"IF(B2808=1,\"0\",VLOOKUP(B2808,coefficient2!$A$4:$B$7,2,FALSE))","v":0.37123109999999998},{"$f":"IF(C2808=1,\"0\",VLOOKUP(C2808,coefficient2!$A$10:$B$13,2,FALSE))","v":7.0631200000000005E-2},{"$f":"IF(D2808=1,\"0\",VLOOKUP(D2808,coefficient2!$A$16:$B$19,2,FALSE))","v":7.1197399999999994E-2},{"$f":"IF(E2808=1,\"0\",VLOOKUP(E2808,coefficient2!$A$22:$B$25,2,FALSE))","v":5.63998E-2},{"$f":"IF(F2808=1,\"0\",VLOOKUP(F2808,coefficient2!$A$28:$B$31,2,FALSE))","v":5.8085699999999997E-2},0.37245480000000009]
[53323,5,3,3,2,3,16,{"$f":"IF(B2809=1,\"0\",VLOOKUP(B2809,coefficient2!$A$4:$B$7,2,FALSE))","v":0.37123109999999998},{"$f":"IF(C2809=1,\"0\",VLOOKUP(C2809,coefficient2!$A$10:$B$13,2,FALSE))","v":7.0631200000000005E-2},{"$f":"IF(D2809=1,\"0\",VLOOKUP(D2809,coefficient2!$A$16:$B$19,2,FALSE))","v":7.1197399999999994E-2},{"$f":"IF(E2809=1,\"0\",VLOOKUP(E2809,coefficient2!$A$22:$B$25,2,FALSE))","v":5.63998E-2},{"$f":"IF(F2809=1,\"0\",VLOOKUP(F2809,coefficient2!$A$28:$B$31,2,FALSE))","v":9.5753900000000003E-2},0.3347866000000001]
[53324,5,3,3,2,4,17,{"$f":"IF(B2810=1,\"0\",VLOOKUP(B2810,coefficient2!$A$4:$B$7,2,FALSE))","v":0.37123109999999998},{"$f":"IF(C2810=1,\"0\",VLOOKUP(C2810,coefficient2!$A$10:$B$13,2,FALSE))","v":7.0631200000000005E-2},{"$f":"IF(D2810=1,\"0\",VLOOKUP(D2810,coefficient2!$A$16:$B$19,2,FALSE))","v":7.1197399999999994E-2},{"$f":"IF(E2810=1,\"0\",VLOOKUP(E2810,coefficient2!$A$22:$B$25,2,FALSE))","v":5.63998E-2},{"$f":"IF(F2810=1,\"0\",VLOOKUP(F2810,coefficient2!$A$28:$B$31,2,FALSE))","v":0.23270360000000001},0.19783690000000009]
[53325,5,3,3,2,5,18,{"$f":"IF(B2811=1,\"0\",VLOOKUP(B2811,coefficient2!$A$4:$B$7,2,FALSE))","v":0.37123109999999998},{"$f":"IF(C2811=1,\"0\",VLOOKUP(C2811,coefficient2!$A$10:$B$13,2,FALSE))","v":7.0631200000000005E-2},{"$f":"IF(D2811=1,\"0\",VLOOKUP(D2811,coefficient2!$A$16:$B$19,2,FALSE))","v":7.1197399999999994E-2},{"$f":"IF(E2811=1,\"0\",VLOOKUP(E2811,coefficient2!$A$22:$B$25,2,FALSE))","v":5.63998E-2},{"$f":"IF(F2811=1,\"0\",VLOOKUP(F2811,coefficient2!$A$28:$B$31,2,FALSE))","v":0.29534929999999998},0.13519120000000012]
[53331,5,3,3,3,1,15,{"$f":"IF(B2812=1,\"0\",VLOOKUP(B2812,coefficient2!$A$4:$B$7,2,FALSE))","v":0.37123109999999998},{"$f":"IF(C2812=1,\"0\",VLOOKUP(C2812,coefficient2!$A$10:$B$13,2,FALSE))","v":7.0631200000000005E-2},{"$f":"IF(D2812=1,\"0\",VLOOKUP(D2812,coefficient2!$A$16:$B$19,2,FALSE))","v":7.1197399999999994E-2},{"$f":"IF(E2812=1,\"0\",VLOOKUP(E2812,coefficient2!$A$22:$B$25,2,FALSE))","v":6.6492200000000001E-2},{"$f":"IF(F2812=1,\"0\",VLOOKUP(F2812,coefficient2!$A$28:$B$31,2,FALSE))","v":"0"},0.4204481000000001]
[53332,5,3,3,3,2,16,{"$f":"IF(B2813=1,\"0\",VLOOKUP(B2813,coefficient2!$A$4:$B$7,2,FALSE))","v":0.37123109999999998},{"$f":"IF(C2813=1,\"0\",VLOOKUP(C2813,coefficient2!$A$10:$B$13,2,FALSE))","v":7.0631200000000005E-2},{"$f":"IF(D2813=1,\"0\",VLOOKUP(D2813,coefficient2!$A$16:$B$19,2,FALSE))","v":7.1197399999999994E-2},{"$f":"IF(E2813=1,\"0\",VLOOKUP(E2813,coefficient2!$A$22:$B$25,2,FALSE))","v":6.6492200000000001E-2},{"$f":"IF(F2813=1,\"0\",VLOOKUP(F2813,coefficient2!$A$28:$B$31,2,FALSE))","v":5.8085699999999997E-2},0.36236240000000008]
[53333,5,3,3,3,3,17,{"$f":"IF(B2814=1,\"0\",VLOOKUP(B2814,coefficient2!$A$4:$B$7,2,FALSE))","v":0.37123109999999998},{"$f":"IF(C2814=1,\"0\",VLOOKUP(C2814,coefficient2!$A$10:$B$13,2,FALSE))","v":7.0631200000000005E-2},{"$f":"IF(D2814=1,\"0\",VLOOKUP(D2814,coefficient2!$A$16:$B$19,2,FALSE))","v":7.1197399999999994E-2},{"$f":"IF(E2814=1,\"0\",VLOOKUP(E2814,coefficient2!$A$22:$B$25,2,FALSE))","v":6.6492200000000001E-2},{"$f":"IF(F2814=1,\"0\",VLOOKUP(F2814,coefficient2!$A$28:$B$31,2,FALSE))","v":9.5753900000000003E-2},0.3246942000000001]
[53334,5,3,3,3,4,18,{"$f":"IF(B2815=1,\"0\",VLOOKUP(B2815,coefficient2!$A$4:$B$7,2,FALSE))","v":0.37123109999999998},{"$f":"IF(C2815=1,\"0\",VLOOKUP(C2815,coefficient2!$A$10:$B$13,2,FALSE))","v":7.0631200000000005E-2},{"$f":"IF(D2815=1,\"0\",VLOOKUP(D2815,coefficient2!$A$16:$B$19,2,FALSE))","v":7.1197399999999994E-2},{"$f":"IF(E2815=1,\"0\",VLOOKUP(E2815,coefficient2!$A$22:$B$25,2,FALSE))","v":6.6492200000000001E-2},{"$f":"IF(F2815=1,\"0\",VLOOKUP(F2815,coefficient2!$A$28:$B$31,2,FALSE))","v":0.23270360000000001},0.18774450000000009]
[53335,5,3,3,3,5,19,{"$f":"IF(B2816=1,\"0\",VLOOKUP(B2816,coefficient2!$A$4:$B$7,2,FALSE))","v":0.37123109999999998},{"$f":"IF(C2816=1,\"0\",VLOOKUP(C2816,coefficient2!$A$10:$B$13,2,FALSE))","v":7.0631200000000005E-2},{"$f":"IF(D2816=1,\"0\",VLOOKUP(D2816,coefficient2!$A$16:$B$19,2,FALSE))","v":7.1197399999999994E-2},{"$f":"IF(E2816=1,\"0\",VLOOKUP(E2816,coefficient2!$A$22:$B$25,2,FALSE))","v":6.6492200000000001E-2},{"$f":"IF(F2816=1,\"0\",VLOOKUP(F2816,coefficient2!$A$28:$B$31,2,FALSE))","v":0.29534929999999998},0.12509880000000012]
[53341,5,3,3,4,1,16,{"$f":"IF(B2817=1,\"0\",VLOOKUP(B2817,coefficient2!$A$4:$B$7,2,FALSE))","v":0.37123109999999998},{"$f":"IF(C2817=1,\"0\",VLOOKUP(C2817,coefficient2!$A$10:$B$13,2,FALSE))","v":7.0631200000000005E-2},{"$f":"IF(D2817=1,\"0\",VLOOKUP(D2817,coefficient2!$A$16:$B$19,2,FALSE))","v":7.1197399999999994E-2},{"$f":"IF(E2817=1,\"0\",VLOOKUP(E2817,coefficient2!$A$22:$B$25,2,FALSE))","v":0.2068864},{"$f":"IF(F2817=1,\"0\",VLOOKUP(F2817,coefficient2!$A$28:$B$31,2,FALSE))","v":"0"},0.28005390000000008]
[53342,5,3,3,4,2,17,{"$f":"IF(B2818=1,\"0\",VLOOKUP(B2818,coefficient2!$A$4:$B$7,2,FALSE))","v":0.37123109999999998},{"$f":"IF(C2818=1,\"0\",VLOOKUP(C2818,coefficient2!$A$10:$B$13,2,FALSE))","v":7.0631200000000005E-2},{"$f":"IF(D2818=1,\"0\",VLOOKUP(D2818,coefficient2!$A$16:$B$19,2,FALSE))","v":7.1197399999999994E-2},{"$f":"IF(E2818=1,\"0\",VLOOKUP(E2818,coefficient2!$A$22:$B$25,2,FALSE))","v":0.2068864},{"$f":"IF(F2818=1,\"0\",VLOOKUP(F2818,coefficient2!$A$28:$B$31,2,FALSE))","v":5.8085699999999997E-2},{"$f":"1-H2818-I2818-J2818-K2818-L2818","v":0.22196820000000009}]
[53343,{"$f":"INT(LEFT(A2819,1))","v":5},{"$f":"INT(MID(A2819,2,1))","v":3},{"$f":"INT(MID(A2819,3,1))","v":3},{"$f":"INT(MID(A2819,4,1))","v":4},{"$f":"INT(RIGHT(A2819,1))","v":3},18,{"$f":"IF(B2819=1,\"0\",VLOOKUP(B2819,coefficient2!$A$4:$B$7,2,FALSE))","v":0.37123109999999998},{"$f":"IF(C2819=1,\"0\",VLOOKUP(C2819,coefficient2!$A$10:$B$13,2,FALSE))","v":7.0631200000000005E-2},{"$f":"IF(D2819=1,\"0\",VLOOKUP(D2819,coefficient2!$A$16:$B$19,2,FALSE))","v":7.1197399999999994E-2},{"$f":"IF(E2819=1,\"0\",VLOOKUP(E2819,coefficient2!$A$22:$B$25,2,FALSE))","v":0.2068864},{"$f":"IF(F2819=1,\"0\",VLOOKUP(F2819,coefficient2!$A$28:$B$31,2,FALSE))","v":9.5753900000000003E-2},0.18430000000000007]
[53344,5,3,3,4,4,19,{"$f":"IF(B2820=1,\"0\",VLOOKUP(B2820,coefficient2!$A$4:$B$7,2,FALSE))","v":0.37123109999999998},{"$f":"IF(C2820=1,\"0\",VLOOKUP(C2820,coefficient2!$A$10:$B$13,2,FALSE))","v":7.0631200000000005E-2},{"$f":"IF(D2820=1,\"0\",VLOOKUP(D2820,coefficient2!$A$16:$B$19,2,FALSE))","v":7.1197399999999994E-2},{"$f":"IF(E2820=1,\"0\",VLOOKUP(E2820,coefficient2!$A$22:$B$25,2,FALSE))","v":0.2068864},{"$f":"IF(F2820=1,\"0\",VLOOKUP(F2820,coefficient2!$A$28:$B$31,2,FALSE))","v":0.23270360000000001},4.7350300000000067E-2]
[53345,5,3,3,4,5,20,{"$f":"IF(B2821=1,\"0\",VLOOKUP(B2821,coefficient2!$A$4:$B$7,2,FALSE))","v":0.37123109999999998},{"$f":"IF(C2821=1,\"0\",VLOOKUP(C2821,coefficient2!$A$10:$B$13,2,FALSE))","v":7.0631200000000005E-2},{"$f":"IF(D2821=1,\"0\",VLOOKUP(D2821,coefficient2!$A$16:$B$19,2,FALSE))","v":7.1197399999999994E-2},{"$f":"IF(E2821=1,\"0\",VLOOKUP(E2821,coefficient2!$A$22:$B$25,2,FALSE))","v":0.2068864},{"$f":"IF(F2821=1,\"0\",VLOOKUP(F2821,coefficient2!$A$28:$B$31,2,FALSE))","v":0.29534929999999998},-1.5295399999999904E-2]
[53351,5,3,3,5,1,17,{"$f":"IF(B2822=1,\"0\",VLOOKUP(B2822,coefficient2!$A$4:$B$7,2,FALSE))","v":0.37123109999999998},{"$f":"IF(C2822=1,\"0\",VLOOKUP(C2822,coefficient2!$A$10:$B$13,2,FALSE))","v":7.0631200000000005E-2},{"$f":"IF(D2822=1,\"0\",VLOOKUP(D2822,coefficient2!$A$16:$B$19,2,FALSE))","v":7.1197399999999994E-2},{"$f":"IF(E2822=1,\"0\",VLOOKUP(E2822,coefficient2!$A$22:$B$25,2,FALSE))","v":0.25643310000000002},{"$f":"IF(F2822=1,\"0\",VLOOKUP(F2822,coefficient2!$A$28:$B$31,2,FALSE))","v":"0"},0.23050720000000008]
[53352,5,3,3,5,2,18,{"$f":"IF(B2823=1,\"0\",VLOOKUP(B2823,coefficient2!$A$4:$B$7,2,FALSE))","v":0.37123109999999998},{"$f":"IF(C2823=1,\"0\",VLOOKUP(C2823,coefficient2!$A$10:$B$13,2,FALSE))","v":7.0631200000000005E-2},{"$f":"IF(D2823=1,\"0\",VLOOKUP(D2823,coefficient2!$A$16:$B$19,2,FALSE))","v":7.1197399999999994E-2},{"$f":"IF(E2823=1,\"0\",VLOOKUP(E2823,coefficient2!$A$22:$B$25,2,FALSE))","v":0.25643310000000002},{"$f":"IF(F2823=1,\"0\",VLOOKUP(F2823,coefficient2!$A$28:$B$31,2,FALSE))","v":5.8085699999999997E-2},0.17242150000000009]
[53353,5,3,3,5,3,19,{"$f":"IF(B2824=1,\"0\",VLOOKUP(B2824,coefficient2!$A$4:$B$7,2,FALSE))","v":0.37123109999999998},{"$f":"IF(C2824=1,\"0\",VLOOKUP(C2824,coefficient2!$A$10:$B$13,2,FALSE))","v":7.0631200000000005E-2},{"$f":"IF(D2824=1,\"0\",VLOOKUP(D2824,coefficient2!$A$16:$B$19,2,FALSE))","v":7.1197399999999994E-2},{"$f":"IF(E2824=1,\"0\",VLOOKUP(E2824,coefficient2!$A$22:$B$25,2,FALSE))","v":0.25643310000000002},{"$f":"IF(F2824=1,\"0\",VLOOKUP(F2824,coefficient2!$A$28:$B$31,2,FALSE))","v":9.5753900000000003E-2},0.13475330000000008]
[53354,5,3,3,5,4,20,{"$f":"IF(B2825=1,\"0\",VLOOKUP(B2825,coefficient2!$A$4:$B$7,2,FALSE))","v":0.37123109999999998},{"$f":"IF(C2825=1,\"0\",VLOOKUP(C2825,coefficient2!$A$10:$B$13,2,FALSE))","v":7.0631200000000005E-2},{"$f":"IF(D2825=1,\"0\",VLOOKUP(D2825,coefficient2!$A$16:$B$19,2,FALSE))","v":7.1197399999999994E-2},{"$f":"IF(E2825=1,\"0\",VLOOKUP(E2825,coefficient2!$A$22:$B$25,2,FALSE))","v":0.25643310000000002},{"$f":"IF(F2825=1,\"0\",VLOOKUP(F2825,coefficient2!$A$28:$B$31,2,FALSE))","v":0.23270360000000001},-2.1963999999999317E-3]
[53355,5,3,3,5,5,21,{"$f":"IF(B2826=1,\"0\",VLOOKUP(B2826,coefficient2!$A$4:$B$7,2,FALSE))","v":0.37123109999999998},{"$f":"IF(C2826=1,\"0\",VLOOKUP(C2826,coefficient2!$A$10:$B$13,2,FALSE))","v":7.0631200000000005E-2},{"$f":"IF(D2826=1,\"0\",VLOOKUP(D2826,coefficient2!$A$16:$B$19,2,FALSE))","v":7.1197399999999994E-2},{"$f":"IF(E2826=1,\"0\",VLOOKUP(E2826,coefficient2!$A$22:$B$25,2,FALSE))","v":0.25643310000000002},{"$f":"IF(F2826=1,\"0\",VLOOKUP(F2826,coefficient2!$A$28:$B$31,2,FALSE))","v":0.29534929999999998},-6.4842099999999903E-2]
[53411,5,3,4,1,1,14,{"$f":"IF(B2827=1,\"0\",VLOOKUP(B2827,coefficient2!$A$4:$B$7,2,FALSE))","v":0.37123109999999998},{"$f":"IF(C2827=1,\"0\",VLOOKUP(C2827,coefficient2!$A$10:$B$13,2,FALSE))","v":7.0631200000000005E-2},{"$f":"IF(D2827=1,\"0\",VLOOKUP(D2827,coefficient2!$A$16:$B$19,2,FALSE))","v":0.1534855},{"$f":"IF(E2827=1,\"0\",VLOOKUP(E2827,coefficient2!$A$22:$B$25,2,FALSE))","v":"0"},{"$f":"IF(F2827=1,\"0\",VLOOKUP(F2827,coefficient2!$A$28:$B$31,2,FALSE))","v":"0"},0.40465220000000007]
[53412,5,3,4,1,2,15,{"$f":"IF(B2828=1,\"0\",VLOOKUP(B2828,coefficient2!$A$4:$B$7,2,FALSE))","v":0.37123109999999998},{"$f":"IF(C2828=1,\"0\",VLOOKUP(C2828,coefficient2!$A$10:$B$13,2,FALSE))","v":7.0631200000000005E-2},{"$f":"IF(D2828=1,\"0\",VLOOKUP(D2828,coefficient2!$A$16:$B$19,2,FALSE))","v":0.1534855},{"$f":"IF(E2828=1,\"0\",VLOOKUP(E2828,coefficient2!$A$22:$B$25,2,FALSE))","v":"0"},{"$f":"IF(F2828=1,\"0\",VLOOKUP(F2828,coefficient2!$A$28:$B$31,2,FALSE))","v":5.8085699999999997E-2},0.34656650000000006]
[53413,5,3,4,1,3,16,{"$f":"IF(B2829=1,\"0\",VLOOKUP(B2829,coefficient2!$A$4:$B$7,2,FALSE))","v":0.37123109999999998},{"$f":"IF(C2829=1,\"0\",VLOOKUP(C2829,coefficient2!$A$10:$B$13,2,FALSE))","v":7.0631200000000005E-2},{"$f":"IF(D2829=1,\"0\",VLOOKUP(D2829,coefficient2!$A$16:$B$19,2,FALSE))","v":0.1534855},{"$f":"IF(E2829=1,\"0\",VLOOKUP(E2829,coefficient2!$A$22:$B$25,2,FALSE))","v":"0"},{"$f":"IF(F2829=1,\"0\",VLOOKUP(F2829,coefficient2!$A$28:$B$31,2,FALSE))","v":9.5753900000000003E-2},0.30889830000000007]
[53414,5,3,4,1,4,17,{"$f":"IF(B2830=1,\"0\",VLOOKUP(B2830,coefficient2!$A$4:$B$7,2,FALSE))","v":0.37123109999999998},{"$f":"IF(C2830=1,\"0\",VLOOKUP(C2830,coefficient2!$A$10:$B$13,2,FALSE))","v":7.0631200000000005E-2},{"$f":"IF(D2830=1,\"0\",VLOOKUP(D2830,coefficient2!$A$16:$B$19,2,FALSE))","v":0.1534855},{"$f":"IF(E2830=1,\"0\",VLOOKUP(E2830,coefficient2!$A$22:$B$25,2,FALSE))","v":"0"},{"$f":"IF(F2830=1,\"0\",VLOOKUP(F2830,coefficient2!$A$28:$B$31,2,FALSE))","v":0.23270360000000001},0.17194860000000006]
[53415,5,3,4,1,5,18,{"$f":"IF(B2831=1,\"0\",VLOOKUP(B2831,coefficient2!$A$4:$B$7,2,FALSE))","v":0.37123109999999998},{"$f":"IF(C2831=1,\"0\",VLOOKUP(C2831,coefficient2!$A$10:$B$13,2,FALSE))","v":7.0631200000000005E-2},{"$f":"IF(D2831=1,\"0\",VLOOKUP(D2831,coefficient2!$A$16:$B$19,2,FALSE))","v":0.1534855},{"$f":"IF(E2831=1,\"0\",VLOOKUP(E2831,coefficient2!$A$22:$B$25,2,FALSE))","v":"0"},{"$f":"IF(F2831=1,\"0\",VLOOKUP(F2831,coefficient2!$A$28:$B$31,2,FALSE))","v":0.29534929999999998},0.10930290000000009]
[53421,5,3,4,2,1,15,{"$f":"IF(B2832=1,\"0\",VLOOKUP(B2832,coefficient2!$A$4:$B$7,2,FALSE))","v":0.37123109999999998},{"$f":"IF(C2832=1,\"0\",VLOOKUP(C2832,coefficient2!$A$10:$B$13,2,FALSE))","v":7.0631200000000005E-2},{"$f":"IF(D2832=1,\"0\",VLOOKUP(D2832,coefficient2!$A$16:$B$19,2,FALSE))","v":0.1534855},{"$f":"IF(E2832=1,\"0\",VLOOKUP(E2832,coefficient2!$A$22:$B$25,2,FALSE))","v":5.63998E-2},{"$f":"IF(F2832=1,\"0\",VLOOKUP(F2832,coefficient2!$A$28:$B$31,2,FALSE))","v":"0"},0.34825240000000007]
[53422,5,3,4,2,2,16,{"$f":"IF(B2833=1,\"0\",VLOOKUP(B2833,coefficient2!$A$4:$B$7,2,FALSE))","v":0.37123109999999998},{"$f":"IF(C2833=1,\"0\",VLOOKUP(C2833,coefficient2!$A$10:$B$13,2,FALSE))","v":7.0631200000000005E-2},{"$f":"IF(D2833=1,\"0\",VLOOKUP(D2833,coefficient2!$A$16:$B$19,2,FALSE))","v":0.1534855},{"$f":"IF(E2833=1,\"0\",VLOOKUP(E2833,coefficient2!$A$22:$B$25,2,FALSE))","v":5.63998E-2},{"$f":"IF(F2833=1,\"0\",VLOOKUP(F2833,coefficient2!$A$28:$B$31,2,FALSE))","v":5.8085699999999997E-2},0.29016670000000006]
[53423,5,3,4,2,3,17,{"$f":"IF(B2834=1,\"0\",VLOOKUP(B2834,coefficient2!$A$4:$B$7,2,FALSE))","v":0.37123109999999998},{"$f":"IF(C2834=1,\"0\",VLOOKUP(C2834,coefficient2!$A$10:$B$13,2,FALSE))","v":7.0631200000000005E-2},{"$f":"IF(D2834=1,\"0\",VLOOKUP(D2834,coefficient2!$A$16:$B$19,2,FALSE))","v":0.1534855},{"$f":"IF(E2834=1,\"0\",VLOOKUP(E2834,coefficient2!$A$22:$B$25,2,FALSE))","v":5.63998E-2},{"$f":"IF(F2834=1,\"0\",VLOOKUP(F2834,coefficient2!$A$28:$B$31,2,FALSE))","v":9.5753900000000003E-2},0.25249850000000007]
[53424,5,3,4,2,4,18,{"$f":"IF(B2835=1,\"0\",VLOOKUP(B2835,coefficient2!$A$4:$B$7,2,FALSE))","v":0.37123109999999998},{"$f":"IF(C2835=1,\"0\",VLOOKUP(C2835,coefficient2!$A$10:$B$13,2,FALSE))","v":7.0631200000000005E-2},{"$f":"IF(D2835=1,\"0\",VLOOKUP(D2835,coefficient2!$A$16:$B$19,2,FALSE))","v":0.1534855},{"$f":"IF(E2835=1,\"0\",VLOOKUP(E2835,coefficient2!$A$22:$B$25,2,FALSE))","v":5.63998E-2},{"$f":"IF(F2835=1,\"0\",VLOOKUP(F2835,coefficient2!$A$28:$B$31,2,FALSE))","v":0.23270360000000001},0.11554880000000006]
[53425,5,3,4,2,5,19,{"$f":"IF(B2836=1,\"0\",VLOOKUP(B2836,coefficient2!$A$4:$B$7,2,FALSE))","v":0.37123109999999998},{"$f":"IF(C2836=1,\"0\",VLOOKUP(C2836,coefficient2!$A$10:$B$13,2,FALSE))","v":7.0631200000000005E-2},{"$f":"IF(D2836=1,\"0\",VLOOKUP(D2836,coefficient2!$A$16:$B$19,2,FALSE))","v":0.1534855},{"$f":"IF(E2836=1,\"0\",VLOOKUP(E2836,coefficient2!$A$22:$B$25,2,FALSE))","v":5.63998E-2},{"$f":"IF(F2836=1,\"0\",VLOOKUP(F2836,coefficient2!$A$28:$B$31,2,FALSE))","v":0.29534929999999998},5.2903100000000092E-2]
[53431,5,3,4,3,1,{"$f":"SUM(B2837:F2837)","v":16},{"$f":"IF(B2837=1,\"0\",VLOOKUP(B2837,coefficient2!$A$4:$B$7,2,FALSE))","v":0.37123109999999998},{"$f":"IF(C2837=1,\"0\",VLOOKUP(C2837,coefficient2!$A$10:$B$13,2,FALSE))","v":7.0631200000000005E-2},{"$f":"IF(D2837=1,\"0\",VLOOKUP(D2837,coefficient2!$A$16:$B$19,2,FALSE))","v":0.1534855},{"$f":"IF(E2837=1,\"0\",VLOOKUP(E2837,coefficient2!$A$22:$B$25,2,FALSE))","v":6.6492200000000001E-2},{"$f":"IF(F2837=1,\"0\",VLOOKUP(F2837,coefficient2!$A$28:$B$31,2,FALSE))","v":"0"},0.33816000000000007]
[53432,5,3,4,3,2,17,{"$f":"IF(B2838=1,\"0\",VLOOKUP(B2838,coefficient2!$A$4:$B$7,2,FALSE))","v":0.37123109999999998},{"$f":"IF(C2838=1,\"0\",VLOOKUP(C2838,coefficient2!$A$10:$B$13,2,FALSE))","v":7.0631200000000005E-2},{"$f":"IF(D2838=1,\"0\",VLOOKUP(D2838,coefficient2!$A$16:$B$19,2,FALSE))","v":0.1534855},{"$f":"IF(E2838=1,\"0\",VLOOKUP(E2838,coefficient2!$A$22:$B$25,2,FALSE))","v":6.6492200000000001E-2},{"$f":"IF(F2838=1,\"0\",VLOOKUP(F2838,coefficient2!$A$28:$B$31,2,FALSE))","v":5.8085699999999997E-2},0.28007430000000005]
[53433,5,3,4,3,3,18,{"$f":"IF(B2839=1,\"0\",VLOOKUP(B2839,coefficient2!$A$4:$B$7,2,FALSE))","v":0.37123109999999998},{"$f":"IF(C2839=1,\"0\",VLOOKUP(C2839,coefficient2!$A$10:$B$13,2,FALSE))","v":7.0631200000000005E-2},{"$f":"IF(D2839=1,\"0\",VLOOKUP(D2839,coefficient2!$A$16:$B$19,2,FALSE))","v":0.1534855},{"$f":"IF(E2839=1,\"0\",VLOOKUP(E2839,coefficient2!$A$22:$B$25,2,FALSE))","v":6.6492200000000001E-2},{"$f":"IF(F2839=1,\"0\",VLOOKUP(F2839,coefficient2!$A$28:$B$31,2,FALSE))","v":9.5753900000000003E-2},0.24240610000000007]
[53434,5,3,4,3,4,19,{"$f":"IF(B2840=1,\"0\",VLOOKUP(B2840,coefficient2!$A$4:$B$7,2,FALSE))","v":0.37123109999999998},{"$f":"IF(C2840=1,\"0\",VLOOKUP(C2840,coefficient2!$A$10:$B$13,2,FALSE))","v":7.0631200000000005E-2},{"$f":"IF(D2840=1,\"0\",VLOOKUP(D2840,coefficient2!$A$16:$B$19,2,FALSE))","v":0.1534855},{"$f":"IF(E2840=1,\"0\",VLOOKUP(E2840,coefficient2!$A$22:$B$25,2,FALSE))","v":6.6492200000000001E-2},{"$f":"IF(F2840=1,\"0\",VLOOKUP(F2840,coefficient2!$A$28:$B$31,2,FALSE))","v":0.23270360000000001},0.10545640000000006]
[53435,5,3,4,3,5,20,{"$f":"IF(B2841=1,\"0\",VLOOKUP(B2841,coefficient2!$A$4:$B$7,2,FALSE))","v":0.37123109999999998},{"$f":"IF(C2841=1,\"0\",VLOOKUP(C2841,coefficient2!$A$10:$B$13,2,FALSE))","v":7.0631200000000005E-2},{"$f":"IF(D2841=1,\"0\",VLOOKUP(D2841,coefficient2!$A$16:$B$19,2,FALSE))","v":0.1534855},{"$f":"IF(E2841=1,\"0\",VLOOKUP(E2841,coefficient2!$A$22:$B$25,2,FALSE))","v":6.6492200000000001E-2},{"$f":"IF(F2841=1,\"0\",VLOOKUP(F2841,coefficient2!$A$28:$B$31,2,FALSE))","v":0.29534929999999998},4.281070000000009E-2]
[53441,5,3,4,4,1,17,{"$f":"IF(B2842=1,\"0\",VLOOKUP(B2842,coefficient2!$A$4:$B$7,2,FALSE))","v":0.37123109999999998},{"$f":"IF(C2842=1,\"0\",VLOOKUP(C2842,coefficient2!$A$10:$B$13,2,FALSE))","v":7.0631200000000005E-2},{"$f":"IF(D2842=1,\"0\",VLOOKUP(D2842,coefficient2!$A$16:$B$19,2,FALSE))","v":0.1534855},{"$f":"IF(E2842=1,\"0\",VLOOKUP(E2842,coefficient2!$A$22:$B$25,2,FALSE))","v":0.2068864},{"$f":"IF(F2842=1,\"0\",VLOOKUP(F2842,coefficient2!$A$28:$B$31,2,FALSE))","v":"0"},0.19776580000000007]
[53442,5,3,4,4,2,18,{"$f":"IF(B2843=1,\"0\",VLOOKUP(B2843,coefficient2!$A$4:$B$7,2,FALSE))","v":0.37123109999999998},{"$f":"IF(C2843=1,\"0\",VLOOKUP(C2843,coefficient2!$A$10:$B$13,2,FALSE))","v":7.0631200000000005E-2},{"$f":"IF(D2843=1,\"0\",VLOOKUP(D2843,coefficient2!$A$16:$B$19,2,FALSE))","v":0.1534855},{"$f":"IF(E2843=1,\"0\",VLOOKUP(E2843,coefficient2!$A$22:$B$25,2,FALSE))","v":0.2068864},{"$f":"IF(F2843=1,\"0\",VLOOKUP(F2843,coefficient2!$A$28:$B$31,2,FALSE))","v":5.8085699999999997E-2},0.13968010000000008]
[53443,5,3,4,4,3,19,{"$f":"IF(B2844=1,\"0\",VLOOKUP(B2844,coefficient2!$A$4:$B$7,2,FALSE))","v":0.37123109999999998},{"$f":"IF(C2844=1,\"0\",VLOOKUP(C2844,coefficient2!$A$10:$B$13,2,FALSE))","v":7.0631200000000005E-2},{"$f":"IF(D2844=1,\"0\",VLOOKUP(D2844,coefficient2!$A$16:$B$19,2,FALSE))","v":0.1534855},{"$f":"IF(E2844=1,\"0\",VLOOKUP(E2844,coefficient2!$A$22:$B$25,2,FALSE))","v":0.2068864},{"$f":"IF(F2844=1,\"0\",VLOOKUP(F2844,coefficient2!$A$28:$B$31,2,FALSE))","v":9.5753900000000003E-2},0.10201190000000007]
[53444,5,3,4,4,4,20,{"$f":"IF(B2845=1,\"0\",VLOOKUP(B2845,coefficient2!$A$4:$B$7,2,FALSE))","v":0.37123109999999998},{"$f":"IF(C2845=1,\"0\",VLOOKUP(C2845,coefficient2!$A$10:$B$13,2,FALSE))","v":7.0631200000000005E-2},{"$f":"IF(D2845=1,\"0\",VLOOKUP(D2845,coefficient2!$A$16:$B$19,2,FALSE))","v":0.1534855},{"$f":"IF(E2845=1,\"0\",VLOOKUP(E2845,coefficient2!$A$22:$B$25,2,FALSE))","v":0.2068864},{"$f":"IF(F2845=1,\"0\",VLOOKUP(F2845,coefficient2!$A$28:$B$31,2,FALSE))","v":0.23270360000000001},-3.4937799999999936E-2]
[53445,5,3,4,4,5,21,{"$f":"IF(B2846=1,\"0\",VLOOKUP(B2846,coefficient2!$A$4:$B$7,2,FALSE))","v":0.37123109999999998},{"$f":"IF(C2846=1,\"0\",VLOOKUP(C2846,coefficient2!$A$10:$B$13,2,FALSE))","v":7.0631200000000005E-2},{"$f":"IF(D2846=1,\"0\",VLOOKUP(D2846,coefficient2!$A$16:$B$19,2,FALSE))","v":0.1534855},{"$f":"IF(E2846=1,\"0\",VLOOKUP(E2846,coefficient2!$A$22:$B$25,2,FALSE))","v":0.2068864},{"$f":"IF(F2846=1,\"0\",VLOOKUP(F2846,coefficient2!$A$28:$B$31,2,FALSE))","v":0.29534929999999998},-9.7583499999999906E-2]
[53451,5,3,4,5,1,18,{"$f":"IF(B2847=1,\"0\",VLOOKUP(B2847,coefficient2!$A$4:$B$7,2,FALSE))","v":0.37123109999999998},{"$f":"IF(C2847=1,\"0\",VLOOKUP(C2847,coefficient2!$A$10:$B$13,2,FALSE))","v":7.0631200000000005E-2},{"$f":"IF(D2847=1,\"0\",VLOOKUP(D2847,coefficient2!$A$16:$B$19,2,FALSE))","v":0.1534855},{"$f":"IF(E2847=1,\"0\",VLOOKUP(E2847,coefficient2!$A$22:$B$25,2,FALSE))","v":0.25643310000000002},{"$f":"IF(F2847=1,\"0\",VLOOKUP(F2847,coefficient2!$A$28:$B$31,2,FALSE))","v":"0"},0.14821910000000005]
[53452,5,3,4,5,2,19,{"$f":"IF(B2848=1,\"0\",VLOOKUP(B2848,coefficient2!$A$4:$B$7,2,FALSE))","v":0.37123109999999998},{"$f":"IF(C2848=1,\"0\",VLOOKUP(C2848,coefficient2!$A$10:$B$13,2,FALSE))","v":7.0631200000000005E-2},{"$f":"IF(D2848=1,\"0\",VLOOKUP(D2848,coefficient2!$A$16:$B$19,2,FALSE))","v":0.1534855},{"$f":"IF(E2848=1,\"0\",VLOOKUP(E2848,coefficient2!$A$22:$B$25,2,FALSE))","v":0.25643310000000002},{"$f":"IF(F2848=1,\"0\",VLOOKUP(F2848,coefficient2!$A$28:$B$31,2,FALSE))","v":5.8085699999999997E-2},9.0133400000000058E-2]
[53453,5,3,4,5,3,20,{"$f":"IF(B2849=1,\"0\",VLOOKUP(B2849,coefficient2!$A$4:$B$7,2,FALSE))","v":0.37123109999999998},{"$f":"IF(C2849=1,\"0\",VLOOKUP(C2849,coefficient2!$A$10:$B$13,2,FALSE))","v":7.0631200000000005E-2},{"$f":"IF(D2849=1,\"0\",VLOOKUP(D2849,coefficient2!$A$16:$B$19,2,FALSE))","v":0.1534855},{"$f":"IF(E2849=1,\"0\",VLOOKUP(E2849,coefficient2!$A$22:$B$25,2,FALSE))","v":0.25643310000000002},{"$f":"IF(F2849=1,\"0\",VLOOKUP(F2849,coefficient2!$A$28:$B$31,2,FALSE))","v":9.5753900000000003E-2},5.2465200000000045E-2]
[53454,5,3,4,5,4,21,{"$f":"IF(B2850=1,\"0\",VLOOKUP(B2850,coefficient2!$A$4:$B$7,2,FALSE))","v":0.37123109999999998},{"$f":"IF(C2850=1,\"0\",VLOOKUP(C2850,coefficient2!$A$10:$B$13,2,FALSE))","v":7.0631200000000005E-2},{"$f":"IF(D2850=1,\"0\",VLOOKUP(D2850,coefficient2!$A$16:$B$19,2,FALSE))","v":0.1534855},{"$f":"IF(E2850=1,\"0\",VLOOKUP(E2850,coefficient2!$A$22:$B$25,2,FALSE))","v":0.25643310000000002},{"$f":"IF(F2850=1,\"0\",VLOOKUP(F2850,coefficient2!$A$28:$B$31,2,FALSE))","v":0.23270360000000001},-8.4484499999999962E-2]
[53455,5,3,4,5,5,22,{"$f":"IF(B2851=1,\"0\",VLOOKUP(B2851,coefficient2!$A$4:$B$7,2,FALSE))","v":0.37123109999999998},{"$f":"IF(C2851=1,\"0\",VLOOKUP(C2851,coefficient2!$A$10:$B$13,2,FALSE))","v":7.0631200000000005E-2},{"$f":"IF(D2851=1,\"0\",VLOOKUP(D2851,coefficient2!$A$16:$B$19,2,FALSE))","v":0.1534855},{"$f":"IF(E2851=1,\"0\",VLOOKUP(E2851,coefficient2!$A$22:$B$25,2,FALSE))","v":0.25643310000000002},{"$f":"IF(F2851=1,\"0\",VLOOKUP(F2851,coefficient2!$A$28:$B$31,2,FALSE))","v":0.29534929999999998},-0.14713019999999993]
[53511,5,3,5,1,1,15,{"$f":"IF(B2852=1,\"0\",VLOOKUP(B2852,coefficient2!$A$4:$B$7,2,FALSE))","v":0.37123109999999998},{"$f":"IF(C2852=1,\"0\",VLOOKUP(C2852,coefficient2!$A$10:$B$13,2,FALSE))","v":7.0631200000000005E-2},{"$f":"IF(D2852=1,\"0\",VLOOKUP(D2852,coefficient2!$A$16:$B$19,2,FALSE))","v":0.248331},{"$f":"IF(E2852=1,\"0\",VLOOKUP(E2852,coefficient2!$A$22:$B$25,2,FALSE))","v":"0"},{"$f":"IF(F2852=1,\"0\",VLOOKUP(F2852,coefficient2!$A$28:$B$31,2,FALSE))","v":"0"},0.3098067000000001]
[53512,5,3,5,1,2,16,{"$f":"IF(B2853=1,\"0\",VLOOKUP(B2853,coefficient2!$A$4:$B$7,2,FALSE))","v":0.37123109999999998},{"$f":"IF(C2853=1,\"0\",VLOOKUP(C2853,coefficient2!$A$10:$B$13,2,FALSE))","v":7.0631200000000005E-2},{"$f":"IF(D2853=1,\"0\",VLOOKUP(D2853,coefficient2!$A$16:$B$19,2,FALSE))","v":0.248331},{"$f":"IF(E2853=1,\"0\",VLOOKUP(E2853,coefficient2!$A$22:$B$25,2,FALSE))","v":"0"},{"$f":"IF(F2853=1,\"0\",VLOOKUP(F2853,coefficient2!$A$28:$B$31,2,FALSE))","v":5.8085699999999997E-2},0.25172100000000008]
[53513,5,3,5,1,3,17,{"$f":"IF(B2854=1,\"0\",VLOOKUP(B2854,coefficient2!$A$4:$B$7,2,FALSE))","v":0.37123109999999998},{"$f":"IF(C2854=1,\"0\",VLOOKUP(C2854,coefficient2!$A$10:$B$13,2,FALSE))","v":7.0631200000000005E-2},{"$f":"IF(D2854=1,\"0\",VLOOKUP(D2854,coefficient2!$A$16:$B$19,2,FALSE))","v":0.248331},{"$f":"IF(E2854=1,\"0\",VLOOKUP(E2854,coefficient2!$A$22:$B$25,2,FALSE))","v":"0"},{"$f":"IF(F2854=1,\"0\",VLOOKUP(F2854,coefficient2!$A$28:$B$31,2,FALSE))","v":9.5753900000000003E-2},0.2140528000000001]
[53514,5,3,5,1,4,18,{"$f":"IF(B2855=1,\"0\",VLOOKUP(B2855,coefficient2!$A$4:$B$7,2,FALSE))","v":0.37123109999999998},{"$f":"IF(C2855=1,\"0\",VLOOKUP(C2855,coefficient2!$A$10:$B$13,2,FALSE))","v":7.0631200000000005E-2},{"$f":"IF(D2855=1,\"0\",VLOOKUP(D2855,coefficient2!$A$16:$B$19,2,FALSE))","v":0.248331},{"$f":"IF(E2855=1,\"0\",VLOOKUP(E2855,coefficient2!$A$22:$B$25,2,FALSE))","v":"0"},{"$f":"IF(F2855=1,\"0\",VLOOKUP(F2855,coefficient2!$A$28:$B$31,2,FALSE))","v":0.23270360000000001},7.7103100000000091E-2]
[53515,5,3,5,1,5,19,{"$f":"IF(B2856=1,\"0\",VLOOKUP(B2856,coefficient2!$A$4:$B$7,2,FALSE))","v":0.37123109999999998},{"$f":"IF(C2856=1,\"0\",VLOOKUP(C2856,coefficient2!$A$10:$B$13,2,FALSE))","v":7.0631200000000005E-2},{"$f":"IF(D2856=1,\"0\",VLOOKUP(D2856,coefficient2!$A$16:$B$19,2,FALSE))","v":0.248331},{"$f":"IF(E2856=1,\"0\",VLOOKUP(E2856,coefficient2!$A$22:$B$25,2,FALSE))","v":"0"},{"$f":"IF(F2856=1,\"0\",VLOOKUP(F2856,coefficient2!$A$28:$B$31,2,FALSE))","v":0.29534929999999998},1.445740000000012E-2]
[53521,5,3,5,2,1,16,{"$f":"IF(B2857=1,\"0\",VLOOKUP(B2857,coefficient2!$A$4:$B$7,2,FALSE))","v":0.37123109999999998},{"$f":"IF(C2857=1,\"0\",VLOOKUP(C2857,coefficient2!$A$10:$B$13,2,FALSE))","v":7.0631200000000005E-2},{"$f":"IF(D2857=1,\"0\",VLOOKUP(D2857,coefficient2!$A$16:$B$19,2,FALSE))","v":0.248331},{"$f":"IF(E2857=1,\"0\",VLOOKUP(E2857,coefficient2!$A$22:$B$25,2,FALSE))","v":5.63998E-2},{"$f":"IF(F2857=1,\"0\",VLOOKUP(F2857,coefficient2!$A$28:$B$31,2,FALSE))","v":"0"},0.2534069000000001]
[53522,5,3,5,2,2,17,{"$f":"IF(B2858=1,\"0\",VLOOKUP(B2858,coefficient2!$A$4:$B$7,2,FALSE))","v":0.37123109999999998},{"$f":"IF(C2858=1,\"0\",VLOOKUP(C2858,coefficient2!$A$10:$B$13,2,FALSE))","v":7.0631200000000005E-2},{"$f":"IF(D2858=1,\"0\",VLOOKUP(D2858,coefficient2!$A$16:$B$19,2,FALSE))","v":0.248331},{"$f":"IF(E2858=1,\"0\",VLOOKUP(E2858,coefficient2!$A$22:$B$25,2,FALSE))","v":5.63998E-2},{"$f":"IF(F2858=1,\"0\",VLOOKUP(F2858,coefficient2!$A$28:$B$31,2,FALSE))","v":5.8085699999999997E-2},0.19532120000000011]
[53523,5,3,5,2,3,18,{"$f":"IF(B2859=1,\"0\",VLOOKUP(B2859,coefficient2!$A$4:$B$7,2,FALSE))","v":0.37123109999999998},{"$f":"IF(C2859=1,\"0\",VLOOKUP(C2859,coefficient2!$A$10:$B$13,2,FALSE))","v":7.0631200000000005E-2},{"$f":"IF(D2859=1,\"0\",VLOOKUP(D2859,coefficient2!$A$16:$B$19,2,FALSE))","v":0.248331},{"$f":"IF(E2859=1,\"0\",VLOOKUP(E2859,coefficient2!$A$22:$B$25,2,FALSE))","v":5.63998E-2},{"$f":"IF(F2859=1,\"0\",VLOOKUP(F2859,coefficient2!$A$28:$B$31,2,FALSE))","v":9.5753900000000003E-2},0.1576530000000001]
[53524,5,3,5,2,4,19,{"$f":"IF(B2860=1,\"0\",VLOOKUP(B2860,coefficient2!$A$4:$B$7,2,FALSE))","v":0.37123109999999998},{"$f":"IF(C2860=1,\"0\",VLOOKUP(C2860,coefficient2!$A$10:$B$13,2,FALSE))","v":7.0631200000000005E-2},{"$f":"IF(D2860=1,\"0\",VLOOKUP(D2860,coefficient2!$A$16:$B$19,2,FALSE))","v":0.248331},{"$f":"IF(E2860=1,\"0\",VLOOKUP(E2860,coefficient2!$A$22:$B$25,2,FALSE))","v":5.63998E-2},{"$f":"IF(F2860=1,\"0\",VLOOKUP(F2860,coefficient2!$A$28:$B$31,2,FALSE))","v":0.23270360000000001},2.0703300000000091E-2]
[53525,5,3,5,2,5,20,{"$f":"IF(B2861=1,\"0\",VLOOKUP(B2861,coefficient2!$A$4:$B$7,2,FALSE))","v":0.37123109999999998},{"$f":"IF(C2861=1,\"0\",VLOOKUP(C2861,coefficient2!$A$10:$B$13,2,FALSE))","v":7.0631200000000005E-2},{"$f":"IF(D2861=1,\"0\",VLOOKUP(D2861,coefficient2!$A$16:$B$19,2,FALSE))","v":0.248331},{"$f":"IF(E2861=1,\"0\",VLOOKUP(E2861,coefficient2!$A$22:$B$25,2,FALSE))","v":5.63998E-2},{"$f":"IF(F2861=1,\"0\",VLOOKUP(F2861,coefficient2!$A$28:$B$31,2,FALSE))","v":0.29534929999999998},-4.194239999999988E-2]
[53531,5,3,5,3,1,17,{"$f":"IF(B2862=1,\"0\",VLOOKUP(B2862,coefficient2!$A$4:$B$7,2,FALSE))","v":0.37123109999999998},{"$f":"IF(C2862=1,\"0\",VLOOKUP(C2862,coefficient2!$A$10:$B$13,2,FALSE))","v":7.0631200000000005E-2},{"$f":"IF(D2862=1,\"0\",VLOOKUP(D2862,coefficient2!$A$16:$B$19,2,FALSE))","v":0.248331},{"$f":"IF(E2862=1,\"0\",VLOOKUP(E2862,coefficient2!$A$22:$B$25,2,FALSE))","v":6.6492200000000001E-2},{"$f":"IF(F2862=1,\"0\",VLOOKUP(F2862,coefficient2!$A$28:$B$31,2,FALSE))","v":"0"},0.2433145000000001]
[53532,5,3,5,3,2,18,{"$f":"IF(B2863=1,\"0\",VLOOKUP(B2863,coefficient2!$A$4:$B$7,2,FALSE))","v":0.37123109999999998},{"$f":"IF(C2863=1,\"0\",VLOOKUP(C2863,coefficient2!$A$10:$B$13,2,FALSE))","v":7.0631200000000005E-2},{"$f":"IF(D2863=1,\"0\",VLOOKUP(D2863,coefficient2!$A$16:$B$19,2,FALSE))","v":0.248331},{"$f":"IF(E2863=1,\"0\",VLOOKUP(E2863,coefficient2!$A$22:$B$25,2,FALSE))","v":6.6492200000000001E-2},{"$f":"IF(F2863=1,\"0\",VLOOKUP(F2863,coefficient2!$A$28:$B$31,2,FALSE))","v":5.8085699999999997E-2},0.18522880000000011]
[53533,5,3,5,3,3,19,{"$f":"IF(B2864=1,\"0\",VLOOKUP(B2864,coefficient2!$A$4:$B$7,2,FALSE))","v":0.37123109999999998},{"$f":"IF(C2864=1,\"0\",VLOOKUP(C2864,coefficient2!$A$10:$B$13,2,FALSE))","v":7.0631200000000005E-2},{"$f":"IF(D2864=1,\"0\",VLOOKUP(D2864,coefficient2!$A$16:$B$19,2,FALSE))","v":0.248331},{"$f":"IF(E2864=1,\"0\",VLOOKUP(E2864,coefficient2!$A$22:$B$25,2,FALSE))","v":6.6492200000000001E-2},{"$f":"IF(F2864=1,\"0\",VLOOKUP(F2864,coefficient2!$A$28:$B$31,2,FALSE))","v":9.5753900000000003E-2},0.1475606000000001]
[53534,5,3,5,3,4,20,{"$f":"IF(B2865=1,\"0\",VLOOKUP(B2865,coefficient2!$A$4:$B$7,2,FALSE))","v":0.37123109999999998},{"$f":"IF(C2865=1,\"0\",VLOOKUP(C2865,coefficient2!$A$10:$B$13,2,FALSE))","v":7.0631200000000005E-2},{"$f":"IF(D2865=1,\"0\",VLOOKUP(D2865,coefficient2!$A$16:$B$19,2,FALSE))","v":0.248331},{"$f":"IF(E2865=1,\"0\",VLOOKUP(E2865,coefficient2!$A$22:$B$25,2,FALSE))","v":6.6492200000000001E-2},{"$f":"IF(F2865=1,\"0\",VLOOKUP(F2865,coefficient2!$A$28:$B$31,2,FALSE))","v":0.23270360000000001},1.061090000000009E-2]
[53535,5,3,5,3,5,21,{"$f":"IF(B2866=1,\"0\",VLOOKUP(B2866,coefficient2!$A$4:$B$7,2,FALSE))","v":0.37123109999999998},{"$f":"IF(C2866=1,\"0\",VLOOKUP(C2866,coefficient2!$A$10:$B$13,2,FALSE))","v":7.0631200000000005E-2},{"$f":"IF(D2866=1,\"0\",VLOOKUP(D2866,coefficient2!$A$16:$B$19,2,FALSE))","v":0.248331},{"$f":"IF(E2866=1,\"0\",VLOOKUP(E2866,coefficient2!$A$22:$B$25,2,FALSE))","v":6.6492200000000001E-2},{"$f":"IF(F2866=1,\"0\",VLOOKUP(F2866,coefficient2!$A$28:$B$31,2,FALSE))","v":0.29534929999999998},-5.2034799999999881E-2]
[53541,5,3,5,4,1,18,{"$f":"IF(B2867=1,\"0\",VLOOKUP(B2867,coefficient2!$A$4:$B$7,2,FALSE))","v":0.37123109999999998},{"$f":"IF(C2867=1,\"0\",VLOOKUP(C2867,coefficient2!$A$10:$B$13,2,FALSE))","v":7.0631200000000005E-2},{"$f":"IF(D2867=1,\"0\",VLOOKUP(D2867,coefficient2!$A$16:$B$19,2,FALSE))","v":0.248331},{"$f":"IF(E2867=1,\"0\",VLOOKUP(E2867,coefficient2!$A$22:$B$25,2,FALSE))","v":0.2068864},{"$f":"IF(F2867=1,\"0\",VLOOKUP(F2867,coefficient2!$A$28:$B$31,2,FALSE))","v":"0"},0.1029203000000001]
[53542,5,3,5,4,2,19,{"$f":"IF(B2868=1,\"0\",VLOOKUP(B2868,coefficient2!$A$4:$B$7,2,FALSE))","v":0.37123109999999998},{"$f":"IF(C2868=1,\"0\",VLOOKUP(C2868,coefficient2!$A$10:$B$13,2,FALSE))","v":7.0631200000000005E-2},{"$f":"IF(D2868=1,\"0\",VLOOKUP(D2868,coefficient2!$A$16:$B$19,2,FALSE))","v":0.248331},{"$f":"IF(E2868=1,\"0\",VLOOKUP(E2868,coefficient2!$A$22:$B$25,2,FALSE))","v":0.2068864},{"$f":"IF(F2868=1,\"0\",VLOOKUP(F2868,coefficient2!$A$28:$B$31,2,FALSE))","v":5.8085699999999997E-2},4.4834600000000106E-2]
[53543,5,3,5,4,3,20,{"$f":"IF(B2869=1,\"0\",VLOOKUP(B2869,coefficient2!$A$4:$B$7,2,FALSE))","v":0.37123109999999998},{"$f":"IF(C2869=1,\"0\",VLOOKUP(C2869,coefficient2!$A$10:$B$13,2,FALSE))","v":7.0631200000000005E-2},{"$f":"IF(D2869=1,\"0\",VLOOKUP(D2869,coefficient2!$A$16:$B$19,2,FALSE))","v":0.248331},{"$f":"IF(E2869=1,\"0\",VLOOKUP(E2869,coefficient2!$A$22:$B$25,2,FALSE))","v":0.2068864},{"$f":"IF(F2869=1,\"0\",VLOOKUP(F2869,coefficient2!$A$28:$B$31,2,FALSE))","v":9.5753900000000003E-2},7.1664000000001005E-3]
[53544,5,3,5,4,4,21,{"$f":"IF(B2870=1,\"0\",VLOOKUP(B2870,coefficient2!$A$4:$B$7,2,FALSE))","v":0.37123109999999998},{"$f":"IF(C2870=1,\"0\",VLOOKUP(C2870,coefficient2!$A$10:$B$13,2,FALSE))","v":7.0631200000000005E-2},{"$f":"IF(D2870=1,\"0\",VLOOKUP(D2870,coefficient2!$A$16:$B$19,2,FALSE))","v":0.248331},{"$f":"IF(E2870=1,\"0\",VLOOKUP(E2870,coefficient2!$A$22:$B$25,2,FALSE))","v":0.2068864},{"$f":"IF(F2870=1,\"0\",VLOOKUP(F2870,coefficient2!$A$28:$B$31,2,FALSE))","v":0.23270360000000001},-0.12978329999999991]
[53545,5,3,5,4,5,22,{"$f":"IF(B2871=1,\"0\",VLOOKUP(B2871,coefficient2!$A$4:$B$7,2,FALSE))","v":0.37123109999999998},{"$f":"IF(C2871=1,\"0\",VLOOKUP(C2871,coefficient2!$A$10:$B$13,2,FALSE))","v":7.0631200000000005E-2},{"$f":"IF(D2871=1,\"0\",VLOOKUP(D2871,coefficient2!$A$16:$B$19,2,FALSE))","v":0.248331},{"$f":"IF(E2871=1,\"0\",VLOOKUP(E2871,coefficient2!$A$22:$B$25,2,FALSE))","v":0.2068864},{"$f":"IF(F2871=1,\"0\",VLOOKUP(F2871,coefficient2!$A$28:$B$31,2,FALSE))","v":0.29534929999999998},-0.19242899999999988]
[53551,5,3,5,5,1,19,{"$f":"IF(B2872=1,\"0\",VLOOKUP(B2872,coefficient2!$A$4:$B$7,2,FALSE))","v":0.37123109999999998},{"$f":"IF(C2872=1,\"0\",VLOOKUP(C2872,coefficient2!$A$10:$B$13,2,FALSE))","v":7.0631200000000005E-2},{"$f":"IF(D2872=1,\"0\",VLOOKUP(D2872,coefficient2!$A$16:$B$19,2,FALSE))","v":0.248331},{"$f":"IF(E2872=1,\"0\",VLOOKUP(E2872,coefficient2!$A$22:$B$25,2,FALSE))","v":0.25643310000000002},{"$f":"IF(F2872=1,\"0\",VLOOKUP(F2872,coefficient2!$A$28:$B$31,2,FALSE))","v":"0"},5.3373600000000077E-2]
[53552,5,3,5,5,2,20,{"$f":"IF(B2873=1,\"0\",VLOOKUP(B2873,coefficient2!$A$4:$B$7,2,FALSE))","v":0.37123109999999998},{"$f":"IF(C2873=1,\"0\",VLOOKUP(C2873,coefficient2!$A$10:$B$13,2,FALSE))","v":7.0631200000000005E-2},{"$f":"IF(D2873=1,\"0\",VLOOKUP(D2873,coefficient2!$A$16:$B$19,2,FALSE))","v":0.248331},{"$f":"IF(E2873=1,\"0\",VLOOKUP(E2873,coefficient2!$A$22:$B$25,2,FALSE))","v":0.25643310000000002},{"$f":"IF(F2873=1,\"0\",VLOOKUP(F2873,coefficient2!$A$28:$B$31,2,FALSE))","v":5.8085699999999997E-2},-4.7120999999999205E-3]
[53553,5,3,5,5,3,21,{"$f":"IF(B2874=1,\"0\",VLOOKUP(B2874,coefficient2!$A$4:$B$7,2,FALSE))","v":0.37123109999999998},{"$f":"IF(C2874=1,\"0\",VLOOKUP(C2874,coefficient2!$A$10:$B$13,2,FALSE))","v":7.0631200000000005E-2},{"$f":"IF(D2874=1,\"0\",VLOOKUP(D2874,coefficient2!$A$16:$B$19,2,FALSE))","v":0.248331},{"$f":"IF(E2874=1,\"0\",VLOOKUP(E2874,coefficient2!$A$22:$B$25,2,FALSE))","v":0.25643310000000002},{"$f":"IF(F2874=1,\"0\",VLOOKUP(F2874,coefficient2!$A$28:$B$31,2,FALSE))","v":9.5753900000000003E-2},-4.2380299999999926E-2]
[53554,5,3,5,5,4,22,{"$f":"IF(B2875=1,\"0\",VLOOKUP(B2875,coefficient2!$A$4:$B$7,2,FALSE))","v":0.37123109999999998},{"$f":"IF(C2875=1,\"0\",VLOOKUP(C2875,coefficient2!$A$10:$B$13,2,FALSE))","v":7.0631200000000005E-2},{"$f":"IF(D2875=1,\"0\",VLOOKUP(D2875,coefficient2!$A$16:$B$19,2,FALSE))","v":0.248331},{"$f":"IF(E2875=1,\"0\",VLOOKUP(E2875,coefficient2!$A$22:$B$25,2,FALSE))","v":0.25643310000000002},{"$f":"IF(F2875=1,\"0\",VLOOKUP(F2875,coefficient2!$A$28:$B$31,2,FALSE))","v":0.23270360000000001},-0.17932999999999993]
[53555,5,3,5,5,5,23,{"$f":"IF(B2876=1,\"0\",VLOOKUP(B2876,coefficient2!$A$4:$B$7,2,FALSE))","v":0.37123109999999998},{"$f":"IF(C2876=1,\"0\",VLOOKUP(C2876,coefficient2!$A$10:$B$13,2,FALSE))","v":7.0631200000000005E-2},{"$f":"IF(D2876=1,\"0\",VLOOKUP(D2876,coefficient2!$A$16:$B$19,2,FALSE))","v":0.248331},{"$f":"IF(E2876=1,\"0\",VLOOKUP(E2876,coefficient2!$A$22:$B$25,2,FALSE))","v":0.25643310000000002},{"$f":"IF(F2876=1,\"0\",VLOOKUP(F2876,coefficient2!$A$28:$B$31,2,FALSE))","v":0.29534929999999998},-0.2419756999999999]
[54111,5,4,1,1,1,12,{"$f":"IF(B2877=1,\"0\",VLOOKUP(B2877,coefficient2!$A$4:$B$7,2,FALSE))","v":0.37123109999999998},{"$f":"IF(C2877=1,\"0\",VLOOKUP(C2877,coefficient2!$A$10:$B$13,2,FALSE))","v":0.19249050000000001},{"$f":"IF(D2877=1,\"0\",VLOOKUP(D2877,coefficient2!$A$16:$B$19,2,FALSE))","v":"0"},{"$f":"IF(E2877=1,\"0\",VLOOKUP(E2877,coefficient2!$A$22:$B$25,2,FALSE))","v":"0"},{"$f":"IF(F2877=1,\"0\",VLOOKUP(F2877,coefficient2!$A$28:$B$31,2,FALSE))","v":"0"},0.43627840000000007]
[54112,5,4,1,1,2,13,{"$f":"IF(B2878=1,\"0\",VLOOKUP(B2878,coefficient2!$A$4:$B$7,2,FALSE))","v":0.37123109999999998},{"$f":"IF(C2878=1,\"0\",VLOOKUP(C2878,coefficient2!$A$10:$B$13,2,FALSE))","v":0.19249050000000001},{"$f":"IF(D2878=1,\"0\",VLOOKUP(D2878,coefficient2!$A$16:$B$19,2,FALSE))","v":"0"},{"$f":"IF(E2878=1,\"0\",VLOOKUP(E2878,coefficient2!$A$22:$B$25,2,FALSE))","v":"0"},{"$f":"IF(F2878=1,\"0\",VLOOKUP(F2878,coefficient2!$A$28:$B$31,2,FALSE))","v":5.8085699999999997E-2},0.37819270000000005]
[54113,5,4,1,1,3,14,{"$f":"IF(B2879=1,\"0\",VLOOKUP(B2879,coefficient2!$A$4:$B$7,2,FALSE))","v":0.37123109999999998},{"$f":"IF(C2879=1,\"0\",VLOOKUP(C2879,coefficient2!$A$10:$B$13,2,FALSE))","v":0.19249050000000001},{"$f":"IF(D2879=1,\"0\",VLOOKUP(D2879,coefficient2!$A$16:$B$19,2,FALSE))","v":"0"},{"$f":"IF(E2879=1,\"0\",VLOOKUP(E2879,coefficient2!$A$22:$B$25,2,FALSE))","v":"0"},{"$f":"IF(F2879=1,\"0\",VLOOKUP(F2879,coefficient2!$A$28:$B$31,2,FALSE))","v":9.5753900000000003E-2},0.34052450000000006]
[54114,5,4,1,1,4,15,{"$f":"IF(B2880=1,\"0\",VLOOKUP(B2880,coefficient2!$A$4:$B$7,2,FALSE))","v":0.37123109999999998},{"$f":"IF(C2880=1,\"0\",VLOOKUP(C2880,coefficient2!$A$10:$B$13,2,FALSE))","v":0.19249050000000001},{"$f":"IF(D2880=1,\"0\",VLOOKUP(D2880,coefficient2!$A$16:$B$19,2,FALSE))","v":"0"},{"$f":"IF(E2880=1,\"0\",VLOOKUP(E2880,coefficient2!$A$22:$B$25,2,FALSE))","v":"0"},{"$f":"IF(F2880=1,\"0\",VLOOKUP(F2880,coefficient2!$A$28:$B$31,2,FALSE))","v":0.23270360000000001},0.20357480000000006]
[54115,5,4,1,1,5,16,{"$f":"IF(B2881=1,\"0\",VLOOKUP(B2881,coefficient2!$A$4:$B$7,2,FALSE))","v":0.37123109999999998},{"$f":"IF(C2881=1,\"0\",VLOOKUP(C2881,coefficient2!$A$10:$B$13,2,FALSE))","v":0.19249050000000001},{"$f":"IF(D2881=1,\"0\",VLOOKUP(D2881,coefficient2!$A$16:$B$19,2,FALSE))","v":"0"},{"$f":"IF(E2881=1,\"0\",VLOOKUP(E2881,coefficient2!$A$22:$B$25,2,FALSE))","v":"0"},{"$f":"IF(F2881=1,\"0\",VLOOKUP(F2881,coefficient2!$A$28:$B$31,2,FALSE))","v":0.29534929999999998},0.14092910000000008]
[54121,5,4,1,2,1,13,{"$f":"IF(B2882=1,\"0\",VLOOKUP(B2882,coefficient2!$A$4:$B$7,2,FALSE))","v":0.37123109999999998},{"$f":"IF(C2882=1,\"0\",VLOOKUP(C2882,coefficient2!$A$10:$B$13,2,FALSE))","v":0.19249050000000001},{"$f":"IF(D2882=1,\"0\",VLOOKUP(D2882,coefficient2!$A$16:$B$19,2,FALSE))","v":"0"},{"$f":"IF(E2882=1,\"0\",VLOOKUP(E2882,coefficient2!$A$22:$B$25,2,FALSE))","v":5.63998E-2},{"$f":"IF(F2882=1,\"0\",VLOOKUP(F2882,coefficient2!$A$28:$B$31,2,FALSE))","v":"0"},{"$f":"1-H2882-I2882-J2882-K2882-L2882","v":0.37987860000000007}]
[54122,{"$f":"INT(LEFT(A2883,1))","v":5},{"$f":"INT(MID(A2883,2,1))","v":4},{"$f":"INT(MID(A2883,3,1))","v":1},{"$f":"INT(MID(A2883,4,1))","v":2},{"$f":"INT(RIGHT(A2883,1))","v":2},14,{"$f":"IF(B2883=1,\"0\",VLOOKUP(B2883,coefficient2!$A$4:$B$7,2,FALSE))","v":0.37123109999999998},{"$f":"IF(C2883=1,\"0\",VLOOKUP(C2883,coefficient2!$A$10:$B$13,2,FALSE))","v":0.19249050000000001},{"$f":"IF(D2883=1,\"0\",VLOOKUP(D2883,coefficient2!$A$16:$B$19,2,FALSE))","v":"0"},{"$f":"IF(E2883=1,\"0\",VLOOKUP(E2883,coefficient2!$A$22:$B$25,2,FALSE))","v":5.63998E-2},{"$f":"IF(F2883=1,\"0\",VLOOKUP(F2883,coefficient2!$A$28:$B$31,2,FALSE))","v":5.8085699999999997E-2},0.32179290000000005]
[54123,5,4,1,2,3,15,{"$f":"IF(B2884=1,\"0\",VLOOKUP(B2884,coefficient2!$A$4:$B$7,2,FALSE))","v":0.37123109999999998},{"$f":"IF(C2884=1,\"0\",VLOOKUP(C2884,coefficient2!$A$10:$B$13,2,FALSE))","v":0.19249050000000001},{"$f":"IF(D2884=1,\"0\",VLOOKUP(D2884,coefficient2!$A$16:$B$19,2,FALSE))","v":"0"},{"$f":"IF(E2884=1,\"0\",VLOOKUP(E2884,coefficient2!$A$22:$B$25,2,FALSE))","v":5.63998E-2},{"$f":"IF(F2884=1,\"0\",VLOOKUP(F2884,coefficient2!$A$28:$B$31,2,FALSE))","v":9.5753900000000003E-2},0.28412470000000006]
[54124,5,4,1,2,4,16,{"$f":"IF(B2885=1,\"0\",VLOOKUP(B2885,coefficient2!$A$4:$B$7,2,FALSE))","v":0.37123109999999998},{"$f":"IF(C2885=1,\"0\",VLOOKUP(C2885,coefficient2!$A$10:$B$13,2,FALSE))","v":0.19249050000000001},{"$f":"IF(D2885=1,\"0\",VLOOKUP(D2885,coefficient2!$A$16:$B$19,2,FALSE))","v":"0"},{"$f":"IF(E2885=1,\"0\",VLOOKUP(E2885,coefficient2!$A$22:$B$25,2,FALSE))","v":5.63998E-2},{"$f":"IF(F2885=1,\"0\",VLOOKUP(F2885,coefficient2!$A$28:$B$31,2,FALSE))","v":0.23270360000000001},0.14717500000000006]
[54125,5,4,1,2,5,17,{"$f":"IF(B2886=1,\"0\",VLOOKUP(B2886,coefficient2!$A$4:$B$7,2,FALSE))","v":0.37123109999999998},{"$f":"IF(C2886=1,\"0\",VLOOKUP(C2886,coefficient2!$A$10:$B$13,2,FALSE))","v":0.19249050000000001},{"$f":"IF(D2886=1,\"0\",VLOOKUP(D2886,coefficient2!$A$16:$B$19,2,FALSE))","v":"0"},{"$f":"IF(E2886=1,\"0\",VLOOKUP(E2886,coefficient2!$A$22:$B$25,2,FALSE))","v":5.63998E-2},{"$f":"IF(F2886=1,\"0\",VLOOKUP(F2886,coefficient2!$A$28:$B$31,2,FALSE))","v":0.29534929999999998},8.4529300000000085E-2]
[54131,5,4,1,3,1,14,{"$f":"IF(B2887=1,\"0\",VLOOKUP(B2887,coefficient2!$A$4:$B$7,2,FALSE))","v":0.37123109999999998},{"$f":"IF(C2887=1,\"0\",VLOOKUP(C2887,coefficient2!$A$10:$B$13,2,FALSE))","v":0.19249050000000001},{"$f":"IF(D2887=1,\"0\",VLOOKUP(D2887,coefficient2!$A$16:$B$19,2,FALSE))","v":"0"},{"$f":"IF(E2887=1,\"0\",VLOOKUP(E2887,coefficient2!$A$22:$B$25,2,FALSE))","v":6.6492200000000001E-2},{"$f":"IF(F2887=1,\"0\",VLOOKUP(F2887,coefficient2!$A$28:$B$31,2,FALSE))","v":"0"},0.36978620000000006]
[54132,5,4,1,3,2,15,{"$f":"IF(B2888=1,\"0\",VLOOKUP(B2888,coefficient2!$A$4:$B$7,2,FALSE))","v":0.37123109999999998},{"$f":"IF(C2888=1,\"0\",VLOOKUP(C2888,coefficient2!$A$10:$B$13,2,FALSE))","v":0.19249050000000001},{"$f":"IF(D2888=1,\"0\",VLOOKUP(D2888,coefficient2!$A$16:$B$19,2,FALSE))","v":"0"},{"$f":"IF(E2888=1,\"0\",VLOOKUP(E2888,coefficient2!$A$22:$B$25,2,FALSE))","v":6.6492200000000001E-2},{"$f":"IF(F2888=1,\"0\",VLOOKUP(F2888,coefficient2!$A$28:$B$31,2,FALSE))","v":5.8085699999999997E-2},0.31170050000000005]
[54133,5,4,1,3,3,16,{"$f":"IF(B2889=1,\"0\",VLOOKUP(B2889,coefficient2!$A$4:$B$7,2,FALSE))","v":0.37123109999999998},{"$f":"IF(C2889=1,\"0\",VLOOKUP(C2889,coefficient2!$A$10:$B$13,2,FALSE))","v":0.19249050000000001},{"$f":"IF(D2889=1,\"0\",VLOOKUP(D2889,coefficient2!$A$16:$B$19,2,FALSE))","v":"0"},{"$f":"IF(E2889=1,\"0\",VLOOKUP(E2889,coefficient2!$A$22:$B$25,2,FALSE))","v":6.6492200000000001E-2},{"$f":"IF(F2889=1,\"0\",VLOOKUP(F2889,coefficient2!$A$28:$B$31,2,FALSE))","v":9.5753900000000003E-2},0.27403230000000006]
[54134,5,4,1,3,4,17,{"$f":"IF(B2890=1,\"0\",VLOOKUP(B2890,coefficient2!$A$4:$B$7,2,FALSE))","v":0.37123109999999998},{"$f":"IF(C2890=1,\"0\",VLOOKUP(C2890,coefficient2!$A$10:$B$13,2,FALSE))","v":0.19249050000000001},{"$f":"IF(D2890=1,\"0\",VLOOKUP(D2890,coefficient2!$A$16:$B$19,2,FALSE))","v":"0"},{"$f":"IF(E2890=1,\"0\",VLOOKUP(E2890,coefficient2!$A$22:$B$25,2,FALSE))","v":6.6492200000000001E-2},{"$f":"IF(F2890=1,\"0\",VLOOKUP(F2890,coefficient2!$A$28:$B$31,2,FALSE))","v":0.23270360000000001},0.13708260000000005]
[54135,5,4,1,3,5,18,{"$f":"IF(B2891=1,\"0\",VLOOKUP(B2891,coefficient2!$A$4:$B$7,2,FALSE))","v":0.37123109999999998},{"$f":"IF(C2891=1,\"0\",VLOOKUP(C2891,coefficient2!$A$10:$B$13,2,FALSE))","v":0.19249050000000001},{"$f":"IF(D2891=1,\"0\",VLOOKUP(D2891,coefficient2!$A$16:$B$19,2,FALSE))","v":"0"},{"$f":"IF(E2891=1,\"0\",VLOOKUP(E2891,coefficient2!$A$22:$B$25,2,FALSE))","v":6.6492200000000001E-2},{"$f":"IF(F2891=1,\"0\",VLOOKUP(F2891,coefficient2!$A$28:$B$31,2,FALSE))","v":0.29534929999999998},7.4436900000000084E-2]
[54141,5,4,1,4,1,15,{"$f":"IF(B2892=1,\"0\",VLOOKUP(B2892,coefficient2!$A$4:$B$7,2,FALSE))","v":0.37123109999999998},{"$f":"IF(C2892=1,\"0\",VLOOKUP(C2892,coefficient2!$A$10:$B$13,2,FALSE))","v":0.19249050000000001},{"$f":"IF(D2892=1,\"0\",VLOOKUP(D2892,coefficient2!$A$16:$B$19,2,FALSE))","v":"0"},{"$f":"IF(E2892=1,\"0\",VLOOKUP(E2892,coefficient2!$A$22:$B$25,2,FALSE))","v":0.2068864},{"$f":"IF(F2892=1,\"0\",VLOOKUP(F2892,coefficient2!$A$28:$B$31,2,FALSE))","v":"0"},0.22939200000000007]
[54142,5,4,1,4,2,16,{"$f":"IF(B2893=1,\"0\",VLOOKUP(B2893,coefficient2!$A$4:$B$7,2,FALSE))","v":0.37123109999999998},{"$f":"IF(C2893=1,\"0\",VLOOKUP(C2893,coefficient2!$A$10:$B$13,2,FALSE))","v":0.19249050000000001},{"$f":"IF(D2893=1,\"0\",VLOOKUP(D2893,coefficient2!$A$16:$B$19,2,FALSE))","v":"0"},{"$f":"IF(E2893=1,\"0\",VLOOKUP(E2893,coefficient2!$A$22:$B$25,2,FALSE))","v":0.2068864},{"$f":"IF(F2893=1,\"0\",VLOOKUP(F2893,coefficient2!$A$28:$B$31,2,FALSE))","v":5.8085699999999997E-2},0.17130630000000008]
[54143,5,4,1,4,3,17,{"$f":"IF(B2894=1,\"0\",VLOOKUP(B2894,coefficient2!$A$4:$B$7,2,FALSE))","v":0.37123109999999998},{"$f":"IF(C2894=1,\"0\",VLOOKUP(C2894,coefficient2!$A$10:$B$13,2,FALSE))","v":0.19249050000000001},{"$f":"IF(D2894=1,\"0\",VLOOKUP(D2894,coefficient2!$A$16:$B$19,2,FALSE))","v":"0"},{"$f":"IF(E2894=1,\"0\",VLOOKUP(E2894,coefficient2!$A$22:$B$25,2,FALSE))","v":0.2068864},{"$f":"IF(F2894=1,\"0\",VLOOKUP(F2894,coefficient2!$A$28:$B$31,2,FALSE))","v":9.5753900000000003E-2},0.13363810000000007]
[54144,5,4,1,4,4,18,{"$f":"IF(B2895=1,\"0\",VLOOKUP(B2895,coefficient2!$A$4:$B$7,2,FALSE))","v":0.37123109999999998},{"$f":"IF(C2895=1,\"0\",VLOOKUP(C2895,coefficient2!$A$10:$B$13,2,FALSE))","v":0.19249050000000001},{"$f":"IF(D2895=1,\"0\",VLOOKUP(D2895,coefficient2!$A$16:$B$19,2,FALSE))","v":"0"},{"$f":"IF(E2895=1,\"0\",VLOOKUP(E2895,coefficient2!$A$22:$B$25,2,FALSE))","v":0.2068864},{"$f":"IF(F2895=1,\"0\",VLOOKUP(F2895,coefficient2!$A$28:$B$31,2,FALSE))","v":0.23270360000000001},-3.3115999999999424E-3]
[54145,5,4,1,4,5,19,{"$f":"IF(B2896=1,\"0\",VLOOKUP(B2896,coefficient2!$A$4:$B$7,2,FALSE))","v":0.37123109999999998},{"$f":"IF(C2896=1,\"0\",VLOOKUP(C2896,coefficient2!$A$10:$B$13,2,FALSE))","v":0.19249050000000001},{"$f":"IF(D2896=1,\"0\",VLOOKUP(D2896,coefficient2!$A$16:$B$19,2,FALSE))","v":"0"},{"$f":"IF(E2896=1,\"0\",VLOOKUP(E2896,coefficient2!$A$22:$B$25,2,FALSE))","v":0.2068864},{"$f":"IF(F2896=1,\"0\",VLOOKUP(F2896,coefficient2!$A$28:$B$31,2,FALSE))","v":0.29534929999999998},-6.5957299999999913E-2]
[54151,5,4,1,5,1,16,{"$f":"IF(B2897=1,\"0\",VLOOKUP(B2897,coefficient2!$A$4:$B$7,2,FALSE))","v":0.37123109999999998},{"$f":"IF(C2897=1,\"0\",VLOOKUP(C2897,coefficient2!$A$10:$B$13,2,FALSE))","v":0.19249050000000001},{"$f":"IF(D2897=1,\"0\",VLOOKUP(D2897,coefficient2!$A$16:$B$19,2,FALSE))","v":"0"},{"$f":"IF(E2897=1,\"0\",VLOOKUP(E2897,coefficient2!$A$22:$B$25,2,FALSE))","v":0.25643310000000002},{"$f":"IF(F2897=1,\"0\",VLOOKUP(F2897,coefficient2!$A$28:$B$31,2,FALSE))","v":"0"},0.17984530000000004]
[54152,5,4,1,5,2,17,{"$f":"IF(B2898=1,\"0\",VLOOKUP(B2898,coefficient2!$A$4:$B$7,2,FALSE))","v":0.37123109999999998},{"$f":"IF(C2898=1,\"0\",VLOOKUP(C2898,coefficient2!$A$10:$B$13,2,FALSE))","v":0.19249050000000001},{"$f":"IF(D2898=1,\"0\",VLOOKUP(D2898,coefficient2!$A$16:$B$19,2,FALSE))","v":"0"},{"$f":"IF(E2898=1,\"0\",VLOOKUP(E2898,coefficient2!$A$22:$B$25,2,FALSE))","v":0.25643310000000002},{"$f":"IF(F2898=1,\"0\",VLOOKUP(F2898,coefficient2!$A$28:$B$31,2,FALSE))","v":5.8085699999999997E-2},0.12175960000000005]
[54153,5,4,1,5,3,18,{"$f":"IF(B2899=1,\"0\",VLOOKUP(B2899,coefficient2!$A$4:$B$7,2,FALSE))","v":0.37123109999999998},{"$f":"IF(C2899=1,\"0\",VLOOKUP(C2899,coefficient2!$A$10:$B$13,2,FALSE))","v":0.19249050000000001},{"$f":"IF(D2899=1,\"0\",VLOOKUP(D2899,coefficient2!$A$16:$B$19,2,FALSE))","v":"0"},{"$f":"IF(E2899=1,\"0\",VLOOKUP(E2899,coefficient2!$A$22:$B$25,2,FALSE))","v":0.25643310000000002},{"$f":"IF(F2899=1,\"0\",VLOOKUP(F2899,coefficient2!$A$28:$B$31,2,FALSE))","v":9.5753900000000003E-2},8.4091400000000038E-2]
[54154,5,4,1,5,4,19,{"$f":"IF(B2900=1,\"0\",VLOOKUP(B2900,coefficient2!$A$4:$B$7,2,FALSE))","v":0.37123109999999998},{"$f":"IF(C2900=1,\"0\",VLOOKUP(C2900,coefficient2!$A$10:$B$13,2,FALSE))","v":0.19249050000000001},{"$f":"IF(D2900=1,\"0\",VLOOKUP(D2900,coefficient2!$A$16:$B$19,2,FALSE))","v":"0"},{"$f":"IF(E2900=1,\"0\",VLOOKUP(E2900,coefficient2!$A$22:$B$25,2,FALSE))","v":0.25643310000000002},{"$f":"IF(F2900=1,\"0\",VLOOKUP(F2900,coefficient2!$A$28:$B$31,2,FALSE))","v":0.23270360000000001},-5.2858299999999969E-2]
[54155,5,4,1,5,5,{"$f":"SUM(B2901:F2901)","v":20},{"$f":"IF(B2901=1,\"0\",VLOOKUP(B2901,coefficient2!$A$4:$B$7,2,FALSE))","v":0.37123109999999998},{"$f":"IF(C2901=1,\"0\",VLOOKUP(C2901,coefficient2!$A$10:$B$13,2,FALSE))","v":0.19249050000000001},{"$f":"IF(D2901=1,\"0\",VLOOKUP(D2901,coefficient2!$A$16:$B$19,2,FALSE))","v":"0"},{"$f":"IF(E2901=1,\"0\",VLOOKUP(E2901,coefficient2!$A$22:$B$25,2,FALSE))","v":0.25643310000000002},{"$f":"IF(F2901=1,\"0\",VLOOKUP(F2901,coefficient2!$A$28:$B$31,2,FALSE))","v":0.29534929999999998},-0.11550399999999994]
[54211,5,4,2,1,1,13,{"$f":"IF(B2902=1,\"0\",VLOOKUP(B2902,coefficient2!$A$4:$B$7,2,FALSE))","v":0.37123109999999998},{"$f":"IF(C2902=1,\"0\",VLOOKUP(C2902,coefficient2!$A$10:$B$13,2,FALSE))","v":0.19249050000000001},{"$f":"IF(D2902=1,\"0\",VLOOKUP(D2902,coefficient2!$A$16:$B$19,2,FALSE))","v":5.8254399999999998E-2},{"$f":"IF(E2902=1,\"0\",VLOOKUP(E2902,coefficient2!$A$22:$B$25,2,FALSE))","v":"0"},{"$f":"IF(F2902=1,\"0\",VLOOKUP(F2902,coefficient2!$A$28:$B$31,2,FALSE))","v":"0"},0.37802400000000008]
[54212,5,4,2,1,2,14,{"$f":"IF(B2903=1,\"0\",VLOOKUP(B2903,coefficient2!$A$4:$B$7,2,FALSE))","v":0.37123109999999998},{"$f":"IF(C2903=1,\"0\",VLOOKUP(C2903,coefficient2!$A$10:$B$13,2,FALSE))","v":0.19249050000000001},{"$f":"IF(D2903=1,\"0\",VLOOKUP(D2903,coefficient2!$A$16:$B$19,2,FALSE))","v":5.8254399999999998E-2},{"$f":"IF(E2903=1,\"0\",VLOOKUP(E2903,coefficient2!$A$22:$B$25,2,FALSE))","v":"0"},{"$f":"IF(F2903=1,\"0\",VLOOKUP(F2903,coefficient2!$A$28:$B$31,2,FALSE))","v":5.8085699999999997E-2},0.31993830000000006]
[54213,5,4,2,1,3,15,{"$f":"IF(B2904=1,\"0\",VLOOKUP(B2904,coefficient2!$A$4:$B$7,2,FALSE))","v":0.37123109999999998},{"$f":"IF(C2904=1,\"0\",VLOOKUP(C2904,coefficient2!$A$10:$B$13,2,FALSE))","v":0.19249050000000001},{"$f":"IF(D2904=1,\"0\",VLOOKUP(D2904,coefficient2!$A$16:$B$19,2,FALSE))","v":5.8254399999999998E-2},{"$f":"IF(E2904=1,\"0\",VLOOKUP(E2904,coefficient2!$A$22:$B$25,2,FALSE))","v":"0"},{"$f":"IF(F2904=1,\"0\",VLOOKUP(F2904,coefficient2!$A$28:$B$31,2,FALSE))","v":9.5753900000000003E-2},0.28227010000000008]
[54214,5,4,2,1,4,16,{"$f":"IF(B2905=1,\"0\",VLOOKUP(B2905,coefficient2!$A$4:$B$7,2,FALSE))","v":0.37123109999999998},{"$f":"IF(C2905=1,\"0\",VLOOKUP(C2905,coefficient2!$A$10:$B$13,2,FALSE))","v":0.19249050000000001},{"$f":"IF(D2905=1,\"0\",VLOOKUP(D2905,coefficient2!$A$16:$B$19,2,FALSE))","v":5.8254399999999998E-2},{"$f":"IF(E2905=1,\"0\",VLOOKUP(E2905,coefficient2!$A$22:$B$25,2,FALSE))","v":"0"},{"$f":"IF(F2905=1,\"0\",VLOOKUP(F2905,coefficient2!$A$28:$B$31,2,FALSE))","v":0.23270360000000001},0.14532040000000007]
[54215,5,4,2,1,5,17,{"$f":"IF(B2906=1,\"0\",VLOOKUP(B2906,coefficient2!$A$4:$B$7,2,FALSE))","v":0.37123109999999998},{"$f":"IF(C2906=1,\"0\",VLOOKUP(C2906,coefficient2!$A$10:$B$13,2,FALSE))","v":0.19249050000000001},{"$f":"IF(D2906=1,\"0\",VLOOKUP(D2906,coefficient2!$A$16:$B$19,2,FALSE))","v":5.8254399999999998E-2},{"$f":"IF(E2906=1,\"0\",VLOOKUP(E2906,coefficient2!$A$22:$B$25,2,FALSE))","v":"0"},{"$f":"IF(F2906=1,\"0\",VLOOKUP(F2906,coefficient2!$A$28:$B$31,2,FALSE))","v":0.29534929999999998},8.2674700000000101E-2]
[54221,5,4,2,2,1,14,{"$f":"IF(B2907=1,\"0\",VLOOKUP(B2907,coefficient2!$A$4:$B$7,2,FALSE))","v":0.37123109999999998},{"$f":"IF(C2907=1,\"0\",VLOOKUP(C2907,coefficient2!$A$10:$B$13,2,FALSE))","v":0.19249050000000001},{"$f":"IF(D2907=1,\"0\",VLOOKUP(D2907,coefficient2!$A$16:$B$19,2,FALSE))","v":5.8254399999999998E-2},{"$f":"IF(E2907=1,\"0\",VLOOKUP(E2907,coefficient2!$A$22:$B$25,2,FALSE))","v":5.63998E-2},{"$f":"IF(F2907=1,\"0\",VLOOKUP(F2907,coefficient2!$A$28:$B$31,2,FALSE))","v":"0"},0.32162420000000008]
[54222,5,4,2,2,2,15,{"$f":"IF(B2908=1,\"0\",VLOOKUP(B2908,coefficient2!$A$4:$B$7,2,FALSE))","v":0.37123109999999998},{"$f":"IF(C2908=1,\"0\",VLOOKUP(C2908,coefficient2!$A$10:$B$13,2,FALSE))","v":0.19249050000000001},{"$f":"IF(D2908=1,\"0\",VLOOKUP(D2908,coefficient2!$A$16:$B$19,2,FALSE))","v":5.8254399999999998E-2},{"$f":"IF(E2908=1,\"0\",VLOOKUP(E2908,coefficient2!$A$22:$B$25,2,FALSE))","v":5.63998E-2},{"$f":"IF(F2908=1,\"0\",VLOOKUP(F2908,coefficient2!$A$28:$B$31,2,FALSE))","v":5.8085699999999997E-2},0.26353850000000006]
[54223,5,4,2,2,3,16,{"$f":"IF(B2909=1,\"0\",VLOOKUP(B2909,coefficient2!$A$4:$B$7,2,FALSE))","v":0.37123109999999998},{"$f":"IF(C2909=1,\"0\",VLOOKUP(C2909,coefficient2!$A$10:$B$13,2,FALSE))","v":0.19249050000000001},{"$f":"IF(D2909=1,\"0\",VLOOKUP(D2909,coefficient2!$A$16:$B$19,2,FALSE))","v":5.8254399999999998E-2},{"$f":"IF(E2909=1,\"0\",VLOOKUP(E2909,coefficient2!$A$22:$B$25,2,FALSE))","v":5.63998E-2},{"$f":"IF(F2909=1,\"0\",VLOOKUP(F2909,coefficient2!$A$28:$B$31,2,FALSE))","v":9.5753900000000003E-2},0.22587030000000008]
[54224,5,4,2,2,4,17,{"$f":"IF(B2910=1,\"0\",VLOOKUP(B2910,coefficient2!$A$4:$B$7,2,FALSE))","v":0.37123109999999998},{"$f":"IF(C2910=1,\"0\",VLOOKUP(C2910,coefficient2!$A$10:$B$13,2,FALSE))","v":0.19249050000000001},{"$f":"IF(D2910=1,\"0\",VLOOKUP(D2910,coefficient2!$A$16:$B$19,2,FALSE))","v":5.8254399999999998E-2},{"$f":"IF(E2910=1,\"0\",VLOOKUP(E2910,coefficient2!$A$22:$B$25,2,FALSE))","v":5.63998E-2},{"$f":"IF(F2910=1,\"0\",VLOOKUP(F2910,coefficient2!$A$28:$B$31,2,FALSE))","v":0.23270360000000001},8.8920600000000072E-2]
[54225,5,4,2,2,5,18,{"$f":"IF(B2911=1,\"0\",VLOOKUP(B2911,coefficient2!$A$4:$B$7,2,FALSE))","v":0.37123109999999998},{"$f":"IF(C2911=1,\"0\",VLOOKUP(C2911,coefficient2!$A$10:$B$13,2,FALSE))","v":0.19249050000000001},{"$f":"IF(D2911=1,\"0\",VLOOKUP(D2911,coefficient2!$A$16:$B$19,2,FALSE))","v":5.8254399999999998E-2},{"$f":"IF(E2911=1,\"0\",VLOOKUP(E2911,coefficient2!$A$22:$B$25,2,FALSE))","v":5.63998E-2},{"$f":"IF(F2911=1,\"0\",VLOOKUP(F2911,coefficient2!$A$28:$B$31,2,FALSE))","v":0.29534929999999998},2.6274900000000101E-2]
[54231,5,4,2,3,1,15,{"$f":"IF(B2912=1,\"0\",VLOOKUP(B2912,coefficient2!$A$4:$B$7,2,FALSE))","v":0.37123109999999998},{"$f":"IF(C2912=1,\"0\",VLOOKUP(C2912,coefficient2!$A$10:$B$13,2,FALSE))","v":0.19249050000000001},{"$f":"IF(D2912=1,\"0\",VLOOKUP(D2912,coefficient2!$A$16:$B$19,2,FALSE))","v":5.8254399999999998E-2},{"$f":"IF(E2912=1,\"0\",VLOOKUP(E2912,coefficient2!$A$22:$B$25,2,FALSE))","v":6.6492200000000001E-2},{"$f":"IF(F2912=1,\"0\",VLOOKUP(F2912,coefficient2!$A$28:$B$31,2,FALSE))","v":"0"},0.31153180000000008]
[54232,5,4,2,3,2,16,{"$f":"IF(B2913=1,\"0\",VLOOKUP(B2913,coefficient2!$A$4:$B$7,2,FALSE))","v":0.37123109999999998},{"$f":"IF(C2913=1,\"0\",VLOOKUP(C2913,coefficient2!$A$10:$B$13,2,FALSE))","v":0.19249050000000001},{"$f":"IF(D2913=1,\"0\",VLOOKUP(D2913,coefficient2!$A$16:$B$19,2,FALSE))","v":5.8254399999999998E-2},{"$f":"IF(E2913=1,\"0\",VLOOKUP(E2913,coefficient2!$A$22:$B$25,2,FALSE))","v":6.6492200000000001E-2},{"$f":"IF(F2913=1,\"0\",VLOOKUP(F2913,coefficient2!$A$28:$B$31,2,FALSE))","v":5.8085699999999997E-2},0.25344610000000006]
[54233,5,4,2,3,3,17,{"$f":"IF(B2914=1,\"0\",VLOOKUP(B2914,coefficient2!$A$4:$B$7,2,FALSE))","v":0.37123109999999998},{"$f":"IF(C2914=1,\"0\",VLOOKUP(C2914,coefficient2!$A$10:$B$13,2,FALSE))","v":0.19249050000000001},{"$f":"IF(D2914=1,\"0\",VLOOKUP(D2914,coefficient2!$A$16:$B$19,2,FALSE))","v":5.8254399999999998E-2},{"$f":"IF(E2914=1,\"0\",VLOOKUP(E2914,coefficient2!$A$22:$B$25,2,FALSE))","v":6.6492200000000001E-2},{"$f":"IF(F2914=1,\"0\",VLOOKUP(F2914,coefficient2!$A$28:$B$31,2,FALSE))","v":9.5753900000000003E-2},0.21577790000000008]
[54234,5,4,2,3,4,18,{"$f":"IF(B2915=1,\"0\",VLOOKUP(B2915,coefficient2!$A$4:$B$7,2,FALSE))","v":0.37123109999999998},{"$f":"IF(C2915=1,\"0\",VLOOKUP(C2915,coefficient2!$A$10:$B$13,2,FALSE))","v":0.19249050000000001},{"$f":"IF(D2915=1,\"0\",VLOOKUP(D2915,coefficient2!$A$16:$B$19,2,FALSE))","v":5.8254399999999998E-2},{"$f":"IF(E2915=1,\"0\",VLOOKUP(E2915,coefficient2!$A$22:$B$25,2,FALSE))","v":6.6492200000000001E-2},{"$f":"IF(F2915=1,\"0\",VLOOKUP(F2915,coefficient2!$A$28:$B$31,2,FALSE))","v":0.23270360000000001},7.882820000000007E-2]
[54235,5,4,2,3,5,19,{"$f":"IF(B2916=1,\"0\",VLOOKUP(B2916,coefficient2!$A$4:$B$7,2,FALSE))","v":0.37123109999999998},{"$f":"IF(C2916=1,\"0\",VLOOKUP(C2916,coefficient2!$A$10:$B$13,2,FALSE))","v":0.19249050000000001},{"$f":"IF(D2916=1,\"0\",VLOOKUP(D2916,coefficient2!$A$16:$B$19,2,FALSE))","v":5.8254399999999998E-2},{"$f":"IF(E2916=1,\"0\",VLOOKUP(E2916,coefficient2!$A$22:$B$25,2,FALSE))","v":6.6492200000000001E-2},{"$f":"IF(F2916=1,\"0\",VLOOKUP(F2916,coefficient2!$A$28:$B$31,2,FALSE))","v":0.29534929999999998},1.61825000000001E-2]
[54241,5,4,2,4,1,16,{"$f":"IF(B2917=1,\"0\",VLOOKUP(B2917,coefficient2!$A$4:$B$7,2,FALSE))","v":0.37123109999999998},{"$f":"IF(C2917=1,\"0\",VLOOKUP(C2917,coefficient2!$A$10:$B$13,2,FALSE))","v":0.19249050000000001},{"$f":"IF(D2917=1,\"0\",VLOOKUP(D2917,coefficient2!$A$16:$B$19,2,FALSE))","v":5.8254399999999998E-2},{"$f":"IF(E2917=1,\"0\",VLOOKUP(E2917,coefficient2!$A$22:$B$25,2,FALSE))","v":0.2068864},{"$f":"IF(F2917=1,\"0\",VLOOKUP(F2917,coefficient2!$A$28:$B$31,2,FALSE))","v":"0"},0.17113760000000008]
[54242,5,4,2,4,2,17,{"$f":"IF(B2918=1,\"0\",VLOOKUP(B2918,coefficient2!$A$4:$B$7,2,FALSE))","v":0.37123109999999998},{"$f":"IF(C2918=1,\"0\",VLOOKUP(C2918,coefficient2!$A$10:$B$13,2,FALSE))","v":0.19249050000000001},{"$f":"IF(D2918=1,\"0\",VLOOKUP(D2918,coefficient2!$A$16:$B$19,2,FALSE))","v":5.8254399999999998E-2},{"$f":"IF(E2918=1,\"0\",VLOOKUP(E2918,coefficient2!$A$22:$B$25,2,FALSE))","v":0.2068864},{"$f":"IF(F2918=1,\"0\",VLOOKUP(F2918,coefficient2!$A$28:$B$31,2,FALSE))","v":5.8085699999999997E-2},0.11305190000000009]
[54243,5,4,2,4,3,18,{"$f":"IF(B2919=1,\"0\",VLOOKUP(B2919,coefficient2!$A$4:$B$7,2,FALSE))","v":0.37123109999999998},{"$f":"IF(C2919=1,\"0\",VLOOKUP(C2919,coefficient2!$A$10:$B$13,2,FALSE))","v":0.19249050000000001},{"$f":"IF(D2919=1,\"0\",VLOOKUP(D2919,coefficient2!$A$16:$B$19,2,FALSE))","v":5.8254399999999998E-2},{"$f":"IF(E2919=1,\"0\",VLOOKUP(E2919,coefficient2!$A$22:$B$25,2,FALSE))","v":0.2068864},{"$f":"IF(F2919=1,\"0\",VLOOKUP(F2919,coefficient2!$A$28:$B$31,2,FALSE))","v":9.5753900000000003E-2},7.5383700000000081E-2]
[54244,5,4,2,4,4,19,{"$f":"IF(B2920=1,\"0\",VLOOKUP(B2920,coefficient2!$A$4:$B$7,2,FALSE))","v":0.37123109999999998},{"$f":"IF(C2920=1,\"0\",VLOOKUP(C2920,coefficient2!$A$10:$B$13,2,FALSE))","v":0.19249050000000001},{"$f":"IF(D2920=1,\"0\",VLOOKUP(D2920,coefficient2!$A$16:$B$19,2,FALSE))","v":5.8254399999999998E-2},{"$f":"IF(E2920=1,\"0\",VLOOKUP(E2920,coefficient2!$A$22:$B$25,2,FALSE))","v":0.2068864},{"$f":"IF(F2920=1,\"0\",VLOOKUP(F2920,coefficient2!$A$28:$B$31,2,FALSE))","v":0.23270360000000001},-6.1565999999999926E-2]
[54245,5,4,2,4,5,20,{"$f":"IF(B2921=1,\"0\",VLOOKUP(B2921,coefficient2!$A$4:$B$7,2,FALSE))","v":0.37123109999999998},{"$f":"IF(C2921=1,\"0\",VLOOKUP(C2921,coefficient2!$A$10:$B$13,2,FALSE))","v":0.19249050000000001},{"$f":"IF(D2921=1,\"0\",VLOOKUP(D2921,coefficient2!$A$16:$B$19,2,FALSE))","v":5.8254399999999998E-2},{"$f":"IF(E2921=1,\"0\",VLOOKUP(E2921,coefficient2!$A$22:$B$25,2,FALSE))","v":0.2068864},{"$f":"IF(F2921=1,\"0\",VLOOKUP(F2921,coefficient2!$A$28:$B$31,2,FALSE))","v":0.29534929999999998},-0.1242116999999999]
[54251,5,4,2,5,1,17,{"$f":"IF(B2922=1,\"0\",VLOOKUP(B2922,coefficient2!$A$4:$B$7,2,FALSE))","v":0.37123109999999998},{"$f":"IF(C2922=1,\"0\",VLOOKUP(C2922,coefficient2!$A$10:$B$13,2,FALSE))","v":0.19249050000000001},{"$f":"IF(D2922=1,\"0\",VLOOKUP(D2922,coefficient2!$A$16:$B$19,2,FALSE))","v":5.8254399999999998E-2},{"$f":"IF(E2922=1,\"0\",VLOOKUP(E2922,coefficient2!$A$22:$B$25,2,FALSE))","v":0.25643310000000002},{"$f":"IF(F2922=1,\"0\",VLOOKUP(F2922,coefficient2!$A$28:$B$31,2,FALSE))","v":"0"},0.12159090000000006]
[54252,5,4,2,5,2,18,{"$f":"IF(B2923=1,\"0\",VLOOKUP(B2923,coefficient2!$A$4:$B$7,2,FALSE))","v":0.37123109999999998},{"$f":"IF(C2923=1,\"0\",VLOOKUP(C2923,coefficient2!$A$10:$B$13,2,FALSE))","v":0.19249050000000001},{"$f":"IF(D2923=1,\"0\",VLOOKUP(D2923,coefficient2!$A$16:$B$19,2,FALSE))","v":5.8254399999999998E-2},{"$f":"IF(E2923=1,\"0\",VLOOKUP(E2923,coefficient2!$A$22:$B$25,2,FALSE))","v":0.25643310000000002},{"$f":"IF(F2923=1,\"0\",VLOOKUP(F2923,coefficient2!$A$28:$B$31,2,FALSE))","v":5.8085699999999997E-2},6.3505200000000067E-2]
[54253,5,4,2,5,3,19,{"$f":"IF(B2924=1,\"0\",VLOOKUP(B2924,coefficient2!$A$4:$B$7,2,FALSE))","v":0.37123109999999998},{"$f":"IF(C2924=1,\"0\",VLOOKUP(C2924,coefficient2!$A$10:$B$13,2,FALSE))","v":0.19249050000000001},{"$f":"IF(D2924=1,\"0\",VLOOKUP(D2924,coefficient2!$A$16:$B$19,2,FALSE))","v":5.8254399999999998E-2},{"$f":"IF(E2924=1,\"0\",VLOOKUP(E2924,coefficient2!$A$22:$B$25,2,FALSE))","v":0.25643310000000002},{"$f":"IF(F2924=1,\"0\",VLOOKUP(F2924,coefficient2!$A$28:$B$31,2,FALSE))","v":9.5753900000000003E-2},2.5837000000000054E-2]
[54254,5,4,2,5,4,20,{"$f":"IF(B2925=1,\"0\",VLOOKUP(B2925,coefficient2!$A$4:$B$7,2,FALSE))","v":0.37123109999999998},{"$f":"IF(C2925=1,\"0\",VLOOKUP(C2925,coefficient2!$A$10:$B$13,2,FALSE))","v":0.19249050000000001},{"$f":"IF(D2925=1,\"0\",VLOOKUP(D2925,coefficient2!$A$16:$B$19,2,FALSE))","v":5.8254399999999998E-2},{"$f":"IF(E2925=1,\"0\",VLOOKUP(E2925,coefficient2!$A$22:$B$25,2,FALSE))","v":0.25643310000000002},{"$f":"IF(F2925=1,\"0\",VLOOKUP(F2925,coefficient2!$A$28:$B$31,2,FALSE))","v":0.23270360000000001},-0.11111269999999995]
[54255,5,4,2,5,5,21,{"$f":"IF(B2926=1,\"0\",VLOOKUP(B2926,coefficient2!$A$4:$B$7,2,FALSE))","v":0.37123109999999998},{"$f":"IF(C2926=1,\"0\",VLOOKUP(C2926,coefficient2!$A$10:$B$13,2,FALSE))","v":0.19249050000000001},{"$f":"IF(D2926=1,\"0\",VLOOKUP(D2926,coefficient2!$A$16:$B$19,2,FALSE))","v":5.8254399999999998E-2},{"$f":"IF(E2926=1,\"0\",VLOOKUP(E2926,coefficient2!$A$22:$B$25,2,FALSE))","v":0.25643310000000002},{"$f":"IF(F2926=1,\"0\",VLOOKUP(F2926,coefficient2!$A$28:$B$31,2,FALSE))","v":0.29534929999999998},-0.17375839999999992]
[54311,5,4,3,1,1,14,{"$f":"IF(B2927=1,\"0\",VLOOKUP(B2927,coefficient2!$A$4:$B$7,2,FALSE))","v":0.37123109999999998},{"$f":"IF(C2927=1,\"0\",VLOOKUP(C2927,coefficient2!$A$10:$B$13,2,FALSE))","v":0.19249050000000001},{"$f":"IF(D2927=1,\"0\",VLOOKUP(D2927,coefficient2!$A$16:$B$19,2,FALSE))","v":7.1197399999999994E-2},{"$f":"IF(E2927=1,\"0\",VLOOKUP(E2927,coefficient2!$A$22:$B$25,2,FALSE))","v":"0"},{"$f":"IF(F2927=1,\"0\",VLOOKUP(F2927,coefficient2!$A$28:$B$31,2,FALSE))","v":"0"},0.3650810000000001]
[54312,5,4,3,1,2,15,{"$f":"IF(B2928=1,\"0\",VLOOKUP(B2928,coefficient2!$A$4:$B$7,2,FALSE))","v":0.37123109999999998},{"$f":"IF(C2928=1,\"0\",VLOOKUP(C2928,coefficient2!$A$10:$B$13,2,FALSE))","v":0.19249050000000001},{"$f":"IF(D2928=1,\"0\",VLOOKUP(D2928,coefficient2!$A$16:$B$19,2,FALSE))","v":7.1197399999999994E-2},{"$f":"IF(E2928=1,\"0\",VLOOKUP(E2928,coefficient2!$A$22:$B$25,2,FALSE))","v":"0"},{"$f":"IF(F2928=1,\"0\",VLOOKUP(F2928,coefficient2!$A$28:$B$31,2,FALSE))","v":5.8085699999999997E-2},0.30699530000000008]
[54313,5,4,3,1,3,16,{"$f":"IF(B2929=1,\"0\",VLOOKUP(B2929,coefficient2!$A$4:$B$7,2,FALSE))","v":0.37123109999999998},{"$f":"IF(C2929=1,\"0\",VLOOKUP(C2929,coefficient2!$A$10:$B$13,2,FALSE))","v":0.19249050000000001},{"$f":"IF(D2929=1,\"0\",VLOOKUP(D2929,coefficient2!$A$16:$B$19,2,FALSE))","v":7.1197399999999994E-2},{"$f":"IF(E2929=1,\"0\",VLOOKUP(E2929,coefficient2!$A$22:$B$25,2,FALSE))","v":"0"},{"$f":"IF(F2929=1,\"0\",VLOOKUP(F2929,coefficient2!$A$28:$B$31,2,FALSE))","v":9.5753900000000003E-2},0.2693271000000001]
[54314,5,4,3,1,4,17,{"$f":"IF(B2930=1,\"0\",VLOOKUP(B2930,coefficient2!$A$4:$B$7,2,FALSE))","v":0.37123109999999998},{"$f":"IF(C2930=1,\"0\",VLOOKUP(C2930,coefficient2!$A$10:$B$13,2,FALSE))","v":0.19249050000000001},{"$f":"IF(D2930=1,\"0\",VLOOKUP(D2930,coefficient2!$A$16:$B$19,2,FALSE))","v":7.1197399999999994E-2},{"$f":"IF(E2930=1,\"0\",VLOOKUP(E2930,coefficient2!$A$22:$B$25,2,FALSE))","v":"0"},{"$f":"IF(F2930=1,\"0\",VLOOKUP(F2930,coefficient2!$A$28:$B$31,2,FALSE))","v":0.23270360000000001},0.13237740000000009]
[54315,5,4,3,1,5,18,{"$f":"IF(B2931=1,\"0\",VLOOKUP(B2931,coefficient2!$A$4:$B$7,2,FALSE))","v":0.37123109999999998},{"$f":"IF(C2931=1,\"0\",VLOOKUP(C2931,coefficient2!$A$10:$B$13,2,FALSE))","v":0.19249050000000001},{"$f":"IF(D2931=1,\"0\",VLOOKUP(D2931,coefficient2!$A$16:$B$19,2,FALSE))","v":7.1197399999999994E-2},{"$f":"IF(E2931=1,\"0\",VLOOKUP(E2931,coefficient2!$A$22:$B$25,2,FALSE))","v":"0"},{"$f":"IF(F2931=1,\"0\",VLOOKUP(F2931,coefficient2!$A$28:$B$31,2,FALSE))","v":0.29534929999999998},6.9731700000000119E-2]
[54321,5,4,3,2,1,15,{"$f":"IF(B2932=1,\"0\",VLOOKUP(B2932,coefficient2!$A$4:$B$7,2,FALSE))","v":0.37123109999999998},{"$f":"IF(C2932=1,\"0\",VLOOKUP(C2932,coefficient2!$A$10:$B$13,2,FALSE))","v":0.19249050000000001},{"$f":"IF(D2932=1,\"0\",VLOOKUP(D2932,coefficient2!$A$16:$B$19,2,FALSE))","v":7.1197399999999994E-2},{"$f":"IF(E2932=1,\"0\",VLOOKUP(E2932,coefficient2!$A$22:$B$25,2,FALSE))","v":5.63998E-2},{"$f":"IF(F2932=1,\"0\",VLOOKUP(F2932,coefficient2!$A$28:$B$31,2,FALSE))","v":"0"},0.3086812000000001]
[54322,5,4,3,2,2,16,{"$f":"IF(B2933=1,\"0\",VLOOKUP(B2933,coefficient2!$A$4:$B$7,2,FALSE))","v":0.37123109999999998},{"$f":"IF(C2933=1,\"0\",VLOOKUP(C2933,coefficient2!$A$10:$B$13,2,FALSE))","v":0.19249050000000001},{"$f":"IF(D2933=1,\"0\",VLOOKUP(D2933,coefficient2!$A$16:$B$19,2,FALSE))","v":7.1197399999999994E-2},{"$f":"IF(E2933=1,\"0\",VLOOKUP(E2933,coefficient2!$A$22:$B$25,2,FALSE))","v":5.63998E-2},{"$f":"IF(F2933=1,\"0\",VLOOKUP(F2933,coefficient2!$A$28:$B$31,2,FALSE))","v":5.8085699999999997E-2},0.25059550000000008]
[54323,5,4,3,2,3,17,{"$f":"IF(B2934=1,\"0\",VLOOKUP(B2934,coefficient2!$A$4:$B$7,2,FALSE))","v":0.37123109999999998},{"$f":"IF(C2934=1,\"0\",VLOOKUP(C2934,coefficient2!$A$10:$B$13,2,FALSE))","v":0.19249050000000001},{"$f":"IF(D2934=1,\"0\",VLOOKUP(D2934,coefficient2!$A$16:$B$19,2,FALSE))","v":7.1197399999999994E-2},{"$f":"IF(E2934=1,\"0\",VLOOKUP(E2934,coefficient2!$A$22:$B$25,2,FALSE))","v":5.63998E-2},{"$f":"IF(F2934=1,\"0\",VLOOKUP(F2934,coefficient2!$A$28:$B$31,2,FALSE))","v":9.5753900000000003E-2},0.2129273000000001]
[54324,5,4,3,2,4,18,{"$f":"IF(B2935=1,\"0\",VLOOKUP(B2935,coefficient2!$A$4:$B$7,2,FALSE))","v":0.37123109999999998},{"$f":"IF(C2935=1,\"0\",VLOOKUP(C2935,coefficient2!$A$10:$B$13,2,FALSE))","v":0.19249050000000001},{"$f":"IF(D2935=1,\"0\",VLOOKUP(D2935,coefficient2!$A$16:$B$19,2,FALSE))","v":7.1197399999999994E-2},{"$f":"IF(E2935=1,\"0\",VLOOKUP(E2935,coefficient2!$A$22:$B$25,2,FALSE))","v":5.63998E-2},{"$f":"IF(F2935=1,\"0\",VLOOKUP(F2935,coefficient2!$A$28:$B$31,2,FALSE))","v":0.23270360000000001},7.597760000000009E-2]
[54325,5,4,3,2,5,19,{"$f":"IF(B2936=1,\"0\",VLOOKUP(B2936,coefficient2!$A$4:$B$7,2,FALSE))","v":0.37123109999999998},{"$f":"IF(C2936=1,\"0\",VLOOKUP(C2936,coefficient2!$A$10:$B$13,2,FALSE))","v":0.19249050000000001},{"$f":"IF(D2936=1,\"0\",VLOOKUP(D2936,coefficient2!$A$16:$B$19,2,FALSE))","v":7.1197399999999994E-2},{"$f":"IF(E2936=1,\"0\",VLOOKUP(E2936,coefficient2!$A$22:$B$25,2,FALSE))","v":5.63998E-2},{"$f":"IF(F2936=1,\"0\",VLOOKUP(F2936,coefficient2!$A$28:$B$31,2,FALSE))","v":0.29534929999999998},1.3331900000000119E-2]
[54331,5,4,3,3,1,16,{"$f":"IF(B2937=1,\"0\",VLOOKUP(B2937,coefficient2!$A$4:$B$7,2,FALSE))","v":0.37123109999999998},{"$f":"IF(C2937=1,\"0\",VLOOKUP(C2937,coefficient2!$A$10:$B$13,2,FALSE))","v":0.19249050000000001},{"$f":"IF(D2937=1,\"0\",VLOOKUP(D2937,coefficient2!$A$16:$B$19,2,FALSE))","v":7.1197399999999994E-2},{"$f":"IF(E2937=1,\"0\",VLOOKUP(E2937,coefficient2!$A$22:$B$25,2,FALSE))","v":6.6492200000000001E-2},{"$f":"IF(F2937=1,\"0\",VLOOKUP(F2937,coefficient2!$A$28:$B$31,2,FALSE))","v":"0"},0.2985888000000001]
[54332,5,4,3,3,2,17,{"$f":"IF(B2938=1,\"0\",VLOOKUP(B2938,coefficient2!$A$4:$B$7,2,FALSE))","v":0.37123109999999998},{"$f":"IF(C2938=1,\"0\",VLOOKUP(C2938,coefficient2!$A$10:$B$13,2,FALSE))","v":0.19249050000000001},{"$f":"IF(D2938=1,\"0\",VLOOKUP(D2938,coefficient2!$A$16:$B$19,2,FALSE))","v":7.1197399999999994E-2},{"$f":"IF(E2938=1,\"0\",VLOOKUP(E2938,coefficient2!$A$22:$B$25,2,FALSE))","v":6.6492200000000001E-2},{"$f":"IF(F2938=1,\"0\",VLOOKUP(F2938,coefficient2!$A$28:$B$31,2,FALSE))","v":5.8085699999999997E-2},0.24050310000000011]
[54333,5,4,3,3,3,18,{"$f":"IF(B2939=1,\"0\",VLOOKUP(B2939,coefficient2!$A$4:$B$7,2,FALSE))","v":0.37123109999999998},{"$f":"IF(C2939=1,\"0\",VLOOKUP(C2939,coefficient2!$A$10:$B$13,2,FALSE))","v":0.19249050000000001},{"$f":"IF(D2939=1,\"0\",VLOOKUP(D2939,coefficient2!$A$16:$B$19,2,FALSE))","v":7.1197399999999994E-2},{"$f":"IF(E2939=1,\"0\",VLOOKUP(E2939,coefficient2!$A$22:$B$25,2,FALSE))","v":6.6492200000000001E-2},{"$f":"IF(F2939=1,\"0\",VLOOKUP(F2939,coefficient2!$A$28:$B$31,2,FALSE))","v":9.5753900000000003E-2},0.2028349000000001]
[54334,5,4,3,3,4,19,{"$f":"IF(B2940=1,\"0\",VLOOKUP(B2940,coefficient2!$A$4:$B$7,2,FALSE))","v":0.37123109999999998},{"$f":"IF(C2940=1,\"0\",VLOOKUP(C2940,coefficient2!$A$10:$B$13,2,FALSE))","v":0.19249050000000001},{"$f":"IF(D2940=1,\"0\",VLOOKUP(D2940,coefficient2!$A$16:$B$19,2,FALSE))","v":7.1197399999999994E-2},{"$f":"IF(E2940=1,\"0\",VLOOKUP(E2940,coefficient2!$A$22:$B$25,2,FALSE))","v":6.6492200000000001E-2},{"$f":"IF(F2940=1,\"0\",VLOOKUP(F2940,coefficient2!$A$28:$B$31,2,FALSE))","v":0.23270360000000001},6.5885200000000088E-2]
[54335,5,4,3,3,5,20,{"$f":"IF(B2941=1,\"0\",VLOOKUP(B2941,coefficient2!$A$4:$B$7,2,FALSE))","v":0.37123109999999998},{"$f":"IF(C2941=1,\"0\",VLOOKUP(C2941,coefficient2!$A$10:$B$13,2,FALSE))","v":0.19249050000000001},{"$f":"IF(D2941=1,\"0\",VLOOKUP(D2941,coefficient2!$A$16:$B$19,2,FALSE))","v":7.1197399999999994E-2},{"$f":"IF(E2941=1,\"0\",VLOOKUP(E2941,coefficient2!$A$22:$B$25,2,FALSE))","v":6.6492200000000001E-2},{"$f":"IF(F2941=1,\"0\",VLOOKUP(F2941,coefficient2!$A$28:$B$31,2,FALSE))","v":0.29534929999999998},3.2395000000001173E-3]
[54341,5,4,3,4,1,17,{"$f":"IF(B2942=1,\"0\",VLOOKUP(B2942,coefficient2!$A$4:$B$7,2,FALSE))","v":0.37123109999999998},{"$f":"IF(C2942=1,\"0\",VLOOKUP(C2942,coefficient2!$A$10:$B$13,2,FALSE))","v":0.19249050000000001},{"$f":"IF(D2942=1,\"0\",VLOOKUP(D2942,coefficient2!$A$16:$B$19,2,FALSE))","v":7.1197399999999994E-2},{"$f":"IF(E2942=1,\"0\",VLOOKUP(E2942,coefficient2!$A$22:$B$25,2,FALSE))","v":0.2068864},{"$f":"IF(F2942=1,\"0\",VLOOKUP(F2942,coefficient2!$A$28:$B$31,2,FALSE))","v":"0"},0.1581946000000001]
[54342,5,4,3,4,2,18,{"$f":"IF(B2943=1,\"0\",VLOOKUP(B2943,coefficient2!$A$4:$B$7,2,FALSE))","v":0.37123109999999998},{"$f":"IF(C2943=1,\"0\",VLOOKUP(C2943,coefficient2!$A$10:$B$13,2,FALSE))","v":0.19249050000000001},{"$f":"IF(D2943=1,\"0\",VLOOKUP(D2943,coefficient2!$A$16:$B$19,2,FALSE))","v":7.1197399999999994E-2},{"$f":"IF(E2943=1,\"0\",VLOOKUP(E2943,coefficient2!$A$22:$B$25,2,FALSE))","v":0.2068864},{"$f":"IF(F2943=1,\"0\",VLOOKUP(F2943,coefficient2!$A$28:$B$31,2,FALSE))","v":5.8085699999999997E-2},0.10010890000000011]
[54343,5,4,3,4,3,19,{"$f":"IF(B2944=1,\"0\",VLOOKUP(B2944,coefficient2!$A$4:$B$7,2,FALSE))","v":0.37123109999999998},{"$f":"IF(C2944=1,\"0\",VLOOKUP(C2944,coefficient2!$A$10:$B$13,2,FALSE))","v":0.19249050000000001},{"$f":"IF(D2944=1,\"0\",VLOOKUP(D2944,coefficient2!$A$16:$B$19,2,FALSE))","v":7.1197399999999994E-2},{"$f":"IF(E2944=1,\"0\",VLOOKUP(E2944,coefficient2!$A$22:$B$25,2,FALSE))","v":0.2068864},{"$f":"IF(F2944=1,\"0\",VLOOKUP(F2944,coefficient2!$A$28:$B$31,2,FALSE))","v":9.5753900000000003E-2},6.2440700000000099E-2]
[54344,5,4,3,4,4,20,{"$f":"IF(B2945=1,\"0\",VLOOKUP(B2945,coefficient2!$A$4:$B$7,2,FALSE))","v":0.37123109999999998},{"$f":"IF(C2945=1,\"0\",VLOOKUP(C2945,coefficient2!$A$10:$B$13,2,FALSE))","v":0.19249050000000001},{"$f":"IF(D2945=1,\"0\",VLOOKUP(D2945,coefficient2!$A$16:$B$19,2,FALSE))","v":7.1197399999999994E-2},{"$f":"IF(E2945=1,\"0\",VLOOKUP(E2945,coefficient2!$A$22:$B$25,2,FALSE))","v":0.2068864},{"$f":"IF(F2945=1,\"0\",VLOOKUP(F2945,coefficient2!$A$28:$B$31,2,FALSE))","v":0.23270360000000001},-7.4508999999999909E-2]
[54345,5,4,3,4,5,21,{"$f":"IF(B2946=1,\"0\",VLOOKUP(B2946,coefficient2!$A$4:$B$7,2,FALSE))","v":0.37123109999999998},{"$f":"IF(C2946=1,\"0\",VLOOKUP(C2946,coefficient2!$A$10:$B$13,2,FALSE))","v":0.19249050000000001},{"$f":"IF(D2946=1,\"0\",VLOOKUP(D2946,coefficient2!$A$16:$B$19,2,FALSE))","v":7.1197399999999994E-2},{"$f":"IF(E2946=1,\"0\",VLOOKUP(E2946,coefficient2!$A$22:$B$25,2,FALSE))","v":0.2068864},{"$f":"IF(F2946=1,\"0\",VLOOKUP(F2946,coefficient2!$A$28:$B$31,2,FALSE))","v":0.29534929999999998},{"$f":"1-H2946-I2946-J2946-K2946-L2946","v":-0.13715469999999988}]
[54351,{"$f":"INT(LEFT(A2947,1))","v":5},{"$f":"INT(MID(A2947,2,1))","v":4},{"$f":"INT(MID(A2947,3,1))","v":3},{"$f":"INT(MID(A2947,4,1))","v":5},{"$f":"INT(RIGHT(A2947,1))","v":1},18,{"$f":"IF(B2947=1,\"0\",VLOOKUP(B2947,coefficient2!$A$4:$B$7,2,FALSE))","v":0.37123109999999998},{"$f":"IF(C2947=1,\"0\",VLOOKUP(C2947,coefficient2!$A$10:$B$13,2,FALSE))","v":0.19249050000000001},{"$f":"IF(D2947=1,\"0\",VLOOKUP(D2947,coefficient2!$A$16:$B$19,2,FALSE))","v":7.1197399999999994E-2},{"$f":"IF(E2947=1,\"0\",VLOOKUP(E2947,coefficient2!$A$22:$B$25,2,FALSE))","v":0.25643310000000002},{"$f":"IF(F2947=1,\"0\",VLOOKUP(F2947,coefficient2!$A$28:$B$31,2,FALSE))","v":"0"},0.10864790000000007]
[54352,5,4,3,5,2,19,{"$f":"IF(B2948=1,\"0\",VLOOKUP(B2948,coefficient2!$A$4:$B$7,2,FALSE))","v":0.37123109999999998},{"$f":"IF(C2948=1,\"0\",VLOOKUP(C2948,coefficient2!$A$10:$B$13,2,FALSE))","v":0.19249050000000001},{"$f":"IF(D2948=1,\"0\",VLOOKUP(D2948,coefficient2!$A$16:$B$19,2,FALSE))","v":7.1197399999999994E-2},{"$f":"IF(E2948=1,\"0\",VLOOKUP(E2948,coefficient2!$A$22:$B$25,2,FALSE))","v":0.25643310000000002},{"$f":"IF(F2948=1,\"0\",VLOOKUP(F2948,coefficient2!$A$28:$B$31,2,FALSE))","v":5.8085699999999997E-2},5.0562200000000078E-2]
[54353,5,4,3,5,3,20,{"$f":"IF(B2949=1,\"0\",VLOOKUP(B2949,coefficient2!$A$4:$B$7,2,FALSE))","v":0.37123109999999998},{"$f":"IF(C2949=1,\"0\",VLOOKUP(C2949,coefficient2!$A$10:$B$13,2,FALSE))","v":0.19249050000000001},{"$f":"IF(D2949=1,\"0\",VLOOKUP(D2949,coefficient2!$A$16:$B$19,2,FALSE))","v":7.1197399999999994E-2},{"$f":"IF(E2949=1,\"0\",VLOOKUP(E2949,coefficient2!$A$22:$B$25,2,FALSE))","v":0.25643310000000002},{"$f":"IF(F2949=1,\"0\",VLOOKUP(F2949,coefficient2!$A$28:$B$31,2,FALSE))","v":9.5753900000000003E-2},1.2894000000000072E-2]
[54354,5,4,3,5,4,21,{"$f":"IF(B2950=1,\"0\",VLOOKUP(B2950,coefficient2!$A$4:$B$7,2,FALSE))","v":0.37123109999999998},{"$f":"IF(C2950=1,\"0\",VLOOKUP(C2950,coefficient2!$A$10:$B$13,2,FALSE))","v":0.19249050000000001},{"$f":"IF(D2950=1,\"0\",VLOOKUP(D2950,coefficient2!$A$16:$B$19,2,FALSE))","v":7.1197399999999994E-2},{"$f":"IF(E2950=1,\"0\",VLOOKUP(E2950,coefficient2!$A$22:$B$25,2,FALSE))","v":0.25643310000000002},{"$f":"IF(F2950=1,\"0\",VLOOKUP(F2950,coefficient2!$A$28:$B$31,2,FALSE))","v":0.23270360000000001},-0.12405569999999994]
[54355,5,4,3,5,5,22,{"$f":"IF(B2951=1,\"0\",VLOOKUP(B2951,coefficient2!$A$4:$B$7,2,FALSE))","v":0.37123109999999998},{"$f":"IF(C2951=1,\"0\",VLOOKUP(C2951,coefficient2!$A$10:$B$13,2,FALSE))","v":0.19249050000000001},{"$f":"IF(D2951=1,\"0\",VLOOKUP(D2951,coefficient2!$A$16:$B$19,2,FALSE))","v":7.1197399999999994E-2},{"$f":"IF(E2951=1,\"0\",VLOOKUP(E2951,coefficient2!$A$22:$B$25,2,FALSE))","v":0.25643310000000002},{"$f":"IF(F2951=1,\"0\",VLOOKUP(F2951,coefficient2!$A$28:$B$31,2,FALSE))","v":0.29534929999999998},-0.18670139999999991]
[54411,5,4,4,1,1,15,{"$f":"IF(B2952=1,\"0\",VLOOKUP(B2952,coefficient2!$A$4:$B$7,2,FALSE))","v":0.37123109999999998},{"$f":"IF(C2952=1,\"0\",VLOOKUP(C2952,coefficient2!$A$10:$B$13,2,FALSE))","v":0.19249050000000001},{"$f":"IF(D2952=1,\"0\",VLOOKUP(D2952,coefficient2!$A$16:$B$19,2,FALSE))","v":0.1534855},{"$f":"IF(E2952=1,\"0\",VLOOKUP(E2952,coefficient2!$A$22:$B$25,2,FALSE))","v":"0"},{"$f":"IF(F2952=1,\"0\",VLOOKUP(F2952,coefficient2!$A$28:$B$31,2,FALSE))","v":"0"},0.28279290000000007]
[54412,5,4,4,1,2,16,{"$f":"IF(B2953=1,\"0\",VLOOKUP(B2953,coefficient2!$A$4:$B$7,2,FALSE))","v":0.37123109999999998},{"$f":"IF(C2953=1,\"0\",VLOOKUP(C2953,coefficient2!$A$10:$B$13,2,FALSE))","v":0.19249050000000001},{"$f":"IF(D2953=1,\"0\",VLOOKUP(D2953,coefficient2!$A$16:$B$19,2,FALSE))","v":0.1534855},{"$f":"IF(E2953=1,\"0\",VLOOKUP(E2953,coefficient2!$A$22:$B$25,2,FALSE))","v":"0"},{"$f":"IF(F2953=1,\"0\",VLOOKUP(F2953,coefficient2!$A$28:$B$31,2,FALSE))","v":5.8085699999999997E-2},0.22470720000000008]
[54413,5,4,4,1,3,17,{"$f":"IF(B2954=1,\"0\",VLOOKUP(B2954,coefficient2!$A$4:$B$7,2,FALSE))","v":0.37123109999999998},{"$f":"IF(C2954=1,\"0\",VLOOKUP(C2954,coefficient2!$A$10:$B$13,2,FALSE))","v":0.19249050000000001},{"$f":"IF(D2954=1,\"0\",VLOOKUP(D2954,coefficient2!$A$16:$B$19,2,FALSE))","v":0.1534855},{"$f":"IF(E2954=1,\"0\",VLOOKUP(E2954,coefficient2!$A$22:$B$25,2,FALSE))","v":"0"},{"$f":"IF(F2954=1,\"0\",VLOOKUP(F2954,coefficient2!$A$28:$B$31,2,FALSE))","v":9.5753900000000003E-2},0.18703900000000007]
[54414,5,4,4,1,4,18,{"$f":"IF(B2955=1,\"0\",VLOOKUP(B2955,coefficient2!$A$4:$B$7,2,FALSE))","v":0.37123109999999998},{"$f":"IF(C2955=1,\"0\",VLOOKUP(C2955,coefficient2!$A$10:$B$13,2,FALSE))","v":0.19249050000000001},{"$f":"IF(D2955=1,\"0\",VLOOKUP(D2955,coefficient2!$A$16:$B$19,2,FALSE))","v":0.1534855},{"$f":"IF(E2955=1,\"0\",VLOOKUP(E2955,coefficient2!$A$22:$B$25,2,FALSE))","v":"0"},{"$f":"IF(F2955=1,\"0\",VLOOKUP(F2955,coefficient2!$A$28:$B$31,2,FALSE))","v":0.23270360000000001},5.0089300000000059E-2]
[54415,5,4,4,1,5,19,{"$f":"IF(B2956=1,\"0\",VLOOKUP(B2956,coefficient2!$A$4:$B$7,2,FALSE))","v":0.37123109999999998},{"$f":"IF(C2956=1,\"0\",VLOOKUP(C2956,coefficient2!$A$10:$B$13,2,FALSE))","v":0.19249050000000001},{"$f":"IF(D2956=1,\"0\",VLOOKUP(D2956,coefficient2!$A$16:$B$19,2,FALSE))","v":0.1534855},{"$f":"IF(E2956=1,\"0\",VLOOKUP(E2956,coefficient2!$A$22:$B$25,2,FALSE))","v":"0"},{"$f":"IF(F2956=1,\"0\",VLOOKUP(F2956,coefficient2!$A$28:$B$31,2,FALSE))","v":0.29534929999999998},-1.2556399999999912E-2]
[54421,5,4,4,2,1,16,{"$f":"IF(B2957=1,\"0\",VLOOKUP(B2957,coefficient2!$A$4:$B$7,2,FALSE))","v":0.37123109999999998},{"$f":"IF(C2957=1,\"0\",VLOOKUP(C2957,coefficient2!$A$10:$B$13,2,FALSE))","v":0.19249050000000001},{"$f":"IF(D2957=1,\"0\",VLOOKUP(D2957,coefficient2!$A$16:$B$19,2,FALSE))","v":0.1534855},{"$f":"IF(E2957=1,\"0\",VLOOKUP(E2957,coefficient2!$A$22:$B$25,2,FALSE))","v":5.63998E-2},{"$f":"IF(F2957=1,\"0\",VLOOKUP(F2957,coefficient2!$A$28:$B$31,2,FALSE))","v":"0"},0.22639310000000007]
[54422,5,4,4,2,2,17,{"$f":"IF(B2958=1,\"0\",VLOOKUP(B2958,coefficient2!$A$4:$B$7,2,FALSE))","v":0.37123109999999998},{"$f":"IF(C2958=1,\"0\",VLOOKUP(C2958,coefficient2!$A$10:$B$13,2,FALSE))","v":0.19249050000000001},{"$f":"IF(D2958=1,\"0\",VLOOKUP(D2958,coefficient2!$A$16:$B$19,2,FALSE))","v":0.1534855},{"$f":"IF(E2958=1,\"0\",VLOOKUP(E2958,coefficient2!$A$22:$B$25,2,FALSE))","v":5.63998E-2},{"$f":"IF(F2958=1,\"0\",VLOOKUP(F2958,coefficient2!$A$28:$B$31,2,FALSE))","v":5.8085699999999997E-2},0.16830740000000008]
[54423,5,4,4,2,3,18,{"$f":"IF(B2959=1,\"0\",VLOOKUP(B2959,coefficient2!$A$4:$B$7,2,FALSE))","v":0.37123109999999998},{"$f":"IF(C2959=1,\"0\",VLOOKUP(C2959,coefficient2!$A$10:$B$13,2,FALSE))","v":0.19249050000000001},{"$f":"IF(D2959=1,\"0\",VLOOKUP(D2959,coefficient2!$A$16:$B$19,2,FALSE))","v":0.1534855},{"$f":"IF(E2959=1,\"0\",VLOOKUP(E2959,coefficient2!$A$22:$B$25,2,FALSE))","v":5.63998E-2},{"$f":"IF(F2959=1,\"0\",VLOOKUP(F2959,coefficient2!$A$28:$B$31,2,FALSE))","v":9.5753900000000003E-2},0.13063920000000007]
[54424,5,4,4,2,4,19,{"$f":"IF(B2960=1,\"0\",VLOOKUP(B2960,coefficient2!$A$4:$B$7,2,FALSE))","v":0.37123109999999998},{"$f":"IF(C2960=1,\"0\",VLOOKUP(C2960,coefficient2!$A$10:$B$13,2,FALSE))","v":0.19249050000000001},{"$f":"IF(D2960=1,\"0\",VLOOKUP(D2960,coefficient2!$A$16:$B$19,2,FALSE))","v":0.1534855},{"$f":"IF(E2960=1,\"0\",VLOOKUP(E2960,coefficient2!$A$22:$B$25,2,FALSE))","v":5.63998E-2},{"$f":"IF(F2960=1,\"0\",VLOOKUP(F2960,coefficient2!$A$28:$B$31,2,FALSE))","v":0.23270360000000001},-6.3104999999999412E-3]
[54425,5,4,4,2,5,20,{"$f":"IF(B2961=1,\"0\",VLOOKUP(B2961,coefficient2!$A$4:$B$7,2,FALSE))","v":0.37123109999999998},{"$f":"IF(C2961=1,\"0\",VLOOKUP(C2961,coefficient2!$A$10:$B$13,2,FALSE))","v":0.19249050000000001},{"$f":"IF(D2961=1,\"0\",VLOOKUP(D2961,coefficient2!$A$16:$B$19,2,FALSE))","v":0.1534855},{"$f":"IF(E2961=1,\"0\",VLOOKUP(E2961,coefficient2!$A$22:$B$25,2,FALSE))","v":5.63998E-2},{"$f":"IF(F2961=1,\"0\",VLOOKUP(F2961,coefficient2!$A$28:$B$31,2,FALSE))","v":0.29534929999999998},-6.8956199999999912E-2]
[54431,5,4,4,3,1,17,{"$f":"IF(B2962=1,\"0\",VLOOKUP(B2962,coefficient2!$A$4:$B$7,2,FALSE))","v":0.37123109999999998},{"$f":"IF(C2962=1,\"0\",VLOOKUP(C2962,coefficient2!$A$10:$B$13,2,FALSE))","v":0.19249050000000001},{"$f":"IF(D2962=1,\"0\",VLOOKUP(D2962,coefficient2!$A$16:$B$19,2,FALSE))","v":0.1534855},{"$f":"IF(E2962=1,\"0\",VLOOKUP(E2962,coefficient2!$A$22:$B$25,2,FALSE))","v":6.6492200000000001E-2},{"$f":"IF(F2962=1,\"0\",VLOOKUP(F2962,coefficient2!$A$28:$B$31,2,FALSE))","v":"0"},0.21630070000000007]
[54432,5,4,4,3,2,18,{"$f":"IF(B2963=1,\"0\",VLOOKUP(B2963,coefficient2!$A$4:$B$7,2,FALSE))","v":0.37123109999999998},{"$f":"IF(C2963=1,\"0\",VLOOKUP(C2963,coefficient2!$A$10:$B$13,2,FALSE))","v":0.19249050000000001},{"$f":"IF(D2963=1,\"0\",VLOOKUP(D2963,coefficient2!$A$16:$B$19,2,FALSE))","v":0.1534855},{"$f":"IF(E2963=1,\"0\",VLOOKUP(E2963,coefficient2!$A$22:$B$25,2,FALSE))","v":6.6492200000000001E-2},{"$f":"IF(F2963=1,\"0\",VLOOKUP(F2963,coefficient2!$A$28:$B$31,2,FALSE))","v":5.8085699999999997E-2},0.15821500000000008]
[54433,5,4,4,3,3,19,{"$f":"IF(B2964=1,\"0\",VLOOKUP(B2964,coefficient2!$A$4:$B$7,2,FALSE))","v":0.37123109999999998},{"$f":"IF(C2964=1,\"0\",VLOOKUP(C2964,coefficient2!$A$10:$B$13,2,FALSE))","v":0.19249050000000001},{"$f":"IF(D2964=1,\"0\",VLOOKUP(D2964,coefficient2!$A$16:$B$19,2,FALSE))","v":0.1534855},{"$f":"IF(E2964=1,\"0\",VLOOKUP(E2964,coefficient2!$A$22:$B$25,2,FALSE))","v":6.6492200000000001E-2},{"$f":"IF(F2964=1,\"0\",VLOOKUP(F2964,coefficient2!$A$28:$B$31,2,FALSE))","v":9.5753900000000003E-2},0.12054680000000007]
[54434,5,4,4,3,4,{"$f":"SUM(B2965:F2965)","v":20},{"$f":"IF(B2965=1,\"0\",VLOOKUP(B2965,coefficient2!$A$4:$B$7,2,FALSE))","v":0.37123109999999998},{"$f":"IF(C2965=1,\"0\",VLOOKUP(C2965,coefficient2!$A$10:$B$13,2,FALSE))","v":0.19249050000000001},{"$f":"IF(D2965=1,\"0\",VLOOKUP(D2965,coefficient2!$A$16:$B$19,2,FALSE))","v":0.1534855},{"$f":"IF(E2965=1,\"0\",VLOOKUP(E2965,coefficient2!$A$22:$B$25,2,FALSE))","v":6.6492200000000001E-2},{"$f":"IF(F2965=1,\"0\",VLOOKUP(F2965,coefficient2!$A$28:$B$31,2,FALSE))","v":0.23270360000000001},-1.6402899999999943E-2]
[54435,5,4,4,3,5,21,{"$f":"IF(B2966=1,\"0\",VLOOKUP(B2966,coefficient2!$A$4:$B$7,2,FALSE))","v":0.37123109999999998},{"$f":"IF(C2966=1,\"0\",VLOOKUP(C2966,coefficient2!$A$10:$B$13,2,FALSE))","v":0.19249050000000001},{"$f":"IF(D2966=1,\"0\",VLOOKUP(D2966,coefficient2!$A$16:$B$19,2,FALSE))","v":0.1534855},{"$f":"IF(E2966=1,\"0\",VLOOKUP(E2966,coefficient2!$A$22:$B$25,2,FALSE))","v":6.6492200000000001E-2},{"$f":"IF(F2966=1,\"0\",VLOOKUP(F2966,coefficient2!$A$28:$B$31,2,FALSE))","v":0.29534929999999998},-7.9048599999999913E-2]
[54441,5,4,4,4,1,18,{"$f":"IF(B2967=1,\"0\",VLOOKUP(B2967,coefficient2!$A$4:$B$7,2,FALSE))","v":0.37123109999999998},{"$f":"IF(C2967=1,\"0\",VLOOKUP(C2967,coefficient2!$A$10:$B$13,2,FALSE))","v":0.19249050000000001},{"$f":"IF(D2967=1,\"0\",VLOOKUP(D2967,coefficient2!$A$16:$B$19,2,FALSE))","v":0.1534855},{"$f":"IF(E2967=1,\"0\",VLOOKUP(E2967,coefficient2!$A$22:$B$25,2,FALSE))","v":0.2068864},{"$f":"IF(F2967=1,\"0\",VLOOKUP(F2967,coefficient2!$A$28:$B$31,2,FALSE))","v":"0"},7.5906500000000071E-2]
[54442,5,4,4,4,2,19,{"$f":"IF(B2968=1,\"0\",VLOOKUP(B2968,coefficient2!$A$4:$B$7,2,FALSE))","v":0.37123109999999998},{"$f":"IF(C2968=1,\"0\",VLOOKUP(C2968,coefficient2!$A$10:$B$13,2,FALSE))","v":0.19249050000000001},{"$f":"IF(D2968=1,\"0\",VLOOKUP(D2968,coefficient2!$A$16:$B$19,2,FALSE))","v":0.1534855},{"$f":"IF(E2968=1,\"0\",VLOOKUP(E2968,coefficient2!$A$22:$B$25,2,FALSE))","v":0.2068864},{"$f":"IF(F2968=1,\"0\",VLOOKUP(F2968,coefficient2!$A$28:$B$31,2,FALSE))","v":5.8085699999999997E-2},1.7820800000000074E-2]
[54443,5,4,4,4,3,20,{"$f":"IF(B2969=1,\"0\",VLOOKUP(B2969,coefficient2!$A$4:$B$7,2,FALSE))","v":0.37123109999999998},{"$f":"IF(C2969=1,\"0\",VLOOKUP(C2969,coefficient2!$A$10:$B$13,2,FALSE))","v":0.19249050000000001},{"$f":"IF(D2969=1,\"0\",VLOOKUP(D2969,coefficient2!$A$16:$B$19,2,FALSE))","v":0.1534855},{"$f":"IF(E2969=1,\"0\",VLOOKUP(E2969,coefficient2!$A$22:$B$25,2,FALSE))","v":0.2068864},{"$f":"IF(F2969=1,\"0\",VLOOKUP(F2969,coefficient2!$A$28:$B$31,2,FALSE))","v":9.5753900000000003E-2},-1.9847399999999932E-2]
[54444,5,4,4,4,4,21,{"$f":"IF(B2970=1,\"0\",VLOOKUP(B2970,coefficient2!$A$4:$B$7,2,FALSE))","v":0.37123109999999998},{"$f":"IF(C2970=1,\"0\",VLOOKUP(C2970,coefficient2!$A$10:$B$13,2,FALSE))","v":0.19249050000000001},{"$f":"IF(D2970=1,\"0\",VLOOKUP(D2970,coefficient2!$A$16:$B$19,2,FALSE))","v":0.1534855},{"$f":"IF(E2970=1,\"0\",VLOOKUP(E2970,coefficient2!$A$22:$B$25,2,FALSE))","v":0.2068864},{"$f":"IF(F2970=1,\"0\",VLOOKUP(F2970,coefficient2!$A$28:$B$31,2,FALSE))","v":0.23270360000000001},-0.15679709999999994]
[54445,5,4,4,4,5,22,{"$f":"IF(B2971=1,\"0\",VLOOKUP(B2971,coefficient2!$A$4:$B$7,2,FALSE))","v":0.37123109999999998},{"$f":"IF(C2971=1,\"0\",VLOOKUP(C2971,coefficient2!$A$10:$B$13,2,FALSE))","v":0.19249050000000001},{"$f":"IF(D2971=1,\"0\",VLOOKUP(D2971,coefficient2!$A$16:$B$19,2,FALSE))","v":0.1534855},{"$f":"IF(E2971=1,\"0\",VLOOKUP(E2971,coefficient2!$A$22:$B$25,2,FALSE))","v":0.2068864},{"$f":"IF(F2971=1,\"0\",VLOOKUP(F2971,coefficient2!$A$28:$B$31,2,FALSE))","v":0.29534929999999998},-0.21944279999999991]
[54451,5,4,4,5,1,19,{"$f":"IF(B2972=1,\"0\",VLOOKUP(B2972,coefficient2!$A$4:$B$7,2,FALSE))","v":0.37123109999999998},{"$f":"IF(C2972=1,\"0\",VLOOKUP(C2972,coefficient2!$A$10:$B$13,2,FALSE))","v":0.19249050000000001},{"$f":"IF(D2972=1,\"0\",VLOOKUP(D2972,coefficient2!$A$16:$B$19,2,FALSE))","v":0.1534855},{"$f":"IF(E2972=1,\"0\",VLOOKUP(E2972,coefficient2!$A$22:$B$25,2,FALSE))","v":0.25643310000000002},{"$f":"IF(F2972=1,\"0\",VLOOKUP(F2972,coefficient2!$A$28:$B$31,2,FALSE))","v":"0"},2.6359800000000044E-2]
[54452,5,4,4,5,2,20,{"$f":"IF(B2973=1,\"0\",VLOOKUP(B2973,coefficient2!$A$4:$B$7,2,FALSE))","v":0.37123109999999998},{"$f":"IF(C2973=1,\"0\",VLOOKUP(C2973,coefficient2!$A$10:$B$13,2,FALSE))","v":0.19249050000000001},{"$f":"IF(D2973=1,\"0\",VLOOKUP(D2973,coefficient2!$A$16:$B$19,2,FALSE))","v":0.1534855},{"$f":"IF(E2973=1,\"0\",VLOOKUP(E2973,coefficient2!$A$22:$B$25,2,FALSE))","v":0.25643310000000002},{"$f":"IF(F2973=1,\"0\",VLOOKUP(F2973,coefficient2!$A$28:$B$31,2,FALSE))","v":5.8085699999999997E-2},-3.1725899999999953E-2]
[54453,5,4,4,5,3,21,{"$f":"IF(B2974=1,\"0\",VLOOKUP(B2974,coefficient2!$A$4:$B$7,2,FALSE))","v":0.37123109999999998},{"$f":"IF(C2974=1,\"0\",VLOOKUP(C2974,coefficient2!$A$10:$B$13,2,FALSE))","v":0.19249050000000001},{"$f":"IF(D2974=1,\"0\",VLOOKUP(D2974,coefficient2!$A$16:$B$19,2,FALSE))","v":0.1534855},{"$f":"IF(E2974=1,\"0\",VLOOKUP(E2974,coefficient2!$A$22:$B$25,2,FALSE))","v":0.25643310000000002},{"$f":"IF(F2974=1,\"0\",VLOOKUP(F2974,coefficient2!$A$28:$B$31,2,FALSE))","v":9.5753900000000003E-2},-6.9394099999999959E-2]
[54454,5,4,4,5,4,22,{"$f":"IF(B2975=1,\"0\",VLOOKUP(B2975,coefficient2!$A$4:$B$7,2,FALSE))","v":0.37123109999999998},{"$f":"IF(C2975=1,\"0\",VLOOKUP(C2975,coefficient2!$A$10:$B$13,2,FALSE))","v":0.19249050000000001},{"$f":"IF(D2975=1,\"0\",VLOOKUP(D2975,coefficient2!$A$16:$B$19,2,FALSE))","v":0.1534855},{"$f":"IF(E2975=1,\"0\",VLOOKUP(E2975,coefficient2!$A$22:$B$25,2,FALSE))","v":0.25643310000000002},{"$f":"IF(F2975=1,\"0\",VLOOKUP(F2975,coefficient2!$A$28:$B$31,2,FALSE))","v":0.23270360000000001},-0.20634379999999997]
[54455,5,4,4,5,5,23,{"$f":"IF(B2976=1,\"0\",VLOOKUP(B2976,coefficient2!$A$4:$B$7,2,FALSE))","v":0.37123109999999998},{"$f":"IF(C2976=1,\"0\",VLOOKUP(C2976,coefficient2!$A$10:$B$13,2,FALSE))","v":0.19249050000000001},{"$f":"IF(D2976=1,\"0\",VLOOKUP(D2976,coefficient2!$A$16:$B$19,2,FALSE))","v":0.1534855},{"$f":"IF(E2976=1,\"0\",VLOOKUP(E2976,coefficient2!$A$22:$B$25,2,FALSE))","v":0.25643310000000002},{"$f":"IF(F2976=1,\"0\",VLOOKUP(F2976,coefficient2!$A$28:$B$31,2,FALSE))","v":0.29534929999999998},-0.26898949999999994]
[54511,5,4,5,1,1,16,{"$f":"IF(B2977=1,\"0\",VLOOKUP(B2977,coefficient2!$A$4:$B$7,2,FALSE))","v":0.37123109999999998},{"$f":"IF(C2977=1,\"0\",VLOOKUP(C2977,coefficient2!$A$10:$B$13,2,FALSE))","v":0.19249050000000001},{"$f":"IF(D2977=1,\"0\",VLOOKUP(D2977,coefficient2!$A$16:$B$19,2,FALSE))","v":0.248331},{"$f":"IF(E2977=1,\"0\",VLOOKUP(E2977,coefficient2!$A$22:$B$25,2,FALSE))","v":"0"},{"$f":"IF(F2977=1,\"0\",VLOOKUP(F2977,coefficient2!$A$28:$B$31,2,FALSE))","v":"0"},0.18794740000000007]
[54512,5,4,5,1,2,17,{"$f":"IF(B2978=1,\"0\",VLOOKUP(B2978,coefficient2!$A$4:$B$7,2,FALSE))","v":0.37123109999999998},{"$f":"IF(C2978=1,\"0\",VLOOKUP(C2978,coefficient2!$A$10:$B$13,2,FALSE))","v":0.19249050000000001},{"$f":"IF(D2978=1,\"0\",VLOOKUP(D2978,coefficient2!$A$16:$B$19,2,FALSE))","v":0.248331},{"$f":"IF(E2978=1,\"0\",VLOOKUP(E2978,coefficient2!$A$22:$B$25,2,FALSE))","v":"0"},{"$f":"IF(F2978=1,\"0\",VLOOKUP(F2978,coefficient2!$A$28:$B$31,2,FALSE))","v":5.8085699999999997E-2},0.12986170000000008]
[54513,5,4,5,1,3,18,{"$f":"IF(B2979=1,\"0\",VLOOKUP(B2979,coefficient2!$A$4:$B$7,2,FALSE))","v":0.37123109999999998},{"$f":"IF(C2979=1,\"0\",VLOOKUP(C2979,coefficient2!$A$10:$B$13,2,FALSE))","v":0.19249050000000001},{"$f":"IF(D2979=1,\"0\",VLOOKUP(D2979,coefficient2!$A$16:$B$19,2,FALSE))","v":0.248331},{"$f":"IF(E2979=1,\"0\",VLOOKUP(E2979,coefficient2!$A$22:$B$25,2,FALSE))","v":"0"},{"$f":"IF(F2979=1,\"0\",VLOOKUP(F2979,coefficient2!$A$28:$B$31,2,FALSE))","v":9.5753900000000003E-2},9.2193500000000067E-2]
[54514,5,4,5,1,4,19,{"$f":"IF(B2980=1,\"0\",VLOOKUP(B2980,coefficient2!$A$4:$B$7,2,FALSE))","v":0.37123109999999998},{"$f":"IF(C2980=1,\"0\",VLOOKUP(C2980,coefficient2!$A$10:$B$13,2,FALSE))","v":0.19249050000000001},{"$f":"IF(D2980=1,\"0\",VLOOKUP(D2980,coefficient2!$A$16:$B$19,2,FALSE))","v":0.248331},{"$f":"IF(E2980=1,\"0\",VLOOKUP(E2980,coefficient2!$A$22:$B$25,2,FALSE))","v":"0"},{"$f":"IF(F2980=1,\"0\",VLOOKUP(F2980,coefficient2!$A$28:$B$31,2,FALSE))","v":0.23270360000000001},-4.475619999999994E-2]
[54515,5,4,5,1,5,20,{"$f":"IF(B2981=1,\"0\",VLOOKUP(B2981,coefficient2!$A$4:$B$7,2,FALSE))","v":0.37123109999999998},{"$f":"IF(C2981=1,\"0\",VLOOKUP(C2981,coefficient2!$A$10:$B$13,2,FALSE))","v":0.19249050000000001},{"$f":"IF(D2981=1,\"0\",VLOOKUP(D2981,coefficient2!$A$16:$B$19,2,FALSE))","v":0.248331},{"$f":"IF(E2981=1,\"0\",VLOOKUP(E2981,coefficient2!$A$22:$B$25,2,FALSE))","v":"0"},{"$f":"IF(F2981=1,\"0\",VLOOKUP(F2981,coefficient2!$A$28:$B$31,2,FALSE))","v":0.29534929999999998},-0.10740189999999991]
[54521,5,4,5,2,1,17,{"$f":"IF(B2982=1,\"0\",VLOOKUP(B2982,coefficient2!$A$4:$B$7,2,FALSE))","v":0.37123109999999998},{"$f":"IF(C2982=1,\"0\",VLOOKUP(C2982,coefficient2!$A$10:$B$13,2,FALSE))","v":0.19249050000000001},{"$f":"IF(D2982=1,\"0\",VLOOKUP(D2982,coefficient2!$A$16:$B$19,2,FALSE))","v":0.248331},{"$f":"IF(E2982=1,\"0\",VLOOKUP(E2982,coefficient2!$A$22:$B$25,2,FALSE))","v":5.63998E-2},{"$f":"IF(F2982=1,\"0\",VLOOKUP(F2982,coefficient2!$A$28:$B$31,2,FALSE))","v":"0"},0.13154760000000007]
[54522,5,4,5,2,2,18,{"$f":"IF(B2983=1,\"0\",VLOOKUP(B2983,coefficient2!$A$4:$B$7,2,FALSE))","v":0.37123109999999998},{"$f":"IF(C2983=1,\"0\",VLOOKUP(C2983,coefficient2!$A$10:$B$13,2,FALSE))","v":0.19249050000000001},{"$f":"IF(D2983=1,\"0\",VLOOKUP(D2983,coefficient2!$A$16:$B$19,2,FALSE))","v":0.248331},{"$f":"IF(E2983=1,\"0\",VLOOKUP(E2983,coefficient2!$A$22:$B$25,2,FALSE))","v":5.63998E-2},{"$f":"IF(F2983=1,\"0\",VLOOKUP(F2983,coefficient2!$A$28:$B$31,2,FALSE))","v":5.8085699999999997E-2},7.346190000000008E-2]
[54523,5,4,5,2,3,19,{"$f":"IF(B2984=1,\"0\",VLOOKUP(B2984,coefficient2!$A$4:$B$7,2,FALSE))","v":0.37123109999999998},{"$f":"IF(C2984=1,\"0\",VLOOKUP(C2984,coefficient2!$A$10:$B$13,2,FALSE))","v":0.19249050000000001},{"$f":"IF(D2984=1,\"0\",VLOOKUP(D2984,coefficient2!$A$16:$B$19,2,FALSE))","v":0.248331},{"$f":"IF(E2984=1,\"0\",VLOOKUP(E2984,coefficient2!$A$22:$B$25,2,FALSE))","v":5.63998E-2},{"$f":"IF(F2984=1,\"0\",VLOOKUP(F2984,coefficient2!$A$28:$B$31,2,FALSE))","v":9.5753900000000003E-2},3.5793700000000067E-2]
[54524,5,4,5,2,4,20,{"$f":"IF(B2985=1,\"0\",VLOOKUP(B2985,coefficient2!$A$4:$B$7,2,FALSE))","v":0.37123109999999998},{"$f":"IF(C2985=1,\"0\",VLOOKUP(C2985,coefficient2!$A$10:$B$13,2,FALSE))","v":0.19249050000000001},{"$f":"IF(D2985=1,\"0\",VLOOKUP(D2985,coefficient2!$A$16:$B$19,2,FALSE))","v":0.248331},{"$f":"IF(E2985=1,\"0\",VLOOKUP(E2985,coefficient2!$A$22:$B$25,2,FALSE))","v":5.63998E-2},{"$f":"IF(F2985=1,\"0\",VLOOKUP(F2985,coefficient2!$A$28:$B$31,2,FALSE))","v":0.23270360000000001},-0.10115599999999994]
[54525,5,4,5,2,5,21,{"$f":"IF(B2986=1,\"0\",VLOOKUP(B2986,coefficient2!$A$4:$B$7,2,FALSE))","v":0.37123109999999998},{"$f":"IF(C2986=1,\"0\",VLOOKUP(C2986,coefficient2!$A$10:$B$13,2,FALSE))","v":0.19249050000000001},{"$f":"IF(D2986=1,\"0\",VLOOKUP(D2986,coefficient2!$A$16:$B$19,2,FALSE))","v":0.248331},{"$f":"IF(E2986=1,\"0\",VLOOKUP(E2986,coefficient2!$A$22:$B$25,2,FALSE))","v":5.63998E-2},{"$f":"IF(F2986=1,\"0\",VLOOKUP(F2986,coefficient2!$A$28:$B$31,2,FALSE))","v":0.29534929999999998},-0.16380169999999991]
[54531,5,4,5,3,1,18,{"$f":"IF(B2987=1,\"0\",VLOOKUP(B2987,coefficient2!$A$4:$B$7,2,FALSE))","v":0.37123109999999998},{"$f":"IF(C2987=1,\"0\",VLOOKUP(C2987,coefficient2!$A$10:$B$13,2,FALSE))","v":0.19249050000000001},{"$f":"IF(D2987=1,\"0\",VLOOKUP(D2987,coefficient2!$A$16:$B$19,2,FALSE))","v":0.248331},{"$f":"IF(E2987=1,\"0\",VLOOKUP(E2987,coefficient2!$A$22:$B$25,2,FALSE))","v":6.6492200000000001E-2},{"$f":"IF(F2987=1,\"0\",VLOOKUP(F2987,coefficient2!$A$28:$B$31,2,FALSE))","v":"0"},0.12145520000000007]
[54532,5,4,5,3,2,19,{"$f":"IF(B2988=1,\"0\",VLOOKUP(B2988,coefficient2!$A$4:$B$7,2,FALSE))","v":0.37123109999999998},{"$f":"IF(C2988=1,\"0\",VLOOKUP(C2988,coefficient2!$A$10:$B$13,2,FALSE))","v":0.19249050000000001},{"$f":"IF(D2988=1,\"0\",VLOOKUP(D2988,coefficient2!$A$16:$B$19,2,FALSE))","v":0.248331},{"$f":"IF(E2988=1,\"0\",VLOOKUP(E2988,coefficient2!$A$22:$B$25,2,FALSE))","v":6.6492200000000001E-2},{"$f":"IF(F2988=1,\"0\",VLOOKUP(F2988,coefficient2!$A$28:$B$31,2,FALSE))","v":5.8085699999999997E-2},6.3369500000000079E-2]
[54533,5,4,5,3,3,20,{"$f":"IF(B2989=1,\"0\",VLOOKUP(B2989,coefficient2!$A$4:$B$7,2,FALSE))","v":0.37123109999999998},{"$f":"IF(C2989=1,\"0\",VLOOKUP(C2989,coefficient2!$A$10:$B$13,2,FALSE))","v":0.19249050000000001},{"$f":"IF(D2989=1,\"0\",VLOOKUP(D2989,coefficient2!$A$16:$B$19,2,FALSE))","v":0.248331},{"$f":"IF(E2989=1,\"0\",VLOOKUP(E2989,coefficient2!$A$22:$B$25,2,FALSE))","v":6.6492200000000001E-2},{"$f":"IF(F2989=1,\"0\",VLOOKUP(F2989,coefficient2!$A$28:$B$31,2,FALSE))","v":9.5753900000000003E-2},2.5701300000000066E-2]
[54534,5,4,5,3,4,21,{"$f":"IF(B2990=1,\"0\",VLOOKUP(B2990,coefficient2!$A$4:$B$7,2,FALSE))","v":0.37123109999999998},{"$f":"IF(C2990=1,\"0\",VLOOKUP(C2990,coefficient2!$A$10:$B$13,2,FALSE))","v":0.19249050000000001},{"$f":"IF(D2990=1,\"0\",VLOOKUP(D2990,coefficient2!$A$16:$B$19,2,FALSE))","v":0.248331},{"$f":"IF(E2990=1,\"0\",VLOOKUP(E2990,coefficient2!$A$22:$B$25,2,FALSE))","v":6.6492200000000001E-2},{"$f":"IF(F2990=1,\"0\",VLOOKUP(F2990,coefficient2!$A$28:$B$31,2,FALSE))","v":0.23270360000000001},-0.11124839999999994]
[54535,5,4,5,3,5,22,{"$f":"IF(B2991=1,\"0\",VLOOKUP(B2991,coefficient2!$A$4:$B$7,2,FALSE))","v":0.37123109999999998},{"$f":"IF(C2991=1,\"0\",VLOOKUP(C2991,coefficient2!$A$10:$B$13,2,FALSE))","v":0.19249050000000001},{"$f":"IF(D2991=1,\"0\",VLOOKUP(D2991,coefficient2!$A$16:$B$19,2,FALSE))","v":0.248331},{"$f":"IF(E2991=1,\"0\",VLOOKUP(E2991,coefficient2!$A$22:$B$25,2,FALSE))","v":6.6492200000000001E-2},{"$f":"IF(F2991=1,\"0\",VLOOKUP(F2991,coefficient2!$A$28:$B$31,2,FALSE))","v":0.29534929999999998},-0.17389409999999991]
[54541,5,4,5,4,1,19,{"$f":"IF(B2992=1,\"0\",VLOOKUP(B2992,coefficient2!$A$4:$B$7,2,FALSE))","v":0.37123109999999998},{"$f":"IF(C2992=1,\"0\",VLOOKUP(C2992,coefficient2!$A$10:$B$13,2,FALSE))","v":0.19249050000000001},{"$f":"IF(D2992=1,\"0\",VLOOKUP(D2992,coefficient2!$A$16:$B$19,2,FALSE))","v":0.248331},{"$f":"IF(E2992=1,\"0\",VLOOKUP(E2992,coefficient2!$A$22:$B$25,2,FALSE))","v":0.2068864},{"$f":"IF(F2992=1,\"0\",VLOOKUP(F2992,coefficient2!$A$28:$B$31,2,FALSE))","v":"0"},-1.8938999999999928E-2]
[54542,5,4,5,4,2,20,{"$f":"IF(B2993=1,\"0\",VLOOKUP(B2993,coefficient2!$A$4:$B$7,2,FALSE))","v":0.37123109999999998},{"$f":"IF(C2993=1,\"0\",VLOOKUP(C2993,coefficient2!$A$10:$B$13,2,FALSE))","v":0.19249050000000001},{"$f":"IF(D2993=1,\"0\",VLOOKUP(D2993,coefficient2!$A$16:$B$19,2,FALSE))","v":0.248331},{"$f":"IF(E2993=1,\"0\",VLOOKUP(E2993,coefficient2!$A$22:$B$25,2,FALSE))","v":0.2068864},{"$f":"IF(F2993=1,\"0\",VLOOKUP(F2993,coefficient2!$A$28:$B$31,2,FALSE))","v":5.8085699999999997E-2},-7.7024699999999918E-2]
[54543,5,4,5,4,3,21,{"$f":"IF(B2994=1,\"0\",VLOOKUP(B2994,coefficient2!$A$4:$B$7,2,FALSE))","v":0.37123109999999998},{"$f":"IF(C2994=1,\"0\",VLOOKUP(C2994,coefficient2!$A$10:$B$13,2,FALSE))","v":0.19249050000000001},{"$f":"IF(D2994=1,\"0\",VLOOKUP(D2994,coefficient2!$A$16:$B$19,2,FALSE))","v":0.248331},{"$f":"IF(E2994=1,\"0\",VLOOKUP(E2994,coefficient2!$A$22:$B$25,2,FALSE))","v":0.2068864},{"$f":"IF(F2994=1,\"0\",VLOOKUP(F2994,coefficient2!$A$28:$B$31,2,FALSE))","v":9.5753900000000003E-2},-0.11469289999999993]
[54544,5,4,5,4,4,22,{"$f":"IF(B2995=1,\"0\",VLOOKUP(B2995,coefficient2!$A$4:$B$7,2,FALSE))","v":0.37123109999999998},{"$f":"IF(C2995=1,\"0\",VLOOKUP(C2995,coefficient2!$A$10:$B$13,2,FALSE))","v":0.19249050000000001},{"$f":"IF(D2995=1,\"0\",VLOOKUP(D2995,coefficient2!$A$16:$B$19,2,FALSE))","v":0.248331},{"$f":"IF(E2995=1,\"0\",VLOOKUP(E2995,coefficient2!$A$22:$B$25,2,FALSE))","v":0.2068864},{"$f":"IF(F2995=1,\"0\",VLOOKUP(F2995,coefficient2!$A$28:$B$31,2,FALSE))","v":0.23270360000000001},-0.25164259999999994]
[54545,5,4,5,4,5,23,{"$f":"IF(B2996=1,\"0\",VLOOKUP(B2996,coefficient2!$A$4:$B$7,2,FALSE))","v":0.37123109999999998},{"$f":"IF(C2996=1,\"0\",VLOOKUP(C2996,coefficient2!$A$10:$B$13,2,FALSE))","v":0.19249050000000001},{"$f":"IF(D2996=1,\"0\",VLOOKUP(D2996,coefficient2!$A$16:$B$19,2,FALSE))","v":0.248331},{"$f":"IF(E2996=1,\"0\",VLOOKUP(E2996,coefficient2!$A$22:$B$25,2,FALSE))","v":0.2068864},{"$f":"IF(F2996=1,\"0\",VLOOKUP(F2996,coefficient2!$A$28:$B$31,2,FALSE))","v":0.29534929999999998},-0.31428829999999991]
[54551,5,4,5,5,1,20,{"$f":"IF(B2997=1,\"0\",VLOOKUP(B2997,coefficient2!$A$4:$B$7,2,FALSE))","v":0.37123109999999998},{"$f":"IF(C2997=1,\"0\",VLOOKUP(C2997,coefficient2!$A$10:$B$13,2,FALSE))","v":0.19249050000000001},{"$f":"IF(D2997=1,\"0\",VLOOKUP(D2997,coefficient2!$A$16:$B$19,2,FALSE))","v":0.248331},{"$f":"IF(E2997=1,\"0\",VLOOKUP(E2997,coefficient2!$A$22:$B$25,2,FALSE))","v":0.25643310000000002},{"$f":"IF(F2997=1,\"0\",VLOOKUP(F2997,coefficient2!$A$28:$B$31,2,FALSE))","v":"0"},-6.8485699999999955E-2]
[54552,5,4,5,5,2,21,{"$f":"IF(B2998=1,\"0\",VLOOKUP(B2998,coefficient2!$A$4:$B$7,2,FALSE))","v":0.37123109999999998},{"$f":"IF(C2998=1,\"0\",VLOOKUP(C2998,coefficient2!$A$10:$B$13,2,FALSE))","v":0.19249050000000001},{"$f":"IF(D2998=1,\"0\",VLOOKUP(D2998,coefficient2!$A$16:$B$19,2,FALSE))","v":0.248331},{"$f":"IF(E2998=1,\"0\",VLOOKUP(E2998,coefficient2!$A$22:$B$25,2,FALSE))","v":0.25643310000000002},{"$f":"IF(F2998=1,\"0\",VLOOKUP(F2998,coefficient2!$A$28:$B$31,2,FALSE))","v":5.8085699999999997E-2},-0.12657139999999995]
[54553,5,4,5,5,3,22,{"$f":"IF(B2999=1,\"0\",VLOOKUP(B2999,coefficient2!$A$4:$B$7,2,FALSE))","v":0.37123109999999998},{"$f":"IF(C2999=1,\"0\",VLOOKUP(C2999,coefficient2!$A$10:$B$13,2,FALSE))","v":0.19249050000000001},{"$f":"IF(D2999=1,\"0\",VLOOKUP(D2999,coefficient2!$A$16:$B$19,2,FALSE))","v":0.248331},{"$f":"IF(E2999=1,\"0\",VLOOKUP(E2999,coefficient2!$A$22:$B$25,2,FALSE))","v":0.25643310000000002},{"$f":"IF(F2999=1,\"0\",VLOOKUP(F2999,coefficient2!$A$28:$B$31,2,FALSE))","v":9.5753900000000003E-2},-0.16423959999999996]
[54554,5,4,5,5,4,23,{"$f":"IF(B3000=1,\"0\",VLOOKUP(B3000,coefficient2!$A$4:$B$7,2,FALSE))","v":0.37123109999999998},{"$f":"IF(C3000=1,\"0\",VLOOKUP(C3000,coefficient2!$A$10:$B$13,2,FALSE))","v":0.19249050000000001},{"$f":"IF(D3000=1,\"0\",VLOOKUP(D3000,coefficient2!$A$16:$B$19,2,FALSE))","v":0.248331},{"$f":"IF(E3000=1,\"0\",VLOOKUP(E3000,coefficient2!$A$22:$B$25,2,FALSE))","v":0.25643310000000002},{"$f":"IF(F3000=1,\"0\",VLOOKUP(F3000,coefficient2!$A$28:$B$31,2,FALSE))","v":0.23270360000000001},-0.30118929999999999]
[54555,5,4,5,5,5,24,{"$f":"IF(B3001=1,\"0\",VLOOKUP(B3001,coefficient2!$A$4:$B$7,2,FALSE))","v":0.37123109999999998},{"$f":"IF(C3001=1,\"0\",VLOOKUP(C3001,coefficient2!$A$10:$B$13,2,FALSE))","v":0.19249050000000001},{"$f":"IF(D3001=1,\"0\",VLOOKUP(D3001,coefficient2!$A$16:$B$19,2,FALSE))","v":0.248331},{"$f":"IF(E3001=1,\"0\",VLOOKUP(E3001,coefficient2!$A$22:$B$25,2,FALSE))","v":0.25643310000000002},{"$f":"IF(F3001=1,\"0\",VLOOKUP(F3001,coefficient2!$A$28:$B$31,2,FALSE))","v":0.29534929999999998},-0.36383499999999991]
[55111,5,5,1,1,1,13,{"$f":"IF(B3002=1,\"0\",VLOOKUP(B3002,coefficient2!$A$4:$B$7,2,FALSE))","v":0.37123109999999998},{"$f":"IF(C3002=1,\"0\",VLOOKUP(C3002,coefficient2!$A$10:$B$13,2,FALSE))","v":0.2498763},{"$f":"IF(D3002=1,\"0\",VLOOKUP(D3002,coefficient2!$A$16:$B$19,2,FALSE))","v":"0"},{"$f":"IF(E3002=1,\"0\",VLOOKUP(E3002,coefficient2!$A$22:$B$25,2,FALSE))","v":"0"},{"$f":"IF(F3002=1,\"0\",VLOOKUP(F3002,coefficient2!$A$28:$B$31,2,FALSE))","v":"0"},0.37889260000000008]
[55112,5,5,1,1,2,14,{"$f":"IF(B3003=1,\"0\",VLOOKUP(B3003,coefficient2!$A$4:$B$7,2,FALSE))","v":0.37123109999999998},{"$f":"IF(C3003=1,\"0\",VLOOKUP(C3003,coefficient2!$A$10:$B$13,2,FALSE))","v":0.2498763},{"$f":"IF(D3003=1,\"0\",VLOOKUP(D3003,coefficient2!$A$16:$B$19,2,FALSE))","v":"0"},{"$f":"IF(E3003=1,\"0\",VLOOKUP(E3003,coefficient2!$A$22:$B$25,2,FALSE))","v":"0"},{"$f":"IF(F3003=1,\"0\",VLOOKUP(F3003,coefficient2!$A$28:$B$31,2,FALSE))","v":5.8085699999999997E-2},0.32080690000000006]
[55113,5,5,1,1,3,15,{"$f":"IF(B3004=1,\"0\",VLOOKUP(B3004,coefficient2!$A$4:$B$7,2,FALSE))","v":0.37123109999999998},{"$f":"IF(C3004=1,\"0\",VLOOKUP(C3004,coefficient2!$A$10:$B$13,2,FALSE))","v":0.2498763},{"$f":"IF(D3004=1,\"0\",VLOOKUP(D3004,coefficient2!$A$16:$B$19,2,FALSE))","v":"0"},{"$f":"IF(E3004=1,\"0\",VLOOKUP(E3004,coefficient2!$A$22:$B$25,2,FALSE))","v":"0"},{"$f":"IF(F3004=1,\"0\",VLOOKUP(F3004,coefficient2!$A$28:$B$31,2,FALSE))","v":9.5753900000000003E-2},0.28313870000000008]
[55114,5,5,1,1,4,16,{"$f":"IF(B3005=1,\"0\",VLOOKUP(B3005,coefficient2!$A$4:$B$7,2,FALSE))","v":0.37123109999999998},{"$f":"IF(C3005=1,\"0\",VLOOKUP(C3005,coefficient2!$A$10:$B$13,2,FALSE))","v":0.2498763},{"$f":"IF(D3005=1,\"0\",VLOOKUP(D3005,coefficient2!$A$16:$B$19,2,FALSE))","v":"0"},{"$f":"IF(E3005=1,\"0\",VLOOKUP(E3005,coefficient2!$A$22:$B$25,2,FALSE))","v":"0"},{"$f":"IF(F3005=1,\"0\",VLOOKUP(F3005,coefficient2!$A$28:$B$31,2,FALSE))","v":0.23270360000000001},0.14618900000000007]
[55115,5,5,1,1,5,17,{"$f":"IF(B3006=1,\"0\",VLOOKUP(B3006,coefficient2!$A$4:$B$7,2,FALSE))","v":0.37123109999999998},{"$f":"IF(C3006=1,\"0\",VLOOKUP(C3006,coefficient2!$A$10:$B$13,2,FALSE))","v":0.2498763},{"$f":"IF(D3006=1,\"0\",VLOOKUP(D3006,coefficient2!$A$16:$B$19,2,FALSE))","v":"0"},{"$f":"IF(E3006=1,\"0\",VLOOKUP(E3006,coefficient2!$A$22:$B$25,2,FALSE))","v":"0"},{"$f":"IF(F3006=1,\"0\",VLOOKUP(F3006,coefficient2!$A$28:$B$31,2,FALSE))","v":0.29534929999999998},8.3543300000000098E-2]
[55121,5,5,1,2,1,14,{"$f":"IF(B3007=1,\"0\",VLOOKUP(B3007,coefficient2!$A$4:$B$7,2,FALSE))","v":0.37123109999999998},{"$f":"IF(C3007=1,\"0\",VLOOKUP(C3007,coefficient2!$A$10:$B$13,2,FALSE))","v":0.2498763},{"$f":"IF(D3007=1,\"0\",VLOOKUP(D3007,coefficient2!$A$16:$B$19,2,FALSE))","v":"0"},{"$f":"IF(E3007=1,\"0\",VLOOKUP(E3007,coefficient2!$A$22:$B$25,2,FALSE))","v":5.63998E-2},{"$f":"IF(F3007=1,\"0\",VLOOKUP(F3007,coefficient2!$A$28:$B$31,2,FALSE))","v":"0"},0.32249280000000008]
[55122,5,5,1,2,2,15,{"$f":"IF(B3008=1,\"0\",VLOOKUP(B3008,coefficient2!$A$4:$B$7,2,FALSE))","v":0.37123109999999998},{"$f":"IF(C3008=1,\"0\",VLOOKUP(C3008,coefficient2!$A$10:$B$13,2,FALSE))","v":0.2498763},{"$f":"IF(D3008=1,\"0\",VLOOKUP(D3008,coefficient2!$A$16:$B$19,2,FALSE))","v":"0"},{"$f":"IF(E3008=1,\"0\",VLOOKUP(E3008,coefficient2!$A$22:$B$25,2,FALSE))","v":5.63998E-2},{"$f":"IF(F3008=1,\"0\",VLOOKUP(F3008,coefficient2!$A$28:$B$31,2,FALSE))","v":5.8085699999999997E-2},0.26440710000000006]
[55123,5,5,1,2,3,16,{"$f":"IF(B3009=1,\"0\",VLOOKUP(B3009,coefficient2!$A$4:$B$7,2,FALSE))","v":0.37123109999999998},{"$f":"IF(C3009=1,\"0\",VLOOKUP(C3009,coefficient2!$A$10:$B$13,2,FALSE))","v":0.2498763},{"$f":"IF(D3009=1,\"0\",VLOOKUP(D3009,coefficient2!$A$16:$B$19,2,FALSE))","v":"0"},{"$f":"IF(E3009=1,\"0\",VLOOKUP(E3009,coefficient2!$A$22:$B$25,2,FALSE))","v":5.63998E-2},{"$f":"IF(F3009=1,\"0\",VLOOKUP(F3009,coefficient2!$A$28:$B$31,2,FALSE))","v":9.5753900000000003E-2},0.22673890000000008]
[55124,5,5,1,2,4,17,{"$f":"IF(B3010=1,\"0\",VLOOKUP(B3010,coefficient2!$A$4:$B$7,2,FALSE))","v":0.37123109999999998},{"$f":"IF(C3010=1,\"0\",VLOOKUP(C3010,coefficient2!$A$10:$B$13,2,FALSE))","v":0.2498763},{"$f":"IF(D3010=1,\"0\",VLOOKUP(D3010,coefficient2!$A$16:$B$19,2,FALSE))","v":"0"},{"$f":"IF(E3010=1,\"0\",VLOOKUP(E3010,coefficient2!$A$22:$B$25,2,FALSE))","v":5.63998E-2},{"$f":"IF(F3010=1,\"0\",VLOOKUP(F3010,coefficient2!$A$28:$B$31,2,FALSE))","v":0.23270360000000001},{"$f":"1-H3010-I3010-J3010-K3010-L3010","v":8.9789200000000069E-2}]
[55125,{"$f":"INT(LEFT(A3011,1))","v":5},{"$f":"INT(MID(A3011,2,1))","v":5},{"$f":"INT(MID(A3011,3,1))","v":1},{"$f":"INT(MID(A3011,4,1))","v":2},{"$f":"INT(RIGHT(A3011,1))","v":5},18,{"$f":"IF(B3011=1,\"0\",VLOOKUP(B3011,coefficient2!$A$4:$B$7,2,FALSE))","v":0.37123109999999998},{"$f":"IF(C3011=1,\"0\",VLOOKUP(C3011,coefficient2!$A$10:$B$13,2,FALSE))","v":0.2498763},{"$f":"IF(D3011=1,\"0\",VLOOKUP(D3011,coefficient2!$A$16:$B$19,2,FALSE))","v":"0"},{"$f":"IF(E3011=1,\"0\",VLOOKUP(E3011,coefficient2!$A$22:$B$25,2,FALSE))","v":5.63998E-2},{"$f":"IF(F3011=1,\"0\",VLOOKUP(F3011,coefficient2!$A$28:$B$31,2,FALSE))","v":0.29534929999999998},2.7143500000000098E-2]
[55131,5,5,1,3,1,15,{"$f":"IF(B3012=1,\"0\",VLOOKUP(B3012,coefficient2!$A$4:$B$7,2,FALSE))","v":0.37123109999999998},{"$f":"IF(C3012=1,\"0\",VLOOKUP(C3012,coefficient2!$A$10:$B$13,2,FALSE))","v":0.2498763},{"$f":"IF(D3012=1,\"0\",VLOOKUP(D3012,coefficient2!$A$16:$B$19,2,FALSE))","v":"0"},{"$f":"IF(E3012=1,\"0\",VLOOKUP(E3012,coefficient2!$A$22:$B$25,2,FALSE))","v":6.6492200000000001E-2},{"$f":"IF(F3012=1,\"0\",VLOOKUP(F3012,coefficient2!$A$28:$B$31,2,FALSE))","v":"0"},0.31240040000000008]
[55132,5,5,1,3,2,16,{"$f":"IF(B3013=1,\"0\",VLOOKUP(B3013,coefficient2!$A$4:$B$7,2,FALSE))","v":0.37123109999999998},{"$f":"IF(C3013=1,\"0\",VLOOKUP(C3013,coefficient2!$A$10:$B$13,2,FALSE))","v":0.2498763},{"$f":"IF(D3013=1,\"0\",VLOOKUP(D3013,coefficient2!$A$16:$B$19,2,FALSE))","v":"0"},{"$f":"IF(E3013=1,\"0\",VLOOKUP(E3013,coefficient2!$A$22:$B$25,2,FALSE))","v":6.6492200000000001E-2},{"$f":"IF(F3013=1,\"0\",VLOOKUP(F3013,coefficient2!$A$28:$B$31,2,FALSE))","v":5.8085699999999997E-2},0.25431470000000006]
[55133,5,5,1,3,3,17,{"$f":"IF(B3014=1,\"0\",VLOOKUP(B3014,coefficient2!$A$4:$B$7,2,FALSE))","v":0.37123109999999998},{"$f":"IF(C3014=1,\"0\",VLOOKUP(C3014,coefficient2!$A$10:$B$13,2,FALSE))","v":0.2498763},{"$f":"IF(D3014=1,\"0\",VLOOKUP(D3014,coefficient2!$A$16:$B$19,2,FALSE))","v":"0"},{"$f":"IF(E3014=1,\"0\",VLOOKUP(E3014,coefficient2!$A$22:$B$25,2,FALSE))","v":6.6492200000000001E-2},{"$f":"IF(F3014=1,\"0\",VLOOKUP(F3014,coefficient2!$A$28:$B$31,2,FALSE))","v":9.5753900000000003E-2},0.21664650000000008]
[55134,5,5,1,3,4,18,{"$f":"IF(B3015=1,\"0\",VLOOKUP(B3015,coefficient2!$A$4:$B$7,2,FALSE))","v":0.37123109999999998},{"$f":"IF(C3015=1,\"0\",VLOOKUP(C3015,coefficient2!$A$10:$B$13,2,FALSE))","v":0.2498763},{"$f":"IF(D3015=1,\"0\",VLOOKUP(D3015,coefficient2!$A$16:$B$19,2,FALSE))","v":"0"},{"$f":"IF(E3015=1,\"0\",VLOOKUP(E3015,coefficient2!$A$22:$B$25,2,FALSE))","v":6.6492200000000001E-2},{"$f":"IF(F3015=1,\"0\",VLOOKUP(F3015,coefficient2!$A$28:$B$31,2,FALSE))","v":0.23270360000000001},7.9696800000000068E-2]
[55135,5,5,1,3,5,19,{"$f":"IF(B3016=1,\"0\",VLOOKUP(B3016,coefficient2!$A$4:$B$7,2,FALSE))","v":0.37123109999999998},{"$f":"IF(C3016=1,\"0\",VLOOKUP(C3016,coefficient2!$A$10:$B$13,2,FALSE))","v":0.2498763},{"$f":"IF(D3016=1,\"0\",VLOOKUP(D3016,coefficient2!$A$16:$B$19,2,FALSE))","v":"0"},{"$f":"IF(E3016=1,\"0\",VLOOKUP(E3016,coefficient2!$A$22:$B$25,2,FALSE))","v":6.6492200000000001E-2},{"$f":"IF(F3016=1,\"0\",VLOOKUP(F3016,coefficient2!$A$28:$B$31,2,FALSE))","v":0.29534929999999998},1.7051100000000097E-2]
[55141,5,5,1,4,1,16,{"$f":"IF(B3017=1,\"0\",VLOOKUP(B3017,coefficient2!$A$4:$B$7,2,FALSE))","v":0.37123109999999998},{"$f":"IF(C3017=1,\"0\",VLOOKUP(C3017,coefficient2!$A$10:$B$13,2,FALSE))","v":0.2498763},{"$f":"IF(D3017=1,\"0\",VLOOKUP(D3017,coefficient2!$A$16:$B$19,2,FALSE))","v":"0"},{"$f":"IF(E3017=1,\"0\",VLOOKUP(E3017,coefficient2!$A$22:$B$25,2,FALSE))","v":0.2068864},{"$f":"IF(F3017=1,\"0\",VLOOKUP(F3017,coefficient2!$A$28:$B$31,2,FALSE))","v":"0"},0.17200620000000008]
[55142,5,5,1,4,2,17,{"$f":"IF(B3018=1,\"0\",VLOOKUP(B3018,coefficient2!$A$4:$B$7,2,FALSE))","v":0.37123109999999998},{"$f":"IF(C3018=1,\"0\",VLOOKUP(C3018,coefficient2!$A$10:$B$13,2,FALSE))","v":0.2498763},{"$f":"IF(D3018=1,\"0\",VLOOKUP(D3018,coefficient2!$A$16:$B$19,2,FALSE))","v":"0"},{"$f":"IF(E3018=1,\"0\",VLOOKUP(E3018,coefficient2!$A$22:$B$25,2,FALSE))","v":0.2068864},{"$f":"IF(F3018=1,\"0\",VLOOKUP(F3018,coefficient2!$A$28:$B$31,2,FALSE))","v":5.8085699999999997E-2},0.11392050000000009]
[55143,5,5,1,4,3,18,{"$f":"IF(B3019=1,\"0\",VLOOKUP(B3019,coefficient2!$A$4:$B$7,2,FALSE))","v":0.37123109999999998},{"$f":"IF(C3019=1,\"0\",VLOOKUP(C3019,coefficient2!$A$10:$B$13,2,FALSE))","v":0.2498763},{"$f":"IF(D3019=1,\"0\",VLOOKUP(D3019,coefficient2!$A$16:$B$19,2,FALSE))","v":"0"},{"$f":"IF(E3019=1,\"0\",VLOOKUP(E3019,coefficient2!$A$22:$B$25,2,FALSE))","v":0.2068864},{"$f":"IF(F3019=1,\"0\",VLOOKUP(F3019,coefficient2!$A$28:$B$31,2,FALSE))","v":9.5753900000000003E-2},7.6252300000000078E-2]
[55144,5,5,1,4,4,19,{"$f":"IF(B3020=1,\"0\",VLOOKUP(B3020,coefficient2!$A$4:$B$7,2,FALSE))","v":0.37123109999999998},{"$f":"IF(C3020=1,\"0\",VLOOKUP(C3020,coefficient2!$A$10:$B$13,2,FALSE))","v":0.2498763},{"$f":"IF(D3020=1,\"0\",VLOOKUP(D3020,coefficient2!$A$16:$B$19,2,FALSE))","v":"0"},{"$f":"IF(E3020=1,\"0\",VLOOKUP(E3020,coefficient2!$A$22:$B$25,2,FALSE))","v":0.2068864},{"$f":"IF(F3020=1,\"0\",VLOOKUP(F3020,coefficient2!$A$28:$B$31,2,FALSE))","v":0.23270360000000001},-6.0697399999999929E-2]
[55145,5,5,1,4,5,20,{"$f":"IF(B3021=1,\"0\",VLOOKUP(B3021,coefficient2!$A$4:$B$7,2,FALSE))","v":0.37123109999999998},{"$f":"IF(C3021=1,\"0\",VLOOKUP(C3021,coefficient2!$A$10:$B$13,2,FALSE))","v":0.2498763},{"$f":"IF(D3021=1,\"0\",VLOOKUP(D3021,coefficient2!$A$16:$B$19,2,FALSE))","v":"0"},{"$f":"IF(E3021=1,\"0\",VLOOKUP(E3021,coefficient2!$A$22:$B$25,2,FALSE))","v":0.2068864},{"$f":"IF(F3021=1,\"0\",VLOOKUP(F3021,coefficient2!$A$28:$B$31,2,FALSE))","v":0.29534929999999998},-0.1233430999999999]
[55151,5,5,1,5,1,17,{"$f":"IF(B3022=1,\"0\",VLOOKUP(B3022,coefficient2!$A$4:$B$7,2,FALSE))","v":0.37123109999999998},{"$f":"IF(C3022=1,\"0\",VLOOKUP(C3022,coefficient2!$A$10:$B$13,2,FALSE))","v":0.2498763},{"$f":"IF(D3022=1,\"0\",VLOOKUP(D3022,coefficient2!$A$16:$B$19,2,FALSE))","v":"0"},{"$f":"IF(E3022=1,\"0\",VLOOKUP(E3022,coefficient2!$A$22:$B$25,2,FALSE))","v":0.25643310000000002},{"$f":"IF(F3022=1,\"0\",VLOOKUP(F3022,coefficient2!$A$28:$B$31,2,FALSE))","v":"0"},0.12245950000000005]
[55152,5,5,1,5,2,18,{"$f":"IF(B3023=1,\"0\",VLOOKUP(B3023,coefficient2!$A$4:$B$7,2,FALSE))","v":0.37123109999999998},{"$f":"IF(C3023=1,\"0\",VLOOKUP(C3023,coefficient2!$A$10:$B$13,2,FALSE))","v":0.2498763},{"$f":"IF(D3023=1,\"0\",VLOOKUP(D3023,coefficient2!$A$16:$B$19,2,FALSE))","v":"0"},{"$f":"IF(E3023=1,\"0\",VLOOKUP(E3023,coefficient2!$A$22:$B$25,2,FALSE))","v":0.25643310000000002},{"$f":"IF(F3023=1,\"0\",VLOOKUP(F3023,coefficient2!$A$28:$B$31,2,FALSE))","v":5.8085699999999997E-2},6.4373800000000064E-2]
[55153,5,5,1,5,3,19,{"$f":"IF(B3024=1,\"0\",VLOOKUP(B3024,coefficient2!$A$4:$B$7,2,FALSE))","v":0.37123109999999998},{"$f":"IF(C3024=1,\"0\",VLOOKUP(C3024,coefficient2!$A$10:$B$13,2,FALSE))","v":0.2498763},{"$f":"IF(D3024=1,\"0\",VLOOKUP(D3024,coefficient2!$A$16:$B$19,2,FALSE))","v":"0"},{"$f":"IF(E3024=1,\"0\",VLOOKUP(E3024,coefficient2!$A$22:$B$25,2,FALSE))","v":0.25643310000000002},{"$f":"IF(F3024=1,\"0\",VLOOKUP(F3024,coefficient2!$A$28:$B$31,2,FALSE))","v":9.5753900000000003E-2},2.6705600000000052E-2]
[55154,5,5,1,5,4,20,{"$f":"IF(B3025=1,\"0\",VLOOKUP(B3025,coefficient2!$A$4:$B$7,2,FALSE))","v":0.37123109999999998},{"$f":"IF(C3025=1,\"0\",VLOOKUP(C3025,coefficient2!$A$10:$B$13,2,FALSE))","v":0.2498763},{"$f":"IF(D3025=1,\"0\",VLOOKUP(D3025,coefficient2!$A$16:$B$19,2,FALSE))","v":"0"},{"$f":"IF(E3025=1,\"0\",VLOOKUP(E3025,coefficient2!$A$22:$B$25,2,FALSE))","v":0.25643310000000002},{"$f":"IF(F3025=1,\"0\",VLOOKUP(F3025,coefficient2!$A$28:$B$31,2,FALSE))","v":0.23270360000000001},-0.11024409999999996]
[55155,5,5,1,5,5,21,{"$f":"IF(B3026=1,\"0\",VLOOKUP(B3026,coefficient2!$A$4:$B$7,2,FALSE))","v":0.37123109999999998},{"$f":"IF(C3026=1,\"0\",VLOOKUP(C3026,coefficient2!$A$10:$B$13,2,FALSE))","v":0.2498763},{"$f":"IF(D3026=1,\"0\",VLOOKUP(D3026,coefficient2!$A$16:$B$19,2,FALSE))","v":"0"},{"$f":"IF(E3026=1,\"0\",VLOOKUP(E3026,coefficient2!$A$22:$B$25,2,FALSE))","v":0.25643310000000002},{"$f":"IF(F3026=1,\"0\",VLOOKUP(F3026,coefficient2!$A$28:$B$31,2,FALSE))","v":0.29534929999999998},-0.17288979999999993]
[55211,5,5,2,1,1,14,{"$f":"IF(B3027=1,\"0\",VLOOKUP(B3027,coefficient2!$A$4:$B$7,2,FALSE))","v":0.37123109999999998},{"$f":"IF(C3027=1,\"0\",VLOOKUP(C3027,coefficient2!$A$10:$B$13,2,FALSE))","v":0.2498763},{"$f":"IF(D3027=1,\"0\",VLOOKUP(D3027,coefficient2!$A$16:$B$19,2,FALSE))","v":5.8254399999999998E-2},{"$f":"IF(E3027=1,\"0\",VLOOKUP(E3027,coefficient2!$A$22:$B$25,2,FALSE))","v":"0"},{"$f":"IF(F3027=1,\"0\",VLOOKUP(F3027,coefficient2!$A$28:$B$31,2,FALSE))","v":"0"},0.3206382000000001]
[55212,5,5,2,1,2,15,{"$f":"IF(B3028=1,\"0\",VLOOKUP(B3028,coefficient2!$A$4:$B$7,2,FALSE))","v":0.37123109999999998},{"$f":"IF(C3028=1,\"0\",VLOOKUP(C3028,coefficient2!$A$10:$B$13,2,FALSE))","v":0.2498763},{"$f":"IF(D3028=1,\"0\",VLOOKUP(D3028,coefficient2!$A$16:$B$19,2,FALSE))","v":5.8254399999999998E-2},{"$f":"IF(E3028=1,\"0\",VLOOKUP(E3028,coefficient2!$A$22:$B$25,2,FALSE))","v":"0"},{"$f":"IF(F3028=1,\"0\",VLOOKUP(F3028,coefficient2!$A$28:$B$31,2,FALSE))","v":5.8085699999999997E-2},0.26255250000000008]
[55213,5,5,2,1,3,{"$f":"SUM(B3029:F3029)","v":16},{"$f":"IF(B3029=1,\"0\",VLOOKUP(B3029,coefficient2!$A$4:$B$7,2,FALSE))","v":0.37123109999999998},{"$f":"IF(C3029=1,\"0\",VLOOKUP(C3029,coefficient2!$A$10:$B$13,2,FALSE))","v":0.2498763},{"$f":"IF(D3029=1,\"0\",VLOOKUP(D3029,coefficient2!$A$16:$B$19,2,FALSE))","v":5.8254399999999998E-2},{"$f":"IF(E3029=1,\"0\",VLOOKUP(E3029,coefficient2!$A$22:$B$25,2,FALSE))","v":"0"},{"$f":"IF(F3029=1,\"0\",VLOOKUP(F3029,coefficient2!$A$28:$B$31,2,FALSE))","v":9.5753900000000003E-2},0.22488430000000009]
[55214,5,5,2,1,4,17,{"$f":"IF(B3030=1,\"0\",VLOOKUP(B3030,coefficient2!$A$4:$B$7,2,FALSE))","v":0.37123109999999998},{"$f":"IF(C3030=1,\"0\",VLOOKUP(C3030,coefficient2!$A$10:$B$13,2,FALSE))","v":0.2498763},{"$f":"IF(D3030=1,\"0\",VLOOKUP(D3030,coefficient2!$A$16:$B$19,2,FALSE))","v":5.8254399999999998E-2},{"$f":"IF(E3030=1,\"0\",VLOOKUP(E3030,coefficient2!$A$22:$B$25,2,FALSE))","v":"0"},{"$f":"IF(F3030=1,\"0\",VLOOKUP(F3030,coefficient2!$A$28:$B$31,2,FALSE))","v":0.23270360000000001},8.7934600000000085E-2]
[55215,5,5,2,1,5,18,{"$f":"IF(B3031=1,\"0\",VLOOKUP(B3031,coefficient2!$A$4:$B$7,2,FALSE))","v":0.37123109999999998},{"$f":"IF(C3031=1,\"0\",VLOOKUP(C3031,coefficient2!$A$10:$B$13,2,FALSE))","v":0.2498763},{"$f":"IF(D3031=1,\"0\",VLOOKUP(D3031,coefficient2!$A$16:$B$19,2,FALSE))","v":5.8254399999999998E-2},{"$f":"IF(E3031=1,\"0\",VLOOKUP(E3031,coefficient2!$A$22:$B$25,2,FALSE))","v":"0"},{"$f":"IF(F3031=1,\"0\",VLOOKUP(F3031,coefficient2!$A$28:$B$31,2,FALSE))","v":0.29534929999999998},2.5288900000000114E-2]
[55221,5,5,2,2,1,15,{"$f":"IF(B3032=1,\"0\",VLOOKUP(B3032,coefficient2!$A$4:$B$7,2,FALSE))","v":0.37123109999999998},{"$f":"IF(C3032=1,\"0\",VLOOKUP(C3032,coefficient2!$A$10:$B$13,2,FALSE))","v":0.2498763},{"$f":"IF(D3032=1,\"0\",VLOOKUP(D3032,coefficient2!$A$16:$B$19,2,FALSE))","v":5.8254399999999998E-2},{"$f":"IF(E3032=1,\"0\",VLOOKUP(E3032,coefficient2!$A$22:$B$25,2,FALSE))","v":5.63998E-2},{"$f":"IF(F3032=1,\"0\",VLOOKUP(F3032,coefficient2!$A$28:$B$31,2,FALSE))","v":"0"},0.2642384000000001]
[55222,5,5,2,2,2,16,{"$f":"IF(B3033=1,\"0\",VLOOKUP(B3033,coefficient2!$A$4:$B$7,2,FALSE))","v":0.37123109999999998},{"$f":"IF(C3033=1,\"0\",VLOOKUP(C3033,coefficient2!$A$10:$B$13,2,FALSE))","v":0.2498763},{"$f":"IF(D3033=1,\"0\",VLOOKUP(D3033,coefficient2!$A$16:$B$19,2,FALSE))","v":5.8254399999999998E-2},{"$f":"IF(E3033=1,\"0\",VLOOKUP(E3033,coefficient2!$A$22:$B$25,2,FALSE))","v":5.63998E-2},{"$f":"IF(F3033=1,\"0\",VLOOKUP(F3033,coefficient2!$A$28:$B$31,2,FALSE))","v":5.8085699999999997E-2},0.20615270000000011]
[55223,5,5,2,2,3,17,{"$f":"IF(B3034=1,\"0\",VLOOKUP(B3034,coefficient2!$A$4:$B$7,2,FALSE))","v":0.37123109999999998},{"$f":"IF(C3034=1,\"0\",VLOOKUP(C3034,coefficient2!$A$10:$B$13,2,FALSE))","v":0.2498763},{"$f":"IF(D3034=1,\"0\",VLOOKUP(D3034,coefficient2!$A$16:$B$19,2,FALSE))","v":5.8254399999999998E-2},{"$f":"IF(E3034=1,\"0\",VLOOKUP(E3034,coefficient2!$A$22:$B$25,2,FALSE))","v":5.63998E-2},{"$f":"IF(F3034=1,\"0\",VLOOKUP(F3034,coefficient2!$A$28:$B$31,2,FALSE))","v":9.5753900000000003E-2},0.16848450000000009]
[55224,5,5,2,2,4,18,{"$f":"IF(B3035=1,\"0\",VLOOKUP(B3035,coefficient2!$A$4:$B$7,2,FALSE))","v":0.37123109999999998},{"$f":"IF(C3035=1,\"0\",VLOOKUP(C3035,coefficient2!$A$10:$B$13,2,FALSE))","v":0.2498763},{"$f":"IF(D3035=1,\"0\",VLOOKUP(D3035,coefficient2!$A$16:$B$19,2,FALSE))","v":5.8254399999999998E-2},{"$f":"IF(E3035=1,\"0\",VLOOKUP(E3035,coefficient2!$A$22:$B$25,2,FALSE))","v":5.63998E-2},{"$f":"IF(F3035=1,\"0\",VLOOKUP(F3035,coefficient2!$A$28:$B$31,2,FALSE))","v":0.23270360000000001},3.1534800000000085E-2]
[55225,5,5,2,2,5,19,{"$f":"IF(B3036=1,\"0\",VLOOKUP(B3036,coefficient2!$A$4:$B$7,2,FALSE))","v":0.37123109999999998},{"$f":"IF(C3036=1,\"0\",VLOOKUP(C3036,coefficient2!$A$10:$B$13,2,FALSE))","v":0.2498763},{"$f":"IF(D3036=1,\"0\",VLOOKUP(D3036,coefficient2!$A$16:$B$19,2,FALSE))","v":5.8254399999999998E-2},{"$f":"IF(E3036=1,\"0\",VLOOKUP(E3036,coefficient2!$A$22:$B$25,2,FALSE))","v":5.63998E-2},{"$f":"IF(F3036=1,\"0\",VLOOKUP(F3036,coefficient2!$A$28:$B$31,2,FALSE))","v":0.29534929999999998},-3.1110899999999886E-2]
[55231,5,5,2,3,1,16,{"$f":"IF(B3037=1,\"0\",VLOOKUP(B3037,coefficient2!$A$4:$B$7,2,FALSE))","v":0.37123109999999998},{"$f":"IF(C3037=1,\"0\",VLOOKUP(C3037,coefficient2!$A$10:$B$13,2,FALSE))","v":0.2498763},{"$f":"IF(D3037=1,\"0\",VLOOKUP(D3037,coefficient2!$A$16:$B$19,2,FALSE))","v":5.8254399999999998E-2},{"$f":"IF(E3037=1,\"0\",VLOOKUP(E3037,coefficient2!$A$22:$B$25,2,FALSE))","v":6.6492200000000001E-2},{"$f":"IF(F3037=1,\"0\",VLOOKUP(F3037,coefficient2!$A$28:$B$31,2,FALSE))","v":"0"},0.25414600000000009]
[55232,5,5,2,3,2,17,{"$f":"IF(B3038=1,\"0\",VLOOKUP(B3038,coefficient2!$A$4:$B$7,2,FALSE))","v":0.37123109999999998},{"$f":"IF(C3038=1,\"0\",VLOOKUP(C3038,coefficient2!$A$10:$B$13,2,FALSE))","v":0.2498763},{"$f":"IF(D3038=1,\"0\",VLOOKUP(D3038,coefficient2!$A$16:$B$19,2,FALSE))","v":5.8254399999999998E-2},{"$f":"IF(E3038=1,\"0\",VLOOKUP(E3038,coefficient2!$A$22:$B$25,2,FALSE))","v":6.6492200000000001E-2},{"$f":"IF(F3038=1,\"0\",VLOOKUP(F3038,coefficient2!$A$28:$B$31,2,FALSE))","v":5.8085699999999997E-2},0.1960603000000001]
[55233,5,5,2,3,3,18,{"$f":"IF(B3039=1,\"0\",VLOOKUP(B3039,coefficient2!$A$4:$B$7,2,FALSE))","v":0.37123109999999998},{"$f":"IF(C3039=1,\"0\",VLOOKUP(C3039,coefficient2!$A$10:$B$13,2,FALSE))","v":0.2498763},{"$f":"IF(D3039=1,\"0\",VLOOKUP(D3039,coefficient2!$A$16:$B$19,2,FALSE))","v":5.8254399999999998E-2},{"$f":"IF(E3039=1,\"0\",VLOOKUP(E3039,coefficient2!$A$22:$B$25,2,FALSE))","v":6.6492200000000001E-2},{"$f":"IF(F3039=1,\"0\",VLOOKUP(F3039,coefficient2!$A$28:$B$31,2,FALSE))","v":9.5753900000000003E-2},0.15839210000000009]
[55234,5,5,2,3,4,19,{"$f":"IF(B3040=1,\"0\",VLOOKUP(B3040,coefficient2!$A$4:$B$7,2,FALSE))","v":0.37123109999999998},{"$f":"IF(C3040=1,\"0\",VLOOKUP(C3040,coefficient2!$A$10:$B$13,2,FALSE))","v":0.2498763},{"$f":"IF(D3040=1,\"0\",VLOOKUP(D3040,coefficient2!$A$16:$B$19,2,FALSE))","v":5.8254399999999998E-2},{"$f":"IF(E3040=1,\"0\",VLOOKUP(E3040,coefficient2!$A$22:$B$25,2,FALSE))","v":6.6492200000000001E-2},{"$f":"IF(F3040=1,\"0\",VLOOKUP(F3040,coefficient2!$A$28:$B$31,2,FALSE))","v":0.23270360000000001},2.1442400000000084E-2]
[55235,5,5,2,3,5,20,{"$f":"IF(B3041=1,\"0\",VLOOKUP(B3041,coefficient2!$A$4:$B$7,2,FALSE))","v":0.37123109999999998},{"$f":"IF(C3041=1,\"0\",VLOOKUP(C3041,coefficient2!$A$10:$B$13,2,FALSE))","v":0.2498763},{"$f":"IF(D3041=1,\"0\",VLOOKUP(D3041,coefficient2!$A$16:$B$19,2,FALSE))","v":5.8254399999999998E-2},{"$f":"IF(E3041=1,\"0\",VLOOKUP(E3041,coefficient2!$A$22:$B$25,2,FALSE))","v":6.6492200000000001E-2},{"$f":"IF(F3041=1,\"0\",VLOOKUP(F3041,coefficient2!$A$28:$B$31,2,FALSE))","v":0.29534929999999998},-4.1203299999999887E-2]
[55241,5,5,2,4,1,17,{"$f":"IF(B3042=1,\"0\",VLOOKUP(B3042,coefficient2!$A$4:$B$7,2,FALSE))","v":0.37123109999999998},{"$f":"IF(C3042=1,\"0\",VLOOKUP(C3042,coefficient2!$A$10:$B$13,2,FALSE))","v":0.2498763},{"$f":"IF(D3042=1,\"0\",VLOOKUP(D3042,coefficient2!$A$16:$B$19,2,FALSE))","v":5.8254399999999998E-2},{"$f":"IF(E3042=1,\"0\",VLOOKUP(E3042,coefficient2!$A$22:$B$25,2,FALSE))","v":0.2068864},{"$f":"IF(F3042=1,\"0\",VLOOKUP(F3042,coefficient2!$A$28:$B$31,2,FALSE))","v":"0"},0.1137518000000001]
[55242,5,5,2,4,2,18,{"$f":"IF(B3043=1,\"0\",VLOOKUP(B3043,coefficient2!$A$4:$B$7,2,FALSE))","v":0.37123109999999998},{"$f":"IF(C3043=1,\"0\",VLOOKUP(C3043,coefficient2!$A$10:$B$13,2,FALSE))","v":0.2498763},{"$f":"IF(D3043=1,\"0\",VLOOKUP(D3043,coefficient2!$A$16:$B$19,2,FALSE))","v":5.8254399999999998E-2},{"$f":"IF(E3043=1,\"0\",VLOOKUP(E3043,coefficient2!$A$22:$B$25,2,FALSE))","v":0.2068864},{"$f":"IF(F3043=1,\"0\",VLOOKUP(F3043,coefficient2!$A$28:$B$31,2,FALSE))","v":5.8085699999999997E-2},5.56661000000001E-2]
[55243,5,5,2,4,3,19,{"$f":"IF(B3044=1,\"0\",VLOOKUP(B3044,coefficient2!$A$4:$B$7,2,FALSE))","v":0.37123109999999998},{"$f":"IF(C3044=1,\"0\",VLOOKUP(C3044,coefficient2!$A$10:$B$13,2,FALSE))","v":0.2498763},{"$f":"IF(D3044=1,\"0\",VLOOKUP(D3044,coefficient2!$A$16:$B$19,2,FALSE))","v":5.8254399999999998E-2},{"$f":"IF(E3044=1,\"0\",VLOOKUP(E3044,coefficient2!$A$22:$B$25,2,FALSE))","v":0.2068864},{"$f":"IF(F3044=1,\"0\",VLOOKUP(F3044,coefficient2!$A$28:$B$31,2,FALSE))","v":9.5753900000000003E-2},1.7997900000000094E-2]
[55244,5,5,2,4,4,20,{"$f":"IF(B3045=1,\"0\",VLOOKUP(B3045,coefficient2!$A$4:$B$7,2,FALSE))","v":0.37123109999999998},{"$f":"IF(C3045=1,\"0\",VLOOKUP(C3045,coefficient2!$A$10:$B$13,2,FALSE))","v":0.2498763},{"$f":"IF(D3045=1,\"0\",VLOOKUP(D3045,coefficient2!$A$16:$B$19,2,FALSE))","v":5.8254399999999998E-2},{"$f":"IF(E3045=1,\"0\",VLOOKUP(E3045,coefficient2!$A$22:$B$25,2,FALSE))","v":0.2068864},{"$f":"IF(F3045=1,\"0\",VLOOKUP(F3045,coefficient2!$A$28:$B$31,2,FALSE))","v":0.23270360000000001},-0.11895179999999991]
[55245,5,5,2,4,5,21,{"$f":"IF(B3046=1,\"0\",VLOOKUP(B3046,coefficient2!$A$4:$B$7,2,FALSE))","v":0.37123109999999998},{"$f":"IF(C3046=1,\"0\",VLOOKUP(C3046,coefficient2!$A$10:$B$13,2,FALSE))","v":0.2498763},{"$f":"IF(D3046=1,\"0\",VLOOKUP(D3046,coefficient2!$A$16:$B$19,2,FALSE))","v":5.8254399999999998E-2},{"$f":"IF(E3046=1,\"0\",VLOOKUP(E3046,coefficient2!$A$22:$B$25,2,FALSE))","v":0.2068864},{"$f":"IF(F3046=1,\"0\",VLOOKUP(F3046,coefficient2!$A$28:$B$31,2,FALSE))","v":0.29534929999999998},-0.18159749999999988]
[55251,5,5,2,5,1,18,{"$f":"IF(B3047=1,\"0\",VLOOKUP(B3047,coefficient2!$A$4:$B$7,2,FALSE))","v":0.37123109999999998},{"$f":"IF(C3047=1,\"0\",VLOOKUP(C3047,coefficient2!$A$10:$B$13,2,FALSE))","v":0.2498763},{"$f":"IF(D3047=1,\"0\",VLOOKUP(D3047,coefficient2!$A$16:$B$19,2,FALSE))","v":5.8254399999999998E-2},{"$f":"IF(E3047=1,\"0\",VLOOKUP(E3047,coefficient2!$A$22:$B$25,2,FALSE))","v":0.25643310000000002},{"$f":"IF(F3047=1,\"0\",VLOOKUP(F3047,coefficient2!$A$28:$B$31,2,FALSE))","v":"0"},6.420510000000007E-2]
[55252,5,5,2,5,2,19,{"$f":"IF(B3048=1,\"0\",VLOOKUP(B3048,coefficient2!$A$4:$B$7,2,FALSE))","v":0.37123109999999998},{"$f":"IF(C3048=1,\"0\",VLOOKUP(C3048,coefficient2!$A$10:$B$13,2,FALSE))","v":0.2498763},{"$f":"IF(D3048=1,\"0\",VLOOKUP(D3048,coefficient2!$A$16:$B$19,2,FALSE))","v":5.8254399999999998E-2},{"$f":"IF(E3048=1,\"0\",VLOOKUP(E3048,coefficient2!$A$22:$B$25,2,FALSE))","v":0.25643310000000002},{"$f":"IF(F3048=1,\"0\",VLOOKUP(F3048,coefficient2!$A$28:$B$31,2,FALSE))","v":5.8085699999999997E-2},6.1194000000000734E-3]
[55253,5,5,2,5,3,20,{"$f":"IF(B3049=1,\"0\",VLOOKUP(B3049,coefficient2!$A$4:$B$7,2,FALSE))","v":0.37123109999999998},{"$f":"IF(C3049=1,\"0\",VLOOKUP(C3049,coefficient2!$A$10:$B$13,2,FALSE))","v":0.2498763},{"$f":"IF(D3049=1,\"0\",VLOOKUP(D3049,coefficient2!$A$16:$B$19,2,FALSE))","v":5.8254399999999998E-2},{"$f":"IF(E3049=1,\"0\",VLOOKUP(E3049,coefficient2!$A$22:$B$25,2,FALSE))","v":0.25643310000000002},{"$f":"IF(F3049=1,\"0\",VLOOKUP(F3049,coefficient2!$A$28:$B$31,2,FALSE))","v":9.5753900000000003E-2},-3.1548799999999932E-2]
[55254,5,5,2,5,4,21,{"$f":"IF(B3050=1,\"0\",VLOOKUP(B3050,coefficient2!$A$4:$B$7,2,FALSE))","v":0.37123109999999998},{"$f":"IF(C3050=1,\"0\",VLOOKUP(C3050,coefficient2!$A$10:$B$13,2,FALSE))","v":0.2498763},{"$f":"IF(D3050=1,\"0\",VLOOKUP(D3050,coefficient2!$A$16:$B$19,2,FALSE))","v":5.8254399999999998E-2},{"$f":"IF(E3050=1,\"0\",VLOOKUP(E3050,coefficient2!$A$22:$B$25,2,FALSE))","v":0.25643310000000002},{"$f":"IF(F3050=1,\"0\",VLOOKUP(F3050,coefficient2!$A$28:$B$31,2,FALSE))","v":0.23270360000000001},-0.16849849999999994]
[55255,5,5,2,5,5,22,{"$f":"IF(B3051=1,\"0\",VLOOKUP(B3051,coefficient2!$A$4:$B$7,2,FALSE))","v":0.37123109999999998},{"$f":"IF(C3051=1,\"0\",VLOOKUP(C3051,coefficient2!$A$10:$B$13,2,FALSE))","v":0.2498763},{"$f":"IF(D3051=1,\"0\",VLOOKUP(D3051,coefficient2!$A$16:$B$19,2,FALSE))","v":5.8254399999999998E-2},{"$f":"IF(E3051=1,\"0\",VLOOKUP(E3051,coefficient2!$A$22:$B$25,2,FALSE))","v":0.25643310000000002},{"$f":"IF(F3051=1,\"0\",VLOOKUP(F3051,coefficient2!$A$28:$B$31,2,FALSE))","v":0.29534929999999998},-0.23114419999999991]
[55311,5,5,3,1,1,15,{"$f":"IF(B3052=1,\"0\",VLOOKUP(B3052,coefficient2!$A$4:$B$7,2,FALSE))","v":0.37123109999999998},{"$f":"IF(C3052=1,\"0\",VLOOKUP(C3052,coefficient2!$A$10:$B$13,2,FALSE))","v":0.2498763},{"$f":"IF(D3052=1,\"0\",VLOOKUP(D3052,coefficient2!$A$16:$B$19,2,FALSE))","v":7.1197399999999994E-2},{"$f":"IF(E3052=1,\"0\",VLOOKUP(E3052,coefficient2!$A$22:$B$25,2,FALSE))","v":"0"},{"$f":"IF(F3052=1,\"0\",VLOOKUP(F3052,coefficient2!$A$28:$B$31,2,FALSE))","v":"0"},0.30769520000000006]
[55312,5,5,3,1,2,16,{"$f":"IF(B3053=1,\"0\",VLOOKUP(B3053,coefficient2!$A$4:$B$7,2,FALSE))","v":0.37123109999999998},{"$f":"IF(C3053=1,\"0\",VLOOKUP(C3053,coefficient2!$A$10:$B$13,2,FALSE))","v":0.2498763},{"$f":"IF(D3053=1,\"0\",VLOOKUP(D3053,coefficient2!$A$16:$B$19,2,FALSE))","v":7.1197399999999994E-2},{"$f":"IF(E3053=1,\"0\",VLOOKUP(E3053,coefficient2!$A$22:$B$25,2,FALSE))","v":"0"},{"$f":"IF(F3053=1,\"0\",VLOOKUP(F3053,coefficient2!$A$28:$B$31,2,FALSE))","v":5.8085699999999997E-2},0.24960950000000007]
[55313,5,5,3,1,3,17,{"$f":"IF(B3054=1,\"0\",VLOOKUP(B3054,coefficient2!$A$4:$B$7,2,FALSE))","v":0.37123109999999998},{"$f":"IF(C3054=1,\"0\",VLOOKUP(C3054,coefficient2!$A$10:$B$13,2,FALSE))","v":0.2498763},{"$f":"IF(D3054=1,\"0\",VLOOKUP(D3054,coefficient2!$A$16:$B$19,2,FALSE))","v":7.1197399999999994E-2},{"$f":"IF(E3054=1,\"0\",VLOOKUP(E3054,coefficient2!$A$22:$B$25,2,FALSE))","v":"0"},{"$f":"IF(F3054=1,\"0\",VLOOKUP(F3054,coefficient2!$A$28:$B$31,2,FALSE))","v":9.5753900000000003E-2},0.21194130000000005]
[55314,5,5,3,1,4,18,{"$f":"IF(B3055=1,\"0\",VLOOKUP(B3055,coefficient2!$A$4:$B$7,2,FALSE))","v":0.37123109999999998},{"$f":"IF(C3055=1,\"0\",VLOOKUP(C3055,coefficient2!$A$10:$B$13,2,FALSE))","v":0.2498763},{"$f":"IF(D3055=1,\"0\",VLOOKUP(D3055,coefficient2!$A$16:$B$19,2,FALSE))","v":7.1197399999999994E-2},{"$f":"IF(E3055=1,\"0\",VLOOKUP(E3055,coefficient2!$A$22:$B$25,2,FALSE))","v":"0"},{"$f":"IF(F3055=1,\"0\",VLOOKUP(F3055,coefficient2!$A$28:$B$31,2,FALSE))","v":0.23270360000000001},7.4991600000000047E-2]
[55315,5,5,3,1,5,19,{"$f":"IF(B3056=1,\"0\",VLOOKUP(B3056,coefficient2!$A$4:$B$7,2,FALSE))","v":0.37123109999999998},{"$f":"IF(C3056=1,\"0\",VLOOKUP(C3056,coefficient2!$A$10:$B$13,2,FALSE))","v":0.2498763},{"$f":"IF(D3056=1,\"0\",VLOOKUP(D3056,coefficient2!$A$16:$B$19,2,FALSE))","v":7.1197399999999994E-2},{"$f":"IF(E3056=1,\"0\",VLOOKUP(E3056,coefficient2!$A$22:$B$25,2,FALSE))","v":"0"},{"$f":"IF(F3056=1,\"0\",VLOOKUP(F3056,coefficient2!$A$28:$B$31,2,FALSE))","v":0.29534929999999998},1.2345900000000076E-2]
[55321,5,5,3,2,1,16,{"$f":"IF(B3057=1,\"0\",VLOOKUP(B3057,coefficient2!$A$4:$B$7,2,FALSE))","v":0.37123109999999998},{"$f":"IF(C3057=1,\"0\",VLOOKUP(C3057,coefficient2!$A$10:$B$13,2,FALSE))","v":0.2498763},{"$f":"IF(D3057=1,\"0\",VLOOKUP(D3057,coefficient2!$A$16:$B$19,2,FALSE))","v":7.1197399999999994E-2},{"$f":"IF(E3057=1,\"0\",VLOOKUP(E3057,coefficient2!$A$22:$B$25,2,FALSE))","v":5.63998E-2},{"$f":"IF(F3057=1,\"0\",VLOOKUP(F3057,coefficient2!$A$28:$B$31,2,FALSE))","v":"0"},0.25129540000000006]
[55322,5,5,3,2,2,17,{"$f":"IF(B3058=1,\"0\",VLOOKUP(B3058,coefficient2!$A$4:$B$7,2,FALSE))","v":0.37123109999999998},{"$f":"IF(C3058=1,\"0\",VLOOKUP(C3058,coefficient2!$A$10:$B$13,2,FALSE))","v":0.2498763},{"$f":"IF(D3058=1,\"0\",VLOOKUP(D3058,coefficient2!$A$16:$B$19,2,FALSE))","v":7.1197399999999994E-2},{"$f":"IF(E3058=1,\"0\",VLOOKUP(E3058,coefficient2!$A$22:$B$25,2,FALSE))","v":5.63998E-2},{"$f":"IF(F3058=1,\"0\",VLOOKUP(F3058,coefficient2!$A$28:$B$31,2,FALSE))","v":5.8085699999999997E-2},0.19320970000000007]
[55323,5,5,3,2,3,18,{"$f":"IF(B3059=1,\"0\",VLOOKUP(B3059,coefficient2!$A$4:$B$7,2,FALSE))","v":0.37123109999999998},{"$f":"IF(C3059=1,\"0\",VLOOKUP(C3059,coefficient2!$A$10:$B$13,2,FALSE))","v":0.2498763},{"$f":"IF(D3059=1,\"0\",VLOOKUP(D3059,coefficient2!$A$16:$B$19,2,FALSE))","v":7.1197399999999994E-2},{"$f":"IF(E3059=1,\"0\",VLOOKUP(E3059,coefficient2!$A$22:$B$25,2,FALSE))","v":5.63998E-2},{"$f":"IF(F3059=1,\"0\",VLOOKUP(F3059,coefficient2!$A$28:$B$31,2,FALSE))","v":9.5753900000000003E-2},0.15554150000000005]
[55324,5,5,3,2,4,19,{"$f":"IF(B3060=1,\"0\",VLOOKUP(B3060,coefficient2!$A$4:$B$7,2,FALSE))","v":0.37123109999999998},{"$f":"IF(C3060=1,\"0\",VLOOKUP(C3060,coefficient2!$A$10:$B$13,2,FALSE))","v":0.2498763},{"$f":"IF(D3060=1,\"0\",VLOOKUP(D3060,coefficient2!$A$16:$B$19,2,FALSE))","v":7.1197399999999994E-2},{"$f":"IF(E3060=1,\"0\",VLOOKUP(E3060,coefficient2!$A$22:$B$25,2,FALSE))","v":5.63998E-2},{"$f":"IF(F3060=1,\"0\",VLOOKUP(F3060,coefficient2!$A$28:$B$31,2,FALSE))","v":0.23270360000000001},1.8591800000000047E-2]
[55325,5,5,3,2,5,20,{"$f":"IF(B3061=1,\"0\",VLOOKUP(B3061,coefficient2!$A$4:$B$7,2,FALSE))","v":0.37123109999999998},{"$f":"IF(C3061=1,\"0\",VLOOKUP(C3061,coefficient2!$A$10:$B$13,2,FALSE))","v":0.2498763},{"$f":"IF(D3061=1,\"0\",VLOOKUP(D3061,coefficient2!$A$16:$B$19,2,FALSE))","v":7.1197399999999994E-2},{"$f":"IF(E3061=1,\"0\",VLOOKUP(E3061,coefficient2!$A$22:$B$25,2,FALSE))","v":5.63998E-2},{"$f":"IF(F3061=1,\"0\",VLOOKUP(F3061,coefficient2!$A$28:$B$31,2,FALSE))","v":0.29534929999999998},-4.4053899999999924E-2]
[55331,5,5,3,3,1,17,{"$f":"IF(B3062=1,\"0\",VLOOKUP(B3062,coefficient2!$A$4:$B$7,2,FALSE))","v":0.37123109999999998},{"$f":"IF(C3062=1,\"0\",VLOOKUP(C3062,coefficient2!$A$10:$B$13,2,FALSE))","v":0.2498763},{"$f":"IF(D3062=1,\"0\",VLOOKUP(D3062,coefficient2!$A$16:$B$19,2,FALSE))","v":7.1197399999999994E-2},{"$f":"IF(E3062=1,\"0\",VLOOKUP(E3062,coefficient2!$A$22:$B$25,2,FALSE))","v":6.6492200000000001E-2},{"$f":"IF(F3062=1,\"0\",VLOOKUP(F3062,coefficient2!$A$28:$B$31,2,FALSE))","v":"0"},0.24120300000000006]
[55332,5,5,3,3,2,18,{"$f":"IF(B3063=1,\"0\",VLOOKUP(B3063,coefficient2!$A$4:$B$7,2,FALSE))","v":0.37123109999999998},{"$f":"IF(C3063=1,\"0\",VLOOKUP(C3063,coefficient2!$A$10:$B$13,2,FALSE))","v":0.2498763},{"$f":"IF(D3063=1,\"0\",VLOOKUP(D3063,coefficient2!$A$16:$B$19,2,FALSE))","v":7.1197399999999994E-2},{"$f":"IF(E3063=1,\"0\",VLOOKUP(E3063,coefficient2!$A$22:$B$25,2,FALSE))","v":6.6492200000000001E-2},{"$f":"IF(F3063=1,\"0\",VLOOKUP(F3063,coefficient2!$A$28:$B$31,2,FALSE))","v":5.8085699999999997E-2},0.18311730000000007]
[55333,5,5,3,3,3,19,{"$f":"IF(B3064=1,\"0\",VLOOKUP(B3064,coefficient2!$A$4:$B$7,2,FALSE))","v":0.37123109999999998},{"$f":"IF(C3064=1,\"0\",VLOOKUP(C3064,coefficient2!$A$10:$B$13,2,FALSE))","v":0.2498763},{"$f":"IF(D3064=1,\"0\",VLOOKUP(D3064,coefficient2!$A$16:$B$19,2,FALSE))","v":7.1197399999999994E-2},{"$f":"IF(E3064=1,\"0\",VLOOKUP(E3064,coefficient2!$A$22:$B$25,2,FALSE))","v":6.6492200000000001E-2},{"$f":"IF(F3064=1,\"0\",VLOOKUP(F3064,coefficient2!$A$28:$B$31,2,FALSE))","v":9.5753900000000003E-2},0.14544910000000005]
[55334,5,5,3,3,4,20,{"$f":"IF(B3065=1,\"0\",VLOOKUP(B3065,coefficient2!$A$4:$B$7,2,FALSE))","v":0.37123109999999998},{"$f":"IF(C3065=1,\"0\",VLOOKUP(C3065,coefficient2!$A$10:$B$13,2,FALSE))","v":0.2498763},{"$f":"IF(D3065=1,\"0\",VLOOKUP(D3065,coefficient2!$A$16:$B$19,2,FALSE))","v":7.1197399999999994E-2},{"$f":"IF(E3065=1,\"0\",VLOOKUP(E3065,coefficient2!$A$22:$B$25,2,FALSE))","v":6.6492200000000001E-2},{"$f":"IF(F3065=1,\"0\",VLOOKUP(F3065,coefficient2!$A$28:$B$31,2,FALSE))","v":0.23270360000000001},8.4994000000000458E-3]
[55335,5,5,3,3,5,21,{"$f":"IF(B3066=1,\"0\",VLOOKUP(B3066,coefficient2!$A$4:$B$7,2,FALSE))","v":0.37123109999999998},{"$f":"IF(C3066=1,\"0\",VLOOKUP(C3066,coefficient2!$A$10:$B$13,2,FALSE))","v":0.2498763},{"$f":"IF(D3066=1,\"0\",VLOOKUP(D3066,coefficient2!$A$16:$B$19,2,FALSE))","v":7.1197399999999994E-2},{"$f":"IF(E3066=1,\"0\",VLOOKUP(E3066,coefficient2!$A$22:$B$25,2,FALSE))","v":6.6492200000000001E-2},{"$f":"IF(F3066=1,\"0\",VLOOKUP(F3066,coefficient2!$A$28:$B$31,2,FALSE))","v":0.29534929999999998},-5.4146299999999925E-2]
[55341,5,5,3,4,1,18,{"$f":"IF(B3067=1,\"0\",VLOOKUP(B3067,coefficient2!$A$4:$B$7,2,FALSE))","v":0.37123109999999998},{"$f":"IF(C3067=1,\"0\",VLOOKUP(C3067,coefficient2!$A$10:$B$13,2,FALSE))","v":0.2498763},{"$f":"IF(D3067=1,\"0\",VLOOKUP(D3067,coefficient2!$A$16:$B$19,2,FALSE))","v":7.1197399999999994E-2},{"$f":"IF(E3067=1,\"0\",VLOOKUP(E3067,coefficient2!$A$22:$B$25,2,FALSE))","v":0.2068864},{"$f":"IF(F3067=1,\"0\",VLOOKUP(F3067,coefficient2!$A$28:$B$31,2,FALSE))","v":"0"},0.10080880000000006]
[55342,5,5,3,4,2,19,{"$f":"IF(B3068=1,\"0\",VLOOKUP(B3068,coefficient2!$A$4:$B$7,2,FALSE))","v":0.37123109999999998},{"$f":"IF(C3068=1,\"0\",VLOOKUP(C3068,coefficient2!$A$10:$B$13,2,FALSE))","v":0.2498763},{"$f":"IF(D3068=1,\"0\",VLOOKUP(D3068,coefficient2!$A$16:$B$19,2,FALSE))","v":7.1197399999999994E-2},{"$f":"IF(E3068=1,\"0\",VLOOKUP(E3068,coefficient2!$A$22:$B$25,2,FALSE))","v":0.2068864},{"$f":"IF(F3068=1,\"0\",VLOOKUP(F3068,coefficient2!$A$28:$B$31,2,FALSE))","v":5.8085699999999997E-2},4.2723100000000062E-2]
[55343,5,5,3,4,3,20,{"$f":"IF(B3069=1,\"0\",VLOOKUP(B3069,coefficient2!$A$4:$B$7,2,FALSE))","v":0.37123109999999998},{"$f":"IF(C3069=1,\"0\",VLOOKUP(C3069,coefficient2!$A$10:$B$13,2,FALSE))","v":0.2498763},{"$f":"IF(D3069=1,\"0\",VLOOKUP(D3069,coefficient2!$A$16:$B$19,2,FALSE))","v":7.1197399999999994E-2},{"$f":"IF(E3069=1,\"0\",VLOOKUP(E3069,coefficient2!$A$22:$B$25,2,FALSE))","v":0.2068864},{"$f":"IF(F3069=1,\"0\",VLOOKUP(F3069,coefficient2!$A$28:$B$31,2,FALSE))","v":9.5753900000000003E-2},5.0549000000000566E-3]
[55344,5,5,3,4,4,21,{"$f":"IF(B3070=1,\"0\",VLOOKUP(B3070,coefficient2!$A$4:$B$7,2,FALSE))","v":0.37123109999999998},{"$f":"IF(C3070=1,\"0\",VLOOKUP(C3070,coefficient2!$A$10:$B$13,2,FALSE))","v":0.2498763},{"$f":"IF(D3070=1,\"0\",VLOOKUP(D3070,coefficient2!$A$16:$B$19,2,FALSE))","v":7.1197399999999994E-2},{"$f":"IF(E3070=1,\"0\",VLOOKUP(E3070,coefficient2!$A$22:$B$25,2,FALSE))","v":0.2068864},{"$f":"IF(F3070=1,\"0\",VLOOKUP(F3070,coefficient2!$A$28:$B$31,2,FALSE))","v":0.23270360000000001},-0.13189479999999995]
[55345,5,5,3,4,5,22,{"$f":"IF(B3071=1,\"0\",VLOOKUP(B3071,coefficient2!$A$4:$B$7,2,FALSE))","v":0.37123109999999998},{"$f":"IF(C3071=1,\"0\",VLOOKUP(C3071,coefficient2!$A$10:$B$13,2,FALSE))","v":0.2498763},{"$f":"IF(D3071=1,\"0\",VLOOKUP(D3071,coefficient2!$A$16:$B$19,2,FALSE))","v":7.1197399999999994E-2},{"$f":"IF(E3071=1,\"0\",VLOOKUP(E3071,coefficient2!$A$22:$B$25,2,FALSE))","v":0.2068864},{"$f":"IF(F3071=1,\"0\",VLOOKUP(F3071,coefficient2!$A$28:$B$31,2,FALSE))","v":0.29534929999999998},-0.19454049999999992]
[55351,5,5,3,5,1,19,{"$f":"IF(B3072=1,\"0\",VLOOKUP(B3072,coefficient2!$A$4:$B$7,2,FALSE))","v":0.37123109999999998},{"$f":"IF(C3072=1,\"0\",VLOOKUP(C3072,coefficient2!$A$10:$B$13,2,FALSE))","v":0.2498763},{"$f":"IF(D3072=1,\"0\",VLOOKUP(D3072,coefficient2!$A$16:$B$19,2,FALSE))","v":7.1197399999999994E-2},{"$f":"IF(E3072=1,\"0\",VLOOKUP(E3072,coefficient2!$A$22:$B$25,2,FALSE))","v":0.25643310000000002},{"$f":"IF(F3072=1,\"0\",VLOOKUP(F3072,coefficient2!$A$28:$B$31,2,FALSE))","v":"0"},5.1262100000000033E-2]
[55352,5,5,3,5,2,20,{"$f":"IF(B3073=1,\"0\",VLOOKUP(B3073,coefficient2!$A$4:$B$7,2,FALSE))","v":0.37123109999999998},{"$f":"IF(C3073=1,\"0\",VLOOKUP(C3073,coefficient2!$A$10:$B$13,2,FALSE))","v":0.2498763},{"$f":"IF(D3073=1,\"0\",VLOOKUP(D3073,coefficient2!$A$16:$B$19,2,FALSE))","v":7.1197399999999994E-2},{"$f":"IF(E3073=1,\"0\",VLOOKUP(E3073,coefficient2!$A$22:$B$25,2,FALSE))","v":0.25643310000000002},{"$f":"IF(F3073=1,\"0\",VLOOKUP(F3073,coefficient2!$A$28:$B$31,2,FALSE))","v":5.8085699999999997E-2},-6.8235999999999644E-3]
[55353,5,5,3,5,3,21,{"$f":"IF(B3074=1,\"0\",VLOOKUP(B3074,coefficient2!$A$4:$B$7,2,FALSE))","v":0.37123109999999998},{"$f":"IF(C3074=1,\"0\",VLOOKUP(C3074,coefficient2!$A$10:$B$13,2,FALSE))","v":0.2498763},{"$f":"IF(D3074=1,\"0\",VLOOKUP(D3074,coefficient2!$A$16:$B$19,2,FALSE))","v":7.1197399999999994E-2},{"$f":"IF(E3074=1,\"0\",VLOOKUP(E3074,coefficient2!$A$22:$B$25,2,FALSE))","v":0.25643310000000002},{"$f":"IF(F3074=1,\"0\",VLOOKUP(F3074,coefficient2!$A$28:$B$31,2,FALSE))","v":9.5753900000000003E-2},{"$f":"1-H3074-I3074-J3074-K3074-L3074","v":-4.449179999999997E-2}]
[55354,{"$f":"INT(LEFT(A3075,1))","v":5},{"$f":"INT(MID(A3075,2,1))","v":5},{"$f":"INT(MID(A3075,3,1))","v":3},{"$f":"INT(MID(A3075,4,1))","v":5},{"$f":"INT(RIGHT(A3075,1))","v":4},22,{"$f":"IF(B3075=1,\"0\",VLOOKUP(B3075,coefficient2!$A$4:$B$7,2,FALSE))","v":0.37123109999999998},{"$f":"IF(C3075=1,\"0\",VLOOKUP(C3075,coefficient2!$A$10:$B$13,2,FALSE))","v":0.2498763},{"$f":"IF(D3075=1,\"0\",VLOOKUP(D3075,coefficient2!$A$16:$B$19,2,FALSE))","v":7.1197399999999994E-2},{"$f":"IF(E3075=1,\"0\",VLOOKUP(E3075,coefficient2!$A$22:$B$25,2,FALSE))","v":0.25643310000000002},{"$f":"IF(F3075=1,\"0\",VLOOKUP(F3075,coefficient2!$A$28:$B$31,2,FALSE))","v":0.23270360000000001},-0.18144149999999998]
[55355,5,5,3,5,5,23,{"$f":"IF(B3076=1,\"0\",VLOOKUP(B3076,coefficient2!$A$4:$B$7,2,FALSE))","v":0.37123109999999998},{"$f":"IF(C3076=1,\"0\",VLOOKUP(C3076,coefficient2!$A$10:$B$13,2,FALSE))","v":0.2498763},{"$f":"IF(D3076=1,\"0\",VLOOKUP(D3076,coefficient2!$A$16:$B$19,2,FALSE))","v":7.1197399999999994E-2},{"$f":"IF(E3076=1,\"0\",VLOOKUP(E3076,coefficient2!$A$22:$B$25,2,FALSE))","v":0.25643310000000002},{"$f":"IF(F3076=1,\"0\",VLOOKUP(F3076,coefficient2!$A$28:$B$31,2,FALSE))","v":0.29534929999999998},-0.24408719999999995]
[55411,5,5,4,1,1,16,{"$f":"IF(B3077=1,\"0\",VLOOKUP(B3077,coefficient2!$A$4:$B$7,2,FALSE))","v":0.37123109999999998},{"$f":"IF(C3077=1,\"0\",VLOOKUP(C3077,coefficient2!$A$10:$B$13,2,FALSE))","v":0.2498763},{"$f":"IF(D3077=1,\"0\",VLOOKUP(D3077,coefficient2!$A$16:$B$19,2,FALSE))","v":0.1534855},{"$f":"IF(E3077=1,\"0\",VLOOKUP(E3077,coefficient2!$A$22:$B$25,2,FALSE))","v":"0"},{"$f":"IF(F3077=1,\"0\",VLOOKUP(F3077,coefficient2!$A$28:$B$31,2,FALSE))","v":"0"},0.22540710000000008]
[55412,5,5,4,1,2,17,{"$f":"IF(B3078=1,\"0\",VLOOKUP(B3078,coefficient2!$A$4:$B$7,2,FALSE))","v":0.37123109999999998},{"$f":"IF(C3078=1,\"0\",VLOOKUP(C3078,coefficient2!$A$10:$B$13,2,FALSE))","v":0.2498763},{"$f":"IF(D3078=1,\"0\",VLOOKUP(D3078,coefficient2!$A$16:$B$19,2,FALSE))","v":0.1534855},{"$f":"IF(E3078=1,\"0\",VLOOKUP(E3078,coefficient2!$A$22:$B$25,2,FALSE))","v":"0"},{"$f":"IF(F3078=1,\"0\",VLOOKUP(F3078,coefficient2!$A$28:$B$31,2,FALSE))","v":5.8085699999999997E-2},0.16732140000000009]
[55413,5,5,4,1,3,18,{"$f":"IF(B3079=1,\"0\",VLOOKUP(B3079,coefficient2!$A$4:$B$7,2,FALSE))","v":0.37123109999999998},{"$f":"IF(C3079=1,\"0\",VLOOKUP(C3079,coefficient2!$A$10:$B$13,2,FALSE))","v":0.2498763},{"$f":"IF(D3079=1,\"0\",VLOOKUP(D3079,coefficient2!$A$16:$B$19,2,FALSE))","v":0.1534855},{"$f":"IF(E3079=1,\"0\",VLOOKUP(E3079,coefficient2!$A$22:$B$25,2,FALSE))","v":"0"},{"$f":"IF(F3079=1,\"0\",VLOOKUP(F3079,coefficient2!$A$28:$B$31,2,FALSE))","v":9.5753900000000003E-2},0.12965320000000008]
[55414,5,5,4,1,4,19,{"$f":"IF(B3080=1,\"0\",VLOOKUP(B3080,coefficient2!$A$4:$B$7,2,FALSE))","v":0.37123109999999998},{"$f":"IF(C3080=1,\"0\",VLOOKUP(C3080,coefficient2!$A$10:$B$13,2,FALSE))","v":0.2498763},{"$f":"IF(D3080=1,\"0\",VLOOKUP(D3080,coefficient2!$A$16:$B$19,2,FALSE))","v":0.1534855},{"$f":"IF(E3080=1,\"0\",VLOOKUP(E3080,coefficient2!$A$22:$B$25,2,FALSE))","v":"0"},{"$f":"IF(F3080=1,\"0\",VLOOKUP(F3080,coefficient2!$A$28:$B$31,2,FALSE))","v":0.23270360000000001},-7.296499999999928E-3]
[55415,5,5,4,1,5,20,{"$f":"IF(B3081=1,\"0\",VLOOKUP(B3081,coefficient2!$A$4:$B$7,2,FALSE))","v":0.37123109999999998},{"$f":"IF(C3081=1,\"0\",VLOOKUP(C3081,coefficient2!$A$10:$B$13,2,FALSE))","v":0.2498763},{"$f":"IF(D3081=1,\"0\",VLOOKUP(D3081,coefficient2!$A$16:$B$19,2,FALSE))","v":0.1534855},{"$f":"IF(E3081=1,\"0\",VLOOKUP(E3081,coefficient2!$A$22:$B$25,2,FALSE))","v":"0"},{"$f":"IF(F3081=1,\"0\",VLOOKUP(F3081,coefficient2!$A$28:$B$31,2,FALSE))","v":0.29534929999999998},-6.9942199999999899E-2]
[55421,5,5,4,2,1,17,{"$f":"IF(B3082=1,\"0\",VLOOKUP(B3082,coefficient2!$A$4:$B$7,2,FALSE))","v":0.37123109999999998},{"$f":"IF(C3082=1,\"0\",VLOOKUP(C3082,coefficient2!$A$10:$B$13,2,FALSE))","v":0.2498763},{"$f":"IF(D3082=1,\"0\",VLOOKUP(D3082,coefficient2!$A$16:$B$19,2,FALSE))","v":0.1534855},{"$f":"IF(E3082=1,\"0\",VLOOKUP(E3082,coefficient2!$A$22:$B$25,2,FALSE))","v":5.63998E-2},{"$f":"IF(F3082=1,\"0\",VLOOKUP(F3082,coefficient2!$A$28:$B$31,2,FALSE))","v":"0"},0.16900730000000008]
[55422,5,5,4,2,2,18,{"$f":"IF(B3083=1,\"0\",VLOOKUP(B3083,coefficient2!$A$4:$B$7,2,FALSE))","v":0.37123109999999998},{"$f":"IF(C3083=1,\"0\",VLOOKUP(C3083,coefficient2!$A$10:$B$13,2,FALSE))","v":0.2498763},{"$f":"IF(D3083=1,\"0\",VLOOKUP(D3083,coefficient2!$A$16:$B$19,2,FALSE))","v":0.1534855},{"$f":"IF(E3083=1,\"0\",VLOOKUP(E3083,coefficient2!$A$22:$B$25,2,FALSE))","v":5.63998E-2},{"$f":"IF(F3083=1,\"0\",VLOOKUP(F3083,coefficient2!$A$28:$B$31,2,FALSE))","v":5.8085699999999997E-2},0.11092160000000009]
[55423,5,5,4,2,3,19,{"$f":"IF(B3084=1,\"0\",VLOOKUP(B3084,coefficient2!$A$4:$B$7,2,FALSE))","v":0.37123109999999998},{"$f":"IF(C3084=1,\"0\",VLOOKUP(C3084,coefficient2!$A$10:$B$13,2,FALSE))","v":0.2498763},{"$f":"IF(D3084=1,\"0\",VLOOKUP(D3084,coefficient2!$A$16:$B$19,2,FALSE))","v":0.1534855},{"$f":"IF(E3084=1,\"0\",VLOOKUP(E3084,coefficient2!$A$22:$B$25,2,FALSE))","v":5.63998E-2},{"$f":"IF(F3084=1,\"0\",VLOOKUP(F3084,coefficient2!$A$28:$B$31,2,FALSE))","v":9.5753900000000003E-2},7.325340000000008E-2]
[55424,5,5,4,2,4,20,{"$f":"IF(B3085=1,\"0\",VLOOKUP(B3085,coefficient2!$A$4:$B$7,2,FALSE))","v":0.37123109999999998},{"$f":"IF(C3085=1,\"0\",VLOOKUP(C3085,coefficient2!$A$10:$B$13,2,FALSE))","v":0.2498763},{"$f":"IF(D3085=1,\"0\",VLOOKUP(D3085,coefficient2!$A$16:$B$19,2,FALSE))","v":0.1534855},{"$f":"IF(E3085=1,\"0\",VLOOKUP(E3085,coefficient2!$A$22:$B$25,2,FALSE))","v":5.63998E-2},{"$f":"IF(F3085=1,\"0\",VLOOKUP(F3085,coefficient2!$A$28:$B$31,2,FALSE))","v":0.23270360000000001},-6.3696299999999928E-2]
[55425,5,5,4,2,5,21,{"$f":"IF(B3086=1,\"0\",VLOOKUP(B3086,coefficient2!$A$4:$B$7,2,FALSE))","v":0.37123109999999998},{"$f":"IF(C3086=1,\"0\",VLOOKUP(C3086,coefficient2!$A$10:$B$13,2,FALSE))","v":0.2498763},{"$f":"IF(D3086=1,\"0\",VLOOKUP(D3086,coefficient2!$A$16:$B$19,2,FALSE))","v":0.1534855},{"$f":"IF(E3086=1,\"0\",VLOOKUP(E3086,coefficient2!$A$22:$B$25,2,FALSE))","v":5.63998E-2},{"$f":"IF(F3086=1,\"0\",VLOOKUP(F3086,coefficient2!$A$28:$B$31,2,FALSE))","v":0.29534929999999998},-0.1263419999999999]
[55431,5,5,4,3,1,18,{"$f":"IF(B3087=1,\"0\",VLOOKUP(B3087,coefficient2!$A$4:$B$7,2,FALSE))","v":0.37123109999999998},{"$f":"IF(C3087=1,\"0\",VLOOKUP(C3087,coefficient2!$A$10:$B$13,2,FALSE))","v":0.2498763},{"$f":"IF(D3087=1,\"0\",VLOOKUP(D3087,coefficient2!$A$16:$B$19,2,FALSE))","v":0.1534855},{"$f":"IF(E3087=1,\"0\",VLOOKUP(E3087,coefficient2!$A$22:$B$25,2,FALSE))","v":6.6492200000000001E-2},{"$f":"IF(F3087=1,\"0\",VLOOKUP(F3087,coefficient2!$A$28:$B$31,2,FALSE))","v":"0"},0.15891490000000008]
[55432,5,5,4,3,2,19,{"$f":"IF(B3088=1,\"0\",VLOOKUP(B3088,coefficient2!$A$4:$B$7,2,FALSE))","v":0.37123109999999998},{"$f":"IF(C3088=1,\"0\",VLOOKUP(C3088,coefficient2!$A$10:$B$13,2,FALSE))","v":0.2498763},{"$f":"IF(D3088=1,\"0\",VLOOKUP(D3088,coefficient2!$A$16:$B$19,2,FALSE))","v":0.1534855},{"$f":"IF(E3088=1,\"0\",VLOOKUP(E3088,coefficient2!$A$22:$B$25,2,FALSE))","v":6.6492200000000001E-2},{"$f":"IF(F3088=1,\"0\",VLOOKUP(F3088,coefficient2!$A$28:$B$31,2,FALSE))","v":5.8085699999999997E-2},0.10082920000000009]
[55433,5,5,4,3,3,20,{"$f":"IF(B3089=1,\"0\",VLOOKUP(B3089,coefficient2!$A$4:$B$7,2,FALSE))","v":0.37123109999999998},{"$f":"IF(C3089=1,\"0\",VLOOKUP(C3089,coefficient2!$A$10:$B$13,2,FALSE))","v":0.2498763},{"$f":"IF(D3089=1,\"0\",VLOOKUP(D3089,coefficient2!$A$16:$B$19,2,FALSE))","v":0.1534855},{"$f":"IF(E3089=1,\"0\",VLOOKUP(E3089,coefficient2!$A$22:$B$25,2,FALSE))","v":6.6492200000000001E-2},{"$f":"IF(F3089=1,\"0\",VLOOKUP(F3089,coefficient2!$A$28:$B$31,2,FALSE))","v":9.5753900000000003E-2},6.3161000000000078E-2]
[55434,5,5,4,3,4,21,{"$f":"IF(B3090=1,\"0\",VLOOKUP(B3090,coefficient2!$A$4:$B$7,2,FALSE))","v":0.37123109999999998},{"$f":"IF(C3090=1,\"0\",VLOOKUP(C3090,coefficient2!$A$10:$B$13,2,FALSE))","v":0.2498763},{"$f":"IF(D3090=1,\"0\",VLOOKUP(D3090,coefficient2!$A$16:$B$19,2,FALSE))","v":0.1534855},{"$f":"IF(E3090=1,\"0\",VLOOKUP(E3090,coefficient2!$A$22:$B$25,2,FALSE))","v":6.6492200000000001E-2},{"$f":"IF(F3090=1,\"0\",VLOOKUP(F3090,coefficient2!$A$28:$B$31,2,FALSE))","v":0.23270360000000001},-7.3788699999999929E-2]
[55435,5,5,4,3,5,22,{"$f":"IF(B3091=1,\"0\",VLOOKUP(B3091,coefficient2!$A$4:$B$7,2,FALSE))","v":0.37123109999999998},{"$f":"IF(C3091=1,\"0\",VLOOKUP(C3091,coefficient2!$A$10:$B$13,2,FALSE))","v":0.2498763},{"$f":"IF(D3091=1,\"0\",VLOOKUP(D3091,coefficient2!$A$16:$B$19,2,FALSE))","v":0.1534855},{"$f":"IF(E3091=1,\"0\",VLOOKUP(E3091,coefficient2!$A$22:$B$25,2,FALSE))","v":6.6492200000000001E-2},{"$f":"IF(F3091=1,\"0\",VLOOKUP(F3091,coefficient2!$A$28:$B$31,2,FALSE))","v":0.29534929999999998},-0.1364343999999999]
[55441,5,5,4,4,1,19,{"$f":"IF(B3092=1,\"0\",VLOOKUP(B3092,coefficient2!$A$4:$B$7,2,FALSE))","v":0.37123109999999998},{"$f":"IF(C3092=1,\"0\",VLOOKUP(C3092,coefficient2!$A$10:$B$13,2,FALSE))","v":0.2498763},{"$f":"IF(D3092=1,\"0\",VLOOKUP(D3092,coefficient2!$A$16:$B$19,2,FALSE))","v":0.1534855},{"$f":"IF(E3092=1,\"0\",VLOOKUP(E3092,coefficient2!$A$22:$B$25,2,FALSE))","v":0.2068864},{"$f":"IF(F3092=1,\"0\",VLOOKUP(F3092,coefficient2!$A$28:$B$31,2,FALSE))","v":"0"},1.8520700000000084E-2]
[55442,5,5,4,4,2,{"$f":"SUM(B3093:F3093)","v":20},{"$f":"IF(B3093=1,\"0\",VLOOKUP(B3093,coefficient2!$A$4:$B$7,2,FALSE))","v":0.37123109999999998},{"$f":"IF(C3093=1,\"0\",VLOOKUP(C3093,coefficient2!$A$10:$B$13,2,FALSE))","v":0.2498763},{"$f":"IF(D3093=1,\"0\",VLOOKUP(D3093,coefficient2!$A$16:$B$19,2,FALSE))","v":0.1534855},{"$f":"IF(E3093=1,\"0\",VLOOKUP(E3093,coefficient2!$A$22:$B$25,2,FALSE))","v":0.2068864},{"$f":"IF(F3093=1,\"0\",VLOOKUP(F3093,coefficient2!$A$28:$B$31,2,FALSE))","v":5.8085699999999997E-2},-3.9564999999999913E-2]
[55443,5,5,4,4,3,21,{"$f":"IF(B3094=1,\"0\",VLOOKUP(B3094,coefficient2!$A$4:$B$7,2,FALSE))","v":0.37123109999999998},{"$f":"IF(C3094=1,\"0\",VLOOKUP(C3094,coefficient2!$A$10:$B$13,2,FALSE))","v":0.2498763},{"$f":"IF(D3094=1,\"0\",VLOOKUP(D3094,coefficient2!$A$16:$B$19,2,FALSE))","v":0.1534855},{"$f":"IF(E3094=1,\"0\",VLOOKUP(E3094,coefficient2!$A$22:$B$25,2,FALSE))","v":0.2068864},{"$f":"IF(F3094=1,\"0\",VLOOKUP(F3094,coefficient2!$A$28:$B$31,2,FALSE))","v":9.5753900000000003E-2},-7.7233199999999919E-2]
[55444,5,5,4,4,4,22,{"$f":"IF(B3095=1,\"0\",VLOOKUP(B3095,coefficient2!$A$4:$B$7,2,FALSE))","v":0.37123109999999998},{"$f":"IF(C3095=1,\"0\",VLOOKUP(C3095,coefficient2!$A$10:$B$13,2,FALSE))","v":0.2498763},{"$f":"IF(D3095=1,\"0\",VLOOKUP(D3095,coefficient2!$A$16:$B$19,2,FALSE))","v":0.1534855},{"$f":"IF(E3095=1,\"0\",VLOOKUP(E3095,coefficient2!$A$22:$B$25,2,FALSE))","v":0.2068864},{"$f":"IF(F3095=1,\"0\",VLOOKUP(F3095,coefficient2!$A$28:$B$31,2,FALSE))","v":0.23270360000000001},-0.21418289999999993]
[55445,5,5,4,4,5,23,{"$f":"IF(B3096=1,\"0\",VLOOKUP(B3096,coefficient2!$A$4:$B$7,2,FALSE))","v":0.37123109999999998},{"$f":"IF(C3096=1,\"0\",VLOOKUP(C3096,coefficient2!$A$10:$B$13,2,FALSE))","v":0.2498763},{"$f":"IF(D3096=1,\"0\",VLOOKUP(D3096,coefficient2!$A$16:$B$19,2,FALSE))","v":0.1534855},{"$f":"IF(E3096=1,\"0\",VLOOKUP(E3096,coefficient2!$A$22:$B$25,2,FALSE))","v":0.2068864},{"$f":"IF(F3096=1,\"0\",VLOOKUP(F3096,coefficient2!$A$28:$B$31,2,FALSE))","v":0.29534929999999998},-0.27682859999999987]
[55451,5,5,4,5,1,20,{"$f":"IF(B3097=1,\"0\",VLOOKUP(B3097,coefficient2!$A$4:$B$7,2,FALSE))","v":0.37123109999999998},{"$f":"IF(C3097=1,\"0\",VLOOKUP(C3097,coefficient2!$A$10:$B$13,2,FALSE))","v":0.2498763},{"$f":"IF(D3097=1,\"0\",VLOOKUP(D3097,coefficient2!$A$16:$B$19,2,FALSE))","v":0.1534855},{"$f":"IF(E3097=1,\"0\",VLOOKUP(E3097,coefficient2!$A$22:$B$25,2,FALSE))","v":0.25643310000000002},{"$f":"IF(F3097=1,\"0\",VLOOKUP(F3097,coefficient2!$A$28:$B$31,2,FALSE))","v":"0"},-3.1025999999999943E-2]
[55452,5,5,4,5,2,21,{"$f":"IF(B3098=1,\"0\",VLOOKUP(B3098,coefficient2!$A$4:$B$7,2,FALSE))","v":0.37123109999999998},{"$f":"IF(C3098=1,\"0\",VLOOKUP(C3098,coefficient2!$A$10:$B$13,2,FALSE))","v":0.2498763},{"$f":"IF(D3098=1,\"0\",VLOOKUP(D3098,coefficient2!$A$16:$B$19,2,FALSE))","v":0.1534855},{"$f":"IF(E3098=1,\"0\",VLOOKUP(E3098,coefficient2!$A$22:$B$25,2,FALSE))","v":0.25643310000000002},{"$f":"IF(F3098=1,\"0\",VLOOKUP(F3098,coefficient2!$A$28:$B$31,2,FALSE))","v":5.8085699999999997E-2},-8.9111699999999933E-2]
[55453,5,5,4,5,3,22,{"$f":"IF(B3099=1,\"0\",VLOOKUP(B3099,coefficient2!$A$4:$B$7,2,FALSE))","v":0.37123109999999998},{"$f":"IF(C3099=1,\"0\",VLOOKUP(C3099,coefficient2!$A$10:$B$13,2,FALSE))","v":0.2498763},{"$f":"IF(D3099=1,\"0\",VLOOKUP(D3099,coefficient2!$A$16:$B$19,2,FALSE))","v":0.1534855},{"$f":"IF(E3099=1,\"0\",VLOOKUP(E3099,coefficient2!$A$22:$B$25,2,FALSE))","v":0.25643310000000002},{"$f":"IF(F3099=1,\"0\",VLOOKUP(F3099,coefficient2!$A$28:$B$31,2,FALSE))","v":9.5753900000000003E-2},-0.12677989999999995]
[55454,5,5,4,5,4,23,{"$f":"IF(B3100=1,\"0\",VLOOKUP(B3100,coefficient2!$A$4:$B$7,2,FALSE))","v":0.37123109999999998},{"$f":"IF(C3100=1,\"0\",VLOOKUP(C3100,coefficient2!$A$10:$B$13,2,FALSE))","v":0.2498763},{"$f":"IF(D3100=1,\"0\",VLOOKUP(D3100,coefficient2!$A$16:$B$19,2,FALSE))","v":0.1534855},{"$f":"IF(E3100=1,\"0\",VLOOKUP(E3100,coefficient2!$A$22:$B$25,2,FALSE))","v":0.25643310000000002},{"$f":"IF(F3100=1,\"0\",VLOOKUP(F3100,coefficient2!$A$28:$B$31,2,FALSE))","v":0.23270360000000001},-0.26372959999999995]
[55455,5,5,4,5,5,24,{"$f":"IF(B3101=1,\"0\",VLOOKUP(B3101,coefficient2!$A$4:$B$7,2,FALSE))","v":0.37123109999999998},{"$f":"IF(C3101=1,\"0\",VLOOKUP(C3101,coefficient2!$A$10:$B$13,2,FALSE))","v":0.2498763},{"$f":"IF(D3101=1,\"0\",VLOOKUP(D3101,coefficient2!$A$16:$B$19,2,FALSE))","v":0.1534855},{"$f":"IF(E3101=1,\"0\",VLOOKUP(E3101,coefficient2!$A$22:$B$25,2,FALSE))","v":0.25643310000000002},{"$f":"IF(F3101=1,\"0\",VLOOKUP(F3101,coefficient2!$A$28:$B$31,2,FALSE))","v":0.29534929999999998},-0.32637529999999992]
[55511,5,5,5,1,1,17,{"$f":"IF(B3102=1,\"0\",VLOOKUP(B3102,coefficient2!$A$4:$B$7,2,FALSE))","v":0.37123109999999998},{"$f":"IF(C3102=1,\"0\",VLOOKUP(C3102,coefficient2!$A$10:$B$13,2,FALSE))","v":0.2498763},{"$f":"IF(D3102=1,\"0\",VLOOKUP(D3102,coefficient2!$A$16:$B$19,2,FALSE))","v":0.248331},{"$f":"IF(E3102=1,\"0\",VLOOKUP(E3102,coefficient2!$A$22:$B$25,2,FALSE))","v":"0"},{"$f":"IF(F3102=1,\"0\",VLOOKUP(F3102,coefficient2!$A$28:$B$31,2,FALSE))","v":"0"},0.13056160000000008]
[55512,5,5,5,1,2,18,{"$f":"IF(B3103=1,\"0\",VLOOKUP(B3103,coefficient2!$A$4:$B$7,2,FALSE))","v":0.37123109999999998},{"$f":"IF(C3103=1,\"0\",VLOOKUP(C3103,coefficient2!$A$10:$B$13,2,FALSE))","v":0.2498763},{"$f":"IF(D3103=1,\"0\",VLOOKUP(D3103,coefficient2!$A$16:$B$19,2,FALSE))","v":0.248331},{"$f":"IF(E3103=1,\"0\",VLOOKUP(E3103,coefficient2!$A$22:$B$25,2,FALSE))","v":"0"},{"$f":"IF(F3103=1,\"0\",VLOOKUP(F3103,coefficient2!$A$28:$B$31,2,FALSE))","v":5.8085699999999997E-2},7.2475900000000093E-2]
[55513,5,5,5,1,3,19,{"$f":"IF(B3104=1,\"0\",VLOOKUP(B3104,coefficient2!$A$4:$B$7,2,FALSE))","v":0.37123109999999998},{"$f":"IF(C3104=1,\"0\",VLOOKUP(C3104,coefficient2!$A$10:$B$13,2,FALSE))","v":0.2498763},{"$f":"IF(D3104=1,\"0\",VLOOKUP(D3104,coefficient2!$A$16:$B$19,2,FALSE))","v":0.248331},{"$f":"IF(E3104=1,\"0\",VLOOKUP(E3104,coefficient2!$A$22:$B$25,2,FALSE))","v":"0"},{"$f":"IF(F3104=1,\"0\",VLOOKUP(F3104,coefficient2!$A$28:$B$31,2,FALSE))","v":9.5753900000000003E-2},3.480770000000008E-2]
[55514,5,5,5,1,4,20,{"$f":"IF(B3105=1,\"0\",VLOOKUP(B3105,coefficient2!$A$4:$B$7,2,FALSE))","v":0.37123109999999998},{"$f":"IF(C3105=1,\"0\",VLOOKUP(C3105,coefficient2!$A$10:$B$13,2,FALSE))","v":0.2498763},{"$f":"IF(D3105=1,\"0\",VLOOKUP(D3105,coefficient2!$A$16:$B$19,2,FALSE))","v":0.248331},{"$f":"IF(E3105=1,\"0\",VLOOKUP(E3105,coefficient2!$A$22:$B$25,2,FALSE))","v":"0"},{"$f":"IF(F3105=1,\"0\",VLOOKUP(F3105,coefficient2!$A$28:$B$31,2,FALSE))","v":0.23270360000000001},-0.10214199999999993]
[55515,5,5,5,1,5,21,{"$f":"IF(B3106=1,\"0\",VLOOKUP(B3106,coefficient2!$A$4:$B$7,2,FALSE))","v":0.37123109999999998},{"$f":"IF(C3106=1,\"0\",VLOOKUP(C3106,coefficient2!$A$10:$B$13,2,FALSE))","v":0.2498763},{"$f":"IF(D3106=1,\"0\",VLOOKUP(D3106,coefficient2!$A$16:$B$19,2,FALSE))","v":0.248331},{"$f":"IF(E3106=1,\"0\",VLOOKUP(E3106,coefficient2!$A$22:$B$25,2,FALSE))","v":"0"},{"$f":"IF(F3106=1,\"0\",VLOOKUP(F3106,coefficient2!$A$28:$B$31,2,FALSE))","v":0.29534929999999998},-0.1647876999999999]
[55521,5,5,5,2,1,18,{"$f":"IF(B3107=1,\"0\",VLOOKUP(B3107,coefficient2!$A$4:$B$7,2,FALSE))","v":0.37123109999999998},{"$f":"IF(C3107=1,\"0\",VLOOKUP(C3107,coefficient2!$A$10:$B$13,2,FALSE))","v":0.2498763},{"$f":"IF(D3107=1,\"0\",VLOOKUP(D3107,coefficient2!$A$16:$B$19,2,FALSE))","v":0.248331},{"$f":"IF(E3107=1,\"0\",VLOOKUP(E3107,coefficient2!$A$22:$B$25,2,FALSE))","v":5.63998E-2},{"$f":"IF(F3107=1,\"0\",VLOOKUP(F3107,coefficient2!$A$28:$B$31,2,FALSE))","v":"0"},7.4161800000000083E-2]
[55522,5,5,5,2,2,19,{"$f":"IF(B3108=1,\"0\",VLOOKUP(B3108,coefficient2!$A$4:$B$7,2,FALSE))","v":0.37123109999999998},{"$f":"IF(C3108=1,\"0\",VLOOKUP(C3108,coefficient2!$A$10:$B$13,2,FALSE))","v":0.2498763},{"$f":"IF(D3108=1,\"0\",VLOOKUP(D3108,coefficient2!$A$16:$B$19,2,FALSE))","v":0.248331},{"$f":"IF(E3108=1,\"0\",VLOOKUP(E3108,coefficient2!$A$22:$B$25,2,FALSE))","v":5.63998E-2},{"$f":"IF(F3108=1,\"0\",VLOOKUP(F3108,coefficient2!$A$28:$B$31,2,FALSE))","v":5.8085699999999997E-2},1.6076100000000086E-2]
[55523,5,5,5,2,3,20,{"$f":"IF(B3109=1,\"0\",VLOOKUP(B3109,coefficient2!$A$4:$B$7,2,FALSE))","v":0.37123109999999998},{"$f":"IF(C3109=1,\"0\",VLOOKUP(C3109,coefficient2!$A$10:$B$13,2,FALSE))","v":0.2498763},{"$f":"IF(D3109=1,\"0\",VLOOKUP(D3109,coefficient2!$A$16:$B$19,2,FALSE))","v":0.248331},{"$f":"IF(E3109=1,\"0\",VLOOKUP(E3109,coefficient2!$A$22:$B$25,2,FALSE))","v":5.63998E-2},{"$f":"IF(F3109=1,\"0\",VLOOKUP(F3109,coefficient2!$A$28:$B$31,2,FALSE))","v":9.5753900000000003E-2},-2.159209999999992E-2]
[55524,5,5,5,2,4,21,{"$f":"IF(B3110=1,\"0\",VLOOKUP(B3110,coefficient2!$A$4:$B$7,2,FALSE))","v":0.37123109999999998},{"$f":"IF(C3110=1,\"0\",VLOOKUP(C3110,coefficient2!$A$10:$B$13,2,FALSE))","v":0.2498763},{"$f":"IF(D3110=1,\"0\",VLOOKUP(D3110,coefficient2!$A$16:$B$19,2,FALSE))","v":0.248331},{"$f":"IF(E3110=1,\"0\",VLOOKUP(E3110,coefficient2!$A$22:$B$25,2,FALSE))","v":5.63998E-2},{"$f":"IF(F3110=1,\"0\",VLOOKUP(F3110,coefficient2!$A$28:$B$31,2,FALSE))","v":0.23270360000000001},-0.15854179999999993]
[55525,5,5,5,2,5,22,{"$f":"IF(B3111=1,\"0\",VLOOKUP(B3111,coefficient2!$A$4:$B$7,2,FALSE))","v":0.37123109999999998},{"$f":"IF(C3111=1,\"0\",VLOOKUP(C3111,coefficient2!$A$10:$B$13,2,FALSE))","v":0.2498763},{"$f":"IF(D3111=1,\"0\",VLOOKUP(D3111,coefficient2!$A$16:$B$19,2,FALSE))","v":0.248331},{"$f":"IF(E3111=1,\"0\",VLOOKUP(E3111,coefficient2!$A$22:$B$25,2,FALSE))","v":5.63998E-2},{"$f":"IF(F3111=1,\"0\",VLOOKUP(F3111,coefficient2!$A$28:$B$31,2,FALSE))","v":0.29534929999999998},-0.2211874999999999]
[55531,5,5,5,3,1,19,{"$f":"IF(B3112=1,\"0\",VLOOKUP(B3112,coefficient2!$A$4:$B$7,2,FALSE))","v":0.37123109999999998},{"$f":"IF(C3112=1,\"0\",VLOOKUP(C3112,coefficient2!$A$10:$B$13,2,FALSE))","v":0.2498763},{"$f":"IF(D3112=1,\"0\",VLOOKUP(D3112,coefficient2!$A$16:$B$19,2,FALSE))","v":0.248331},{"$f":"IF(E3112=1,\"0\",VLOOKUP(E3112,coefficient2!$A$22:$B$25,2,FALSE))","v":6.6492200000000001E-2},{"$f":"IF(F3112=1,\"0\",VLOOKUP(F3112,coefficient2!$A$28:$B$31,2,FALSE))","v":"0"},6.4069400000000082E-2]
[55532,5,5,5,3,2,20,{"$f":"IF(B3113=1,\"0\",VLOOKUP(B3113,coefficient2!$A$4:$B$7,2,FALSE))","v":0.37123109999999998},{"$f":"IF(C3113=1,\"0\",VLOOKUP(C3113,coefficient2!$A$10:$B$13,2,FALSE))","v":0.2498763},{"$f":"IF(D3113=1,\"0\",VLOOKUP(D3113,coefficient2!$A$16:$B$19,2,FALSE))","v":0.248331},{"$f":"IF(E3113=1,\"0\",VLOOKUP(E3113,coefficient2!$A$22:$B$25,2,FALSE))","v":6.6492200000000001E-2},{"$f":"IF(F3113=1,\"0\",VLOOKUP(F3113,coefficient2!$A$28:$B$31,2,FALSE))","v":5.8085699999999997E-2},5.9837000000000848E-3]
[55533,5,5,5,3,3,21,{"$f":"IF(B3114=1,\"0\",VLOOKUP(B3114,coefficient2!$A$4:$B$7,2,FALSE))","v":0.37123109999999998},{"$f":"IF(C3114=1,\"0\",VLOOKUP(C3114,coefficient2!$A$10:$B$13,2,FALSE))","v":0.2498763},{"$f":"IF(D3114=1,\"0\",VLOOKUP(D3114,coefficient2!$A$16:$B$19,2,FALSE))","v":0.248331},{"$f":"IF(E3114=1,\"0\",VLOOKUP(E3114,coefficient2!$A$22:$B$25,2,FALSE))","v":6.6492200000000001E-2},{"$f":"IF(F3114=1,\"0\",VLOOKUP(F3114,coefficient2!$A$28:$B$31,2,FALSE))","v":9.5753900000000003E-2},-3.1684499999999921E-2]
[55534,5,5,5,3,4,22,{"$f":"IF(B3115=1,\"0\",VLOOKUP(B3115,coefficient2!$A$4:$B$7,2,FALSE))","v":0.37123109999999998},{"$f":"IF(C3115=1,\"0\",VLOOKUP(C3115,coefficient2!$A$10:$B$13,2,FALSE))","v":0.2498763},{"$f":"IF(D3115=1,\"0\",VLOOKUP(D3115,coefficient2!$A$16:$B$19,2,FALSE))","v":0.248331},{"$f":"IF(E3115=1,\"0\",VLOOKUP(E3115,coefficient2!$A$22:$B$25,2,FALSE))","v":6.6492200000000001E-2},{"$f":"IF(F3115=1,\"0\",VLOOKUP(F3115,coefficient2!$A$28:$B$31,2,FALSE))","v":0.23270360000000001},-0.16863419999999993]
[55535,5,5,5,3,5,23,{"$f":"IF(B3116=1,\"0\",VLOOKUP(B3116,coefficient2!$A$4:$B$7,2,FALSE))","v":0.37123109999999998},{"$f":"IF(C3116=1,\"0\",VLOOKUP(C3116,coefficient2!$A$10:$B$13,2,FALSE))","v":0.2498763},{"$f":"IF(D3116=1,\"0\",VLOOKUP(D3116,coefficient2!$A$16:$B$19,2,FALSE))","v":0.248331},{"$f":"IF(E3116=1,\"0\",VLOOKUP(E3116,coefficient2!$A$22:$B$25,2,FALSE))","v":6.6492200000000001E-2},{"$f":"IF(F3116=1,\"0\",VLOOKUP(F3116,coefficient2!$A$28:$B$31,2,FALSE))","v":0.29534929999999998},-0.2312798999999999]
[55541,5,5,5,4,1,20,{"$f":"IF(B3117=1,\"0\",VLOOKUP(B3117,coefficient2!$A$4:$B$7,2,FALSE))","v":0.37123109999999998},{"$f":"IF(C3117=1,\"0\",VLOOKUP(C3117,coefficient2!$A$10:$B$13,2,FALSE))","v":0.2498763},{"$f":"IF(D3117=1,\"0\",VLOOKUP(D3117,coefficient2!$A$16:$B$19,2,FALSE))","v":0.248331},{"$f":"IF(E3117=1,\"0\",VLOOKUP(E3117,coefficient2!$A$22:$B$25,2,FALSE))","v":0.2068864},{"$f":"IF(F3117=1,\"0\",VLOOKUP(F3117,coefficient2!$A$28:$B$31,2,FALSE))","v":"0"},-7.6324799999999915E-2]
[55542,5,5,5,4,2,21,{"$f":"IF(B3118=1,\"0\",VLOOKUP(B3118,coefficient2!$A$4:$B$7,2,FALSE))","v":0.37123109999999998},{"$f":"IF(C3118=1,\"0\",VLOOKUP(C3118,coefficient2!$A$10:$B$13,2,FALSE))","v":0.2498763},{"$f":"IF(D3118=1,\"0\",VLOOKUP(D3118,coefficient2!$A$16:$B$19,2,FALSE))","v":0.248331},{"$f":"IF(E3118=1,\"0\",VLOOKUP(E3118,coefficient2!$A$22:$B$25,2,FALSE))","v":0.2068864},{"$f":"IF(F3118=1,\"0\",VLOOKUP(F3118,coefficient2!$A$28:$B$31,2,FALSE))","v":5.8085699999999997E-2},-0.13441049999999991]
[55543,5,5,5,4,3,22,{"$f":"IF(B3119=1,\"0\",VLOOKUP(B3119,coefficient2!$A$4:$B$7,2,FALSE))","v":0.37123109999999998},{"$f":"IF(C3119=1,\"0\",VLOOKUP(C3119,coefficient2!$A$10:$B$13,2,FALSE))","v":0.2498763},{"$f":"IF(D3119=1,\"0\",VLOOKUP(D3119,coefficient2!$A$16:$B$19,2,FALSE))","v":0.248331},{"$f":"IF(E3119=1,\"0\",VLOOKUP(E3119,coefficient2!$A$22:$B$25,2,FALSE))","v":0.2068864},{"$f":"IF(F3119=1,\"0\",VLOOKUP(F3119,coefficient2!$A$28:$B$31,2,FALSE))","v":9.5753900000000003E-2},-0.17207869999999992]
[55544,5,5,5,4,4,23,{"$f":"IF(B3120=1,\"0\",VLOOKUP(B3120,coefficient2!$A$4:$B$7,2,FALSE))","v":0.37123109999999998},{"$f":"IF(C3120=1,\"0\",VLOOKUP(C3120,coefficient2!$A$10:$B$13,2,FALSE))","v":0.2498763},{"$f":"IF(D3120=1,\"0\",VLOOKUP(D3120,coefficient2!$A$16:$B$19,2,FALSE))","v":0.248331},{"$f":"IF(E3120=1,\"0\",VLOOKUP(E3120,coefficient2!$A$22:$B$25,2,FALSE))","v":0.2068864},{"$f":"IF(F3120=1,\"0\",VLOOKUP(F3120,coefficient2!$A$28:$B$31,2,FALSE))","v":0.23270360000000001},-0.30902839999999993]
[55545,5,5,5,4,5,24,{"$f":"IF(B3121=1,\"0\",VLOOKUP(B3121,coefficient2!$A$4:$B$7,2,FALSE))","v":0.37123109999999998},{"$f":"IF(C3121=1,\"0\",VLOOKUP(C3121,coefficient2!$A$10:$B$13,2,FALSE))","v":0.2498763},{"$f":"IF(D3121=1,\"0\",VLOOKUP(D3121,coefficient2!$A$16:$B$19,2,FALSE))","v":0.248331},{"$f":"IF(E3121=1,\"0\",VLOOKUP(E3121,coefficient2!$A$22:$B$25,2,FALSE))","v":0.2068864},{"$f":"IF(F3121=1,\"0\",VLOOKUP(F3121,coefficient2!$A$28:$B$31,2,FALSE))","v":0.29534929999999998},-0.3716740999999999]
[55551,5,5,5,5,1,21,{"$f":"IF(B3122=1,\"0\",VLOOKUP(B3122,coefficient2!$A$4:$B$7,2,FALSE))","v":0.37123109999999998},{"$f":"IF(C3122=1,\"0\",VLOOKUP(C3122,coefficient2!$A$10:$B$13,2,FALSE))","v":0.2498763},{"$f":"IF(D3122=1,\"0\",VLOOKUP(D3122,coefficient2!$A$16:$B$19,2,FALSE))","v":0.248331},{"$f":"IF(E3122=1,\"0\",VLOOKUP(E3122,coefficient2!$A$22:$B$25,2,FALSE))","v":0.25643310000000002},{"$f":"IF(F3122=1,\"0\",VLOOKUP(F3122,coefficient2!$A$28:$B$31,2,FALSE))","v":"0"},-0.12587149999999994]
[55552,5,5,5,5,2,22,{"$f":"IF(B3123=1,\"0\",VLOOKUP(B3123,coefficient2!$A$4:$B$7,2,FALSE))","v":0.37123109999999998},{"$f":"IF(C3123=1,\"0\",VLOOKUP(C3123,coefficient2!$A$10:$B$13,2,FALSE))","v":0.2498763},{"$f":"IF(D3123=1,\"0\",VLOOKUP(D3123,coefficient2!$A$16:$B$19,2,FALSE))","v":0.248331},{"$f":"IF(E3123=1,\"0\",VLOOKUP(E3123,coefficient2!$A$22:$B$25,2,FALSE))","v":0.25643310000000002},{"$f":"IF(F3123=1,\"0\",VLOOKUP(F3123,coefficient2!$A$28:$B$31,2,FALSE))","v":5.8085699999999997E-2},-0.18395719999999993]
[55553,5,5,5,5,3,23,{"$f":"IF(B3124=1,\"0\",VLOOKUP(B3124,coefficient2!$A$4:$B$7,2,FALSE))","v":0.37123109999999998},{"$f":"IF(C3124=1,\"0\",VLOOKUP(C3124,coefficient2!$A$10:$B$13,2,FALSE))","v":0.2498763},{"$f":"IF(D3124=1,\"0\",VLOOKUP(D3124,coefficient2!$A$16:$B$19,2,FALSE))","v":0.248331},{"$f":"IF(E3124=1,\"0\",VLOOKUP(E3124,coefficient2!$A$22:$B$25,2,FALSE))","v":0.25643310000000002},{"$f":"IF(F3124=1,\"0\",VLOOKUP(F3124,coefficient2!$A$28:$B$31,2,FALSE))","v":9.5753900000000003E-2},-0.22162539999999994]
[55554,5,5,5,5,4,24,{"$f":"IF(B3125=1,\"0\",VLOOKUP(B3125,coefficient2!$A$4:$B$7,2,FALSE))","v":0.37123109999999998},{"$f":"IF(C3125=1,\"0\",VLOOKUP(C3125,coefficient2!$A$10:$B$13,2,FALSE))","v":0.2498763},{"$f":"IF(D3125=1,\"0\",VLOOKUP(D3125,coefficient2!$A$16:$B$19,2,FALSE))","v":0.248331},{"$f":"IF(E3125=1,\"0\",VLOOKUP(E3125,coefficient2!$A$22:$B$25,2,FALSE))","v":0.25643310000000002},{"$f":"IF(F3125=1,\"0\",VLOOKUP(F3125,coefficient2!$A$28:$B$31,2,FALSE))","v":0.23270360000000001},-0.35857509999999992]
[55555,5,5,5,5,5,25,{"$f":"IF(B3126=1,\"0\",VLOOKUP(B3126,coefficient2!$A$4:$B$7,2,FALSE))","v":0.37123109999999998},{"$f":"IF(C3126=1,\"0\",VLOOKUP(C3126,coefficient2!$A$10:$B$13,2,FALSE))","v":0.2498763},{"$f":"IF(D3126=1,\"0\",VLOOKUP(D3126,coefficient2!$A$16:$B$19,2,FALSE))","v":0.248331},{"$f":"IF(E3126=1,\"0\",VLOOKUP(E3126,coefficient2!$A$22:$B$25,2,FALSE))","v":0.25643310000000002},{"$f":"IF(F3126=1,\"0\",VLOOKUP(F3126,coefficient2!$A$28:$B$31,2,FALSE))","v":0.29534929999999998},-0.42122079999999995]

{"sheet":"coefficient2","index":4,"n_rows":31,"n_cols":5,"rows_kept":31,"cut":false,"hidden":true,"merged":[]}
["Health dimension","Coefficient","Std.Err.","95% confidence interval"]
["/ level",null,null,"lower","upper"]
["Mobility (MO)"]
[2,6.6127000000000005E-2,4.9381E-3,5.6448499999999999E-2,7.5805499999999998E-2]
[3,8.6562899999999998E-2,7.2176999999999996E-3,7.2416499999999995E-2,0.1007093]
[4,0.2109943,7.0863000000000002E-3,0.19710539999999999,0.22488330000000001]
[5,0.37123109999999998,7.1951999999999997E-3,0.35712860000000002,0.3853335]
[]
["Self-care (SC)"]
[2,5.8129300000000002E-2,4.6566000000000003E-3,4.90026E-2,6.7255999999999996E-2]
[3,7.0631200000000005E-2,6.7241000000000002E-3,5.7452200000000002E-2,8.3810200000000001E-2]
[4,0.19249050000000001,7.1361999999999997E-3,0.17850389999999999,0.2064771]
[5,0.2498763,6.6100000000000004E-3,0.23692089999999999,0.2628317]
[]
["Usual activities (UA)"]
[2,5.8254399999999998E-2,4.7397000000000003E-3,4.8964800000000003E-2,6.7544099999999996E-2]
[3,7.1197399999999994E-2,6.5281999999999996E-3,5.84024E-2,8.3992300000000006E-2]
[4,0.1534855,6.7402E-3,0.14027500000000001,0.16669600000000001]
[5,0.248331,6.7092999999999996E-3,0.235181,0.26148100000000002]
[]
["Pain/discomfort (PD)"]
[2,5.63998E-2,4.2875999999999999E-3,4.7996299999999999E-2,6.4803399999999997E-2]
[3,6.6492200000000001E-2,7.1412000000000003E-3,5.2495699999999999E-2,8.0488699999999996E-2]
[4,0.2068864,7.1120000000000003E-3,0.19294710000000001,0.22082560000000001]
[5,0.25643310000000002,7.2508E-3,0.24222179999999999,0.27064450000000001]
[]
["Anxiety/depression (AD)"]
[2,5.8085699999999997E-2,4.3137999999999996E-3,4.9630899999999999E-2,6.6540600000000005E-2]
[3,9.5753900000000003E-2,6.8402999999999997E-3,8.2347100000000006E-2,0.1091607]
[4,0.23270360000000001,6.6124E-3,0.21974360000000001,0.24566360000000001]
[5,0.29534929999999998,6.6337999999999996E-3,0.28234730000000002,0.30835119999999999]